{"text_format":"1","workbook":"xlsx","n_sheets":29,"sheets":["aggiusta dal 1 1 96","Foglio6","dipt.i.","DEC REL. T.I.","DECRETO","Foglio7","DEC REL. INC. ANN.","dec. da copiare e incollare","Foglio8","Foglio9","dati","Foglio10","verimacro","front utente","calcoladifferenzespettanti","principale","calcoloperiodi1","calcoloperiodi","Foglio5","Foglio2","399","COMPARAZIONE","Foglio4","tabella sintetica","differenzespettanti","Foglio1","Foglio3","TAB","pre 1-1-1996"],"not_rendered":{"charts":0,"images":20,"macros":1,"external_links":0,"defined_names":109,"comments":2,"pivot_tables":0},"unopened":[],"bounds":{"document_bytes":16777216,"sheet_cells":100000,"rows_first":2000,"rows_last":500,"rows_between":2000,"halvings":0,"cell_chars":16384,"cell_head_chars":4096},"cells_cut":0,"cells_raw":0,"read":"whole","date_system":"1900"}

{"sheet":"aggiusta dal 1 1 96","index":0,"n_rows":29,"n_cols":13,"rows_kept":29,"cut":false,"hidden":false,"merged":[[4,3,4,4],[5,3,5,4],[18,3,19,4]]}
[]
[]
[null,null,null,null,"aggiusta le date sulla base dell arrotondamento dal 1 1 96"]
[]
[null,null,null,"anz solo economica",null,{"$f":"_anz1","v":{"$error":"#NUM!"}}]
[null,null,null,"arr. All' 1 -1- 1996",null,{"$f":"ARR","v":{"$error":"#NUM!"}},null,"anni","mesi","giorni"]
[null,null,null,null,"tot",{"$f":"SUM(F5:F6)","v":{"$error":"#NUM!"}},null,{"$f":"INT(F7/360)","v":{"$error":"#NUM!"}},{"$f":"INT((F7-(360*H7))/30)","v":{"$error":"#NUM!"}},{"$f":"INT(F7-((H7*360)+I7*30))","v":{"$error":"#NUM!"}}]
[]
[null,null,null,null,{"$f":"Foglio2!L107","v":"valore della data corretta ed effettiva per il passagio di gradone"}]
[null,null,null,null,{"$f":"Foglio2!M108","v":{"$error":"#NUM!"}},{"$f":"IF(YEAR(E10)>1995,E10-F7,E10)","v":{"$error":"#NUM!"}},{"$f":"IF(YEAR(E10)>1995,DAYS360(F10,E10),0)","v":{"$error":"#NUM!"}},{"$f":"IF(YEAR(E10)>1995,F7-G10,0)","v":{"$error":"#NUM!"}},{"$f":"IF(YEAR(E10)>1995,F10-H10,0)","v":{"$error":"#NUM!"}},{"$f":"IF(YEAR(E10)>1995,DAYS360(I10,E10),0)","v":{"$error":"#NUM!"}},{"$f":"F7-J10","v":{"$error":"#NUM!"}},{"$f":"I10-K10","v":{"$error":"#NUM!"}}]
[null,null,null,null,{"$f":"Foglio2!M109","v":{"$error":"#NUM!"}},{"$f":"IF(YEAR(E11)>1995,E11-F7,E11)","v":{"$error":"#NUM!"}},{"$error":"#NUM!"},{"$f":"IF(YEAR(E11)>1995,F7-G11,0)","v":{"$error":"#NUM!"}},{"$error":"#NUM!"},{"$error":"#NUM!"},{"$f":"F7-J11","v":{"$error":"#NUM!"}},{"$error":"#NUM!"}]
[null,null,null,null,{"$f":"Foglio2!M110","v":{"$error":"#NUM!"}},{"$f":"IF(YEAR(E12)>1995,E12-F7,E12)","v":{"$error":"#NUM!"}},{"$error":"#NUM!"},{"$f":"IF(YEAR(E12)>1995,F7-G12,0)","v":{"$error":"#NUM!"}},{"$error":"#NUM!"},{"$error":"#NUM!"},{"$f":"F7-J12","v":{"$error":"#NUM!"}},{"$error":"#NUM!"}]
[null,null,null,null,{"$f":"Foglio2!M111","v":{"$error":"#NUM!"}},{"$f":"IF(YEAR(E13)>1995,E13-F7,E13)","v":{"$error":"#NUM!"}},{"$error":"#NUM!"},{"$f":"IF(YEAR(E13)>1995,F7-G13,0)","v":{"$error":"#NUM!"}},{"$error":"#NUM!"},{"$error":"#NUM!"},{"$f":"F7-J13","v":{"$error":"#NUM!"}},{"$error":"#NUM!"}]
[null,null,null,null,{"$f":"Foglio2!M112","v":{"$error":"#NUM!"}},{"$f":"IF(YEAR(E14)>1995,E14-F7,E14)","v":{"$error":"#NUM!"}},{"$error":"#NUM!"},{"$f":"IF(YEAR(E14)>1995,F7-G14,0)","v":{"$error":"#NUM!"}},{"$error":"#NUM!"},{"$error":"#NUM!"},{"$f":"F7-J14","v":{"$error":"#NUM!"}},{"$error":"#NUM!"}]
[null,null,null,null,{"$f":"Foglio2!M113","v":{"$error":"#NUM!"}},{"$f":"IF(YEAR(E15)>1995,E15-F7,E15)","v":{"$error":"#NUM!"}},{"$error":"#NUM!"},{"$f":"IF(YEAR(E15)>1995,F7-G15,0)","v":{"$error":"#NUM!"}},{"$error":"#NUM!"},{"$error":"#NUM!"},{"$f":"F7-J15","v":{"$error":"#NUM!"}},{"$error":"#NUM!"}]
[]
[]
[]
[null,null,null,"ECCO I VALORI AGGIUSTATI"]
[null,null,null,null,null,null,null,null,null,null,null,null,"riscontro"]
[null,null,null,"3-8",{"$f":"IF(I10>10000,L10,Foglio2!L108)","v":{"$error":"#NUM!"}},null,null,null,null,null,null,null,{"$f":"DAYS360(E10,E21)","v":{"$error":"#NUM!"}}]
[null,null,null,"9-14",{"$f":"IF(I11>10000,L11,Foglio2!L109)","v":{"$error":"#NUM!"}},null,null,null,null,null,null,null,{"$error":"#NUM!"}]
[null,null,null,"15 - 20",{"$f":"IF(I12>10000,L12,Foglio2!L110)","v":{"$error":"#NUM!"}},null,null,null,null,null,null,null,{"$error":"#NUM!"}]
[null,null,null,"21-27",{"$f":"IF(I13>10000,L13,Foglio2!L111)","v":{"$error":"#NUM!"}},null,null,null,null,null,null,null,{"$error":"#NUM!"}]
[null,null,null,"28-34",{"$f":"IF(I14>10000,L14,Foglio2!L112)","v":{"$error":"#NUM!"}},null,null,null,null,null,null,null,{"$error":"#NUM!"}]
[null,null,null,"oltre 35",{"$f":"IF(I15>10000,L15,Foglio2!L113)","v":{"$error":"#NUM!"}},null,null,null,null,null,null,null,{"$error":"#NUM!"}]
[null,null,null,null,{"$f":"IF(E16>0,VALORE.DATA(CONCATENATE(N17,\"/\",M17,\"/\",L17)),\"\")","v":""}]
[null,null,null,null,{"$f":"IF(E17>0,VALORE.DATA(CONCATENATE(N18,\"/\",M18,\"/\",L18)),\"\")","v":""}]
[null,null,null,null,{"$f":"IF(E18>0,VALORE.DATA(CONCATENATE(N19,\"/\",M19,\"/\",L19)),\"\")","v":""}]

{"sheet":"Foglio6","index":1,"n_rows":47,"n_cols":11,"rows_kept":47,"cut":false,"hidden":false,"merged":[[6,8,6,9],[6,10,6,11],[7,4,7,5],[7,6,7,7],[5,4,5,5],[5,6,5,7],[6,4,6,5],[6,6,6,7]]}
[]
[]
[]
[]
[]
[null,null,null,null,"Nominativo:",null,{"$f":"'dec. da copiare e incollare'!E11","v":0}]
[null,null,null,null,{"$f":"'dec. da copiare e incollare'!A12","v":"Qualifica:"},null,{"$f":"'dec. da copiare e incollare'!C12","v":"Docente scuola Media e laureato 1 grado"},null,{"$f":"'dec. da copiare e incollare'!E12","v":"Codice Fiscale:"},null,{"$f":"'dec. da copiare e incollare'!G12","v":0}]
[{"$f":"'dec. da copiare e incollare'!A13","v":"Decorrenza della ricostruzione"},null,null,{"$f":"'dec. da copiare e incollare'!D13","v":"00:00:00"},{"$f":"'dec. da copiare e incollare'!E13","v":"Decorrenza giuridica economica"},null,{"$f":"'dec. da copiare e incollare'!G13","v":"00:00:00"}]
[]
[]
[null,null,"Data di decorrenza:"]
[null,null,{"$f":"IF('tabella sintetica'!C20>0,'tabella sintetica'!C20,\"\")","v":"2000-01-01"}]
[null,null,{"$f":"IF('tabella sintetica'!C21>0,'tabella sintetica'!C21,\"\")","v":"2000-07-01"}]
[null,null,{"$f":"IF('tabella sintetica'!C22>0,'tabella sintetica'!C22,\"\")","v":"2001-01-01"}]
[null,null,{"$f":"IF('tabella sintetica'!C23>0,'tabella sintetica'!C23,\"\")","v":"2002-01-01"}]
[null,null,{"$f":"IF('tabella sintetica'!C24>0,'tabella sintetica'!C24,\"\")","v":"2003-01-01"}]
[null,null,{"$f":"IF('tabella sintetica'!C25>0,'tabella sintetica'!C25,\"\")","v":"2004-01-01"}]
[null,null,{"$f":"IF('tabella sintetica'!C26>0,'tabella sintetica'!C26,\"\")","v":"2005-02-01"}]
[null,null,{"$f":"IF('tabella sintetica'!C27>0,'tabella sintetica'!C27,\"\")","v":"2006-01-01"}]
[null,null,{"$f":"IF('tabella sintetica'!C28>0,'tabella sintetica'!C28,\"\")","v":"2007-01-01"}]
[null,null,{"$f":"IF('tabella sintetica'!C29>0,'tabella sintetica'!C29,\"\")","v":"2007-02-01"}]
[null,null,{"$f":"IF('tabella sintetica'!C30>0,'tabella sintetica'!C30,\"\")","v":"2008-01-01"}]
[null,null,{"$f":"IF('tabella sintetica'!C31>0,'tabella sintetica'!C31,\"\")","v":"2008-04-01"}]
[null,null,{"$f":"IF('tabella sintetica'!C32>0,'tabella sintetica'!C32,\"\")","v":"2008-07-01"}]
[null,null,{"$f":"IF('tabella sintetica'!C33>0,'tabella sintetica'!C33,\"\")","v":"2009-01-01"}]
[null,null,{"$f":"IF('tabella sintetica'!C34>0,'tabella sintetica'!C34,\"\")","v":"2010-04-01"}]
[null,null,{"$f":"IF('tabella sintetica'!C35>0,'tabella sintetica'!C35,\"\")","v":"2010-07-01"}]
[null,null,{"$f":"IF('tabella sintetica'!C36>0,'tabella sintetica'!C36,\"\")","v":"2010-09-01"}]
[null,null,{"$f":"IF('tabella sintetica'!C37>0,'tabella sintetica'!C37,\"\")","v":"2176-01-04"}]
[null,null,{"$f":"IF('tabella sintetica'!C38>0,'tabella sintetica'!C38,\"\")","v":"2182-01-02"}]
[null,null,{"$f":"IF('tabella sintetica'!C39>0,'tabella sintetica'!C39,\"\")","v":"2188-01-01"}]
[null,null,{"$f":"IF('tabella sintetica'!C40>0,'tabella sintetica'!C40,\"\")","v":"2193-12-30"}]
[null,null,{"$f":"IF('tabella sintetica'!C41>0,'tabella sintetica'!C41,\"\")","v":"2200-12-29"}]
[null,null,{"$f":"IF('tabella sintetica'!C42>0,'tabella sintetica'!C42,\"\")","v":"2207-12-28"}]
[null,null,{"$f":"IF('tabella sintetica'!C43>0,'tabella sintetica'!C43,\"\")","v":""}]
[null,null,{"$f":"IF('tabella sintetica'!C44>0,'tabella sintetica'!C44,\"\")","v":""}]
[null,null,{"$f":"IF('tabella sintetica'!C45>0,'tabella sintetica'!C45,\"\")","v":""}]
[null,null,{"$f":"IF('tabella sintetica'!C46>0,'tabella sintetica'!C46,\"\")","v":""}]
[null,null,{"$f":"IF('tabella sintetica'!C47>0,'tabella sintetica'!C47,\"\")","v":""}]
[null,null,{"$f":"IF('tabella sintetica'!C48>0,'tabella sintetica'!C48,\"\")","v":""}]
[null,null,{"$f":"IF('tabella sintetica'!C49>0,'tabella sintetica'!C49,\"\")","v":""}]
[null,null,{"$f":"IF('tabella sintetica'!C50>0,'tabella sintetica'!C50,\"\")","v":""}]
[null,null,{"$f":"IF('tabella sintetica'!C51>0,'tabella sintetica'!C51,\"\")","v":""}]
[null,null,{"$f":"IF('tabella sintetica'!C52>0,'tabella sintetica'!C52,\"\")","v":""}]
[null,null,{"$f":"IF('tabella sintetica'!C53>0,'tabella sintetica'!C53,\"\")","v":""}]
[null,null,{"$f":"IF('tabella sintetica'!C54>0,'tabella sintetica'!C54,\"\")","v":""}]
[null,null,{"$f":"IF('tabella sintetica'!C55>0,'tabella sintetica'!C55,\"\")","v":""}]

{"sheet":"dipt.i.","index":2,"n_rows":373,"n_cols":27,"rows_kept":373,"cut":false,"hidden":false,"merged":[[401,0,401,3],[414,0,414,7],[415,0,415,3],[416,0,416,3],[417,0,417,3],[418,0,418,3],[395,0,395,3],[396,0,396,3],[397,0,397,3],[398,0,398,3],[399,0,399,3],[400,0,400,3],[377,0,377,3],[378,0,378,3],[379,0,379,3],[380,0,380,3],[381,0,381,3],[394,0,394,7],[359,0,359,3],[360,0,360,3],[361,0,361,3],[374,0,374,7],[375,0,375,3],[376,0,376,3],[341,0,341,3],[354,0,354,7],[355,0,355,3],[356,0,356,3],[357,0,357,3],[358,0,358,3],[335,0,335,3],[336,0,336,3],[337,0,337,3],[338,0,338,3],[339,0,339,3],[340,0,340,3],[317,0,317,3],[318,0,318,3],[319,0,319,3],[320,0,320,3],[321,0,321,3],[334,0,334,7],[257,0,257,3],[258,0,258,3],[301,0,301,3],[314,0,314,7],[315,0,315,3],[316,0,316,3],[275,0,275,3],[276,0,276,3],[277,0,277,3],[278,0,278,3],[259,0,259,3],[260,0,260,3],[261,0,261,3],[274,0,274,7],[300,0,300,3],[24,4,24,7],[20,0,20,7],[26,0,26,3],[27,0,27,3],[49,0,49,3],[295,0,295,3],[296,0,296,3],[297,0,297,3],[298,0,298,3],[51,0,51,3],[52,0,52,3],[21,0,21,7],[23,0,23,6],[25,0,25,7],[299,0,299,3],[279,0,279,3],[280,0,280,3],[281,0,281,3],[294,0,294,7],[19,6,19,7],[13,0,13,7],[11,0,11,7],[19,0,19,2],[18,4,18,5],[50,0,50,3],[16,0,16,8],[17,4,17,6],[14,0,14,7],[28,0,28,3],[15,0,15,8],[9,0,9,7],[18,6,18,7],[19,4,19,5],[18,0,18,1],[18,2,18,3],[41,0,41,3],[47,0,47,7],[48,0,48,3],[30,0,30,3],[36,0,36,7],[38,0,38,3],[39,0,39,3],[40,0,40,3],[0,0,0,8],[1,0,1,7],[2,0,2,7],[8,0,8,7],[7,0,7,7],[37,0,37,3],[29,0,29,3],[10,0,10,7],[12,0,12,7]]}
["INTESTAZIONE"]
["INTESTAZIONE"]
["INTESTAZIONE"]
[]
[]
["data:"]
["Decreto n."]
["IL DIRIGENTE SCOLASTICO"]
["VISTO  il ricorso presentato da:                                       Qualifica:                                  nata a                                 -il                   c.f. _____________, data di iscrizione a ruolo  del ricorso:   (riportare la data del ricorso)                            "]
["VISTA  la sentenza n. _________ del Giudice del Lavoro del Tribunale di ____ (riportare gli estremi della sentenza);\nVISTO  l’obbligo da parte di quest’ufficio di dare esecuzione alla sentenza;\nVISTI  i contratti collettivi nazionali del Lavoro Comparto Scuola sottoscritti il 01.08.1996\nVISTI  i contratti collettivi nazionali del Lavoro Comparto Scuola sottoscritti il 26.05.1999\nVISTI  i contratti collettivi nazionali del Lavoro Comparto Scuola sottoscritti il 15.03.2001\nVISTI  i contratti collettivi nazionali del Lavoro Comparto Scuola sottoscritti il 24.07.2003\nVISTI  i contratti collettivi nazionali del Lavoro Comparto Scuola sottoscritti il 29.11.2007\nVISTI  i contratti collettivi nazionali del Lavoro Comparto Scuola sottoscritti il 04.08.2011"]
["VISTO il D.P.R. n. 122 del 04 settembre 2013 con riferimento all’art.1 comma 1, lett.b, che sancisce il BLOCCO dell'anno 2013 che sarà considerato non utile ai fini della progressione di carriera"]
[]
["TENUTO CONTO, come da sentenza del tribunale, che per effetto della prescrizione quinquennale applicata, dovranno essere riconosciute all'interessato, le differenze retributive a partire dalla data:_______ e fino alla data: _________ (se presente la prescrizione quinquennale, riportare da quale data dovranno essere riconosciute le differenze stipendiali)"]
["VISTO lo stato matricolare della suddetta                              . Che si allega e dal quale risulta che la dipendente ha prestato i seguenti servizi:"]
[]
[]
[]
["Vista la documentazione presentata da:",null,null,null,0]
["Qualifica:",null,"Docente scuola Media e laureato 1 grado",null,"Codice Fiscale:",null,0]
["Decorrenza della ricostruzione",null,null,"2000-01-01","Decorrenza giuridica economica",null,"2000-01-01"]
["",null,null,null,null,null,null,null,null,null,null,null,null,null,null,null,null,null,null,null,null,null,null,null,null,null,{"$f":"LEN(CONCATENATE(A21,B21,C21,D21,E21,F21,G21,H21))","v":0}]
["Considerato che al ricorrente spetta la stessa progressione di carriera spettante al personale di ruolo - e che in tal caso tale progressione risulta essere:\nFascia di anzianità:0 -2 anni con decorrenza dal 1/1/2000\n  SI DECRETA:",null,null,null,null,null,null,null,null,null,null,null,null,null,null,null,null,null,null,null,null,null,null,null,null,null,{"$f":"LEN(CONCATENATE(A22,B22,C22,D22,E22,F22,G22,H22))","v":229}]
[null,null,null,"ARTICOLO",1,null,null,null,null,null,null,null,null,null,null,null,null,null,null,null,null,null,null,null,null,null,{"$f":"LEN(CONCATENATE(A23,B23,C23,D23,E23,F23,G23,H23))","v":9}]
["",null,null,null,null,null,null,null,null,null,null,null,null,null,null,null,null,null,null,null,null,null,null,null,null,null,{"$f":"LEN(CONCATENATE(A24,B24,C24,D24,E24,F24,G24,H24))","v":0}]
["Con decorrenza dal:",null,"2000-01-01","spetta:",null,null,null,null,null,null,null,null,null,null,null,null,null,null,null,null,null,null,null,null,null,null,31]
["Decorrenza della Ricostruzione di Carriera ",null,null,null,null,null,null,null,null,null,null,"progressione di carriera",null,null,null,null,null,null,null,null,null,null,null,null,null,null,43]
[" Retribuzione ",null,null,null,10253.218817623576,null,null,null,null,null,null,"Fascia di anzianità:0 -2 anni",{"$f":" CONCATENATE(\" con decorrenza dal \", DAY( 'front utente'!K38),\"/\",  MONTH( 'front utente'!K38),\"/\",  YEAR( 'front utente'!K38)    )","v":" con decorrenza dal 0/1/1900"},null,null,null,null,null,null,null,null,null,null,null,null,null,30]
["",null,null,null,"",null,null,null,null,null,null,{"$f":"IF('front utente'!K39<>\"\", \" - Fascia di anzianità 3 - 8 anni\",\"\")","v":{"$error":"#NUM!"}},{"$f":" IF('front utente'!K39<>\"\",   CONCATENATE(\" con decorrenza dal \", DAY( 'front utente'!K39),\"/\",  MONTH( 'front utente'!K39),\"/\",  YEAR( 'front utente'!K39)    ),\"\")","v":{"$error":"#NUM!"}},null,null,null,null,null,null,null,null,null,null,null,null,null,0]
["",null,null,null,"",null,null,null,null,null,null,{"$f":"IF('front utente'!K40<>\"\", \" - Fascia di anzianità 9 - 14 anni\",\"\")","v":{"$error":"#NUM!"}},{"$f":" IF('front utente'!K40<>\"\",   CONCATENATE(\" con decorrenza dal \", DAY( 'front utente'!K40),\"/\",  MONTH( 'front utente'!K40),\"/\",  YEAR( 'front utente'!K40)    ),\"\")","v":{"$error":"#NUM!"}},null,null,null,null,null,null,null,null,null,null,null,null,null,0]
["",null,null,null,"",null,null,null,null,null,null,{"$f":"IF('front utente'!K41<>\"\", \" Fascia di anzianità 15 - 20 anni\",\"\")","v":{"$error":"#NUM!"}},{"$f":" IF('front utente'!K41<>\"\",   CONCATENATE(\"-decorrenza: \", DAY( 'front utente'!K41),\"/\",  MONTH( 'front utente'!K41),\"/\",  YEAR( 'front utente'!K41)    ),\"\")","v":{"$error":"#NUM!"}},null,null,null,null,null,null,null,null,null,null,null,null,null,0]
[" Retribuzione professionale Docente ",null,null,null,594.96,null,null,null,null,null,null,{"$f":"IF('front utente'!K42<>\"\", \" Fascia di anzianità 21 - 27 anni\",\"\")","v":{"$error":"#NUM!"}},{"$f":" IF('front utente'!K42<>\"\",   CONCATENATE(\"-decorrenza: \", DAY( 'front utente'!K42),\"/\",  MONTH( 'front utente'!K42),\"/\",  YEAR( 'front utente'!K42)    ),\"\")","v":{"$error":"#NUM!"}},null,null,null,null,null,null,null,null,null,null,null,null,null,42]
[null,null,null,"Totale ",10848.178817623575,null,null,null,null,null,null,{"$f":"IF('front utente'!K43<>\"\", \" - Fascia di anzianità 28 -34 anni\",\"\")","v":{"$error":"#NUM!"}},{"$f":" IF('front utente'!K43<>\"\",   CONCATENATE(\" con decorrenza dal \", DAY( 'front utente'!K43),\"/\",  MONTH( 'front utente'!K43),\"/\",  YEAR( 'front utente'!K43)    ),\"\")","v":{"$error":"#NUM!"}},null,null,null,null,null,null,null,null,null,null,null,null,null,23]
[null,"altri assegni previsti per legge",null,null,null,null,null,null,null,null,null,{"$f":"IF('front utente'!K44<>\"\", \" - Fascia di anzianità 35 anni\",\"\")","v":""},{"$f":" IF('front utente'!K44<>\"\",   CONCATENATE(\" con decorrenza dal \", DAY( 'front utente'!K44),\"/\",  MONTH( 'front utente'!K44),\"/\",  YEAR( 'front utente'!K44)    ),\"\")","v":""},null,null,null,null,null,null,null,null,null,null,null,null,null,32]
[null,null,null,"ARTICOLO",2,null,null,null,null,null,null,{"$f":"CONCATENATE(L39,\"\n\",L27,M27,L28,M28,L29,M29,     L30,      M30, L31, M31, L32, M32, L33,M33)","v":{"$error":"#NUM!"}},null,null,null,null,null,null,null,null,null,null,null,null,null,null,9]
[null,null,null,null,null,null,null,null,null,null,null,null,null,null,null,null,null,null,null,null,null,null,null,null,null,null,0]
["Con decorrenza dal:",null,"2000-07-01","spetta:",null,null,null,null,null,null,null,null,null,null,null,null,null,null,null,null,null,null,null,null,null,null,31]
["fascia di anzianità da 0-2 anni  C.C.N.L. del 26/05/1999 incluso incremento stipendiale dal 01/11/1998 - Annuo lordo",null,null,null,null,null,null,null,null,null,null,null,null,null,null,null,null,null,null,null,null,null,null,null,null,null,116]
[" Retribuzione ",null,null,null,10451.538266873938,null,null,null,null,null,null,null,null,null,null,null,null,null,null,null,null,null,null,null,null,null,30]
["",null,null,null,"",null,null,null,null,null,null,"Considerato che al ricorrente spetta la stessa progressione di carriera spettante al personale di ruolo - e che in tal caso tale progressione risulta essere:",null,null,null,null,null,null,null,null,null,null,null,null,null,null,0]
["",null,null,null,"",null,null,null,null,null,null,null,null,null,null,null,null,null,null,null,null,null,null,null,null,null,0]
["",null,null,null,"",null,null,null,null,null,null,null,null,null,null,null,null,null,null,null,null,null,null,null,null,null,0]
[" Retribuzione professionale Docente ",null,null,null,594.96,null,null,null,null,null,null,null,null,null,null,null,null,null,null,null,null,null,null,null,null,null,42]
[null,null,null,"Totale ",11046.498266873939,null,null,null,null,null,null,null,null,null,null,null,null,null,null,null,null,null,null,null,null,null,23]
[null,"altri assegni previsti per legge",null,null,null,null,null,null,null,null,null,null,null,null,null,null,null,null,null,null,null,null,null,null,null,null,32]
[null,null,null,"","",null,null,null,null,null,null,null,null,null,null,null,null,null,null,null,null,null,null,null,null,null,0]
[null,null,null,null,null,null,null,null,null,null,null,null,null,null,null,null,null,null,null,null,null,null,null,null,null,null,0]
["",null,"","",null,null,null,null,null,null,null,null,null,null,null,null,null,null,null,null,null,null,null,null,null,null,0]
["",null,null,null,null,null,null,null,null,null,null,null,null,null,null,null,null,null,null,null,null,null,null,null,null,null,0]
["",null,null,null,"",null,null,null,null,null,null,null,null,null,null,null,null,null,null,null,null,null,null,null,null,null,0]
["",null,null,null,"",null,null,null,null,null,null,null,null,null,null,null,null,null,null,null,null,null,null,null,null,null,0]
["",null,null,null,"",null,null,null,null,null,null,null,null,null,null,null,null,null,null,null,null,null,null,null,null,null,0]
["",null,null,null,"",null,null,null,null,null,null,null,null,null,null,null,null,null,null,null,null,null,null,null,null,null,0]
["",null,null,null,"",null,null,null,null,null,null,null,null,null,null,null,null,null,null,null,null,null,null,null,null,null,0]
["GLI EFFETTI DEL PRESENTE DECRETO SONO SUBORDINATI AL PERDURARE ",null,null,null,null,null,null,null,null,null,null,null,null,null,null,null,null,null,null,null,null,null,null,null,null,null,63]
["DELL’ATTUALE RAPPORTO DI IMPIEGO. ",null,null,null,null,null,null,null,null,null,null,null,null,null,null,null,null,null,null,null,null,null,null,null,null,null,34]
["OVE, PER QUALSIASI CAUSA, DETTO RAPPORTO VENGA A SUBIRE MODIFICAZIONI ",null,null,null,null,null,null,null,null,null,null,null,null,null,null,null,null,null,null,null,null,null,null,null,null,null,70]
["O A CESSARE \nPRIMA DELLA DATA SUINDICATA, L’EFFICACIA DEL PRESENTE DECRETO ",null,null,null,null,null,null,null,null,null,null,null,null,null,null,null,null,null,null,null,null,null,null,null,null,null,75]
["VA LIMITATA ALLA DATA DELLA INTERVENUTA MODIFICAZIONE O CESSAZIONE. LO STIPENDIO ",null,null,null,null,null,null,null,null,null,null,null,null,null,null,null,null,null,null,null,null,null,null,null,null,null,81]
["VA RAPPORTATO ALLE EFFETTIVE ORE DI SERVIZIO PRESTATE.",null,null,null,null,null,null,null,null,null,null,null,null,null,null,null,null,null,null,null,null,null,null,null,null,null,54]
["IL PRESENTE DECRETO SARA’ INVIATO ALLA RAGIONERIA PROVINCIALE DELLO STATO ",null,null,null,null,null,null,null,null,null,null,null,null,null,null,null,null,null,null,null,null,null,null,null,null,null,74]
["PER QUANTO DI COMPETENZA .",null,null,null,null,null,null,null,null,null,null,null,null,null,null,null,null,null,null,null,null,null,null,null,null,null,26]
["LA DIREZIONE PROVINCIALE DEL TESORO E’ AUTORIZZATA, AI SENSI DELLE CITATE NORME,",null,null,null,null,null,null,null,null,null,null,null,null,null,null,null,null,null,null,null,null,null,null,null,null,null,80]
["A VARIARE LA RELATIVA PARTITA DI SPESA FISSA.",null,null,null,null,null,null,null,null,null,null,null,null,null,null,null,null,null,null,null,null,null,null,null,null,null,45]
["SONO FATTI SALVI EVENTUALI CONGUAGLI A DEBITO O A CREDITO CONSEGUENTI A ",null,null,null,null,null,null,null,null,null,null,null,null,null,null,null,null,null,null,null,null,null,null,null,null,null,72]
["OSSERVAZIONI DEL SUDDETTO  ORGANO DEL MINISTERO DEL TESORO, DEL BILANCIO E ",null,null,null,null,null,null,null,null,null,null,null,null,null,null,null,null,null,null,null,null,null,null,null,null,null,75]
["DELLA PROGRAMMAZIONE ECONOMICA. AVVERSO IL PRESENTE DECRETO E’ ESPERIBILE",null,null,null,null,null,null,null,null,null,null,null,null,null,null,null,null,null,null,null,null,null,null,null,null,null,73]
[" IMPUGNATIVA A NORMA DELL'ART. 63 E SEGUENTI DEL D.LVO 30/03/2001 N. 165",null,null,null,null,null,null,null,null,null,null,null,null,null,null,null,null,null,null,null,null,null,null,null,null,null,72]
[null,null,null,null,null,null,null,null,null,null,null,null,null,null,null,null,null,null,null,null,null,null,null,null,null,null,0]
["IL DIRIGENTE SCOLASTICO",null,null,null,null,null,null,null,null,null,null,null,null,null,null,null,null,null,null,null,null,null,null,null,null,null,23]
[null,null,null,null,null,null,null,null,null,null,null,null,null,null,null,null,null,null,null,null,null,null,null,null,null,null,0]
[null,null,null,null,null,null,null,null,null,null,null,null,null,null,null,null,null,null,null,null,null,null,null,null,null,null,0]
[null,null,null,null,null,null,null,null,null,null,null,null,null,null,null,null,null,null,null,null,null,null,null,null,null,null,0]
[null,null,null,null,null,null,null,null,null,null,null,null,null,null,null,null,null,null,null,null,null,null,null,null,null,null,0]
[null,null,null,null,null,null,null,null,null,null,null,null,null,null,null,null,null,null,null,null,null,null,null,null,null,null,0]
[null,null,null,null,null,null,null,null,null,null,null,null,null,null,null,null,null,null,null,null,null,null,null,null,null,null,0]
[null,null,null,null,null,null,null,null,null,null,null,null,null,null,null,null,null,null,null,null,null,null,null,null,null,null,0]
[null,null,null,null,null,null,null,null,null,null,null,null,null,null,null,null,null,null,null,null,null,null,null,null,null,null,0]
[null,null,null,null,null,null,null,null,null,null,null,null,null,null,null,null,null,null,null,null,null,null,null,null,null,null,0]
[null,null,null,null,null,null,null,null,null,null,null,null,null,null,null,null,null,null,null,null,null,null,null,null,null,null,0]
[null,null,null,null,null,null,null,null,null,null,null,null,null,null,null,null,null,null,null,null,null,null,null,null,null,null,0]
[null,null,null,null,null,null,null,null,null,null,null,null,null,null,null,null,null,null,null,null,null,null,null,null,null,null,0]
[null,null,null,null,null,null,null,null,null,null,null,null,null,null,null,null,null,null,null,null,null,null,null,null,null,null,0]
[null,null,null,null,null,null,null,null,null,null,null,null,null,null,null,null,null,null,null,null,null,null,null,null,null,null,0]
[null,null,null,null,null,null,null,null,null,null,null,null,null,null,null,null,null,null,null,null,null,null,null,null,null,null,0]
[null,null,null,null,null,null,null,null,null,null,null,null,null,null,null,null,null,null,null,null,null,null,null,null,null,null,0]
[null,null,null,null,null,null,null,null,null,null,null,null,null,null,null,null,null,null,null,null,null,null,null,null,null,null,0]
[null,null,null,null,null,null,null,null,null,null,null,null,null,null,null,null,null,null,null,null,null,null,null,null,null,null,0]
[null,null,null,null,null,null,null,null,null,null,null,null,null,null,null,null,null,null,null,null,null,null,null,null,null,null,{"$f":"LEN(CONCATENATE(A88,B88,C88,D88,E88,F88,G88,H88))","v":0}]
[null,null,null,null,null,null,null,null,null,null,null,null,null,null,null,null,null,null,null,null,null,null,null,null,null,null,0]
[null,null,null,null,null,null,null,null,null,null,null,null,null,null,null,null,null,null,null,null,null,null,null,null,null,null,0]
[null,null,null,null,null,null,null,null,null,null,null,null,null,null,null,null,null,null,null,null,null,null,null,null,null,null,0]
[null,null,null,null,null,null,null,null,null,null,null,null,null,null,null,null,null,null,null,null,null,null,null,null,null,null,0]
[null,null,null,null,null,null,null,null,null,null,null,null,null,null,null,null,null,null,null,null,null,null,null,null,null,null,0]
[null,null,null,null,null,null,null,null,null,null,null,null,null,null,null,null,null,null,null,null,null,null,null,null,null,null,0]
[null,null,null,null,null,null,null,null,null,null,null,null,null,null,null,null,null,null,null,null,null,null,null,null,null,null,0]
[null,null,null,null,null,null,null,null,null,null,null,null,null,null,null,null,null,null,null,null,null,null,null,null,null,null,0]
[null,null,null,null,null,null,null,null,null,null,null,null,null,null,null,null,null,null,null,null,null,null,null,null,null,null,0]
[null,null,null,null,null,null,null,null,null,null,null,null,null,null,null,null,null,null,null,null,null,null,null,null,null,null,0]
[null,null,null,null,null,null,null,null,null,null,null,null,null,null,null,null,null,null,null,null,null,null,null,null,null,null,0]
[null,null,null,null,null,null,null,null,null,null,null,null,null,null,null,null,null,null,null,null,null,null,null,null,null,null,0]
[null,null,null,null,null,null,null,null,null,null,null,null,null,null,null,null,null,null,null,null,null,null,null,null,null,null,0]
[null,null,null,null,null,null,null,null,null,null,null,null,null,null,null,null,null,null,null,null,null,null,null,null,null,null,0]
[null,null,null,null,null,null,null,null,null,null,null,null,null,null,null,null,null,null,null,null,null,null,null,null,null,null,0]
[null,null,null,null,null,null,null,null,null,null,null,null,null,null,null,null,null,null,null,null,null,null,null,null,null,null,0]
[null,null,null,null,null,null,null,null,null,null,null,null,null,null,null,null,null,null,null,null,null,null,null,null,null,null,0]
[null,null,null,null,null,null,null,null,null,null,null,null,null,null,null,null,null,null,null,null,null,null,null,null,null,null,0]
[null,null,null,null,null,null,null,null,null,null,null,null,null,null,null,null,null,null,null,null,null,null,null,null,null,null,0]
[null,null,null,null,null,null,null,null,null,null,null,null,null,null,null,null,null,null,null,null,null,null,null,null,null,null,0]
[null,null,null,null,null,null,null,null,null,null,null,null,null,null,null,null,null,null,null,null,null,null,null,null,null,null,0]
[null,null,null,null,null,null,null,null,null,null,null,null,null,null,null,null,null,null,null,null,null,null,null,null,null,null,0]
[null,null,null,null,null,null,null,null,null,null,null,null,null,null,null,null,null,null,null,null,null,null,null,null,null,null,0]
[null,null,null,null,null,null,null,null,null,null,null,null,null,null,null,null,null,null,null,null,null,null,null,null,null,null,0]
[null,null,null,null,null,null,null,null,null,null,null,null,null,null,null,null,null,null,null,null,null,null,null,null,null,null,0]
[null,null,null,null,null,null,null,null,null,null,null,null,null,null,null,null,null,null,null,null,null,null,null,null,null,null,0]
[null,null,null,null,null,null,null,null,null,null,null,null,null,null,null,null,null,null,null,null,null,null,null,null,null,null,0]
[null,null,null,null,null,null,null,null,null,null,null,null,null,null,null,null,null,null,null,null,null,null,null,null,null,null,0]
[null,null,null,null,null,null,null,null,null,null,null,null,null,null,null,null,null,null,null,null,null,null,null,null,null,null,0]
[null,null,null,null,null,null,null,null,null,null,null,null,null,null,null,null,null,null,null,null,null,null,null,null,null,null,0]
[null,null,null,null,null,null,null,null,null,null,null,null,null,null,null,null,null,null,null,null,null,null,null,null,null,null,0]
[null,null,null,null,null,null,null,null,null,null,null,null,null,null,null,null,null,null,null,null,null,null,null,null,null,null,0]
[null,null,null,null,null,null,null,null,null,null,null,null,null,null,null,null,null,null,null,null,null,null,null,null,null,null,0]
[null,null,null,null,null,null,null,null,null,null,null,null,null,null,null,null,null,null,null,null,null,null,null,null,null,null,0]
[null,null,null,null,null,null,null,null,null,null,null,null,null,null,null,null,null,null,null,null,null,null,null,null,null,null,0]
[null,null,null,null,null,null,null,null,null,null,null,null,null,null,null,null,null,null,null,null,null,null,null,null,null,null,0]
[null,null,null,null,null,null,null,null,null,null,null,null,null,null,null,null,null,null,null,null,null,null,null,null,null,null,0]
[null,null,null,null,null,null,null,null,null,null,null,null,null,null,null,null,null,null,null,null,null,null,null,null,null,null,0]
[null,null,null,null,null,null,null,null,null,null,null,null,null,null,null,null,null,null,null,null,null,null,null,null,null,null,0]
[null,null,null,null,null,null,null,null,null,null,null,null,null,null,null,null,null,null,null,null,null,null,null,null,null,null,0]
[null,null,null,null,null,null,null,null,null,null,null,null,null,null,null,null,null,null,null,null,null,null,null,null,null,null,0]
[null,null,null,null,null,null,null,null,null,null,null,null,null,null,null,null,null,null,null,null,null,null,null,null,null,null,0]
[null,null,null,null,null,null,null,null,null,null,null,null,null,null,null,null,null,null,null,null,null,null,null,null,null,null,0]
[null,null,null,null,null,null,null,null,null,null,null,null,null,null,null,null,null,null,null,null,null,null,null,null,null,null,0]
[null,null,null,null,null,null,null,null,null,null,null,null,null,null,null,null,null,null,null,null,null,null,null,null,null,null,0]
[null,null,null,null,null,null,null,null,null,null,null,null,null,null,null,null,null,null,null,null,null,null,null,null,null,null,0]
[null,null,null,null,null,null,null,null,null,null,null,null,null,null,null,null,null,null,null,null,null,null,null,null,null,null,0]
[null,null,null,null,null,null,null,null,null,null,null,null,null,null,null,null,null,null,null,null,null,null,null,null,null,null,0]
[null,null,null,null,null,null,null,null,null,null,null,null,null,null,null,null,null,null,null,null,null,null,null,null,null,null,0]
[null,null,null,null,null,null,null,null,null,null,null,null,null,null,null,null,null,null,null,null,null,null,null,null,null,null,0]
[null,null,null,null,null,null,null,null,null,null,null,null,null,null,null,null,null,null,null,null,null,null,null,null,null,null,0]
[null,null,null,null,null,null,null,null,null,null,null,null,null,null,null,null,null,null,null,null,null,null,null,null,null,null,0]
[null,null,null,null,null,null,null,null,null,null,null,null,null,null,null,null,null,null,null,null,null,null,null,null,null,null,0]
[null,null,null,null,null,null,null,null,null,null,null,null,null,null,null,null,null,null,null,null,null,null,null,null,null,null,0]
[null,null,null,null,null,null,null,null,null,null,null,null,null,null,null,null,null,null,null,null,null,null,null,null,null,null,0]
[null,null,null,null,null,null,null,null,null,null,null,null,null,null,null,null,null,null,null,null,null,null,null,null,null,null,0]
[null,null,null,null,null,null,null,null,null,null,null,null,null,null,null,null,null,null,null,null,null,null,null,null,null,null,0]
[null,null,null,null,null,null,null,null,null,null,null,null,null,null,null,null,null,null,null,null,null,null,null,null,null,null,0]
[null,null,null,null,null,null,null,null,null,null,null,null,null,null,null,null,null,null,null,null,null,null,null,null,null,null,0]
[null,null,null,null,null,null,null,null,null,null,null,null,null,null,null,null,null,null,null,null,null,null,null,null,null,null,0]
[null,null,null,null,null,null,null,null,null,null,null,null,null,null,null,null,null,null,null,null,null,null,null,null,null,null,0]
[null,null,null,null,null,null,null,null,null,null,null,null,null,null,null,null,null,null,null,null,null,null,null,null,null,null,0]
[null,null,null,null,null,null,null,null,null,null,null,null,null,null,null,null,null,null,null,null,null,null,null,null,null,null,0]
[null,null,null,null,null,null,null,null,null,null,null,null,null,null,null,null,null,null,null,null,null,null,null,null,null,null,{"$f":"LEN(CONCATENATE(A152,B152,C152,D152,E152,F152,G152,H152))","v":0}]
[null,null,null,null,null,null,null,null,null,null,null,null,null,null,null,null,null,null,null,null,null,null,null,null,null,null,0]
[null,null,null,null,null,null,null,null,null,null,null,null,null,null,null,null,null,null,null,null,null,null,null,null,null,null,0]
[null,null,null,null,null,null,null,null,null,null,null,null,null,null,null,null,null,null,null,null,null,null,null,null,null,null,0]
[null,null,null,null,null,null,null,null,null,null,null,null,null,null,null,null,null,null,null,null,null,null,null,null,null,null,0]
[null,null,null,null,null,null,null,null,null,null,null,null,null,null,null,null,null,null,null,null,null,null,null,null,null,null,0]
[null,null,null,null,null,null,null,null,null,null,null,null,null,null,null,null,null,null,null,null,null,null,null,null,null,null,0]
[null,null,null,null,null,null,null,null,null,null,null,null,null,null,null,null,null,null,null,null,null,null,null,null,null,null,0]
[null,null,null,null,null,null,null,null,null,null,null,null,null,null,null,null,null,null,null,null,null,null,null,null,null,null,0]
[null,null,null,null,null,null,null,null,null,null,null,null,null,null,null,null,null,null,null,null,null,null,null,null,null,null,0]
[null,null,null,null,null,null,null,null,null,null,null,null,null,null,null,null,null,null,null,null,null,null,null,null,null,null,0]
[null,null,null,null,null,null,null,null,null,null,null,null,null,null,null,null,null,null,null,null,null,null,null,null,null,null,0]
[null,null,null,null,null,null,null,null,null,null,null,null,null,null,null,null,null,null,null,null,null,null,null,null,null,null,0]
[null,null,null,null,null,null,null,null,null,null,null,null,null,null,null,null,null,null,null,null,null,null,null,null,null,null,0]
[null,null,null,null,null,null,null,null,null,null,null,null,null,null,null,null,null,null,null,null,null,null,null,null,null,null,0]
[null,null,null,null,null,null,null,null,null,null,null,null,null,null,null,null,null,null,null,null,null,null,null,null,null,null,0]
[null,null,null,null,null,null,null,null,null,null,null,null,null,null,null,null,null,null,null,null,null,null,null,null,null,null,0]
[null,null,null,null,null,null,null,null,null,null,null,null,null,null,null,null,null,null,null,null,null,null,null,null,null,null,0]
[null,null,null,null,null,null,null,null,null,null,null,null,null,null,null,null,null,null,null,null,null,null,null,null,null,null,0]
[null,null,null,null,null,null,null,null,null,null,null,null,null,null,null,null,null,null,null,null,null,null,null,null,null,null,0]
[null,null,null,null,null,null,null,null,null,null,null,null,null,null,null,null,null,null,null,null,null,null,null,null,null,null,0]
[null,null,null,null,null,null,null,null,null,null,null,null,null,null,null,null,null,null,null,null,null,null,null,null,null,null,0]
[null,null,null,null,null,null,null,null,null,null,null,null,null,null,null,null,null,null,null,null,null,null,null,null,null,null,0]
[null,null,null,null,null,null,null,null,null,null,null,null,null,null,null,null,null,null,null,null,null,null,null,null,null,null,0]
[null,null,null,null,null,null,null,null,null,null,null,null,null,null,null,null,null,null,null,null,null,null,null,null,null,null,0]
[null,null,null,null,null,null,null,null,null,null,null,null,null,null,null,null,null,null,null,null,null,null,null,null,null,null,0]
[null,null,null,null,null,null,null,null,null,null,null,null,null,null,null,null,null,null,null,null,null,null,null,null,null,null,0]
[null,null,null,null,null,null,null,null,null,null,null,null,null,null,null,null,null,null,null,null,null,null,null,null,null,null,0]
[null,null,null,null,null,null,null,null,null,null,null,null,null,null,null,null,null,null,null,null,null,null,null,null,null,null,0]
[null,null,null,null,null,null,null,null,null,null,null,null,null,null,null,null,null,null,null,null,null,null,null,null,null,null,0]
[null,null,null,null,null,null,null,null,null,null,null,null,null,null,null,null,null,null,null,null,null,null,null,null,null,null,0]
[null,null,null,null,null,null,null,null,null,null,null,null,null,null,null,null,null,null,null,null,null,null,null,null,null,null,0]
[null,null,null,null,null,null,null,null,null,null,null,null,null,null,null,null,null,null,null,null,null,null,null,null,null,null,0]
[null,null,null,null,null,null,null,null,null,null,null,null,null,null,null,null,null,null,null,null,null,null,null,null,null,null,0]
[null,null,null,null,null,null,null,null,null,null,null,null,null,null,null,null,null,null,null,null,null,null,null,null,null,null,0]
[null,null,null,null,null,null,null,null,null,null,null,null,null,null,null,null,null,null,null,null,null,null,null,null,null,null,0]
[null,null,null,null,null,null,null,null,null,null,null,null,null,null,null,null,null,null,null,null,null,null,null,null,null,null,0]
[null,null,null,null,null,null,null,null,null,null,null,null,null,null,null,null,null,null,null,null,null,null,null,null,null,null,0]
[null,null,null,null,null,null,null,null,null,null,null,null,null,null,null,null,null,null,null,null,null,null,null,null,null,null,0]
[null,null,null,null,null,null,null,null,null,null,null,null,null,null,null,null,null,null,null,null,null,null,null,null,null,null,0]
[null,null,null,null,null,null,null,null,null,null,null,null,null,null,null,null,null,null,null,null,null,null,null,null,null,null,0]
[null,null,null,null,null,null,null,null,null,null,null,null,null,null,null,null,null,null,null,null,null,null,null,null,null,null,0]
[null,null,null,null,null,null,null,null,null,null,null,null,null,null,null,null,null,null,null,null,null,null,null,null,null,null,0]
[null,null,null,null,null,null,null,null,null,null,null,null,null,null,null,null,null,null,null,null,null,null,null,null,null,null,0]
[null,null,null,null,null,null,null,null,null,null,null,null,null,null,null,null,null,null,null,null,null,null,null,null,null,null,0]
[null,null,null,null,null,null,null,null,null,null,null,null,null,null,null,null,null,null,null,null,null,null,null,null,null,null,0]
[null,null,null,null,null,null,null,null,null,null,null,null,null,null,null,null,null,null,null,null,null,null,null,null,null,null,0]
[null,null,null,null,null,null,null,null,null,null,null,null,null,null,null,null,null,null,null,null,null,null,null,null,null,null,0]
[null,null,null,null,null,null,null,null,null,null,null,null,null,null,null,null,null,null,null,null,null,null,null,null,null,null,0]
[null,null,null,null,null,null,null,null,null,null,null,null,null,null,null,null,null,null,null,null,null,null,null,null,null,null,0]
[null,null,null,null,null,null,null,null,null,null,null,null,null,null,null,null,null,null,null,null,null,null,null,null,null,null,0]
[null,null,null,null,null,null,null,null,null,null,null,null,null,null,null,null,null,null,null,null,null,null,null,null,null,null,0]
[null,null,null,null,null,null,null,null,null,null,null,null,null,null,null,null,null,null,null,null,null,null,null,null,null,null,0]
[null,null,null,null,null,null,null,null,null,null,null,null,null,null,null,null,null,null,null,null,null,null,null,null,null,null,0]
[null,null,null,null,null,null,null,null,null,null,null,null,null,null,null,null,null,null,null,null,null,null,null,null,null,null,0]
[null,null,null,null,null,null,null,null,null,null,null,null,null,null,null,null,null,null,null,null,null,null,null,null,null,null,0]
[null,null,null,null,null,null,null,null,null,null,null,null,null,null,null,null,null,null,null,null,null,null,null,null,null,null,0]
[null,null,null,null,null,null,null,null,null,null,null,null,null,null,null,null,null,null,null,null,null,null,null,null,null,null,0]
[null,null,null,null,null,null,null,null,null,null,null,null,null,null,null,null,null,null,null,null,null,null,null,null,null,null,0]
[null,null,null,null,null,null,null,null,null,null,null,null,null,null,null,null,null,null,null,null,null,null,null,null,null,null,0]
[null,null,null,null,null,null,null,null,null,null,null,null,null,null,null,null,null,null,null,null,null,null,null,null,null,null,0]
[null,null,null,null,null,null,null,null,null,null,null,null,null,null,null,null,null,null,null,null,null,null,null,null,null,null,0]
[null,null,null,null,null,null,null,null,null,null,null,null,null,null,null,null,null,null,null,null,null,null,null,null,null,null,0]
[null,null,null,null,null,null,null,null,null,null,null,null,null,null,null,null,null,null,null,null,null,null,null,null,null,null,0]
[null,null,null,null,null,null,null,null,null,null,null,null,null,null,null,null,null,null,null,null,null,null,null,null,null,null,{"$f":"LEN(CONCATENATE(A216,B216,C216,D216,E216,F216,G216,H216))","v":0}]
[null,null,null,null,null,null,null,null,null,null,null,null,null,null,null,null,null,null,null,null,null,null,null,null,null,null,0]
[null,null,null,null,null,null,null,null,null,null,null,null,null,null,null,null,null,null,null,null,null,null,null,null,null,null,0]
[null,null,null,null,null,null,null,null,null,null,null,null,null,null,null,null,null,null,null,null,null,null,null,null,null,null,0]
[null,null,null,null,null,null,null,null,null,null,null,null,null,null,null,null,null,null,null,null,null,null,null,null,null,null,0]
[null,null,null,null,null,null,null,null,null,null,null,null,null,null,null,null,null,null,null,null,null,null,null,null,null,null,0]
[null,null,null,null,null,null,null,null,null,null,null,null,null,null,null,null,null,null,null,null,null,null,null,null,null,null,0]
[null,null,null,null,null,null,null,null,null,null,null,null,null,null,null,null,null,null,null,null,null,null,null,null,null,null,0]
[null,null,null,null,null,null,null,null,null,null,null,null,null,null,null,null,null,null,null,null,null,null,null,null,null,null,0]
[null,null,null,null,null,null,null,null,null,null,null,null,null,null,null,null,null,null,null,null,null,null,null,null,null,null,0]
[null,null,null,null,null,null,null,null,null,null,null,null,null,null,null,null,null,null,null,null,null,null,null,null,null,null,0]
[null,null,null,null,null,null,null,null,null,null,null,null,null,null,null,null,null,null,null,null,null,null,null,null,null,null,0]
[null,null,null,null,null,null,null,null,null,null,null,null,null,null,null,null,null,null,null,null,null,null,null,null,null,null,0]
[null,null,null,null,null,null,null,null,null,null,null,null,null,null,null,null,null,null,null,null,null,null,null,null,null,null,0]
[null,null,null,null,null,null,null,null,null,null,null,null,null,null,null,null,null,null,null,null,null,null,null,null,null,null,0]
[null,null,null,null,null,null,null,null,null,null,null,null,null,null,null,null,null,null,null,null,null,null,null,null,null,null,0]
[null,null,null,null,null,null,null,null,null,null,null,null,null,null,null,null,null,null,null,null,null,null,null,null,null,null,0]
[null,null,null,null,null,null,null,null,null,null,null,null,null,null,null,null,null,null,null,null,null,null,null,null,null,null,0]
[null,null,null,null,null,null,null,null,null,null,null,null,null,null,null,null,null,null,null,null,null,null,null,null,null,null,0]
[null,null,null,null,null,null,null,null,null,null,null,null,null,null,null,null,null,null,null,null,null,null,null,null,null,null,0]
[null,null,null,null,null,null,null,null,null,null,null,null,null,null,null,null,null,null,null,null,null,null,null,null,null,null,0]
[null,null,null,null,null,null,null,null,null,null,null,null,null,null,null,null,null,null,null,null,null,null,null,null,null,null,0]
[null,null,null,null,null,null,null,null,null,null,null,null,null,null,null,null,null,null,null,null,null,null,null,null,null,null,0]
[null,null,null,null,null,null,null,null,null,null,null,null,null,null,null,null,null,null,null,null,null,null,null,null,null,null,0]
[null,null,null,null,null,null,null,null,null,null,null,null,null,null,null,null,null,null,null,null,null,null,null,null,null,null,0]
[null,null,null,null,null,null,null,null,null,null,null,null,null,null,null,null,null,null,null,null,null,null,null,null,null,null,0]
[null,null,null,null,null,null,null,null,null,null,null,null,null,null,null,null,null,null,null,null,null,null,null,null,null,null,0]
[null,null,null,null,null,null,null,null,null,null,null,null,null,null,null,null,null,null,null,null,null,null,null,null,null,null,0]
[null,null,null,null,null,null,null,null,null,null,null,null,null,null,null,null,null,null,null,null,null,null,null,null,null,null,0]
[null,null,null,null,null,null,null,null,null,null,null,null,null,null,null,null,null,null,null,null,null,null,null,null,null,null,0]
[null,null,null,null,null,null,null,null,null,null,null,null,null,null,null,null,null,null,null,null,null,null,null,null,null,null,0]
[null,null,null,null,null,null,null,null,null,null,null,null,null,null,null,null,null,null,null,null,null,null,null,null,null,null,0]
[null,null,null,null,null,null,null,null,null,null,null,null,null,null,null,null,null,null,null,null,null,null,null,null,null,null,0]
[null,null,null,null,null,null,null,null,null,null,null,null,null,null,null,null,null,null,null,null,null,null,null,null,null,null,0]
[null,null,null,null,null,null,null,null,null,null,null,null,null,null,null,null,null,null,null,null,null,null,null,null,null,null,0]
[null,null,null,null,null,null,null,null,null,null,null,null,null,null,null,null,null,null,null,null,null,null,null,null,null,null,0]
[null,null,null,null,null,null,null,null,null,null,null,null,null,null,null,null,null,null,null,null,null,null,null,null,null,null,0]
[null,null,null,null,null,null,null,null,null,null,null,null,null,null,null,null,null,null,null,null,null,null,null,null,null,null,0]
[null,null,null,null,null,null,null,null,null,null,null,null,null,null,null,null,null,null,null,null,null,null,null,null,null,null,0]
[null,null,null,null,null,null,null,null,null,null,null,null,null,null,null,null,null,null,null,null,null,null,null,null,null,null,0]
[null,null,null,null,null,null,null,null,null,null,null,null,null,null,null,null,null,null,null,null,null,null,null,null,null,null,0]
[null,null,null,null,null,null,null,null,null,null,null,null,null,null,null,null,null,null,null,null,null,null,null,null,null,null,0]
[null,null,null,null,null,null,null,null,null,null,null,null,null,null,null,null,null,null,null,null,null,null,null,null,null,null,0]
[null,null,null,null,null,null,null,null,null,null,null,null,null,null,null,null,null,null,null,null,null,null,null,null,null,null,0]
[null,null,null,null,null,null,null,null,null,null,null,null,null,null,null,null,null,null,null,null,null,null,null,null,null,null,0]
[null,null,null,null,null,null,null,null,null,null,null,null,null,null,null,null,null,null,null,null,null,null,null,null,null,null,0]
[null,null,null,null,null,null,null,null,null,null,null,null,null,null,null,null,null,null,null,null,null,null,null,null,null,null,0]
[null,null,null,null,null,null,null,null,null,null,null,null,null,null,null,null,null,null,null,null,null,null,null,null,null,null,0]
[null,null,null,null,null,null,null,null,null,null,null,null,null,null,null,null,null,null,null,null,null,null,null,null,null,null,0]
[null,null,null,null,null,null,null,null,null,null,null,null,null,null,null,null,null,null,null,null,null,null,null,null,null,null,0]
[null,null,null,null,null,null,null,null,null,null,null,null,null,null,null,null,null,null,null,null,null,null,null,null,null,null,0]
[null,null,null,null,null,null,null,null,null,null,null,null,null,null,null,null,null,null,null,null,null,null,null,null,null,null,0]
[null,null,null,null,null,null,null,null,null,null,null,null,null,null,null,null,null,null,null,null,null,null,null,null,null,null,0]
[null,null,null,null,null,null,null,null,null,null,null,null,null,null,null,null,null,null,null,null,null,null,null,null,null,null,0]
[null,null,null,null,null,null,null,null,null,null,null,null,null,null,null,null,null,null,null,null,null,null,null,null,null,null,0]
[null,null,null,null,null,null,null,null,null,null,null,null,null,null,null,null,null,null,null,null,null,null,null,null,null,null,0]
[null,null,null,null,null,null,null,null,null,null,null,null,null,null,null,null,null,null,null,null,null,null,null,null,null,null,0]
[null,null,null,null,null,null,null,null,null,null,null,null,null,null,null,null,null,null,null,null,null,null,null,null,null,null,0]
[null,null,null,null,null,null,null,null,null,null,null,null,null,null,null,null,null,null,null,null,null,null,null,null,null,null,0]
[null,null,null,null,null,null,null,null,null,null,null,null,null,null,null,null,null,null,null,null,null,null,null,null,null,null,0]
[null,null,null,null,null,null,null,null,null,null,null,null,null,null,null,null,null,null,null,null,null,null,null,null,null,null,0]
[null,null,null,null,null,null,null,null,null,null,null,null,null,null,null,null,null,null,null,null,null,null,null,null,null,null,0]
[null,null,null,null,null,null,null,null,null,null,null,null,null,null,null,null,null,null,null,null,null,null,null,null,null,null,0]
[null,null,null,null,null,null,null,null,null,null,null,null,null,null,null,null,null,null,null,null,null,null,null,null,null,null,0]
[null,null,null,null,null,null,null,null,null,null,null,null,null,null,null,null,null,null,null,null,null,null,null,null,null,null,{"$f":"LEN(CONCATENATE(A280,B280,C280,D280,E280,F280,G280,H280))","v":0}]
[null,null,null,null,null,null,null,null,null,null,null,null,null,null,null,null,null,null,null,null,null,null,null,null,null,null,0]
[null,null,null,null,null,null,null,null,null,null,null,null,null,null,null,null,null,null,null,null,null,null,null,null,null,null,0]
[null,null,null,null,null,null,null,null,null,null,null,null,null,null,null,null,null,null,null,null,null,null,null,null,null,null,0]
[null,null,null,null,null,null,null,null,null,null,null,null,null,null,null,null,null,null,null,null,null,null,null,null,null,null,0]
[null,null,null,null,null,null,null,null,null,null,null,null,null,null,null,null,null,null,null,null,null,null,null,null,null,null,0]
[null,null,null,null,null,null,null,null,null,null,null,null,null,null,null,null,null,null,null,null,null,null,null,null,null,null,0]
[null,null,null,null,null,null,null,null,null,null,null,null,null,null,null,null,null,null,null,null,null,null,null,null,null,null,0]
[null,null,null,null,null,null,null,null,null,null,null,null,null,null,null,null,null,null,null,null,null,null,null,null,null,null,0]
[null,null,null,null,null,null,null,null,null,null,null,null,null,null,null,null,null,null,null,null,null,null,null,null,null,null,0]
[null,null,null,null,null,null,null,null,null,null,null,null,null,null,null,null,null,null,null,null,null,null,null,null,null,null,0]
[null,null,null,null,null,null,null,null,null,null,null,null,null,null,null,null,null,null,null,null,null,null,null,null,null,null,0]
[null,null,null,null,null,null,null,null,null,null,null,null,null,null,null,null,null,null,null,null,null,null,null,null,null,null,0]
[null,null,null,null,null,null,null,null,null,null,null,null,null,null,null,null,null,null,null,null,null,null,null,null,null,null,0]
[null,null,null,null,null,null,null,null,null,null,null,null,null,null,null,null,null,null,null,null,null,null,null,null,null,null,0]
[null,null,null,null,null,null,null,null,null,null,null,null,null,null,null,null,null,null,null,null,null,null,null,null,null,null,0]
[null,null,null,null,null,null,null,null,null,null,null,null,null,null,null,null,null,null,null,null,null,null,null,null,null,null,0]
[null,null,null,null,null,null,null,null,null,null,null,null,null,null,null,null,null,null,null,null,null,null,null,null,null,null,0]
[null,null,null,null,null,null,null,null,null,null,null,null,null,null,null,null,null,null,null,null,null,null,null,null,null,null,0]
[null,null,null,null,null,null,null,null,null,null,null,null,null,null,null,null,null,null,null,null,null,null,null,null,null,null,0]
[null,null,null,null,null,null,null,null,null,null,null,null,null,null,null,null,null,null,null,null,null,null,null,null,null,null,0]
[null,null,null,null,null,null,null,null,null,null,null,null,null,null,null,null,null,null,null,null,null,null,null,null,null,null,0]
[null,null,null,null,null,null,null,null,null,null,null,null,null,null,null,null,null,null,null,null,null,null,null,null,null,null,0]
[null,null,null,null,null,null,null,null,null,null,null,null,null,null,null,null,null,null,null,null,null,null,null,null,null,null,0]
[null,null,null,null,null,null,null,null,null,null,null,null,null,null,null,null,null,null,null,null,null,null,null,null,null,null,0]
[null,null,null,null,null,null,null,null,null,null,null,null,null,null,null,null,null,null,null,null,null,null,null,null,null,null,0]
[null,null,null,null,null,null,null,null,null,null,null,null,null,null,null,null,null,null,null,null,null,null,null,null,null,null,0]
[null,null,null,null,null,null,null,null,null,null,null,null,null,null,null,null,null,null,null,null,null,null,null,null,null,null,0]
[null,null,null,null,null,null,null,null,null,null,null,null,null,null,null,null,null,null,null,null,null,null,null,null,null,null,0]
[null,null,null,null,null,null,null,null,null,null,null,null,null,null,null,null,null,null,null,null,null,null,null,null,null,null,0]
[null,null,null,null,null,null,null,null,null,null,null,null,null,null,null,null,null,null,null,null,null,null,null,null,null,null,0]
[null,null,null,null,null,null,null,null,null,null,null,null,null,null,null,null,null,null,null,null,null,null,null,null,null,null,0]
[null,null,null,null,null,null,null,null,null,null,null,null,null,null,null,null,null,null,null,null,null,null,null,null,null,null,0]
[null,null,null,null,null,null,null,null,null,null,null,null,null,null,null,null,null,null,null,null,null,null,null,null,null,null,0]
[null,null,null,null,null,null,null,null,null,null,null,null,null,null,null,null,null,null,null,null,null,null,null,null,null,null,0]
[null,null,null,null,null,null,null,null,null,null,null,null,null,null,null,null,null,null,null,null,null,null,null,null,null,null,0]
[null,null,null,null,null,null,null,null,null,null,null,null,null,null,null,null,null,null,null,null,null,null,null,null,null,null,0]
[null,null,null,null,null,null,null,null,null,null,null,null,null,null,null,null,null,null,null,null,null,null,null,null,null,null,0]
[null,null,null,null,null,null,null,null,null,null,null,null,null,null,null,null,null,null,null,null,null,null,null,null,null,null,0]
[null,null,null,null,null,null,null,null,null,null,null,null,null,null,null,null,null,null,null,null,null,null,null,null,null,null,0]
[null,null,null,null,null,null,null,null,null,null,null,null,null,null,null,null,null,null,null,null,null,null,null,null,null,null,0]
[null,null,null,null,null,null,null,null,null,null,null,null,null,null,null,null,null,null,null,null,null,null,null,null,null,null,0]
[null,null,null,null,null,null,null,null,null,null,null,null,null,null,null,null,null,null,null,null,null,null,null,null,null,null,0]
[null,null,null,null,null,null,null,null,null,null,null,null,null,null,null,null,null,null,null,null,null,null,null,null,null,null,0]
[null,null,null,null,null,null,null,null,null,null,null,null,null,null,null,null,null,null,null,null,null,null,null,null,null,null,0]
[null,null,null,null,null,null,null,null,null,null,null,null,null,null,null,null,null,null,null,null,null,null,null,null,null,null,0]
[null,null,null,null,null,null,null,null,null,null,null,null,null,null,null,null,null,null,null,null,null,null,null,null,null,null,0]
[null,null,null,null,null,null,null,null,null,null,null,null,null,null,null,null,null,null,null,null,null,null,null,null,null,null,0]
[null,null,null,null,null,null,null,null,null,null,null,null,null,null,null,null,null,null,null,null,null,null,null,null,null,null,0]
[null,null,null,null,null,null,null,null,null,null,null,null,null,null,null,null,null,null,null,null,null,null,null,null,null,null,0]
[null,null,null,null,null,null,null,null,null,null,null,null,null,null,null,null,null,null,null,null,null,null,null,null,null,null,0]
[null,null,null,null,null,null,null,null,null,null,null,null,null,null,null,null,null,null,null,null,null,null,null,null,null,null,0]
[null,null,null,null,null,null,null,null,null,null,null,null,null,null,null,null,null,null,null,null,null,null,null,null,null,null,0]
[null,null,null,null,null,null,null,null,null,null,null,null,null,null,null,null,null,null,null,null,null,null,null,null,null,null,0]
[null,null,null,null,null,null,null,null,null,null,null,null,null,null,null,null,null,null,null,null,null,null,null,null,null,null,0]
[null,null,null,null,null,null,null,null,null,null,null,null,null,null,null,null,null,null,null,null,null,null,null,null,null,null,0]
[null,null,null,null,null,null,null,null,null,null,null,null,null,null,null,null,null,null,null,null,null,null,null,null,null,null,0]
[null,null,null,null,null,null,null,null,null,null,null,null,null,null,null,null,null,null,null,null,null,null,null,null,null,null,0]
[null,null,null,null,null,null,null,null,null,null,null,null,null,null,null,null,null,null,null,null,null,null,null,null,null,null,0]
[null,null,null,null,null,null,null,null,null,null,null,null,null,null,null,null,null,null,null,null,null,null,null,null,null,null,0]
[null,null,null,null,null,null,null,null,null,null,null,null,null,null,null,null,null,null,null,null,null,null,null,null,null,null,0]
[null,null,null,null,null,null,null,null,null,null,null,null,null,null,null,null,null,null,null,null,null,null,null,null,null,null,0]
[null,null,null,null,null,null,null,null,null,null,null,null,null,null,null,null,null,null,null,null,null,null,null,null,null,null,0]
[null,null,null,null,null,null,null,null,null,null,null,null,null,null,null,null,null,null,null,null,null,null,null,null,null,null,0]
[null,null,null,null,null,null,null,null,null,null,null,null,null,null,null,null,null,null,null,null,null,null,null,null,null,null,{"$f":"LEN(CONCATENATE(A344,B344,C344,D344,E344,F344,G344,H344))","v":0}]
[null,null,null,null,null,null,null,null,null,null,null,null,null,null,null,null,null,null,null,null,null,null,null,null,null,null,0]
[null,null,null,null,null,null,null,null,null,null,null,null,null,null,null,null,null,null,null,null,null,null,null,null,null,null,0]
[null,null,null,null,null,null,null,null,null,null,null,null,null,null,null,null,null,null,null,null,null,null,null,null,null,null,0]
[null,null,null,null,null,null,null,null,null,null,null,null,null,null,null,null,null,null,null,null,null,null,null,null,null,null,0]
[null,null,null,null,null,null,null,null,null,null,null,null,null,null,null,null,null,null,null,null,null,null,null,null,null,null,0]
[null,null,null,null,null,null,null,null,null,null,null,null,null,null,null,null,null,null,null,null,null,null,null,null,null,null,0]
[null,null,null,null,null,null,null,null,null,null,null,null,null,null,null,null,null,null,null,null,null,null,null,null,null,null,0]
[null,null,null,null,null,null,null,null,null,null,null,null,null,null,null,null,null,null,null,null,null,null,null,null,null,null,0]
[null,null,null,null,null,null,null,null,null,null,null,null,null,null,null,null,null,null,null,null,null,null,null,null,null,null,0]
[null,null,null,null,null,null,null,null,null,null,null,null,null,null,null,null,null,null,null,null,null,null,null,null,null,null,0]
[null,null,null,null,null,null,null,null,null,null,null,null,null,null,null,null,null,null,null,null,null,null,null,null,null,null,0]
[null,null,null,null,null,null,null,null,null,null,null,null,null,null,null,null,null,null,null,null,null,null,null,null,null,null,0]
[null,null,null,null,null,null,null,null,null,null,null,null,null,null,null,null,null,null,null,null,null,null,null,null,null,null,0]
[null,null,null,null,null,null,null,null,null,null,null,null,null,null,null,null,null,null,null,null,null,null,null,null,null,null,0]
[null,null,null,null,null,null,null,null,null,null,null,null,null,null,null,null,null,null,null,null,null,null,null,null,null,null,0]
[null,null,null,null,null,null,null,null,null,null,null,null,null,null,null,null,null,null,null,null,null,null,null,null,null,null,0]
[null,null,null,null,null,null,null,null,null,null,null,null,null,null,null,null,null,null,null,null,null,null,null,null,null,null,0]
[null,null,null,null,null,null,null,null,null,null,null,null,null,null,null,null,null,null,null,null,null,null,null,null,null,null,0]
[null,null,null,null,null,null,null,null,null,null,null,null,null,null,null,null,null,null,null,null,null,null,null,null,null,null,0]
[null,null,null,null,null,null,null,null,null,null,null,null,null,null,null,null,null,null,null,null,null,null,null,null,null,null,0]
[null,null,null,null,null,null,null,null,null,null,null,null,null,null,null,null,null,null,null,null,null,null,null,null,null,null,0]
[null,null,null,null,null,null,null,null,null,null,null,null,null,null,null,null,null,null,null,null,null,null,null,null,null,null,0]
[null,null,null,null,null,null,null,null,null,null,null,null,null,null,null,null,null,null,null,null,null,null,null,null,null,null,0]
[null,null,null,null,null,null,null,null,null,null,null,null,null,null,null,null,null,null,null,null,null,null,null,null,null,null,0]
[null,null,null,null,null,null,null,null,null,null,null,null,null,null,null,null,null,null,null,null,null,null,null,null,null,null,0]
[null,null,null,null,null,null,null,null,null,null,null,null,null,null,null,null,null,null,null,null,null,null,null,null,null,null,0]
[null,null,null,null,null,null,null,null,null,null,null,null,null,null,null,null,null,null,null,null,null,null,null,null,null,null,0]
[null,null,null,null,null,null,null,null,null,null,null,null,null,null,null,null,null,null,null,null,null,null,null,null,null,null,0]
[null,null,null,null,null,null,null,null,null,null,null,null,null,null,null,null,null,null,null,null,null,null,null,null,null,null,0]

{"sheet":"DEC REL. T.I.","index":3,"n_rows":523,"n_cols":5,"rows_kept":523,"cut":false,"hidden":false,"merged":[[39,0,39,8],[521,0,521,3],[515,0,515,3],[516,0,516,3],[517,0,517,3],[518,0,518,3],[519,0,519,3],[520,0,520,3],[514,0,514,7],[495,0,495,3],[35,0,35,8],[28,0,28,8],[16,0,16,8],[43,6,43,7],[17,0,17,8],[18,0,18,8],[20,0,20,8],[29,0,29,8],[30,0,30,8],[43,0,43,2],[82,0,82,3],[479,0,479,3],[480,0,480,3],[477,0,477,3],[478,0,478,3],[475,0,475,3],[476,0,476,3],[83,0,83,3],[45,4,45,7],[481,0,481,3],[500,0,500,3],[501,0,501,3],[494,0,494,7],[496,0,496,3],[499,0,499,3],[497,0,497,3],[498,0,498,3],[474,0,474,7],[14,0,14,8],[15,0,15,8],[8,0,8,8],[43,4,43,5],[44,0,44,5],[44,6,44,7],[34,0,34,8],[21,0,21,8],[22,0,22,8],[23,0,23,8],[0,10,0,15],[0,0,0,8],[1,0,1,8],[2,0,2,8],[3,0,3,8],[4,0,4,8],[46,0,46,2],[5,0,5,8],[6,0,6,8],[7,0,7,8],[32,0,32,8],[33,0,33,8],[31,0,31,8],[36,0,36,8],[37,0,37,8],[19,0,19,8],[9,0,9,8],[12,0,12,8],[13,0,13,8],[10,0,10,8],[11,0,11,8],[38,0,38,8],[27,0,27,8],[24,0,24,8],[25,0,25,8],[26,0,26,8],[79,0,79,3],[57,0,57,3],[58,0,58,3],[78,0,78,3],[48,1,48,2],[47,0,47,2],[59,0,59,3],[60,0,60,3],[49,1,49,2],[46,4,46,5],[40,0,40,8],[42,0,42,1],[42,2,42,3],[42,4,42,5],[42,6,42,7],[41,0,41,3],[41,4,41,6],[46,6,46,7],[45,0,45,2],[81,0,81,3],[50,1,50,2],[51,0,51,5],[56,0,56,7],[62,0,62,3],[61,0,61,3],[77,0,77,3],[80,0,80,3],[63,0,63,3],[76,0,76,7]]}
["Intestazione Circolo/Istituto"]
[]
[]
["DECRETO N.                                                                                      Data:    "]
[]
["IL DIRIGENTE SCOLASTICO"]
["VISTO il D.L. 19.6.1970, convertito in Legge 26/07/1970, n. 576;"]
["VISTO il D.P.R. 31/05/1974, n. 417;"]
["VISTO l’art. 53 – ultimo comma- della Legge 11.07.1980 n. 312, che così stabilisce testualmente: “Ai docenti di religione dopo quattro anni di insegnamento si applica una progressione economica di carriera con classi di stipendio corrispondenti all’80% di quelle attribuite ai docenti laureati di ruolo con l’obbligo di costituzione e accettazione di posto orario con trattamento di cattedra.”;"]
["VISTO il D.P.R. 2.6.1981, n. 271;"]
["VISTO il D.P.R. 25.6.1983, n. 345;"]
["VISTO l’art. 2 – co. 8 – del D.P.R. 10.4.1987, n. 209, che stabilisce che i docenti di religione di scuola secondaria, con effetto dal 01.01.1987, hanno diritto ad un trattamento economico corrispondente a quello dei docenti laureati della scuola secondaria superiore;"]
["VISTO il D.P.R. 17/09/1987, n. 494;"]
["VISTO l’art. 3, co. 6, del D.P.R. 21.3.1988, n. 399;"]
["VISTA la C.M. n. 36 del 28.01.1989;"]
["VISTO il D. L.vo 03/02/1993, n. 29 e ss. mm. ii.;"]
["VISTO il D. L.vo 16/04/1994, n. 297;"]
["VISTO l’art. 66 – co. 7 – del C.C.N.L. sottoscritto il 4.8.95, che così testualmente stabilisce:"]
["“Per gli insegnanti di religione restano in vigore le norme di cui all’art. 53 della legge n. 312 del 1980, modificate e integrate dal D.P.R. 399 del 1988 , art. 3 – co 6 e 7”;"]
["VISTO il C.C.N.L. sottoscritto il 01.08.1996;"]
["VISTA la Circolare Ministeriale, applicativa del citato CCNL, n. 595 del 20.09.1996, che precisa che per i docenti di religione nelle scuole materne, elementari e secondarie, con almeno un quadriennio di insegnamento e con orario di cattedra o equiparato, l’inquadramento nelle fasce di anzianità, di cui al citato CCNL, si effettua in base alla complessiva anzianità di carriera al 31.12.1995: tanto quella utile ai fini giuridici ed economici che quella utile ai soli fini economici, trovandosi per quanto riguarda la progressione economica equiparati ai docenti di ruolo;"]
["VISTA la C.M. 466 del 01.12.1998, che chiarisce che, per gli inquadramenti dal 01.09.1996 in poi, si procede secondo le disposizioni già impartite dal D.L. 19 giugno 1970 n. 370, art. 3, co 1 e 2, con il riconoscimento per intero dei primi quattro anni e, per la parte eccedente, 2/3 ai fini giuridici ed economici e 1/3 ai soli fini economici e che, pertanto, al momento della ricostruzione carriera si sommeranno i 4 anni + i 2/3 dell’eccedente per individuare l’anzianità valida per l’ inserimento nei gradoni e quella, invece, utile ai soli fini economici, ai sensi del comma 3 dell’ art. 4 del D.P.R. 399/88, verrà accantonata e utilizzata solo al raggiungimento del 16° e del 18° anno a seconda del tipo di scuola;"]
["VISTO il D.P.R. 8.3.1999, n. 275, recante il regolamento in materia di autonomia delle istituzioni scolastiche, ai sensi dell’art. 21 della Legge 15 marzo 1997, n. 59;"]
["VISTO il C.C.N.L. sottoscritto il 26.05.1999;"]
["VISTA la Circolare Ministeriale 3 gennaio 2001, n. 2, che precisa che, qualora i docenti di scuola secondaria ritornino ad aver un posto con orario cattedra, si provvederà a riconoscere il periodo di servizio durante il quale non c'è stata progressione di carriera, valutandolo agli effetti della carriera nella misura di due terzi ai fini giuridici ed economici e di un terzo ai soli fini economici, aggiungendo i primi all’anzianità maturata al momento della perdita dell’orario di cattedra;"]
["VISTO il C.C.N.L. sottoscritto il 15.03.2001;"]
["VISTA la Legge 18.07.2003, n. 186, art. 3, commi 1 e 3, che stabiliscono le condizioni e i titoli di accesso ai relativi ruoli dei docenti incaricati di religione;"]
["VISTO il C.C.N.L. sottoscritto il 24.07.2003;"]
["VISTO il C.C.N.L. sottoscritto il 07.12.2005;"]
["VISTO il C.C.N.L. sottoscritto il 29.11.2007;"]
["VISTA LA SEQUENZA CONTRATTUALE DEL 14/02/2008\nVISTO IL C.C.N.L. sottoscritto il 04 / agosto 2011"]
["VISTO il provvedimento di individuazione di destinatario di contratto individuale di lavoro in data  ___________"]
["e successivo contratto prot. n. ________  del _________ dell’USR della Regione "]
["____________ – USP di ________________, con il quale __l__ docente ____________________ , "]
["nat_ a ____________________  il _____________ Cod. Fisc. ____________________ , è stat_ assunt_ per l'insegnamento della Religione Cattolica con decorrenza giuridica dall’inizio dell’anno scolastico _________ (1° settembre ______) ed economica dalla data di effettiva assunzione in servizio avvenuta il _____________;"]
["CONSIDERATO che _l_ docente ha superato il periodo di prova nell’anno scolastico _______ ed è stat_ confermat_ in ruolo con decorrenza dal 1° settembre ________;"]
["CONSIDERATO che ha reso la dichiarazione dei servizi ai sensi dell'art.145 del T.U. approvato con D.P.R. 29/12/73, n.1092;"]
["VISTA l’istanza documentata, con la quale _l_ docente chiede il riconoscimento dei servizi prestati dall’anno scolastico _________ all’anno scolastico _________ per complessivi anni ___;"]
["VISTI i certificati di servizio, prestato dal__ docente con il possesso del titolo di studio prescritto per l’accesso ai relativi ruoli dall’art. 3, commi 1 e 3, della Legge 18.07.2003, n. 186;"]
["CONSIDERATO che, per effetto del riconoscimento dei servizi resi negli anni scolastici: ________ (giorni ­­­­_____), ________ (giorni ­­­­_____), ________ (giorni ­­­­_____), ________ (giorni ­­­­_____), ________ (giorni ­­­­_____), ________ (giorni ­­­­_____)  – Totale anni _____, alla data del ­­__________, data di decorrenza giuridica del contratto di lavoro a tempo indeterminato (ruolo) _l_ medesim_ docente ha diritto ad essere collocat_  nella fascia stipendiale da __ a __ anni, con l’attribuzione di un’anzianità di anni __ e mesi __ ai fini giuridici ed economici ed anni __ e mesi __ ai soli fini economici;"]
[]
[]
[]
[]
[]
[]
[]
[]
[]
[]
[]
[]
[]
[]
[]
[]
[]
[]
[]
[]
[]
[]
[]
[]
[]
[]
[]
[]
[]
[]
[]
[]
[]
[]
[]
[]
[]
[]
[]
[]
[]
[]
[]
[]
[]
[]
[]
[]
[]
[]
[]
[]
[]
[]
[]
[]
[]
[]
[]
[]
[]
[]
[]
[]
[]
[]
[]
[]
[]
[]
[]
[]
[]
[]
[]
[]
[]
[]
[]
[]
[]
[]
[]
[]
[]
[]
[]
[]
[]
[]
[]
[]
[]
[]
[]
[]
[]
[]
[]
[]
[]
[]
[]
[]
[]
[]
[]
[]
[]
[]
[]
[]
[]
[]
[]
[]
[]
[]
[]
[]
[]
[]
[]
[]
[]
[]
[]
[]
[]
[]
[]
[]
[]
[]
[]
[]
[]
[]
[]
[]
[]
[]
[]
[]
[]
[]
[]
[]
[]
[]
[]
[]
[]
[]
[]
[]
[]
[]
[]
[]
[]
[]
[]
[]
[]
[]
[]
[]
[]
[]
[]
[]
[]
[]
[]
[]
[]
[]
[]
[]
[]
[]
[]
[]
[]
[]
[]
[]
[]
[]
[]
[]
[]
[]
[]
[]
[]
[]
[]
[]
[]
[]
[]
[]
[]
[]
[]
[]
[]
[]
[]
[]
[]
[]
[]
[]
[]
[]
[]
[]
[]
[]
[]
[]
[]
[]
[]
[]
[]
[]
[]
[]
[]
[]
[]
[]
[]
[]
[]
[]
[]
[]
[]
[]
[]
[]
[]
[]
[]
[]
[]
[]
[]
[]
[]
[]
[]
[]
[]
[]
[]
[]
[]
[]
[]
[]
[]
[]
[]
[]
[]
[]
[]
[]
[]
[]
[]
[]
[]
[]
[]
[]
[]
[]
[]
[]
[]
[]
[]
[]
[]
[]
[]
[]
[]
[]
[]
[]
[]
[]
[]
[]
[]
[]
[]
[]
[]
[]
[]
[]
[]
[]
[]
[]
[]
[]
[]
[]
[]
[]
[]
[]
[]
[]
[]
[]
[]
[]
[]
[]
[]
[]
[]
[]
[]
[]
[]
[]
[]
[]
[]
[]
[]
[]
[]
[]
[]
[]
[]
[]
[]
[]
[]
[]
[]
[]
[]
[]
[]
[]
[]
[]
[]
[]
[]
[]
[]
[]
[]
[]
[]
[]
[]
[]
[]
[]
[]
[]
[]
[]
[]
[]
[]
[]
[]
[]
[]
[]
[]
[]
[]
[]
[]
[]
[]
[]
[]
[]
[]
[]
[]
[]
[]
[]
[]
[]
[]
[]
[]
[]
[]
[]
[]
[]
[]
[]
[]
[]
[]
[]
[]
[]
[]
[]
[]
[]
[]
[]
[]
[]
[]
[]
[]
[]
[]
[]
[]
[]
[]
[]
[]
[]
[]
[]
[]
[]
[]
[]
[]
[]
[]
[]
[]
[]
[]
[]
[]
[]
[]
[]
["",null,null,null,""]
[" Retribuzione professionale Docente ",null,null,null,2424]
[null,null,null,"Totale ",24892.78]
[]
[]
[]
[]
[]
[]
[]
[]
[null,null,null,"ARTICOLO",24]
[]
["Con decorrenza dal:",null,"2009-01-02","spetta:"]
["per passaggio, in questa data, al gradone 21-27 anni   - inclusa l'i.i.s. - Annuo lordo "]
[" Retribuzione ",null,null,null,24223.94]
["",null,null,null,""]
["",null,null,null,""]
["",null,null,null,""]
["",null,null,null,""]
["",null,null,null,""]
[" Retribuzione professionale Docente ",null,null,null,2424]
[null,null,null,"Totale ",26647.94]

{"sheet":"DECRETO","index":4,"n_rows":0,"n_cols":0,"rows_kept":0,"cut":false,"hidden":false,"merged":[[305,0,305,3],[302,0,302,7],[195,0,195,3],[196,0,196,3],[303,0,303,3],[307,0,307,3],[304,0,304,3],[238,0,238,3],[239,0,239,3],[448,0,448,3],[443,0,443,3],[446,0,446,3],[484,0,484,3],[485,0,485,3],[449,0,449,3],[588,0,588,3],[566,0,566,3],[567,0,567,3],[568,0,568,3],[569,0,569,3],[586,0,586,3],[306,0,306,3],[562,0,562,7],[366,0,366,3],[347,0,347,3],[348,0,348,3],[444,0,444,3],[345,0,345,3],[349,0,349,3],[442,0,442,7],[487,0,487,3],[447,0,447,3],[488,0,488,3],[387,0,387,3],[388,0,388,3],[346,0,346,3],[365,0,365,3],[429,0,429,3],[424,0,424,3],[425,0,425,3],[426,0,426,3],[589,0,589,3],[582,0,582,7],[583,0,583,3],[584,0,584,3],[585,0,585,3],[549,0,549,3],[565,0,565,3],[563,0,563,3],[564,0,564,3],[587,0,587,3],[114,0,114,3],[116,0,116,3],[117,0,117,3],[119,0,119,3],[158,0,158,3],[136,0,136,3],[154,0,154,3],[155,0,155,3],[153,0,153,3],[138,0,138,3],[139,0,139,3],[137,0,137,3],[97,0,97,3],[98,0,98,3],[115,0,115,3],[118,0,118,3],[99,0,99,3],[112,0,112,7],[113,0,113,3],[367,0,367,3],[308,0,308,3],[309,0,309,3],[363,0,363,3],[364,0,364,3],[344,0,344,3],[362,0,362,7],[342,0,342,7],[343,0,343,3],[369,0,369,3],[403,0,403,3],[368,0,368,3],[405,0,405,3],[409,0,409,3],[422,0,422,7],[382,0,382,7],[389,0,389,3],[406,0,406,3],[427,0,427,3],[402,0,402,7],[383,0,383,3],[384,0,384,3],[385,0,385,3],[386,0,386,3],[407,0,407,3],[408,0,408,3],[404,0,404,3],[542,0,542,7],[489,0,489,3],[504,0,504,3],[505,0,505,3],[506,0,506,3],[502,0,502,7],[503,0,503,3],[38,0,38,3],[507,0,507,3],[508,0,508,3],[509,0,509,3],[445,0,445,3],[428,0,428,3],[423,0,423,3],[486,0,486,3],[482,0,482,7],[483,0,483,3],[17,0,17,3],[34,0,34,3],[35,0,35,3],[36,0,36,3],[37,0,37,3],[18,0,18,3],[19,0,19,3],[32,0,32,7],[33,0,33,3],[547,0,547,3],[548,0,548,3],[543,0,543,3],[544,0,544,3],[545,0,545,3],[546,0,546,3],[2,0,2,2],[2,4,2,5],[2,6,2,7],[3,0,3,2],[4,1,4,2],[5,1,5,2],[14,0,14,3],[15,0,15,3],[16,0,16,3],[6,1,6,2],[7,0,7,5],[12,0,12,7],[13,0,13,3],[0,0,0,3],[0,4,0,6],[1,0,1,1],[1,2,1,3],[1,4,1,5],[1,6,1,7],[55,0,55,3],[56,0,56,3],[57,0,57,3],[75,0,75,3],[76,0,76,3],[77,0,77,3],[58,0,58,3],[59,0,59,3],[72,0,72,7],[73,0,73,3],[135,0,135,3],[93,0,93,3],[94,0,94,3],[95,0,95,3],[96,0,96,3],[39,0,39,3],[52,0,52,7],[53,0,53,3],[74,0,74,3],[54,0,54,3],[192,0,192,7],[132,0,132,7],[133,0,133,3],[134,0,134,3],[179,0,179,3],[152,0,152,7],[156,0,156,3],[157,0,157,3],[172,0,172,7],[159,0,159,3],[178,0,178,3],[173,0,173,3],[174,0,174,3],[175,0,175,3],[176,0,176,3],[177,0,177,3],[233,0,233,3],[197,0,197,3],[198,0,198,3],[214,0,214,3],[78,0,78,3],[79,0,79,3],[81,0,81,3],[92,0,92,7],[193,0,193,3],[194,0,194,3],[199,0,199,3],[218,0,218,3],[219,0,219,3],[232,0,232,7],[216,0,216,3],[217,0,217,3],[212,0,212,7],[213,0,213,3],[215,0,215,3],[258,0,258,3],[255,0,255,3],[256,0,256,3],[257,0,257,3],[236,0,236,3],[237,0,237,3],[278,0,278,3],[279,0,279,3],[275,0,275,3],[276,0,276,3],[277,0,277,3],[234,0,234,3],[235,0,235,3],[254,0,254,3],[252,0,252,7],[253,0,253,3]]}

{"sheet":"Foglio7","index":5,"n_rows":16,"n_cols":1,"rows_kept":16,"cut":false,"hidden":false,"merged":[]}
["GLI EFFETTI DEL PRESENTE DECRETO SONO SUBORDINATI AL PERDURARE "]
["DELL’ATTUALE RAPPORTO DI IMPIEGO. "]
["OVE, PER QUALSIASI CAUSA, DETTO RAPPORTO VENGA A SUBIRE MODIFICAZIONI "]
["O A CESSARE \nPRIMA DELLA DATA SUINDICATA, L’EFFICACIA DEL PRESENTE DECRETO "]
["VA LIMITATA ALLA DATA DELLA INTERVENUTA MODIFICAZIONE O CESSAZIONE. LO STIPENDIO "]
["VA RAPPORTATO ALLE EFFETTIVE ORE DI SERVIZIO PRESTATE."]
["IL PRESENTE DECRETO SARA’ INVIATO ALLA RAGIONERIA PROVINCIALE DELLO STATO "]
["PER QUANTO DI COMPETENZA ."]
["LA DIREZIONE PROVINCIALE DEL TESORO E’ AUTORIZZATA, AI SENSI DELLE CITATE NORME,"]
["A VARIARE LA RELATIVA PARTITA DI SPESA FISSA."]
["SONO FATTI SALVI EVENTUALI CONGUAGLI A DEBITO O A CREDITO CONSEGUENTI A "]
["OSSERVAZIONI DEL SUDDETTO  ORGANO DEL MINISTERO DEL TESORO, DEL BILANCIO E "]
["DELLA PROGRAMMAZIONE ECONOMICA. AVVERSO IL PRESENTE DECRETO E’ ESPERIBILE"]
[" IMPUGNATIVA A NORMA DELL'ART. 63 E SEGUENTI DEL D.LVO 30/03/2001 N. 165"]
[]
["IL DIRIGENTE SCOLASTICO"]

{"sheet":"DEC REL. INC. ANN.","index":6,"n_rows":24,"n_cols":1,"rows_kept":24,"cut":false,"hidden":false,"merged":[[419,0,419,7],[420,0,420,3],[425,0,425,3],[426,0,426,3],[421,0,421,3],[422,0,422,3],[423,0,423,3],[424,0,424,3],[641,0,641,3],[642,0,642,3],[643,0,643,3],[644,0,644,3],[261,0,261,3],[262,0,262,3],[639,0,639,7],[640,0,640,3],[439,0,439,7],[440,0,440,3],[623,0,623,3],[624,0,624,3],[625,0,625,3],[626,0,626,3],[441,0,441,3],[442,0,442,3],[443,0,443,3],[444,0,444,3],[445,0,445,3],[446,0,446,3],[383,0,383,3],[384,0,384,3],[385,0,385,3],[386,0,386,3],[645,0,645,3],[646,0,646,3],[619,0,619,7],[620,0,620,3],[621,0,621,3],[622,0,622,3],[403,0,403,3],[404,0,404,3],[405,0,405,3],[406,0,406,3],[399,0,399,7],[400,0,400,3],[401,0,401,3],[402,0,402,3],[380,0,380,3],[381,0,381,3],[382,0,382,3],[363,0,363,3],[364,0,364,3],[365,0,365,3],[366,0,366,3],[379,0,379,7],[359,0,359,7],[360,0,360,3],[361,0,361,3],[362,0,362,3],[325,0,325,3],[326,0,326,3],[319,0,319,7],[320,0,320,3],[321,0,321,3],[322,0,322,3],[266,0,266,3],[303,0,303,3],[304,0,304,3],[341,0,341,3],[342,0,342,3],[343,0,343,3],[344,0,344,3],[323,0,323,3],[324,0,324,3],[339,0,339,7],[340,0,340,3],[345,0,345,3],[346,0,346,3],[40,0,40,3],[28,0,28,2],[43,0,43,3],[41,0,41,3],[42,0,42,3],[31,1,31,2],[30,0,30,2],[301,0,301,3],[17,0,17,8],[15,0,15,8],[79,0,79,7],[32,1,32,2],[26,6,26,7],[45,0,45,3],[27,0,27,5],[18,0,18,8],[23,0,23,8],[7,0,7,8],[8,0,8,8],[10,0,10,8],[11,0,11,8],[12,0,12,8],[16,0,16,8],[19,0,19,8],[0,0,0,8],[1,0,1,8],[2,0,2,8],[3,0,3,8],[4,0,4,8],[5,0,5,8],[9,0,9,8],[13,0,13,8],[14,0,14,8],[29,6,29,7],[26,4,26,5],[26,0,26,2],[0,10,0,13],[24,0,24,3],[24,4,24,6],[25,0,25,1],[25,2,25,3],[25,4,25,5],[25,6,25,7],[83,0,83,3],[84,0,84,3],[44,0,44,3],[20,0,20,8],[21,0,21,8],[29,0,29,2],[29,4,29,5],[22,0,22,8],[27,6,27,7],[28,4,28,7],[33,1,33,2],[39,0,39,7],[34,0,34,5],[80,0,80,3],[81,0,81,3],[82,0,82,3],[280,13,280,16],[269,13,269,15],[269,17,269,18],[267,17,267,19],[268,13,268,14],[268,15,268,16],[268,17,268,18],[268,19,268,20],[269,19,269,20],[271,14,271,15],[272,14,272,15],[273,14,273,15],[274,13,274,18],[267,13,267,16],[279,13,279,20],[286,13,286,16],[299,13,299,20],[300,13,300,16],[301,13,301,16],[270,13,270,15],[283,13,283,16],[284,13,284,16],[285,13,285,16],[281,13,281,16],[282,13,282,16],[319,13,319,20],[320,13,320,16],[321,13,321,16],[302,13,302,16],[303,13,303,16],[304,13,304,16],[305,13,305,16],[306,13,306,16],[340,13,340,16],[341,13,341,16],[322,13,322,16],[323,13,323,16],[324,13,324,16],[325,13,325,16],[326,13,326,16],[339,13,339,20],[365,13,365,16],[366,13,366,16],[379,13,379,20],[380,13,380,16],[361,13,361,16],[362,13,362,16],[363,13,363,16],[364,13,364,16],[360,13,360,16],[342,13,342,16],[343,13,343,16],[344,13,344,16],[345,13,345,16],[346,13,346,16],[348,13,348,16],[359,13,359,20],[381,13,381,16],[382,13,382,16],[383,13,383,16],[384,13,384,16],[405,13,405,16],[401,13,401,16],[402,13,402,16],[403,13,403,16],[404,13,404,16],[425,13,425,16],[426,13,426,16],[385,13,385,16],[386,13,386,16],[399,13,399,20],[400,13,400,16],[421,13,421,16],[422,13,422,16],[423,13,423,16],[424,13,424,16],[461,13,461,16],[462,13,462,16],[463,13,463,16],[464,13,464,16],[439,13,439,20],[440,13,440,16],[523,13,523,16],[524,13,524,16],[525,13,525,16],[539,13,539,20],[479,13,479,20],[480,13,480,16],[540,13,540,16],[541,13,541,16],[521,13,521,16],[546,13,546,16],[542,13,542,16],[543,13,543,16],[544,13,544,16],[545,13,545,16],[526,13,526,16],[522,13,522,16],[506,13,506,16],[460,13,460,16],[441,13,441,16],[442,13,442,16],[443,13,443,16],[444,13,444,16],[484,13,484,16],[465,13,465,16],[445,13,445,16],[446,13,446,16],[302,0,302,3],[485,13,485,16],[481,13,481,16],[482,13,482,16],[483,13,483,16],[459,13,459,20],[406,13,406,16],[419,13,419,20],[420,13,420,16],[466,13,466,16],[519,13,519,20],[520,13,520,16],[486,13,486,16],[499,13,499,20],[500,13,500,16],[501,13,501,16],[502,13,502,16],[503,13,503,16],[504,13,504,16],[505,13,505,16],[299,0,299,7],[300,0,300,3],[285,0,285,3],[286,0,286,3],[280,0,280,3],[281,0,281,3],[282,0,282,3],[283,0,283,3],[61,0,61,3],[279,0,279,7],[85,0,85,3],[86,0,86,3],[66,0,66,3],[259,0,259,7],[260,0,260,3],[263,0,263,3],[264,0,264,3],[265,0,265,3],[284,0,284,3],[305,0,305,3],[306,0,306,3],[46,0,46,3],[59,0,59,7],[65,0,65,3],[64,0,64,3],[62,0,62,3],[63,0,63,3],[60,0,60,3]]}
["intestazione"]
["INTESTAZIONE"]
["INTESTAZIONE"]
["DECRETO N.                                                                                      Data:    "]
[]
["IL DIRIGENTE SCOLASTICO"]
[]
["VISTO l’art. 53 – ultimo comma- della Legge 11.07.1980 n. 312, che così stabilisce testualmente: “Ai docenti di religione dopo quattro anni di insegnamento si applica una progressione economica di carriera con classi di stipendio corrispondenti all’80% di quelle attribuite ai docenti laureati di ruolo con l’obbligo di costituzione e accettazione di posto orario con trattamento di cattedra.”;"]
["VISTO il D.P.R. 2.6.1981, n. 271;"]
["VISTO il D.P.R. 25.6.1983, n. 345;"]
["VISTO l’art. 2 – co. 8 – del D.P.R. 10.4.1987, n. 209, che stabilisce che i docenti di religione di scuola secondaria, con effetto dal 01.01.1987, hanno diritto ad un trattamento economico corrispondente a quello dei docenti laureati della scuola secondaria superiore;"]
["VISTO il D.P.R. 21.3.1988, n. 399;"]
["VISTA la C.M. n. 36 del 28.01.1989;"]
["VISTO l’art. 66 – co. 7 – del C.C.N.L. sottoscritto il 4.8.95, che così testualmente stabilisce:"]
["“Per gli insegnanti di religione restano in vigore le norme di cui all’art. 53 della legge n. 312 del 1980, modificate e integrate dal D.P.R. 399 del 1988 , art. 3 – co 6 e 7”;"]
["VISTO il C.C.N.L. sottoscritto il 01.08.1996;"]
["VISTA la Circolare Ministeriale, applicativa del citato CCNL, n. 595 del 20.09.1996, che precisa che per i docenti di religione nelle scuole materne, elementari e secondarie, con almeno un quadriennio di insegnamento e con orario di cattedra o equiparato, l’inquadramento nelle fasce di anzianità, di cui al citato CCNL, si effettua in base alla complessiva anzianità di carriera al 31.12.1995: tanto quella utile ai fini giuridici ed economici che quella utile ai soli fini economici, trovandosi per quanto riguarda la progressione economica equiparati ai docenti di ruolo;"]
["VISTA la C.M. 466 del 01.12.1998, che chiarisce che, per gli inquadramenti dal 01.09.1996 in poi, si procede secondo le disposizioni già impartite dal D.L. 19 giugno 1970 n. 370, art. 3, co 1 e 2, con il riconoscimento per intero dei primi quattro anni e, per la parte eccedente, 2/3 ai fini giuridici ed economici e 1/3 ai soli fini economici e che, pertanto, al momento della ricostruzione carriera si sommeranno i 4 anni + i 2/3 dell’eccedente per individuare l’anzianità valida per l’ inserimento nei gradoni e quella, invece, utile ai soli fini economici, ai sensi del comma 3 dell’ art. 4 del D.P.R. 399/88, verrà accantonata e utilizzata solo al raggiungimento del 16° e del 18° anno a seconda del tipo di scuola;"]
["VISTO il C.C.N.L. sottoscritto il 26.05.1999;"]
["VISTA la Circolare Ministeriale 3 gennaio 2001, n. 2, che precisa che, qualora i docenti di scuola secondaria ritornino ad aver un posto con orario cattedra, si provvederà a riconoscere il periodo di servizio durante il quale non c'è stata progressione di carriera, valutandolo agli effetti della carriera nella misura di due terzi ai fini giuridici ed economici e di un terzo ai soli fini economici, aggiungendo i primi all’anzianità maturata al momento della perdita dell’orario di cattedra;"]
["VISTO il C.C.N.L. sottoscritto il 15.03.2001;\nVISTO il C.C.N.L. sottoscritto il 24.07.2003;\nVISTO il C.C.N.L. sottoscritto il 07.12.2005;\nVISTA la sequenza contrattuale del 14/02/2008;\nVISTO IL C.C.N.L. sottoscritto il 04/ agosto 2011"]
["VISTI i certificati di servizio, prestato dal__ docente ______________________________, nat_ a ____________________  il _____________ Cod. Fisc. ____________________ , dai quali risulta che _l_ docente ha maturato il diritto alla progressione di carriera per compiuto quadriennio, in qua-lità di incaricat_ per l’insegnamento della religione cattolica, il _____________, data in cui le è sta-to conferito il 5° incarico annuale con trattamento di cattedra presso il Circolo / Istituto _______________________;"]
["VERIFICATO che la predetta docente alla data del ____________ si trovava nelle condizioni pre-viste dall’art. 53, ultimo comma, della Legge 11.07.1980, n. 312, sopra richiamato;\nVISTA l’istanza documentata, con la quale _l_ docente chiede il riconoscimento dei servizi prestati dall’anno scolastico ________ all’anno scolastico _________ per complessivi anni ____;\n"]
["CONSIDERATO che sono stati riconosciuti i seguenti  servizi resi negli anni scolastici:\n ________ (giorni _____), ________ (giorni ____), ________ (giorni _____), ________ (giorni ____), ________ (giorni ____), ________ (giorni ____)  –"]

{"sheet":"dec. da copiare e incollare","index":7,"n_rows":436,"n_cols":17,"rows_kept":436,"cut":false,"hidden":false,"merged":[[409,0,409,3],[410,0,410,3],[391,0,391,3],[392,0,392,3],[17,4,17,7],[16,0,16,6],[430,0,430,3],[431,0,431,3],[427,0,427,7],[428,0,428,3],[387,0,387,7],[408,0,408,3],[7,9,18,11],[429,0,429,3],[371,0,371,3],[372,0,372,3],[373,0,373,3],[390,0,390,3],[394,0,394,3],[374,0,374,3],[407,0,407,7],[393,0,393,3],[309,0,309,3],[434,0,434,3],[411,0,411,3],[412,0,412,3],[413,0,413,3],[414,0,414,3],[433,0,433,3],[432,0,432,3],[369,0,369,3],[370,0,370,3],[327,0,327,7],[328,0,328,3],[349,0,349,3],[347,0,347,7],[331,0,331,3],[332,0,332,3],[333,0,333,3],[334,0,334,3],[367,0,367,7],[368,0,368,3],[351,0,351,3],[329,0,329,3],[354,0,354,3],[330,0,330,3],[313,0,313,3],[311,0,311,3],[307,0,307,7],[308,0,308,3],[0,0,0,6],[1,0,1,6],[2,0,2,6],[3,6,3,7],[11,4,11,5],[11,6,11,7],[348,0,348,3],[350,0,350,3],[314,0,314,3],[294,0,294,3],[274,0,274,3],[310,0,310,3],[312,0,312,3],[292,0,292,3],[293,0,293,3],[291,0,291,3],[86,0,86,3],[78,0,78,3],[87,0,87,3],[63,0,63,3],[388,0,388,3],[389,0,389,3],[141,0,141,3],[152,0,152,3],[352,0,352,3],[353,0,353,3],[56,0,56,3],[64,0,64,3],[88,0,88,3],[65,0,65,3],[67,0,67,3],[73,0,73,7],[77,0,77,3],[84,0,84,7],[74,0,74,3],[85,0,85,3],[270,0,270,3],[267,0,267,7],[268,0,268,3],[218,0,218,3],[172,0,172,7],[128,0,128,7],[129,0,129,3],[184,0,184,3],[132,0,132,3],[217,0,217,3],[221,0,221,3],[177,0,177,3],[195,0,195,3],[139,0,139,7],[227,0,227,7],[220,0,220,3],[219,0,219,3],[210,0,210,3],[194,0,194,7],[206,0,206,3],[23,0,23,3],[34,0,34,3],[32,0,32,3],[33,0,33,3],[31,0,31,3],[29,0,29,7],[30,0,30,3],[11,0,11,1],[11,2,11,3],[21,0,21,3],[20,0,20,3],[18,0,18,7],[19,0,19,3],[12,0,12,2],[22,0,22,3],[13,0,13,7],[14,0,14,7],[12,4,12,5],[12,6,12,7],[5,0,5,7],[6,0,6,7],[7,0,7,7],[8,0,8,7],[9,0,9,7],[10,4,10,6],[110,0,110,3],[130,0,130,3],[120,0,120,3],[121,0,121,3],[107,0,107,3],[108,0,108,3],[118,0,118,3],[111,0,111,3],[96,0,96,3],[97,0,97,3],[98,0,98,3],[99,0,99,3],[106,0,106,7],[109,0,109,3],[100,0,100,3],[117,0,117,7],[175,0,175,3],[163,0,163,3],[164,0,164,3],[165,0,165,3],[131,0,131,3],[119,0,119,3],[140,0,140,3],[133,0,133,3],[122,0,122,3],[228,0,228,3],[229,0,229,3],[230,0,230,3],[231,0,231,3],[238,0,238,7],[239,0,239,3],[232,0,232,3],[41,0,41,3],[95,0,95,7],[42,0,42,3],[51,0,51,7],[52,0,52,3],[53,0,53,3],[45,0,45,3],[55,0,55,3],[89,0,89,3],[62,0,62,7],[40,0,40,7],[36,8,36,15],[58,8,58,15],[80,8,80,11],[43,0,43,3],[44,0,44,3],[66,0,66,3],[75,0,75,3],[76,0,76,3],[54,0,54,3],[176,0,176,3],[150,0,150,7],[173,0,173,3],[155,0,155,3],[174,0,174,3],[162,0,162,3],[142,0,142,3],[143,0,143,3],[153,0,153,3],[187,0,187,3],[154,0,154,3],[161,0,161,7],[166,0,166,3],[186,0,186,3],[151,0,151,3],[144,0,144,3],[199,0,199,3],[208,0,208,3],[209,0,209,3],[207,0,207,3],[185,0,185,3],[183,0,183,7],[197,0,197,3],[198,0,198,3],[188,0,188,3],[196,0,196,3],[273,0,273,3],[288,0,288,3],[287,0,287,7],[290,0,290,3],[289,0,289,3],[205,0,205,7],[216,0,216,7],[243,0,243,3],[242,0,242,3],[240,0,240,3],[241,0,241,3],[252,0,252,3],[272,0,272,3],[271,0,271,3],[253,0,253,3],[249,0,249,7],[250,0,250,3],[251,0,251,3],[254,0,254,3],[269,0,269,3]]}
["Intestazione scuola"]
["via",null,null,null,null,null,null,null,null,null,null,null,null,null,{"$f":"CONCATENATE(\"Alla data del \",DAY(Foglio4!F2),\"/\",MONTH( Foglio4!F2),\"/\",YEAR(Foglio4!F2 ),       \" l'interessato viene inquadrato nella fascia iniziale 0 anni - D.P.R. 399/88 - con stipendio annuo lordo di euro:\",ROUND(Foglio4!L2/1936.27,2),\"  e indennità di funzione annuo lordo di euro: \",ROUND(Foglio4!N2/1936.27,2))","v":{"$error":"#VALUE!"}}]
["citta'"]
[null,null,null,null,null,null,{"$f":"NOW()","v":"2018-04-03T08:42:00.090"}]
[null,null,null,null,null,null,"Prot. N.",null,null,null,null,null,null,null,null,null,{"$f":"ROUND(13.234,2)","v":13.23}]
[]
[]
[null,null,null,null,null,null,null,null,null,"questo decreto e da copiare e incollare sul foglio decreto principale. Attraverso la macro"]
[]
[]
["Vista la documentazione presentata da:",null,null,null,{"$f":"'front utente'!E11","v":0},null,null,null,null,null,null,null,null,"2010-08-31","l'interessato è inquadrato nella fascia 0/2 anni"]
["Qualifica:",null,{"$f":"'front utente'!K13","v":"Docente scuola Media e laureato 1 grado"},null,"Codice Fiscale:",null,{"$f":"'front utente'!L11","v":0},null,null,null,null,null,null,null,"l'interessato è inquadrato nella fascia 0/8 anni"]
["Decorrenza della ricostruzione",null,null,{"$f":"'front utente'!G13","v":"00:00:00"},"Decorrenza giuridica economica",null,{"$f":"D13","v":"00:00:00"},null,null,null,null,null,null,null,{"$f":"IF(#REF!>N11,O12,O11)","v":{"$error":"#REF!"}}]
[{"$f":"IF(Foglio4!A2>0,'dec. da copiare e incollare'!O2,\"\")","v":""}]
[{"$f":"CONCATENATE(dipt.i.!L34,\"\n\",\"  SI DECRETA:\")","v":{"$error":"#NUM!"}}]
[null,null,null,{"$f":"Foglio4!B5","v":""},{"$f":"Foglio4!C5","v":0}]
[{"$f":"J27","v":"per effetto del CCNL del 01/08/1996 - l'anzianità maturata al 01/01/96 viene arrotondata all'intero di anni:0"}]
[{"$f":"Foglio4!E5","v":""},null,{"$f":"IF(YEAR('front utente'!G13)<1996,Foglio4!F5,('front utente'!G13))","v":""},"spetta:"]
[{"$f":"IF(CONF<>34943,Foglio4!I5,CONCATENATE(Foglio4!I5,\" Retribuzione comprensiva dell'incremento Tab A1 CCNL 4/8/1995 \"))","v":{"$error":"#NUM!"}}]
[{"$f":"IF(Foglio4!L5>0,Foglio4!K5,\"\")","v":""},null,null,null,{"$f":"IF(Foglio4!L5>0,IF(CONF<>34943,Foglio4!L5,Foglio4!L5+'pre 1-1-1996'!S71))","v":{"$error":"#NUM!"}}]
[{"$f":"IF(Foglio4!R5>0,Foglio4!Q5,\"\")","v":""},null,null,null,{"$f":"IF(Foglio4!R5>0,Foglio4!R5,\"\")","v":""},null,null,null,null,"effettuato il periodo di prova nell'anno scolastico "]
[{"$f":"IF(Foglio4!X5>0,Foglio4!W5,\"\")","v":""},null,null,null,{"$f":"IF(Foglio4!X5>0,Foglio4!X5,\"\")","v":""},null,null,null,null," e superato con esito favorevole il:"]
[{"$f":"IF(Foglio4!AA5>0,Foglio4!Z5,\"\")","v":""},null,null,null,{"$f":"IF(Foglio4!AA5>0,Foglio4!AA5,\"\")","v":""},null,null,null,null,{"$f":"IF(OR(rigqual=6,rigqual=7,rigqual=8,rigqual=9,rigqual=12,rigqual=13),CONCATENATE(DAY(G13),\"/\",MONTH(G13),\"/\",YEAR(G13)+1),\"\")","v":"0/1/1901"},{"$f":"G13","v":"00:00:00"}]
[{"$f":"IF(Foglio4!AD5>0,Foglio4!AC5,\"\")","v":""},null,null,null,{"$f":"IF(Foglio4!AD5>0,Foglio4!AD5,\"\")","v":""}]
[null,null,null,{"$f":"IF(D16<>\"\",\"Totale \",\"\")","v":""},{"$f":"IF(D16<>\"\",SUM(E20:E24),\"\")","v":""},null,null,null,null,{"$f":"'front utente'!L44","v":0}]
[null,{"$f":"IF(E25<>\"\",\"altri assegni previsti per legge\",\"\")","v":""},null,null,null,null,null,null,null,{"$f":"'front utente'!J44","v":"Arrotondamento anzianita al 01/01/1996: anni \n(ccnl scuola 01/08/96)"}]
[null,null,null,{"$f":"Foglio4!B6","v":""},{"$f":"Foglio4!C6","v":""},null,null,null,null,{"$f":"IF(J25<>\"\",CONCATENATE(\"per effetto del CCNL del 01/08/1996 - l'anzianità maturata al 01/01/96 viene arrotondata all'intero di anni:\",J25),\"\")","v":"per effetto del CCNL del 01/08/1996 - l'anzianità maturata al 01/01/96 viene arrotondata all'intero di anni:0"}]
[]
[{"$f":"Foglio4!E6","v":""},null,{"$f":"Foglio4!F6","v":""},{"$f":"Foglio4!H6","v":""}]
[{"$f":"Foglio4!I6","v":""}]
[{"$f":"IF(Foglio4!L6>0,Foglio4!K6,\"\")","v":""},null,null,null,{"$f":"IF(Foglio4!L6>0,Foglio4!L6,\"\")","v":""}]
[{"$f":"IF(Foglio4!R6>0,Foglio4!Q6,\"\")","v":""},null,null,null,{"$f":"IF(Foglio4!R6>0,Foglio4!R6,\"\")","v":""}]
[{"$f":"IF(Foglio4!X6>0,Foglio4!W6,\"\")","v":""},null,null,null,{"$f":"IF(Foglio4!X6>0,Foglio4!X6,\"\")","v":""}]
[{"$f":"IF(Foglio4!AA6>0,Foglio4!Z6,\"\")","v":""},null,null,null,{"$f":"IF(Foglio4!AA6>0,Foglio4!AA6,\"\")","v":""},null,null,null,null,null,null,{"$f":"Foglio4!J6","v":0},{"$f":"Foglio4!K6","v":""}]
[{"$f":"IF(Foglio4!AD6>0,Foglio4!AC6,\"\")","v":""},null,null,null,{"$f":"IF(Foglio4!AD6>0,Foglio4!AD6,\"\")","v":""}]
[null,null,null,{"$f":"IF(D27<>\"\",\"Totale \",\"\")","v":""},{"$f":"IF(D27<>\"\",SUM(E31:E35),\"\")","v":""},null,null,null,{"$f":"Foglio4!M6","v":""},null,{"$f":"Foglio4!N6","v":""},{"$f":"Foglio4!P6","v":0}]
[null,{"$f":"IF(E36<>\"\",\"altri assegni previsti per legge\",\"\")","v":""},null,null,null,null,null,null,{"$f":"Foglio4!Q6","v":""}]
[null,null,null,{"$f":"Foglio4!B7","v":""},{"$f":"Foglio4!C7","v":""}]
[]
[{"$f":"Foglio4!E7","v":""},null,{"$f":"Foglio4!F7","v":""},{"$f":"Foglio4!H7","v":""}]
[{"$f":"Foglio4!I7","v":""}]
[{"$f":"IF(Foglio4!L7>0,Foglio4!K7,\"\")","v":""},null,null,null,{"$f":"IF(Foglio4!L7>0,Foglio4!L7,\"\")","v":""}]
[{"$f":"IF(Foglio4!R7>0,Foglio4!Q7,\"\")","v":""},null,null,null,{"$f":"IF(Foglio4!R7>0,Foglio4!R7,\"\")","v":""}]
[{"$f":"IF(Foglio4!X7>0,Foglio4!W7,\"\")","v":""},null,null,null,{"$f":"IF(Foglio4!X7>0,Foglio4!X7,\"\")","v":""}]
[{"$f":"IF(Foglio4!AA7>0,Foglio4!Z7,\"\")","v":""},null,null,null,{"$f":"IF(Foglio4!AA7>0,Foglio4!AA7,\"\")","v":""}]
[{"$f":"IF(Foglio4!AD7>0,Foglio4!AC7,\"\")","v":""},null,null,null,{"$f":"IF(Foglio4!AD7>0,Foglio4!AD7,\"\")","v":""}]
[null,null,null,{"$f":"IF(D38<>\"\",\"Totale \",\"\")","v":""},{"$f":"IF(D38<>\"\",SUM(E42:E46),\"\")","v":""}]
[null,{"$f":"IF(E47<>\"\",\"altri assegni previsti per legge\",\"\")","v":""}]
[null,null,null,{"$f":"Foglio4!B8","v":""},{"$f":"Foglio4!C8","v":""}]
[]
[{"$f":"Foglio4!E8","v":""},null,{"$f":"Foglio4!F8","v":""},{"$f":"Foglio4!H8","v":""}]
[{"$f":"Foglio4!I8","v":""}]
[{"$f":"IF(Foglio4!L8>0,Foglio4!K8,\"\")","v":""},null,null,null,{"$f":"IF(Foglio4!L8>0,Foglio4!L8,\"\")","v":""}]
[{"$f":"IF(Foglio4!R8>0,Foglio4!Q8,\"\")","v":""},null,null,null,{"$f":"IF(Foglio4!R8>0,Foglio4!R8,\"\")","v":""}]
[{"$f":"IF(Foglio4!X8>0,Foglio4!W8,\"\")","v":""},null,null,null,{"$f":"IF(Foglio4!X8>0,Foglio4!X8,\"\")","v":""}]
[{"$f":"IF(Foglio4!AA8>0,Foglio4!Z8,\"\")","v":""},null,null,null,{"$f":"IF(Foglio4!AA8>0,Foglio4!AA8,\"\")","v":""}]
[{"$f":"IF(Foglio4!AD8>0,Foglio4!AC8,\"\")","v":""},null,null,null,{"$f":"IF(Foglio4!AD8>0,Foglio4!AD8,\"\")","v":""}]
[null,null,null,{"$f":"IF(D49<>\"\",\"Totale \",\"\")","v":""},{"$f":"IF(D49<>\"\",SUM(E53:E57),\"\")","v":""},null,null,null,{"$f":"Foglio4!M8","v":""},null,{"$f":"Foglio4!N8","v":""},{"$f":"Foglio4!P8","v":0}]
[null,{"$f":"IF(E58<>\"\",\"altri assegni previsti per legge\",\"\")","v":""},null,null,null,null,null,null,{"$f":"Foglio4!Q8","v":""}]
[null,null,null,{"$f":"Foglio4!B9","v":""},{"$f":"Foglio4!C9","v":""}]
[]
[{"$f":"Foglio4!E9","v":""},null,{"$f":"Foglio4!F9","v":""},{"$f":"Foglio4!H9","v":""}]
[{"$f":"Foglio4!I9","v":""}]
[{"$f":"IF(Foglio4!L9>0,Foglio4!K9,\"\")","v":""},null,null,null,{"$f":"IF(Foglio4!L9>0,Foglio4!L9,\"\")","v":""}]
[{"$f":"IF(Foglio4!R9>0,Foglio4!Q9,\"\")","v":""},null,null,null,{"$f":"IF(Foglio4!R9>0,Foglio4!R9,\"\")","v":""}]
[{"$f":"IF(Foglio4!X9>0,Foglio4!W9,\"\")","v":""},null,null,null,{"$f":"IF(Foglio4!X9>0,Foglio4!X9,\"\")","v":""}]
[{"$f":"IF(Foglio4!AA9>0,Foglio4!Z9,\"\")","v":""},null,null,null,{"$f":"IF(Foglio4!AA9>0,Foglio4!AA9,\"\")","v":""}]
[{"$f":"IF(Foglio4!AD9>0,Foglio4!AC9,\"\")","v":""},null,null,null,{"$f":"IF(Foglio4!AD9>0,Foglio4!AD9,\"\")","v":""}]
[null,null,null,{"$f":"IF(D60<>\"\",\"Totale \",\"\")","v":""},{"$f":"IF(D60<>\"\",SUM(E64:E68),\"\")","v":""}]
[null,{"$f":"IF(E69<>\"\",\"altri assegni previsti per legge\",\"\")","v":""}]
[null,null,null,{"$f":"Foglio4!B10","v":""},{"$f":"Foglio4!C10","v":""}]
[]
[{"$f":"Foglio4!E10","v":""},null,{"$f":"Foglio4!F10","v":""},{"$f":"Foglio4!H10","v":""}]
[{"$f":"Foglio4!I10","v":""}]
[{"$f":"IF(Foglio4!L10>0,Foglio4!K10,\"\")","v":""},null,null,null,{"$f":"IF(Foglio4!L10>0,Foglio4!L10,\"\")","v":""}]
[{"$f":"IF(Foglio4!R10>0,Foglio4!Q10,\"\")","v":""},null,null,null,{"$f":"IF(Foglio4!R10>0,Foglio4!R10,\"\")","v":""}]
[{"$f":"IF(Foglio4!X10>0,Foglio4!W10,\"\")","v":""},null,null,null,{"$f":"IF(Foglio4!X10>0,Foglio4!X10,\"\")","v":""}]
[{"$f":"IF(Foglio4!AA10>0,Foglio4!Z10,\"\")","v":""},null,null,null,{"$f":"IF(Foglio4!AA10>0,Foglio4!AA10,\"\")","v":""}]
[{"$f":"IF(Foglio4!AD10>0,Foglio4!AC10,\"\")","v":""},null,null,null,{"$f":"IF(Foglio4!AD10>0,Foglio4!AD10,\"\")","v":""}]
[null,null,null,{"$f":"IF(D71<>\"\",\"Totale \",\"\")","v":""},{"$f":"IF(D71<>\"\",SUM(E75:E79),\"\")","v":""}]
[null,{"$f":"IF(E80<>\"\",\"altri assegni previsti per legge\",\"\")","v":""}]
[null,null,null,{"$f":"Foglio4!B11","v":""},{"$f":"Foglio4!C11","v":""}]
[]
[{"$f":"Foglio4!E11","v":""},null,{"$f":"Foglio4!F11","v":""},{"$f":"Foglio4!H11","v":""}]
[{"$f":"Foglio4!I11","v":""}]
[{"$f":"IF(Foglio4!L11>0,Foglio4!K11,\"\")","v":""},null,null,null,{"$f":"IF(Foglio4!L11>0,Foglio4!L11,\"\")","v":""}]
[{"$f":"IF(Foglio4!R11>0,Foglio4!Q11,\"\")","v":""},null,null,null,{"$f":"IF(Foglio4!R11>0,Foglio4!R11,\"\")","v":""}]
[{"$f":"IF(Foglio4!X11>0,Foglio4!W11,\"\")","v":""},null,null,null,{"$f":"IF(Foglio4!X11>0,Foglio4!X11,\"\")","v":""}]
[{"$f":"IF(Foglio4!AA11>0,Foglio4!Z11,\"\")","v":""},null,null,null,{"$f":"IF(Foglio4!AA11>0,Foglio4!AA11,\"\")","v":""}]
[{"$f":"IF(Foglio4!AD11>0,Foglio4!AC11,\"\")","v":""},null,null,null,{"$f":"IF(Foglio4!AD11>0,Foglio4!AD11,\"\")","v":""}]
[null,null,null,{"$f":"IF(D82<>\"\",\"Totale \",\"\")","v":""},{"$f":"IF(D82<>\"\",SUM(E86:E90),\"\")","v":""}]
[null,{"$f":"IF(E91<>\"\",\"altri assegni previsti per legge\",\"\")","v":""}]
[null,null,null,{"$f":"Foglio4!B12","v":""},{"$f":"Foglio4!C12","v":""}]
[]
[{"$f":"Foglio4!E12","v":""},null,{"$f":"Foglio4!F12","v":""},{"$f":"Foglio4!H12","v":""}]
[{"$f":"Foglio4!I12","v":""}]
[{"$f":"IF(Foglio4!L12>0,Foglio4!K12,\"\")","v":""},null,null,null,{"$f":"IF(Foglio4!L12>0,Foglio4!L12,\"\")","v":""}]
[{"$f":"IF(Foglio4!R12>0,Foglio4!Q12,\"\")","v":""},null,null,null,{"$f":"IF(Foglio4!R12>0,Foglio4!R12,\"\")","v":""}]
[{"$f":"IF(Foglio4!X12>0,Foglio4!W12,\"\")","v":""},null,null,null,{"$f":"IF(Foglio4!X12>0,Foglio4!X12,\"\")","v":""}]
[{"$f":"IF(Foglio4!AA12>0,Foglio4!Z12,\"\")","v":""},null,null,null,{"$f":"IF(Foglio4!AA12>0,Foglio4!AA12,\"\")","v":""}]
[{"$f":"IF(Foglio4!AD12>0,Foglio4!AC12,\"\")","v":""},null,null,null,{"$f":"IF(Foglio4!AD12>0,Foglio4!AD12,\"\")","v":""}]
[null,null,null,{"$f":"IF(D93<>\"\",\"Totale \",\"\")","v":""},{"$f":"IF(D93<>\"\",SUM(E97:E101),\"\")","v":""}]
[null,{"$f":"IF(E102<>\"\",\"altri assegni previsti per legge\",\"\")","v":""}]
[null,null,null,{"$f":"Foglio4!B13","v":""},{"$f":"Foglio4!C13","v":""}]
[]
[{"$f":"Foglio4!E13","v":""},null,{"$f":"Foglio4!F13","v":""},{"$f":"Foglio4!H13","v":""}]
[{"$f":"Foglio4!I13","v":""}]
[{"$f":"IF(Foglio4!L13>0,Foglio4!K13,\"\")","v":""},null,null,null,{"$f":"IF(Foglio4!L13>0,Foglio4!L13,\"\")","v":""}]
[{"$f":"IF(Foglio4!R13>0,Foglio4!Q13,\"\")","v":""},null,null,null,{"$f":"IF(Foglio4!R13>0,Foglio4!R13,\"\")","v":""}]
[{"$f":"IF(Foglio4!X13>0,Foglio4!W13,\"\")","v":""},null,null,null,{"$f":"IF(Foglio4!X13>0,Foglio4!X13,\"\")","v":""}]
[{"$f":"IF(Foglio4!AA13>0,Foglio4!Z13,\"\")","v":""},null,null,null,{"$f":"IF(Foglio4!AA13>0,Foglio4!AA13,\"\")","v":""}]
[{"$f":"IF(Foglio4!AD13>0,Foglio4!AC13,\"\")","v":""},null,null,null,{"$f":"IF(Foglio4!AD13>0,Foglio4!AD13,\"\")","v":""}]
[null,null,null,{"$f":"IF(D104<>\"\",\"Totale \",\"\")","v":""},{"$f":"IF(D104<>\"\",SUM(E108:E112),\"\")","v":""}]
[null,{"$f":"IF(E113<>\"\",\"altri assegni previsti per legge\",\"\")","v":""}]
[null,null,null,{"$f":"Foglio4!B14","v":""},{"$f":"Foglio4!C14","v":""}]
[]
[{"$f":"Foglio4!E14","v":""},null,{"$f":"Foglio4!F14","v":""},{"$f":"Foglio4!H14","v":""}]
[{"$f":"Foglio4!I14","v":""}]
[{"$f":"IF(Foglio4!L14>0,Foglio4!K14,\"\")","v":""},null,null,null,{"$f":"IF(Foglio4!L14>0,Foglio4!L14,\"\")","v":""}]
[{"$f":"IF(Foglio4!R14>0,Foglio4!Q14,\"\")","v":""},null,null,null,{"$f":"IF(Foglio4!R14>0,Foglio4!R14,\"\")","v":""}]
[{"$f":"IF(Foglio4!X14>0,Foglio4!W14,\"\")","v":""},null,null,null,{"$f":"IF(Foglio4!X14>0,Foglio4!X14,\"\")","v":""}]
[{"$f":"IF(Foglio4!AA14>0,Foglio4!Z14,\"\")","v":""},null,null,null,{"$f":"IF(Foglio4!AA14>0,Foglio4!AA14,\"\")","v":""}]
[{"$f":"IF(Foglio4!AD14>0,Foglio4!AC14,\"\")","v":""},null,null,null,{"$f":"IF(Foglio4!AD14>0,Foglio4!AD14,\"\")","v":""}]
[null,null,null,{"$f":"IF(D115<>\"\",\"Totale \",\"\")","v":""},{"$f":"IF(D115<>\"\",SUM(E119:E123),\"\")","v":""}]
[null,{"$f":"IF(E124<>\"\",\"altri assegni previsti per legge\",\"\")","v":""}]
[null,null,null,{"$f":"Foglio4!B15","v":""},{"$f":"Foglio4!C15","v":""}]
[]
[{"$f":"Foglio4!E15","v":""},null,{"$f":"Foglio4!F15","v":""},{"$f":"Foglio4!H15","v":""}]
[{"$f":"Foglio4!I15","v":""}]
[{"$f":"IF(Foglio4!L15>0,Foglio4!K15,\"\")","v":""},null,null,null,{"$f":"IF(Foglio4!L15>0,Foglio4!L15,\"\")","v":""}]
[{"$f":"IF(Foglio4!R15>0,Foglio4!Q15,\"\")","v":""},null,null,null,{"$f":"IF(Foglio4!R15>0,Foglio4!R15,\"\")","v":""}]
[{"$f":"IF(Foglio4!X15>0,Foglio4!W15,\"\")","v":""},null,null,null,{"$f":"IF(Foglio4!X15>0,Foglio4!X15,\"\")","v":""}]
[{"$f":"IF(Foglio4!AA15>0,Foglio4!Z15,\"\")","v":""},null,null,null,{"$f":"IF(Foglio4!AA15>0,Foglio4!AA15,\"\")","v":""}]
[{"$f":"IF(Foglio4!AD15>0,Foglio4!AC15,\"\")","v":""},null,null,null,{"$f":"IF(Foglio4!AD15>0,Foglio4!AD15,\"\")","v":""}]
[null,null,null,{"$f":"IF(D126<>\"\",\"Totale \",\"\")","v":""},{"$f":"IF(D126<>\"\",SUM(E130:E134),\"\")","v":""}]
[null,{"$f":"IF(E135<>\"\",\"altri assegni previsti per legge\",\"\")","v":""}]
[null,null,null,{"$f":"Foglio4!B16","v":""},{"$f":"Foglio4!C16","v":""}]
[]
[{"$f":"Foglio4!E16","v":""},null,{"$f":"Foglio4!F16","v":""},{"$f":"Foglio4!H16","v":""}]
[{"$f":"Foglio4!I16","v":""}]
[{"$f":"IF(Foglio4!L16>0,Foglio4!K16,\"\")","v":""},null,null,null,{"$f":"IF(Foglio4!L16>0,Foglio4!L16,\"\")","v":""}]
[{"$f":"IF(Foglio4!R16>0,Foglio4!Q16,\"\")","v":""},null,null,null,{"$f":"IF(Foglio4!R16>0,Foglio4!R16,\"\")","v":""}]
[{"$f":"IF(Foglio4!X16>0,Foglio4!W16,\"\")","v":""},null,null,null,{"$f":"IF(Foglio4!X16>0,Foglio4!X16,\"\")","v":""}]
[{"$f":"IF(Foglio4!AA16>0,Foglio4!Z16,\"\")","v":""},null,null,null,{"$f":"IF(Foglio4!AA16>0,Foglio4!AA16,\"\")","v":""}]
[{"$f":"IF(Foglio4!AD16>0,Foglio4!AC16,\"\")","v":""},null,null,null,{"$f":"IF(Foglio4!AD16>0,Foglio4!AD16,\"\")","v":""}]
[null,null,null,{"$f":"IF(D137<>\"\",\"Totale \",\"\")","v":""},{"$f":"IF(D137<>\"\",SUM(E141:E145),\"\")","v":""}]
[null,{"$f":"IF(E146<>\"\",\"altri assegni previsti per legge\",\"\")","v":""}]
[null,null,null,{"$f":"Foglio4!B17","v":""},{"$f":"Foglio4!C17","v":""}]
[]
[{"$f":"Foglio4!E17","v":""},null,{"$f":"Foglio4!F17","v":""},{"$f":"Foglio4!H17","v":""}]
[{"$f":"Foglio4!I17","v":""}]
[{"$f":"IF(Foglio4!L17>0,Foglio4!K17,\"\")","v":""},null,null,null,{"$f":"IF(Foglio4!L17>0,Foglio4!L17,\"\")","v":""}]
[{"$f":"IF(Foglio4!R17>0,Foglio4!Q17,\"\")","v":""},null,null,null,{"$f":"IF(Foglio4!R17>0,Foglio4!R17,\"\")","v":""}]
[{"$f":"IF(Foglio4!X17>0,Foglio4!W17,\"\")","v":""},null,null,null,{"$f":"IF(Foglio4!X17>0,Foglio4!X17,\"\")","v":""}]
[{"$f":"IF(Foglio4!AA17>0,Foglio4!Z17,\"\")","v":""},null,null,null,{"$f":"IF(Foglio4!AA17>0,Foglio4!AA17,\"\")","v":""}]
[{"$f":"IF(Foglio4!AD17>0,Foglio4!AC17,\"\")","v":""},null,null,null,{"$f":"IF(Foglio4!AD17>0,Foglio4!AD17,\"\")","v":""}]
[null,null,null,{"$f":"IF(D148<>\"\",\"Totale \",\"\")","v":""},{"$f":"IF(D148<>\"\",SUM(E152:E156),\"\")","v":""}]
[null,{"$f":"IF(E157<>\"\",\"altri assegni previsti per legge\",\"\")","v":""}]
[null,null,null,{"$f":"Foglio4!B18","v":""},{"$f":"Foglio4!C18","v":""}]
[]
[{"$f":"Foglio4!E18","v":""},null,{"$f":"Foglio4!F18","v":""},{"$f":"Foglio4!H18","v":""}]
[{"$f":"Foglio4!I18","v":""}]
[{"$f":"IF(Foglio4!L18>0,Foglio4!K18,\"\")","v":""},null,null,null,{"$f":"IF(Foglio4!L18>0,Foglio4!L18,\"\")","v":""}]
[{"$f":"IF(Foglio4!R18>0,Foglio4!Q18,\"\")","v":""},null,null,null,{"$f":"IF(Foglio4!R18>0,Foglio4!R18,\"\")","v":""}]
[{"$f":"IF(Foglio4!X18>0,Foglio4!W18,\"\")","v":""},null,null,null,{"$f":"IF(Foglio4!X18>0,Foglio4!X18,\"\")","v":""}]
[{"$f":"IF(Foglio4!AA18>0,Foglio4!Z18,\"\")","v":""},null,null,null,{"$f":"IF(Foglio4!AA18>0,Foglio4!AA18,\"\")","v":""}]
[{"$f":"IF(Foglio4!AD18>0,Foglio4!AC18,\"\")","v":""},null,null,null,{"$f":"IF(Foglio4!AD18>0,Foglio4!AD18,\"\")","v":""}]
[null,null,null,{"$f":"IF(D159<>\"\",\"Totale \",\"\")","v":""},{"$f":"IF(D159<>\"\",SUM(E163:E167),\"\")","v":""}]
[null,{"$f":"IF(E168<>\"\",\"altri assegni previsti per legge\",\"\")","v":""}]
[null,null,null,{"$f":"Foglio4!B19","v":""},{"$f":"Foglio4!C19","v":""}]
[]
[{"$f":"Foglio4!E19","v":""},null,{"$f":"Foglio4!F19","v":""},{"$f":"Foglio4!H19","v":""}]
[{"$f":"Foglio4!I19","v":""}]
[{"$f":"IF(Foglio4!L19>0,Foglio4!K19,\"\")","v":""},null,null,null,{"$f":"IF(Foglio4!L19>0,Foglio4!L19,\"\")","v":""}]
[{"$f":"IF(Foglio4!R19>0,Foglio4!Q19,\"\")","v":""},null,null,null,{"$f":"IF(Foglio4!R19>0,Foglio4!R19,\"\")","v":""}]
[{"$f":"IF(Foglio4!X19>0,Foglio4!W19,\"\")","v":""},null,null,null,{"$f":"IF(Foglio4!X19>0,Foglio4!X19,\"\")","v":""}]
[{"$f":"IF(Foglio4!AA19>0,Foglio4!Z19,\"\")","v":""},null,null,null,{"$f":"IF(Foglio4!AA19>0,Foglio4!AA19,\"\")","v":""}]
[{"$f":"IF(Foglio4!AD19>0,Foglio4!AC19,\"\")","v":""},null,null,null,{"$f":"IF(Foglio4!AD19>0,Foglio4!AD19,\"\")","v":""}]
[null,null,null,{"$f":"IF(D170<>\"\",\"Totale \",\"\")","v":""},{"$f":"IF(D170<>\"\",SUM(E174:E178),\"\")","v":""}]
[null,{"$f":"IF(E179<>\"\",\"altri assegni previsti per legge\",\"\")","v":""}]
[null,null,null,{"$f":"Foglio4!B20","v":""},{"$f":"Foglio4!C20","v":""}]
[]
[{"$f":"Foglio4!E20","v":""},null,{"$f":"Foglio4!F20","v":""},{"$f":"Foglio4!H20","v":""}]
[{"$f":"Foglio4!I20","v":""}]
[{"$f":"IF(Foglio4!L20>0,Foglio4!K20,\"\")","v":""},null,null,null,{"$f":"IF(Foglio4!L20>0,Foglio4!L20,\"\")","v":""}]
[{"$f":"IF(Foglio4!R20>0,Foglio4!Q20,\"\")","v":""},null,null,null,{"$f":"IF(Foglio4!R20>0,Foglio4!R20,\"\")","v":""}]
[{"$f":"IF(Foglio4!X20>0,Foglio4!W20,\"\")","v":""},null,null,null,{"$f":"IF(Foglio4!X20>0,Foglio4!X20,\"\")","v":""}]
[{"$f":"IF(Foglio4!AA20>0,Foglio4!Z20,\"\")","v":""},null,null,null,{"$f":"IF(Foglio4!AA20>0,Foglio4!AA20,\"\")","v":""}]
[{"$f":"IF(Foglio4!AD20>0,Foglio4!AC20,\"\")","v":""},null,null,null,{"$f":"IF(Foglio4!AD20>0,Foglio4!AD20,\"\")","v":""}]
[null,null,null,{"$f":"IF(D181<>\"\",\"Totale \",\"\")","v":""},{"$f":"IF(D181<>\"\",SUM(E185:E189),\"\")","v":""}]
[null,{"$f":"IF(E190<>\"\",\"altri assegni previsti per legge\",\"\")","v":""}]
[null,null,null,{"$f":"Foglio4!B21","v":""},{"$f":"Foglio4!C21","v":""}]
[]
[{"$f":"Foglio4!E21","v":""},null,{"$f":"Foglio4!F21","v":""},{"$f":"Foglio4!H21","v":""}]
[{"$f":"Foglio4!I21","v":""}]
[{"$f":"IF(Foglio4!L21>0,Foglio4!K21,\"\")","v":""},null,null,null,{"$f":"IF(Foglio4!L21>0,Foglio4!L21,\"\")","v":""}]
[{"$f":"IF(Foglio4!R21>0,Foglio4!Q21,\"\")","v":""},null,null,null,{"$f":"IF(Foglio4!R21>0,Foglio4!R21,\"\")","v":""}]
[{"$f":"IF(Foglio4!X21>0,Foglio4!W21,\"\")","v":""},null,null,null,{"$f":"IF(Foglio4!X21>0,Foglio4!X21,\"\")","v":""}]
[{"$f":"IF(Foglio4!AA21>0,Foglio4!Z21,\"\")","v":""},null,null,null,{"$f":"IF(Foglio4!AA21>0,Foglio4!AA21,\"\")","v":""}]
[{"$f":"IF(Foglio4!AD21>0,Foglio4!AC21,\"\")","v":""},null,null,null,{"$f":"IF(Foglio4!AD21>0,Foglio4!AD21,\"\")","v":""}]
[null,null,null,{"$f":"IF(D192<>\"\",\"Totale \",\"\")","v":""},{"$f":"IF(D192<>\"\",SUM(E196:E200),\"\")","v":""}]
[null,{"$f":"IF(E201<>\"\",\"altri assegni previsti per legge\",\"\")","v":""}]
[null,null,null,{"$f":"Foglio4!B22","v":""},{"$f":"Foglio4!C22","v":""}]
[]
[{"$f":"Foglio4!E22","v":""},null,{"$f":"Foglio4!F22","v":""},{"$f":"Foglio4!H22","v":""}]
[{"$f":"Foglio4!I22","v":""}]
[{"$f":"IF(Foglio4!L22>0,Foglio4!K22,\"\")","v":""},null,null,null,{"$f":"IF(Foglio4!L22>0,Foglio4!L22,\"\")","v":""}]
[{"$f":"IF(Foglio4!R22>0,Foglio4!Q22,\"\")","v":""},null,null,null,{"$f":"IF(Foglio4!R22>0,Foglio4!R22,\"\")","v":""}]
[{"$f":"IF(Foglio4!X22>0,Foglio4!W22,\"\")","v":""},null,null,null,{"$f":"IF(Foglio4!X22>0,Foglio4!X22,\"\")","v":""}]
[{"$f":"IF(Foglio4!AA22>0,Foglio4!Z22,\"\")","v":""},null,null,null,{"$f":"IF(Foglio4!AA22>0,Foglio4!AA22,\"\")","v":""}]
[{"$f":"IF(Foglio4!AD22>0,Foglio4!AC22,\"\")","v":""},null,null,null,{"$f":"IF(Foglio4!AD22>0,Foglio4!AD22,\"\")","v":""}]
[null,null,null,{"$f":"IF(D203<>\"\",\"Totale \",\"\")","v":""},{"$f":"IF(D203<>\"\",SUM(E207:E211),\"\")","v":""}]
[null,{"$f":"IF(E212<>\"\",\"altri assegni previsti per legge\",\"\")","v":""}]
[null,null,null,{"$f":"Foglio4!B23","v":""},{"$f":"Foglio4!C23","v":""}]
[]
[{"$f":"Foglio4!E23","v":""},null,{"$f":"Foglio4!F23","v":""},{"$f":"Foglio4!H23","v":""}]
[{"$f":"Foglio4!I23","v":""}]
[{"$f":"IF(Foglio4!L23>0,Foglio4!K23,\"\")","v":""},null,null,null,{"$f":"IF(Foglio4!L23>0,Foglio4!L23,\"\")","v":""}]
[{"$f":"IF(Foglio4!R23>0,Foglio4!Q23,\"\")","v":""},null,null,null,{"$f":"IF(Foglio4!R23>0,Foglio4!R23,\"\")","v":""}]
[{"$f":"IF(Foglio4!X23>0,Foglio4!W23,\"\")","v":""},null,null,null,{"$f":"IF(Foglio4!X23>0,Foglio4!X23,\"\")","v":""}]
[{"$f":"IF(Foglio4!AA23>0,Foglio4!Z23,\"\")","v":""},null,null,null,{"$f":"IF(Foglio4!AA23>0,Foglio4!AA23,\"\")","v":""}]
[{"$f":"IF(Foglio4!AD23>0,Foglio4!AC23,\"\")","v":""},null,null,null,{"$f":"IF(Foglio4!AD23>0,Foglio4!AD23,\"\")","v":""}]
[null,null,null,{"$f":"IF(D214<>\"\",\"Totale \",\"\")","v":""},{"$f":"IF(D214<>\"\",SUM(E218:E222),\"\")","v":""}]
[null,{"$f":"IF(E223<>\"\",\"altri assegni previsti per legge\",\"\")","v":""}]
[null,null,null,{"$f":"Foglio4!B24","v":""},{"$f":"Foglio4!C24","v":""}]
[]
[{"$f":"Foglio4!E24","v":""},null,{"$f":"Foglio4!F24","v":""},{"$f":"Foglio4!H24","v":""}]
[{"$f":"Foglio4!I24","v":""}]
[{"$f":"IF(Foglio4!L24>0,Foglio4!K24,\"\")","v":""},null,null,null,{"$f":"IF(Foglio4!L24>0,Foglio4!L24,\"\")","v":""}]
[{"$f":"IF(Foglio4!R24>0,Foglio4!Q24,\"\")","v":""},null,null,null,{"$f":"IF(Foglio4!R24>0,Foglio4!R24,\"\")","v":""}]
[{"$f":"IF(Foglio4!X24>0,Foglio4!W24,\"\")","v":""},null,null,null,{"$f":"IF(Foglio4!X24>0,Foglio4!X24,\"\")","v":""}]
[{"$f":"IF(Foglio4!AA24>0,Foglio4!Z24,\"\")","v":""},null,null,null,{"$f":"IF(Foglio4!AA24>0,Foglio4!AA24,\"\")","v":""}]
[{"$f":"IF(Foglio4!AD24>0,Foglio4!AC24,\"\")","v":""},null,null,null,{"$f":"IF(Foglio4!AD24>0,Foglio4!AD24,\"\")","v":""}]
[null,null,null,{"$f":"IF(D225<>\"\",\"Totale \",\"\")","v":""},{"$f":"IF(D225<>\"\",SUM(E229:E233),\"\")","v":""}]
[null,{"$f":"IF(E234<>\"\",\"altri assegni previsti per legge\",\"\")","v":""}]
[null,null,null,{"$f":"Foglio4!B25","v":""},{"$f":"Foglio4!C25","v":""}]
[]
[{"$f":"Foglio4!E25","v":""},null,{"$f":"Foglio4!F25","v":""},{"$f":"Foglio4!H25","v":""}]
[{"$f":"Foglio4!I25","v":""}]
[{"$f":"IF(Foglio4!L25>0,Foglio4!K25,\"\")","v":""},null,null,null,{"$f":"IF(Foglio4!L25>0,Foglio4!L25,\"\")","v":""}]
[{"$f":"IF(Foglio4!R25>0,Foglio4!Q25,\"\")","v":""},null,null,null,{"$f":"IF(Foglio4!R25>0,Foglio4!R25,\"\")","v":""}]
[{"$f":"IF(Foglio4!X25>0,Foglio4!W25,\"\")","v":""},null,null,null,{"$f":"IF(Foglio4!X25>0,Foglio4!X25,\"\")","v":""}]
[{"$f":"IF(Foglio4!AA25>0,Foglio4!Z25,\"\")","v":""},null,null,null,{"$f":"IF(Foglio4!AA25>0,Foglio4!AA25,\"\")","v":""}]
[{"$f":"IF(Foglio4!AD25>0,Foglio4!AC25,\"\")","v":""},null,null,null,{"$f":"IF(Foglio4!AD25>0,Foglio4!AD25,\"\")","v":""}]
[null,null,null,{"$f":"IF(D236<>\"\",\"Totale \",\"\")","v":""},{"$f":"IF(D236<>\"\",SUM(E240:E244),\"\")","v":""}]
[null,{"$f":"IF(E245<>\"\",\"altri assegni previsti per legge\",\"\")","v":""}]
[null,null,null,{"$f":"Foglio4!B26","v":""},{"$f":"Foglio4!C26","v":""}]
[]
[{"$f":"Foglio4!E26","v":""},null,{"$f":"Foglio4!F26","v":""},{"$f":"Foglio4!H26","v":""}]
[{"$f":"Foglio4!I26","v":""}]
[{"$f":"IF(Foglio4!L26>0,Foglio4!K26,\"\")","v":""},null,null,null,{"$f":"IF(Foglio4!L26>0,Foglio4!L26,\"\")","v":""}]
[{"$f":"IF(Foglio4!R26>0,Foglio4!Q26,\"\")","v":""},null,null,null,{"$f":"IF(Foglio4!R26>0,Foglio4!R26,\"\")","v":""}]
[{"$f":"IF(Foglio4!X26>0,Foglio4!W26,\"\")","v":""},null,null,null,{"$f":"IF(Foglio4!X26>0,Foglio4!X26,\"\")","v":""}]
[{"$f":"IF(Foglio4!AA26>0,Foglio4!Z26,\"\")","v":""},null,null,null,{"$f":"IF(Foglio4!AA26>0,Foglio4!AA26,\"\")","v":""}]
[{"$f":"IF(Foglio4!AD26>0,Foglio4!AC26,\"\")","v":""},null,null,null,{"$f":"IF(Foglio4!AD26>0,Foglio4!AD26,\"\")","v":""}]
[null,null,null,{"$f":"IF(D247<>\"\",\"Totale \",\"\")","v":""},{"$f":"IF(D247<>\"\",SUM(E251:E255),\"\")","v":""}]
[null,{"$f":"IF(E256<>\"\",\"altri assegni previsti per legge\",\"\")","v":""}]
[]
[]
[]
[]
[]
[]
[]
[null,null,null,{"$f":"Foglio4!B27","v":""},{"$f":"Foglio4!C27","v":""}]
[]
[{"$f":"Foglio4!E27","v":""},null,{"$f":"Foglio4!F27","v":""},{"$f":"Foglio4!H27","v":""}]
[{"$f":"Foglio4!I27","v":""}]
[{"$f":"IF(Foglio4!L27>0,Foglio4!K27,\"\")","v":""},null,null,null,{"$f":"IF(Foglio4!L27>0,Foglio4!L27,\"\")","v":""}]
[{"$f":"IF(Foglio4!O27>0,Foglio4!N27,\"\")","v":""},null,null,null,{"$f":"IF(Foglio4!O27>0,Foglio4!O27,\"\")","v":""}]
[{"$f":"IF(Foglio4!R27>0,Foglio4!Q27,\"\")","v":""},null,null,null,{"$f":"IF(Foglio4!R27>0,Foglio4!R27,\"\")","v":""}]
[{"$f":"IF(Foglio4!U27>0,Foglio4!T27,\"\")","v":""},null,null,null,{"$f":"IF(Foglio4!U27>0,Foglio4!U27,\"\")","v":""}]
[{"$f":"IF(Foglio4!X27>0,Foglio4!W27,\"\")","v":""},null,null,null,{"$f":"IF(Foglio4!X27>0,Foglio4!X27,\"\")","v":""}]
[{"$f":"IF(Foglio4!AA27>0,Foglio4!Z27,\"\")","v":""},null,null,null,{"$f":"IF(Foglio4!AA27>0,Foglio4!AA27,\"\")","v":""}]
[{"$f":"IF(Foglio4!AD27>0,Foglio4!AC27,\"\")","v":""},null,null,null,{"$f":"IF(Foglio4!AD27>0,Foglio4!AD27,\"\")","v":""}]
[null,null,null,{"$f":"IF(D265<>\"\",\"Totale \",\"\")","v":""},{"$f":"IF(D265<>\"\",SUM(E269:E275),\"\")","v":""}]
[]
[]
[]
[]
[]
[]
[]
[]
[null,null,null,{"$f":"Foglio4!B28","v":""},{"$f":"Foglio4!C28","v":""}]
[]
[{"$f":"Foglio4!E28","v":""},null,{"$f":"Foglio4!F28","v":""},{"$f":"Foglio4!H28","v":""}]
[{"$f":"Foglio4!I28","v":""}]
[{"$f":"IF(Foglio4!L28>0,Foglio4!K28,\"\")","v":""},null,null,null,{"$f":"IF(Foglio4!L28>0,Foglio4!L28,\"\")","v":""}]
[{"$f":"IF(Foglio4!O28>0,Foglio4!N28,\"\")","v":""},null,null,null,{"$f":"IF(Foglio4!O28>0,Foglio4!O28,\"\")","v":""}]
[{"$f":"IF(Foglio4!R28>0,Foglio4!Q28,\"\")","v":""},null,null,null,{"$f":"IF(Foglio4!R28>0,Foglio4!R28,\"\")","v":""}]
[{"$f":"IF(Foglio4!U28>0,Foglio4!T28,\"\")","v":""},null,null,null,{"$f":"IF(Foglio4!U28>0,Foglio4!U28,\"\")","v":""}]
[{"$f":"IF(Foglio4!X28>0,Foglio4!W28,\"\")","v":""},null,null,null,{"$f":"IF(Foglio4!X28>0,Foglio4!X28,\"\")","v":""}]
[{"$f":"IF(Foglio4!AA28>0,Foglio4!Z28,\"\")","v":""},null,null,null,{"$f":"IF(Foglio4!AA28>0,Foglio4!AA28,\"\")","v":""}]
[{"$f":"IF(Foglio4!AD28>0,Foglio4!AC28,\"\")","v":""},null,null,null,{"$f":"IF(Foglio4!AD28>0,Foglio4!AD28,\"\")","v":""}]
[null,null,null,{"$f":"IF(D285<>\"\",\"Totale \",\"\")","v":""},{"$f":"IF(D285<>\"\",SUM(E289:E295),\"\")","v":""}]
[]
[]
[]
[]
[]
[]
[]
[]
[null,null,null,{"$f":"Foglio4!B29","v":""},{"$f":"Foglio4!C29","v":""}]
[]
[{"$f":"Foglio4!E29","v":""},null,{"$f":"Foglio4!F29","v":""},{"$f":"Foglio4!H29","v":""}]
[{"$f":"Foglio4!I29","v":""}]
[{"$f":"IF(Foglio4!L29>0,Foglio4!K29,\"\")","v":""},null,null,null,{"$f":"IF(Foglio4!L29>0,Foglio4!L29,\"\")","v":""}]
[{"$f":"IF(Foglio4!O29>0,Foglio4!N29,\"\")","v":""},null,null,null,{"$f":"IF(Foglio4!O29>0,Foglio4!O29,\"\")","v":""}]
[{"$f":"IF(Foglio4!R29>0,Foglio4!Q29,\"\")","v":""},null,null,null,{"$f":"IF(Foglio4!R29>0,Foglio4!R29,\"\")","v":""}]
[{"$f":"IF(Foglio4!U29>0,Foglio4!T29,\"\")","v":""},null,null,null,{"$f":"IF(Foglio4!U29>0,Foglio4!U29,\"\")","v":""}]
[{"$f":"IF(Foglio4!X29>0,Foglio4!W29,\"\")","v":""},null,null,null,{"$f":"IF(Foglio4!X29>0,Foglio4!X29,\"\")","v":""}]
[{"$f":"IF(Foglio4!AA29>0,Foglio4!Z29,\"\")","v":""},null,null,null,{"$f":"IF(Foglio4!AA29>0,Foglio4!AA29,\"\")","v":""}]
[{"$f":"IF(Foglio4!AD29>0,Foglio4!AC29,\"\")","v":""},null,null,null,{"$f":"IF(Foglio4!AD29>0,Foglio4!AD29,\"\")","v":""}]
[null,null,null,{"$f":"IF(D305<>\"\",\"Totale \",\"\")","v":""},{"$f":"IF(D305<>\"\",SUM(E309:E315),\"\")","v":""}]
[]
[]
[]
[]
[]
[]
[]
[]
[null,null,null,{"$f":"Foglio4!B30","v":""},{"$f":"Foglio4!C30","v":""}]
[]
[{"$f":"Foglio4!E30","v":""},null,{"$f":"Foglio4!F30","v":""},{"$f":"Foglio4!H30","v":""}]
[{"$f":"Foglio4!I30","v":""}]
[{"$f":"IF(Foglio4!L30>0,Foglio4!K30,\"\")","v":""},null,null,null,{"$f":"IF(Foglio4!L30>0,Foglio4!L30,\"\")","v":""}]
[{"$f":"IF(Foglio4!O30>0,Foglio4!N30,\"\")","v":""},null,null,null,{"$f":"IF(Foglio4!O30>0,Foglio4!O30,\"\")","v":""}]
[{"$f":"IF(Foglio4!R30>0,Foglio4!Q30,\"\")","v":""},null,null,null,{"$f":"IF(Foglio4!R30>0,Foglio4!R30,\"\")","v":""}]
[{"$f":"IF(Foglio4!U30>0,Foglio4!T30,\"\")","v":""},null,null,null,{"$f":"IF(Foglio4!U30>0,Foglio4!U30,\"\")","v":""}]
[{"$f":"IF(Foglio4!X30>0,Foglio4!W30,\"\")","v":""},null,null,null,{"$f":"IF(Foglio4!X30>0,Foglio4!X30,\"\")","v":""}]
[{"$f":"IF(Foglio4!AA30>0,Foglio4!Z30,\"\")","v":""},null,null,null,{"$f":"IF(Foglio4!AA30>0,Foglio4!AA30,\"\")","v":""}]
[{"$f":"IF(Foglio4!AD30>0,Foglio4!AC30,\"\")","v":""},null,null,null,{"$f":"IF(Foglio4!AD30>0,Foglio4!AD30,\"\")","v":""}]
[null,null,null,{"$f":"IF(D325<>\"\",\"Totale \",\"\")","v":""},{"$f":"IF(D325<>\"\",SUM(E329:E335),\"\")","v":""}]
[]
[]
[]
[]
[]
[]
[]
[]
[null,null,null,{"$f":"Foglio4!B31","v":""},{"$f":"Foglio4!C31","v":""}]
[]
[{"$f":"Foglio4!E31","v":""},null,{"$f":"Foglio4!F31","v":""},{"$f":"Foglio4!H31","v":""}]
[{"$f":"Foglio4!I31","v":""}]
[{"$f":"IF(Foglio4!L31>0,Foglio4!K31,\"\")","v":""},null,null,null,{"$f":"IF(Foglio4!L31>0,Foglio4!L31,\"\")","v":""}]
[{"$f":"IF(Foglio4!O31>0,Foglio4!N31,\"\")","v":""},null,null,null,{"$f":"IF(Foglio4!O31>0,Foglio4!O31,\"\")","v":""}]
[{"$f":"IF(Foglio4!R31>0,Foglio4!Q31,\"\")","v":""},null,null,null,{"$f":"IF(Foglio4!R31>0,Foglio4!R31,\"\")","v":""}]
[{"$f":"IF(Foglio4!U31>0,Foglio4!T31,\"\")","v":""},null,null,null,{"$f":"IF(Foglio4!U31>0,Foglio4!U31,\"\")","v":""}]
[{"$f":"IF(Foglio4!X31>0,Foglio4!W31,\"\")","v":""},null,null,null,{"$f":"IF(Foglio4!X31>0,Foglio4!X31,\"\")","v":""}]
[{"$f":"IF(Foglio4!AA31>0,Foglio4!Z31,\"\")","v":""},null,null,null,{"$f":"IF(Foglio4!AA31>0,Foglio4!AA31,\"\")","v":""}]
[{"$f":"IF(Foglio4!AD31>0,Foglio4!AC31,\"\")","v":""},null,null,null,{"$f":"IF(Foglio4!AD31>0,Foglio4!AD31,\"\")","v":""}]
[null,null,null,{"$f":"IF(D345<>\"\",\"Totale \",\"\")","v":""},{"$f":"IF(D345<>\"\",SUM(E349:E355),\"\")","v":""}]
[]
[]
[]
[]
[]
[]
[]
[]
[null,null,null,{"$f":"Foglio4!B32","v":""},{"$f":"Foglio4!C32","v":""}]
[]
[{"$f":"Foglio4!E32","v":""},null,{"$f":"Foglio4!F32","v":""},{"$f":"Foglio4!H32","v":""}]
[{"$f":"Foglio4!I32","v":""}]
[{"$f":"IF(Foglio4!L32>0,Foglio4!K32,\"\")","v":""},null,null,null,{"$f":"IF(Foglio4!L32>0,Foglio4!L32,\"\")","v":""}]
[{"$f":"IF(Foglio4!O32>0,Foglio4!N32,\"\")","v":""},null,null,null,{"$f":"IF(Foglio4!O32>0,Foglio4!O32,\"\")","v":""}]
[{"$f":"IF(Foglio4!R32>0,Foglio4!Q32,\"\")","v":""},null,null,null,{"$f":"IF(Foglio4!R32>0,Foglio4!R32,\"\")","v":""}]
[{"$f":"IF(Foglio4!U32>0,Foglio4!T32,\"\")","v":""},null,null,null,{"$f":"IF(Foglio4!U32>0,Foglio4!U32,\"\")","v":""}]
[{"$f":"IF(Foglio4!X32>0,Foglio4!W32,\"\")","v":""},null,null,null,{"$f":"IF(Foglio4!X32>0,Foglio4!X32,\"\")","v":""}]
[{"$f":"IF(Foglio4!AA32>0,Foglio4!Z32,\"\")","v":""},null,null,null,{"$f":"IF(Foglio4!AA32>0,Foglio4!AA32,\"\")","v":""}]
[{"$f":"IF(Foglio4!AD32>0,Foglio4!AC32,\"\")","v":""},null,null,null,{"$f":"IF(Foglio4!AD32>0,Foglio4!AD32,\"\")","v":""}]
[null,null,null,{"$f":"IF(D365<>\"\",\"Totale \",\"\")","v":""},{"$f":"IF(D365<>\"\",SUM(E369:E375),\"\")","v":""}]
[]
[]
[]
[]
[]
[]
[]
[]
[null,null,null,{"$f":"Foglio4!B33","v":""},{"$f":"Foglio4!C33","v":""}]
[]
[{"$f":"Foglio4!E33","v":""},null,{"$f":"Foglio4!F33","v":""},{"$f":"Foglio4!H33","v":""}]
[{"$f":"Foglio4!I33","v":""}]
[{"$f":"IF(Foglio4!L33>0,Foglio4!K33,\"\")","v":""},null,null,null,{"$f":"IF(Foglio4!L33>0,Foglio4!L33,\"\")","v":""}]
[{"$f":"IF(Foglio4!O33>0,Foglio4!N33,\"\")","v":""},null,null,null,{"$f":"IF(Foglio4!O33>0,Foglio4!O33,\"\")","v":""}]
[{"$f":"IF(Foglio4!R33>0,Foglio4!Q33,\"\")","v":""},null,null,null,{"$f":"IF(Foglio4!R33>0,Foglio4!R33,\"\")","v":""}]
[{"$f":"IF(Foglio4!U33>0,Foglio4!T33,\"\")","v":""},null,null,null,{"$f":"IF(Foglio4!U33>0,Foglio4!U33,\"\")","v":""}]
[{"$f":"IF(Foglio4!X33>0,Foglio4!W33,\"\")","v":""},null,null,null,{"$f":"IF(Foglio4!X33>0,Foglio4!X33,\"\")","v":""}]
[{"$f":"IF(Foglio4!AA33>0,Foglio4!Z33,\"\")","v":""},null,null,null,{"$f":"IF(Foglio4!AA33>0,Foglio4!AA33,\"\")","v":""}]
[{"$f":"IF(Foglio4!AD33>0,Foglio4!AC33,\"\")","v":""},null,null,null,{"$f":"IF(Foglio4!AD33>0,Foglio4!AD33,\"\")","v":""}]
[null,null,null,{"$f":"IF(D385<>\"\",\"Totale \",\"\")","v":""},{"$f":"IF(D385<>\"\",SUM(E389:E395),\"\")","v":""}]
[]
[]
[]
[]
[]
[]
[]
[]
[null,null,null,{"$f":"Foglio4!B34","v":""},{"$f":"Foglio4!C34","v":""}]
[]
[{"$f":"Foglio4!E34","v":""},null,{"$f":"Foglio4!F34","v":""},{"$f":"Foglio4!H34","v":""}]
[{"$f":"Foglio4!I34","v":""}]
[{"$f":"IF(Foglio4!L34>0,Foglio4!K34,\"\")","v":""},null,null,null,{"$f":"IF(Foglio4!L34>0,Foglio4!L34,\"\")","v":""}]
[{"$f":"IF(Foglio4!O34>0,Foglio4!N34,\"\")","v":""},null,null,null,{"$f":"IF(Foglio4!O34>0,Foglio4!O34,\"\")","v":""}]
[{"$f":"IF(Foglio4!R34>0,Foglio4!Q34,\"\")","v":""},null,null,null,{"$f":"IF(Foglio4!R34>0,Foglio4!R34,\"\")","v":""}]
[{"$f":"IF(Foglio4!U34>0,Foglio4!T34,\"\")","v":""},null,null,null,{"$f":"IF(Foglio4!U34>0,Foglio4!U34,\"\")","v":""}]
[{"$f":"IF(Foglio4!X34>0,Foglio4!W34,\"\")","v":""},null,null,null,{"$f":"IF(Foglio4!X34>0,Foglio4!X34,\"\")","v":""}]
[{"$f":"IF(Foglio4!AA34>0,Foglio4!Z34,\"\")","v":""},null,null,null,{"$f":"IF(Foglio4!AA34>0,Foglio4!AA34,\"\")","v":""}]
[{"$f":"IF(Foglio4!AD34>0,Foglio4!AC34,\"\")","v":""},null,null,null,{"$f":"IF(Foglio4!AD34>0,Foglio4!AD34,\"\")","v":""}]
[null,null,null,{"$f":"IF(D405<>\"\",\"Totale \",\"\")","v":""},{"$f":"IF(D405<>\"\",SUM(E409:E415),\"\")","v":""}]
[]
[]
[]
[]
[]
[]
[]
[]
[null,null,null,{"$f":"Foglio4!B35","v":""},{"$f":"Foglio4!C35","v":""}]
[]
[{"$f":"Foglio4!E35","v":""},null,{"$f":"Foglio4!F35","v":""},{"$f":"Foglio4!H35","v":""}]
[{"$f":"Foglio4!I35","v":""}]
[{"$f":"IF(Foglio4!L35>0,Foglio4!K35,\"\")","v":""},null,null,null,{"$f":"IF(Foglio4!L35>0,Foglio4!L35,\"\")","v":""}]
[{"$f":"IF(Foglio4!O35>0,Foglio4!N35,\"\")","v":""},null,null,null,{"$f":"IF(Foglio4!O35>0,Foglio4!O35,\"\")","v":""}]
[{"$f":"IF(Foglio4!R35>0,Foglio4!Q35,\"\")","v":""},null,null,null,{"$f":"IF(Foglio4!R35>0,Foglio4!R35,\"\")","v":""}]
[{"$f":"IF(Foglio4!U35>0,Foglio4!T35,\"\")","v":""},null,null,null,{"$f":"IF(Foglio4!U35>0,Foglio4!U35,\"\")","v":""}]
[{"$f":"IF(Foglio4!X35>0,Foglio4!W35,\"\")","v":""},null,null,null,{"$f":"IF(Foglio4!X35>0,Foglio4!X35,\"\")","v":""}]
[{"$f":"IF(Foglio4!AA35>0,Foglio4!Z35,\"\")","v":""},null,null,null,{"$f":"IF(Foglio4!AA35>0,Foglio4!AA35,\"\")","v":""}]
[{"$f":"IF(Foglio4!AD35>0,Foglio4!AC35,\"\")","v":""},null,null,null,{"$f":"IF(Foglio4!AD35>0,Foglio4!AD35,\"\")","v":""}]
[null,null,null,{"$f":"IF(D425<>\"\",\"Totale \",\"\")","v":""},{"$f":"IF(D425<>\"\",SUM(E429:E435),\"\")","v":""}]

{"sheet":"Foglio8","index":8,"n_rows":13,"n_cols":12,"rows_kept":13,"cut":false,"hidden":false,"merged":[[5,6,5,7],[12,6,12,11],[7,3,9,10],[5,9,5,10]]}
[]
[]
[]
[]
[]
[null,null,null,null,"Inserire n° di fattura:",null,"/2010",null,null,"numero di controllo",null,1]
[]
[null,null,null,"Senza n° di Fattura, il software è in versione DEMO - In tale versione, i calcoli derivanti sono simulati e non corretti. Il numero và inserito esattamente come si trova sulla fattura. Una volta inserito il n° di fattura, e per evitare di reinserirlo successivamente,  salvare il programma dal menù: FILE -> SALVA"]
[]
[]
[]
[]
[null,null,null,null,null,null,"CLICCA QUI PER TORNARE LA FOGLIO PRINCIPALE"]

{"sheet":"Foglio9","index":9,"n_rows":199,"n_cols":34,"rows_kept":199,"cut":false,"hidden":false,"merged":[[8,0,8,5],[167,2,167,3],[167,7,167,9]]}
[]
[]
[]
[]
[]
[]
[]
[]
["Calcolo giorni preruolo"]
[]
[]
[]
[null,{"$f":"Foglio2!E21","v":0},null,null,null,{"$f":"Foglio2!L21","v":0}]
[]
[]
[null,{"$f":"qualifica","v":"Doc. laureato 1° Grado"},null,null,null,{"$f":"decor","v":-365}]
[]
[]
[]
[]
[]
[]
[]
[]
[null,null,{"$f":"Foglio2!E49","v":"00:00:00"},{"$f":"Foglio2!F49","v":"00:00:00"},null,null,{"$f":"DAYS360(C25,D25)","v":0}]
[null,null,{"$f":"Foglio2!E50","v":"00:00:00"},{"$f":"Foglio2!F50","v":"00:00:00"},null,null,{"$f":"DAYS360(C26,D26)","v":0}]
[null,null,{"$f":"Foglio2!E51","v":"00:00:00"},{"$f":"Foglio2!F51","v":"00:00:00"},null,null,0]
[null,null,{"$f":"Foglio2!E52","v":"00:00:00"},{"$f":"Foglio2!F52","v":"00:00:00"},null,null,0]
[null,null,{"$f":"Foglio2!E53","v":"00:00:00"},{"$f":"Foglio2!F53","v":"00:00:00"},null,null,0]
[null,null,{"$f":"Foglio2!E54","v":"00:00:00"},{"$f":"Foglio2!F54","v":"00:00:00"},null,null,0]
[null,null,{"$f":"Foglio2!E55","v":"00:00:00"},{"$f":"Foglio2!F55","v":"00:00:00"},null,null,0]
[null,null,{"$f":"Foglio2!E56","v":"00:00:00"},{"$f":"Foglio2!F56","v":"00:00:00"},null,null,0]
[null,null,{"$f":"Foglio2!E57","v":"00:00:00"},{"$f":"Foglio2!F57","v":"00:00:00"},null,null,0]
[null,null,{"$f":"Foglio2!E58","v":"00:00:00"},{"$f":"Foglio2!F58","v":"00:00:00"},null,null,0]
[null,null,{"$f":"Foglio2!E59","v":"00:00:00"},{"$f":"Foglio2!F59","v":"00:00:00"},null,null,0]
[null,null,{"$f":"Foglio2!E60","v":"00:00:00"},{"$f":"Foglio2!F60","v":"00:00:00"},null,null,0]
[null,null,{"$f":"Foglio2!E61","v":"00:00:00"},{"$f":"Foglio2!F61","v":"00:00:00"},null,null,0]
[null,null,{"$f":"Foglio2!E62","v":"00:00:00"},{"$f":"Foglio2!F62","v":"00:00:00"},null,null,0]
[null,null,{"$f":"Foglio2!E63","v":"00:00:00"},{"$f":"Foglio2!F63","v":"00:00:00"},null,null,0]
[null,null,{"$f":"Foglio2!E64","v":"00:00:00"},{"$f":"Foglio2!F64","v":"00:00:00"},null,null,0]
[null,null,{"$f":"Foglio2!E65","v":"00:00:00"},{"$f":"Foglio2!F65","v":"00:00:00"},null,null,0]
[null,null,{"$f":"Foglio2!E66","v":"00:00:00"},{"$f":"Foglio2!F66","v":"00:00:00"},null,null,0]
[null,null,{"$f":"Foglio2!E67","v":"00:00:00"},{"$f":"Foglio2!F67","v":"00:00:00"},null,null,0]
[null,null,{"$f":"Foglio2!E68","v":"00:00:00"},{"$f":"Foglio2!F68","v":"00:00:00"},null,null,0]
[null,null,{"$f":"Foglio2!E69","v":"00:00:00"},{"$f":"Foglio2!F69","v":"00:00:00"},null,null,0]
[null,null,{"$f":"Foglio2!E70","v":"00:00:00"},{"$f":"Foglio2!F70","v":"00:00:00"},null,null,0]
[null,null,{"$f":"Foglio2!E71","v":"00:00:00"},{"$f":"Foglio2!F71","v":"00:00:00"},null,null,0]
[null,null,{"$f":"Foglio2!E72","v":"00:00:00"},{"$f":"Foglio2!F72","v":"00:00:00"},null,null,0]
[null,null,{"$f":"Foglio2!E73","v":"00:00:00"},{"$f":"Foglio2!F73","v":"00:00:00"},null,null,0]
[null,null,{"$f":"Foglio2!E74","v":"00:00:00"},{"$f":"Foglio2!F74","v":"00:00:00"},null,null,0]
[null,null,{"$f":"Foglio2!E75","v":"00:00:00"},{"$f":"Foglio2!F75","v":"00:00:00"},null,null,0]
[null,null,{"$f":"Foglio2!E76","v":"00:00:00"},{"$f":"Foglio2!F76","v":"00:00:00"},null,null,0]
[null,null,{"$f":"Foglio2!E77","v":"00:00:00"},{"$f":"Foglio2!F77","v":"00:00:00"},null,null,0]
[]
[]
[]
[]
[]
[null,null,"1980-09-01",{"$f":"C60","v":"1981-09-01"},null,{"$f":"IF(_pre1>=C59,IF(_pre1<D59,_dif1,0),0)","v":0},{"$f":"IF(_pre2>=C59,IF(_pre2<D59,_dif2,0),0)","v":0},{"$f":"IF(_pre3>=C59,IF(_pre3<D59,_dif3,0),0)","v":0},{"$f":"IF(_pre4>=C59,IF(_pre4<D59,_dif4,0),0)","v":0},{"$f":"IF(_pre5>=C59,IF(_pre5<D59,_dif5,0),0)","v":0},{"$f":"IF(_pre6>=C59,IF(_pre6<D59,_dif6,0),0)","v":0},{"$f":"IF(_pre7>=C59,IF(_pre7<D59,_dif7,0),0)","v":0},{"$f":"IF(_pre8>=C59,IF(_pre8<D59,_dif8,0),0)","v":0},{"$f":"IF(_pre9>=C59,IF(_pre9<D59,_dif9,0),0)","v":0},{"$f":"IF(_pre10>=C59,IF(_pre10<D59,_dif10,0),0)","v":0},{"$f":"IF(_pre11>=C59,IF(_pre11<D59,_dif11,0),0)","v":0},{"$f":"IF(_pre12>=C59,IF(_pre12<D59,_dif12,0),0)","v":0},{"$f":"IF(_pre13>=C59,IF(_pre13<D59,_dif13,0),0)","v":0},{"$f":"IF(_pre14>=C59,IF(_pre14<D59,_dif14,0),0)","v":0},{"$f":"IF(_pre15>=C59,IF(_pre15<D59,_dif15,0),0)","v":0},{"$f":"IF(_pre16>=C59,IF(_pre16<D59,_dif16,0),0)","v":0},{"$f":"IF(_pre17>=C59,IF(_pre17<D59,_dif17,0),0)","v":0},{"$f":"IF(_pre18>=C59,IF(_pre18<D59,_dif18,0),0)","v":0},{"$f":"IF(_pre19>=C59,IF(_pre19<D59,_dif19,0),0)","v":0},{"$f":"IF(_pre20>=C59,IF(_pre20<D59,_dif20,0),0)","v":0},{"$f":"IF(_pre21>=C59,IF(_pre21<D59,_dif21,0),0)","v":0},{"$f":"IF(_pre22>=C59,IF(_pre22<D59,_dif22,0),0)","v":0},{"$f":"IF(_pre23>=C59,IF(_pre23<D59,_dif23,0),0)","v":0},{"$f":"IF(_pre24>=C59,IF(_pre24<D59,_dif24,0),0)","v":0},{"$f":"IF(_pre25>=C59,IF(_pre25<D59,_dif25,0),0)","v":0},{"$f":"IF(_pre26>=C59,IF(_pre26<D59,_dif26,0),0)","v":0},{"$f":"IF(_pre27>=C59,IF(_pre27<D59,_dif27,0),0)","v":0},{"$f":"IF(_pre28>=C59,IF(_pre28<D59,_dif28,0),0)","v":0},{"$f":"IF(_pre29>=C59,IF(_pre29<D59,_dif29,0),0)","v":0}]
[null,null,"1981-09-01",{"$f":"C61","v":"1982-09-01"},null,0,0,0,0,0,0,0,0,0,0,0,0,0,0,0,0,0,0,0,0,0,0,0,0,0,0,0,0,0]
[null,null,"1982-09-01","1983-09-01",null,0,0,0,0,0,0,0,0,0,0,0,0,0,0,0,0,0,0,0,0,0,0,0,0,0,0,0,0,0]
[null,null,"1983-09-01","1984-09-01",null,0,0,0,0,0,0,0,0,0,0,0,0,0,0,0,0,0,0,0,0,0,0,0,0,0,0,0,0,0]
[null,null,"1984-09-01","1985-09-01",null,0,0,0,0,0,0,0,0,0,0,0,0,0,0,0,0,0,0,0,0,0,0,0,0,0,0,0,0,0]
[null,null,"1985-09-01","1986-09-01",null,0,0,0,0,0,0,0,0,0,0,0,0,0,0,0,0,0,0,0,0,0,0,0,0,0,0,0,0,0]
[null,null,"1986-09-01","1987-09-01",null,0,0,0,0,0,0,0,0,0,0,0,0,0,0,0,0,0,0,0,0,0,0,0,0,0,0,0,0,0]
[null,null,"1987-09-01","1988-09-01",null,0,0,0,0,0,0,0,0,0,0,0,0,0,0,0,0,0,0,0,0,0,0,0,0,0,0,0,0,0]
[null,null,"1988-09-01","1989-09-01",null,0,0,0,0,0,0,0,0,0,0,0,0,0,0,0,0,0,0,0,0,0,0,0,0,0,0,0,0,0]
[null,null,"1989-09-01","1990-09-01",null,0,0,0,0,0,0,0,0,0,0,0,0,0,0,0,0,0,0,0,0,0,0,0,0,0,0,0,0,0]
[null,null,"1990-09-01","1991-09-01",null,0,0,0,0,0,0,0,0,0,0,0,0,0,0,0,0,0,0,0,0,0,0,0,0,0,0,0,0,0]
[null,null,"1991-09-01","1992-09-01",null,0,{"$f":"IF(_pre2>=C70,IF(_pre2<D70,_dif2,0),0)","v":0},{"$f":"IF(_pre3>=C70,IF(_pre3<D70,_dif3,0),0)","v":0},{"$f":"IF(_pre4>=C70,IF(_pre4<D70,_dif4,0),0)","v":0},{"$f":"IF(_pre5>=C70,IF(_pre5<D70,_dif5,0),0)","v":0},{"$f":"IF(_pre6>=C70,IF(_pre6<D70,_dif6,0),0)","v":0},{"$f":"IF(_pre7>=C70,IF(_pre7<D70,_dif7,0),0)","v":0},{"$f":"IF(_pre8>=C70,IF(_pre8<D70,_dif8,0),0)","v":0},{"$f":"IF(_pre9>=C70,IF(_pre9<D70,_dif9,0),0)","v":0},{"$f":"IF(_pre10>=C70,IF(_pre10<D70,_dif10,0),0)","v":0},0,0,0,0,0,0,0,0,0,0,0,0,0,0,0,0,0,0,0]
[null,null,"1992-09-01","1993-09-01",null,0,0,0,0,0,0,0,0,0,0,0,0,0,0,0,0,0,0,0,0,0,0,0,0,0,0,0,0,0]
[null,null,"1993-09-01","1994-09-01",null,0,0,0,0,0,0,0,0,0,0,0,0,0,0,0,0,0,0,0,0,0,0,0,0,0,0,0,0,0]
[null,null,"1994-09-01","1995-09-01",null,0,0,0,0,0,0,0,0,0,0,0,0,0,0,0,0,0,0,0,0,0,0,0,0,0,0,0,0,0]
[null,null,"1995-09-01","1996-09-01",null,0,0,0,0,0,0,0,0,0,0,0,0,0,0,0,0,0,0,0,0,0,0,0,0,0,0,0,0,0]
[null,null,"1996-09-01","1997-09-01",null,0,0,0,0,0,0,0,0,0,0,0,0,0,0,0,0,0,0,0,0,0,0,0,0,0,0,0,0,0]
[null,null,"1997-09-01","1998-09-01",null,0,0,0,0,0,0,0,0,0,0,0,0,0,0,0,0,0,0,0,0,0,0,0,0,0,0,0,0,0]
[null,null,"1998-09-01","1999-09-01",null,0,0,0,0,0,0,0,0,0,0,0,0,0,0,0,0,0,0,0,0,0,0,0,0,0,0,0,0,0]
[null,null,"1999-09-01","2000-09-01",null,0,0,0,0,0,0,0,0,0,0,0,0,0,0,0,0,0,0,0,0,0,0,0,0,0,0,0,0,0]
[null,null,"2000-09-01","2001-09-01",null,0,0,0,0,0,0,0,0,0,0,0,0,0,0,0,0,0,0,0,0,0,0,0,0,0,0,0,0,0]
[null,null,"2001-09-01","2002-09-01",null,0,0,0,0,0,0,0,0,0,0,0,0,0,0,0,0,0,0,0,0,0,0,0,0,0,0,0,0,0]
[null,null,"2002-09-01","2003-09-01",null,0,0,0,0,0,0,0,0,0,0,0,0,0,0,0,0,0,0,0,0,0,0,0,0,0,0,0,0,0]
[null,null,"2003-09-01","2004-09-01",null,0,0,0,0,0,0,0,0,0,0,0,0,0,0,0,0,0,0,0,0,0,0,0,0,0,0,0,0,0]
[null,null,"2004-09-01","2005-09-01",null,0,0,0,0,0,0,0,0,0,0,0,0,0,0,0,0,0,0,0,0,0,0,0,0,0,0,0,0,0]
[null,null,"2005-09-01","2006-09-01",null,0,0,0,0,0,0,0,0,0,0,0,0,0,0,0,0,0,0,0,0,0,0,0,0,0,0,0,0,0]
[null,null,"2006-09-01","2007-09-01",null,0,0,0,0,0,0,0,0,0,0,0,0,0,0,0,0,0,0,0,0,0,0,0,0,0,0,0,0,0]
[null,null,"2007-09-01","2008-09-01",null,0,0,0,0,0,0,0,0,0,0,0,0,0,0,0,0,0,0,0,0,0,0,0,0,0,0,0,0,0]
[null,null,"2008-09-01","2009-09-01",null,0,0,0,0,0,0,0,0,0,0,0,0,0,0,0,0,0,0,0,0,0,0,0,0,0,0,0,0,0]
[null,null,"2009-09-01","2010-09-01",null,0,0,0,0,0,0,0,0,0,0,0,0,0,0,0,0,0,0,0,0,0,0,0,0,0,0,0,0,0]
[]
[]
[]
[]
[null,null,null,"Giorni"]
[null,null,{"$f":"CONCATENATE(YEAR(C59),\"/\",YEAR(D59))","v":"1980/1981"},{"$f":"SUM(F59:AH59)","v":0},{"$f":"C94","v":"1980/1981"},null,0,"1980/1981"]
[null,null,"1981/1982",0,"1981/1982",null,0,"1981/1982"]
[null,null,"1982/1983",0,"1982/1983",null,0,"1982/1983"]
[null,null,"1983/1984",0,"1983/1984",null,0,"1983/1984"]
[null,null,"1984/1985",0,"1984/1985",null,0,"1984/1985"]
[null,null,"1985/1986",0,"1985/1986",null,0,"1985/1986"]
[null,null,"1986/1987",0,"1986/1987",null,0,"1986/1987"]
[null,null,"1987/1988",0,"1987/1988",null,0,"1987/1988"]
[null,null,"1988/1989",0,"1988/1989",null,0,"1988/1989"]
[null,null,"1989/1990",0,"1989/1990",null,0,"1989/1990"]
[null,null,"1990/1991",0,"1990/1991",null,0,"1990/1991"]
[null,null,"1991/1992",0,"1991/1992",null,0,"1991/1992"]
[null,null,"1992/1993",0,"1992/1993",null,0,"1992/1993"]
[null,null,"1993/1994",0,"1993/1994",null,0,"1993/1994"]
[null,null,"1994/1995",0,"1994/1995",null,0,"1994/1995"]
[null,null,"1995/1996",0,"1995/1996",null,0,"1995/1996"]
[null,null,"1996/1997",0,"1996/1997",null,0,"1996/1997"]
[null,null,"1997/1998",0,"1997/1998",null,0,"1997/1998"]
[null,null,"1998/1999",0,"1998/1999",null,0,"1998/1999"]
[null,null,"1999/2000",0,"1999/2000",null,0,"1999/2000"]
[null,null,"2000/2001",0,"2000/2001",null,0,"2000/2001"]
[null,null,"2001/2002",0,"2001/2002",null,0,"2001/2002"]
[null,null,"2002/2003",0,"2002/2003",null,0,"2002/2003"]
[null,null,"2003/2004",0,"2003/2004",null,0,"2003/2004"]
[null,null,"2004/2005",0,"2004/2005",null,0,"2004/2005"]
[null,null,"2005/2006",0,"2005/2006",null,0,"2005/2006"]
[null,null,"2006/2007",0,"2006/2007",null,0,"2006/2007"]
[null,null,"2007/2008",0,"2007/2008",null,0,"2007/2008"]
[null,null,"2008/2009",0,"2008/2009",null,0,"2008/2009"]
[null,null,"2009/2010",0,"2009/2010",null,0,"2009/2010"]
[]
[]
[]
[]
[null,null,"Anno scolastico","Giorni di preruolo"]
[null,null,{"$f":"IF(G94>0,H94,\"\")","v":""},{"$f":"IF(G94>0,G94,\"\")","v":""},null,{"$f":"IF(D129<180,IF(D129>0,\"periodo non valido perche' inferiore a 180 gg.\",\"\"),\"\")","v":""}]
[null,null,{"$f":"IF(G95>0,H95,\"\")","v":""},{"$f":"IF(G95>0,G95,\"\")","v":""},null,{"$f":"IF(D130<180,IF(D130>0,\"periodo non valido perche' inferiore a 180 gg.\",\"\"),\"\")","v":""}]
[null,null,"","",null,""]
[null,null,"","",null,""]
[null,null,"","",null,""]
[null,null,"","",null,""]
[null,null,"","",null,""]
[null,null,"","",null,""]
[null,null,"","",null,""]
[null,null,"","",null,""]
[null,null,"","",null,""]
[null,null,"","",null,""]
[null,null,"","",null,""]
[null,null,"","",null,""]
[null,null,"","",null,""]
[null,null,"","",null,""]
[null,null,"","",null,""]
[null,null,"","",null,""]
[null,null,"","",null,""]
[null,null,"","",null,""]
[null,null,"","",null,""]
[null,null,"","",null,""]
[null,null,"","",null,""]
[null,null,"","",null,""]
[null,null,"","",null,""]
[null,null,"","",null,""]
[null,null,"","",null,""]
[null,null,"","",null,""]
[null,null,"","",null,""]
[null,null,null,null,null,""]
[]
[]
[]
[]
[]
[]
[null,null,"",""]
[null,null,"",""]
[null,null,""]
[null,null,"Anni pre ruolo riconosciuti:",null,null,{"$f":"SUM(G171:G197)","v":0},null,"torna al foglio principale"]
[null,null,"",""]
[null,null,"Anno Scolastico","Giorni preruolo"]
[null,null,"","",null,"",{"$f":"IF(D171<>\"\",IF(D171>179,1,0),0)","v":0}]
[null,null,"","",null,"",{"$f":"IF(D172<>\"\",IF(D172>179,1,0),0)","v":0}]
[null,null,"","",null,"",0]
[null,null,"","",null,"",0]
[null,null,"","",null,"",0]
[null,null,"","",null,"",0]
[null,null,"","",null,"",0]
[null,null,"","",null,"",0]
[null,null,"","",null,"",0]
[null,null,"","",null,"",0]
[null,null,"","",null,"",0]
[null,null,"","",null,"",0]
[null,null,"","",null,"",0]
[null,null,"","",null,"",0]
[null,null,"","",null,"",0]
[null,null,"","",null,"",0]
[null,null,"","",null,"",0]
[null,null,"","",null,"",0]
[null,null,"","",null,"",0]
[null,null,"","",null,"",0]
[null,null,"","",null,"",0]
[null,null,"","",null,"",0]
[null,null,"","",null,"",0]
[null,null,"","",null,"",0]
[null,null,"","",null,"",0]
[null,null,"","",null,"",0]
[null,null,"","",null,"",0]
[null,null,"","",null,""]
[null,null,"","",null,""]

{"sheet":"dati","index":10,"n_rows":105,"n_cols":14,"rows_kept":105,"cut":false,"hidden":false,"merged":[[44,4,44,10],[40,4,40,10],[36,4,36,10],[37,4,37,10],[38,4,38,10],[5,2,5,4],[95,5,95,6],[7,10,7,11],[53,4,53,10],[64,2,64,6],[41,4,41,10],[42,4,42,10],[51,4,51,10],[52,4,52,10],[45,4,45,10],[0,3,0,6],[7,2,7,4],[7,5,7,6],[7,7,7,9],[2,3,3,9],[6,2,6,4],[5,7,5,9],[4,2,4,5],[4,7,4,12],[5,5,5,6],[6,10,6,12],[6,7,6,9],[6,5,6,6],[18,11,18,12],[11,2,11,6],[12,2,12,6],[18,7,18,8],[8,2,8,4],[8,5,8,6],[30,4,30,10],[26,5,26,10],[16,2,16,9],[21,1,21,3],[18,1,18,3],[19,1,19,3],[20,1,20,3],[22,1,22,3],[23,1,23,3],[27,4,27,10],[28,4,28,10],[24,1,24,3],[26,2,26,4],[29,4,29,10],[89,6,90,7],[59,4,59,10],[57,4,57,10],[58,4,58,10],[64,7,64,11],[31,4,31,10],[32,4,32,10],[35,4,35,10],[39,4,39,10],[43,4,43,10],[33,4,33,10],[56,4,56,10],[54,4,54,10],[55,4,55,10],[48,4,48,10],[49,4,49,10],[50,4,50,10],[46,4,46,10],[47,4,47,10],[34,4,34,10]]}
[null,null,null,"e' docente che deve effettuare anno di prova?",null,null,null,{"$f":"IF(OR(rigqual=6,rigqual=7,rigqual=8,rigqual=9,rigqual=12,rigqual=13),1,IF(OR(rigqual=10,rigqual=11),2,0))","v":1},"1= docente con periodo di prova 2=irc t.d.  - 0=ata"]
[]
[null,null,null,"Dati utilizzati per l'elaborazione"]
[]
[null,null,{"$f":"Foglio2!E21","v":0},null,null,null,null,{"$f":"Foglio2!D25","v":"Doc. laureato 1° Grado"}]
[null,null,{"$f":"IF(H1=2,\"decorrenza giuridica ruolo:\",\"\")","v":""},null,null,{"$f":"IF(H1=2,decor,\"\")","v":""},null,{"$f":"IF(H1=2,\"decorrenza economica ruolo:\",\"\")","v":""},null,null,{"$f":"IF(H1=2,dececon,\"\")","v":""}]
[null,null,{"$f":"IF(H1=0,\"decorrenza giuridica ruolo:\",\"\")","v":""},null,null,{"$f":"IF(H1=0,decor,\"\")","v":""},null,{"$f":"IF(H1=0,\"decorrenza economica ruolo:\",\"\")","v":""},null,null,{"$f":"IF(H1=0,Foglio2!I27,\"\")","v":""}]
[null,null,{"$f":"IF(H1=1,\"decorrenza giuridica ruolo:\",\"\")","v":"decorrenza giuridica ruolo:"},null,null,{"$f":"IF(H1=1,decor,\"\")","v":-365},null,{"$f":"IF(H1=1,\"decorrenza economica ruolo:\",\"\")","v":"decorrenza economica ruolo:"},null,null,{"$f":"IF(H1=1,Foglio2!I27,\"\")","v":-365}]
[null,null,{"$f":"IF(H1=1,\"superamento anno di prova:\",\"\")","v":"superamento anno di prova:"},null,null,{"$f":"IF(H1=1,K8+365,\"\")","v":"00:00:00"}]
[]
[null,null,null,null,null,null,null,"anni","mesi","giorni"]
[null,null,"Anzianità riconosciuta giuridica ed economica",null,null,null,null,{"$f":"Foglio2!C103","v":{"$error":"#NUM!"}},{"$f":"Foglio2!D103","v":0},{"$f":"Foglio2!E103","v":0}]
[null,null,"Anzianità riconosciuta solo economica",null,null,null,null,{"$f":"Foglio2!C104","v":0},{"$f":"Foglio2!D104","v":0},{"$f":"Foglio2!E104","v":0}]
[]
[]
[]
[null,null,"Passaggi di gradone intervenuti durante la carriera"]
[]
[null,"decorrenza economica ruolo",null,null,{"$f":"MAX(K6:M9)","v":-365},"con:",{"$f":"H12","v":{"$error":"#NUM!"}},"anni di anzianità",null,null,null,"Torna al foglio principale"]
[null,"Decorrenza gradone da 3 a 8 anni:",null,null,{"$f":"IF(_sc2>0,_sc2,\"--\")","v":{"$error":"#NUM!"}},null,3]
[null,"Decorrenza gradone da 9 a 14 anni:",null,null,{"$f":"IF(_sc3>0,_sc3,\"--\")","v":{"$error":"#NUM!"}},null,9]
[null,"Decorrenza gradone da 15 a 20 anni:",null,null,{"$f":"IF(_sc4>0,_sc4,\"--\")","v":{"$error":"#NUM!"}},null,15]
[null,"Decorrenza gradone da 21 a 27 anni:",null,null,{"$f":"IF(_sc5>0,_sc5,\"--\")","v":{"$error":"#NUM!"}},null,21]
[null,"Decorrenza gradone da 28 a 35 anni:",null,null,{"$f":"IF(_sc6>0,_sc6,\" --\")","v":{"$error":"#NUM!"}},null,28]
[null,"Decorrenza gradone oltre i 35 anni:",null,null,{"$f":"IF(_sc7>0,_sc7,\"--\")","v":{"$error":"#NUM!"}},null,35]
[]
[null,null,"Decorrenza data",null,null,"Posizione Anni - ratei spettanti - passaggi",null,null,null,null,null,"Valore in euro","R.p.D. / C.i.A.","assegno ad personam ccnl 2011"]
[null,null,null,{"$f":"IF(H1=1,K8,\"\")","v":-365},{"$f":"IF(H1=1,\"Data di decorrenza dell' anno di prova - fascia di anzianità 0 - 2 anni\",\"\")","v":"Data di decorrenza dell' anno di prova - fascia di anzianità 0 - 2 anni"},null,null,null,null,null,null,{"$f":"IF(H1=1,VLOOKUP(D28,D68:E86,2),\"\")","v":{"$error":"#N/A"}},{"$f":"IF(H1=1,HLOOKUP(D28,D97:N98,2),\"\")","v":{"$error":"#N/A"}}]
[null,null,null,{"$f":"'tabella sintetica'!C71","v":"2000-01-01"},{"$f":"CONCATENATE('tabella sintetica'!D71,Foglio2!AA132)","v":{"$error":"#NUM!"}},null,null,null,null,null,null,{"$f":"'tabella sintetica'!E71","v":{"$error":"#NUM!"}},{"$f":"IF(H1=0,HLOOKUP(D29,C104:G105,2),'tabella sintetica'!J71)","v":594.96},{"$f":"'tabella sintetica'!G71","v":0}]
[null,null,null,{"$f":"IF(AND('tabella sintetica'!C72>0,'tabella sintetica'!C72<40909),'tabella sintetica'!C72,\"\")","v":"2000-07-01"},{"$f":"IF(D30<>\"\",'tabella sintetica'!D72,\"\")","v":"fascia di anzianità da 0-2 anni  C.C.N.L. del 26/05/1999 incluso incremento stipendiale dal 01/11/1998 - Annuo lordo"},null,null,null,null,null,null,{"$f":"IF(D30<>\"\",'tabella sintetica'!E72,\"\")","v":10451.538266873938},{"$f":"IF(H1=0,HLOOKUP(D30,C104:G105,2),'tabella sintetica'!J72)","v":594.96},{"$f":"'tabella sintetica'!G72","v":{"$error":"#NUM!"}}]
[null,null,null,{"$f":"IF(AND('tabella sintetica'!C73>0,'tabella sintetica'!C73<40909),'tabella sintetica'!C73,\"\")","v":"2001-01-01"},{"$f":"IF(D31<>\"\",'tabella sintetica'!D73,\"\")","v":"fascia di anzianità da 0-2 anni  C.C.N.L. del 26/05/1999 - incluso incremento stipendiale dal 01/06/1999 - Annuo lordo"},null,null,null,null,null,null,{"$f":"IF(D31<>\"\",'tabella sintetica'!E73,\"\")","v":10786.202337483925},{"$f":"IF(H1=0,HLOOKUP(D31,C104:G105,2),'tabella sintetica'!J73)","v":1338.6562824399489},{"$f":"'tabella sintetica'!G73","v":{"$error":"#NUM!"}}]
[null,null,null,{"$f":"IF(AND('tabella sintetica'!C74>0,'tabella sintetica'!C74<40909),'tabella sintetica'!C74,\"\")","v":"2002-01-01"},{"$f":"IF(D32<>\"\",'tabella sintetica'!D74,\"\")","v":"fascia di anzianità da 0-2 anni  C.C.N.L. del 15/03/2001 - Annuo lordo"},null,null,null,null,null,null,{"$f":"IF(D32<>\"\",'tabella sintetica'!E74,\"\")","v":11221.802337483925},{"$f":"IF(L32=\"\",\"\",IF(H1=0,HLOOKUP(D32,C104:G105,2),'tabella sintetica'!J74))","v":1578.6562824399489},{"$f":"'tabella sintetica'!G74","v":{"$error":"#NUM!"}}]
[null,null,null,{"$f":"IF(AND('tabella sintetica'!C75>0,'tabella sintetica'!C75<40909),'tabella sintetica'!C75,\"\")","v":"2003-01-01"},{"$f":"IF(D33<>\"\",'tabella sintetica'!D75,\"\")","v":"fascia di anzianità da 0-2 anni  C.C.N.L. del 15/03/2001 - incluso incrementi stipendiali dal 01/01/2001 - Annuo lordo"},null,null,null,null,null,null,{"$f":"IF(D33<>\"\",'tabella sintetica'!E75,\"\")","v":18128.79},{"$f":"IF(L33=\"\",\"\",IF(H1=0,HLOOKUP(D33,C104:G105,2),'tabella sintetica'!J75))","v":1710.6},{"$f":"'tabella sintetica'!G75","v":{"$error":"#NUM!"}}]
[null,null,null,{"$f":"IF(AND('tabella sintetica'!C76>0,'tabella sintetica'!C76<40909),'tabella sintetica'!C76,\"\")","v":"2004-01-01"},{"$f":"IF(D34<>\"\",'tabella sintetica'!D76,\"\")","v":"fascia di anzianità da 0-2 anni  C.C.N.L. del 24/07/2003 - Annuo lordo"},null,null,null,null,null,null,{"$f":"IF(D34<>\"\",'tabella sintetica'!E76,\"\")","v":18566.91},{"$f":"IF(L34=\"\",\"\",IF(H1=0,HLOOKUP(D34,C104:G105,2),'tabella sintetica'!J76))","v":1857.84},{"$f":"'tabella sintetica'!G76","v":{"$error":"#NUM!"}}]
[null,null,null,{"$f":"IF(AND('tabella sintetica'!C77>0,'tabella sintetica'!C77<40909),'tabella sintetica'!C77,\"\")","v":"2005-02-01"},{"$f":"IF(D35<>\"\",'tabella sintetica'!D77,\"\")","v":"fascia di anzianità da 0-2 anni  C.C.N.L. del 24/07/2003 - incluso incrementi stipendiali dal 01/01/2003 - inclusa l' i.i.s. - Annuo lordo"},null,null,null,null,null,null,{"$f":"IF(D35<>\"\",'tabella sintetica'!E77,\"\")","v":19082.5},{"$f":"IF(L35=\"\",\"\",IF(H1=0,HLOOKUP(D35,C104:G105,2),'tabella sintetica'!J77))","v":1857.84},{"$f":"'tabella sintetica'!G77","v":{"$error":"#NUM!"}}]
[null,null,null,{"$f":"IF(AND('tabella sintetica'!C78>0,'tabella sintetica'!C78<40909),'tabella sintetica'!C78,\"\")","v":"2006-01-01"},{"$f":"IF(D36<>\"\",'tabella sintetica'!D78,\"\")","v":"fascia di anzianità da 0-2 anni  C.C.N.L. del 07/12/2005 - incluso incremento stipendiale dal 01/01/2004 - inclusa l'i.i.s. - Annuo lordo"},null,null,null,null,null,null,{"$f":"IF(D36<>\"\",'tabella sintetica'!E78,\"\")","v":19170.939999999999},{"$f":"IF(L36=\"\",\"\",IF(H1=0,HLOOKUP(D36,C104:G105,2),'tabella sintetica'!J78))","v":1968},{"$f":"'tabella sintetica'!G78","v":{"$error":"#NUM!"}}]
[null,null,null,{"$f":"IF(AND('tabella sintetica'!C79>0,'tabella sintetica'!C79<40909),'tabella sintetica'!C79,\"\")","v":"2007-01-01"},{"$f":"IF(D37<>\"\",'tabella sintetica'!D79,\"\")","v":"fascia di anzianità da 0-2 anni  C.C.N.L. del 07/12/2005 - incluso incremento stipendiale dal 01/02/2005 - inclusa l'i.i.s. - Annuo lordo"},null,null,null,null,null,null,{"$f":"IF(D37<>\"\",'tabella sintetica'!E79,\"\")","v":19535.740000000002},{"$f":"IF(L37=\"\",\"\",IF(H1=0,HLOOKUP(D37,C104:G105,2),'tabella sintetica'!J79))","v":1968},{"$f":"'tabella sintetica'!G79","v":{"$error":"#NUM!"}}]
[null,null,null,{"$f":"IF(AND('tabella sintetica'!C80>0,'tabella sintetica'!C80<40909),'tabella sintetica'!C80,\"\")","v":"2007-02-01"},{"$f":"IF(D38<>\"\",'tabella sintetica'!D80,\"\")","v":"fascia di anzianità da 0-2 anni  C.C.N.L. del 29/11/2007 - inclusa l'i.i.s. - Annuo lordo"},null,null,null,null,null,null,{"$f":"IF(D38<>\"\",'tabella sintetica'!E80,\"\")","v":20068.419999999998},{"$f":"IF(L38=\"\",\"\",IF(H1=0,HLOOKUP(D38,C104:G105,2),'tabella sintetica'!J80))","v":1968},{"$f":"'tabella sintetica'!G80","v":{"$error":"#NUM!"}}]
[null,null,null,{"$f":"IF(AND('tabella sintetica'!C81>0,'tabella sintetica'!C81<40909),'tabella sintetica'!C81,\"\")","v":"2008-01-01"},{"$f":"IF(D39<>\"\",'tabella sintetica'!D81,\"\")","v":"fascia di anzianità da 0-2 anni  C.C.N.L. del 29/11/2007 - incluso incremento stipendiale dal 01/01/2007 - inclusa l'i.i.s. - Annuo lordo"},null,null,null,null,null,null,{"$f":"IF(D39<>\"\",'tabella sintetica'!E81,\"\")","v":20197.18},{"$f":"IF(L39=\"\",\"\",IF(H1=0,HLOOKUP(D39,C104:G105,2),'tabella sintetica'!J81))","v":1968},{"$f":"'tabella sintetica'!G81","v":{"$error":"#NUM!"}}]
[null,null,null,{"$f":"IF(AND('tabella sintetica'!C82>0,'tabella sintetica'!C82<40909),'tabella sintetica'!C82,\"\")","v":"2008-04-01"},{"$f":"IF(D40<>\"\",'tabella sintetica'!D82,\"\")","v":"fascia di anzianità da 0-2 anni  Sequenza Contrattuale del 14/02/2008  - inclusa l'i.i.s. - Annuo lordo"},null,null,null,null,null,null,{"$f":"IF(D40<>\"\",'tabella sintetica'!E82,\"\")","v":20300.14},{"$f":"IF(L40=\"\",\"\",IF(H1=0,HLOOKUP(D40,C104:G105,2),'tabella sintetica'!J82))","v":1968},{"$f":"'tabella sintetica'!G82","v":{"$error":"#NUM!"}}]
[null,null,null,{"$f":"IF(AND('tabella sintetica'!C83>0,'tabella sintetica'!C83<40909),'tabella sintetica'!C83,\"\")","v":"2008-07-01"},{"$f":"IF(D41<>\"\",'tabella sintetica'!D83,\"\")","v":"fascia di anzianità da 0-2 anni  Sequenza Contrattuale del 14/02/2008 - inclusa l'i.i.s. - Annuo lordo"},null,null,null,null,null,null,{"$f":"IF(D41<>\"\",'tabella sintetica'!E83,\"\")","v":20368.900000000001},{"$f":"IF(L41=\"\",\"\",IF(H1=0,HLOOKUP(D41,C104:G105,2),'tabella sintetica'!J83))","v":1968},{"$f":"'tabella sintetica'!G83","v":{"$error":"#NUM!"}}]
[null,null,null,{"$f":"IF(AND('tabella sintetica'!C84>0,'tabella sintetica'!C84<40909),'tabella sintetica'!C84,\"\")","v":"2009-01-01"},{"$f":"IF(D42<>\"\",'tabella sintetica'!D84,\"\")","v":"fascia di anzianità da 0-2 anni    Indennità di vacanza contrattuale - (Art. 33  Decreto Legge  N. 185 del 29 novembre 2008) - Annuo lordo inclusa l'iis -"},null,null,null,null,null,null,{"$f":"IF(D42<>\"\",'tabella sintetica'!E84,\"\")","v":20973.22},{"$f":"IF(L42=\"\",\"\",IF(H1=0,HLOOKUP(D42,C104:G105,2),'tabella sintetica'!J84))","v":1968},{"$f":"'tabella sintetica'!G84","v":{"$error":"#NUM!"}}]
[null,null,null,{"$f":"IF(AND('tabella sintetica'!C85>0,'tabella sintetica'!C85<40909),'tabella sintetica'!C85,\"\")","v":"2010-04-01"},{"$f":"IF(D43<>\"\",'tabella sintetica'!D85,\"\")","v":"fascia di anzianità da 0-2 anni    Indennità di vacanza contrattuale - (Art. 33  Decreto Legge  N. 185 del 29 novembre 2008) - Annuo lordo inclusa l'iis -"},null,null,null,null,null,null,{"$f":"IF(D43<>\"\",'tabella sintetica'!E85,\"\")","v":21067.54},{"$f":"IF(L43=\"\",\"\",IF(H1=0,HLOOKUP(D43,C104:G105,2),'tabella sintetica'!J85))","v":1968},{"$f":"'tabella sintetica'!G85","v":{"$error":"#NUM!"}}]
[null,null,null,{"$f":"IF(AND('tabella sintetica'!C86>0,'tabella sintetica'!C86<40909),'tabella sintetica'!C86,\"\")","v":"2010-07-01"},{"$f":"IF(D44<>\"\",'tabella sintetica'!D86,\"\")","v":"fascia di anzianità da 0-2 anni  C.C.N.L. 2007 - BIENNIO ECONOMICO 2008/2009 - Annuo lordo inclusa l'iis"},null,null,null,null,null,null,{"$f":"IF(D44<>\"\",'tabella sintetica'!E86,\"\")","v":21130.54},{"$f":"IF(L44=\"\",\"\",IF(H1=0,HLOOKUP(D44,C104:G105,2),'tabella sintetica'!J86))","v":1968},{"$f":"'tabella sintetica'!G86","v":{"$error":"#NUM!"}}]
[null,null,null,{"$f":"IF(AND('tabella sintetica'!C87>0,'tabella sintetica'!C87<40909),'tabella sintetica'!C87,\"\")","v":"2010-09-01"},{"$f":"IF(D45<>\"\",'tabella sintetica'!D87,\"\")","v":"Fascia di anzianità 0-8 anni - C.C.N.L. 04/08/2011 - Annuo lordo inclusa I.I.S."},null,null,null,null,null,null,{"$f":"IF(D45<>\"\",'tabella sintetica'!E87,\"\")","v":21130.54},{"$f":"IF(L45=\"\",\"\",IF(H1=0,HLOOKUP(D45,C104:G105,2),'tabella sintetica'!J87))","v":1968},{"$f":"'tabella sintetica'!G87","v":{"$error":"#NUM!"}}]
[null,null,null,{"$f":"IF(AND('tabella sintetica'!C88>0,'tabella sintetica'!C88<40909),'tabella sintetica'!C88,\"\")","v":""},{"$f":"IF(D46<>\"\",'tabella sintetica'!D88,\"\")","v":""},null,null,null,null,null,null,{"$f":"IF(D46<>\"\",'tabella sintetica'!E88,\"\")","v":""},{"$f":"IF(L46=\"\",\"\",IF(H1=0,HLOOKUP(D46,C104:G105,2),'tabella sintetica'!J88))","v":""},{"$f":"'tabella sintetica'!G88","v":{"$error":"#NUM!"}}]
[null,null,null,{"$f":"IF(AND('tabella sintetica'!C89>0,'tabella sintetica'!C89<40909),'tabella sintetica'!C89,\"\")","v":""},{"$f":"IF(D47<>\"\",'tabella sintetica'!D89,\"\")","v":""},null,null,null,null,null,null,{"$f":"IF(D47<>\"\",'tabella sintetica'!E89,\"\")","v":""},{"$f":"IF(L47=\"\",\"\",IF(H1=0,HLOOKUP(D47,C104:G105,2),'tabella sintetica'!J89))","v":""},{"$f":"'tabella sintetica'!G89","v":{"$error":"#NUM!"}}]
[null,null,null,{"$f":"IF(AND('tabella sintetica'!C90>0,'tabella sintetica'!C90<40909),'tabella sintetica'!C90,\"\")","v":""},{"$f":"IF(D48<>\"\",'tabella sintetica'!D90,\"\")","v":""},null,null,null,null,null,null,{"$f":"IF(D48<>\"\",'tabella sintetica'!E90,\"\")","v":""},{"$f":"IF(L48=\"\",\"\",IF(H1=0,HLOOKUP(D48,C104:G105,2),'tabella sintetica'!J90))","v":""},{"$f":"'tabella sintetica'!G90","v":{"$error":"#NUM!"}}]
[null,null,null,{"$f":"IF(AND('tabella sintetica'!C91>0,'tabella sintetica'!C91<40909),'tabella sintetica'!C91,\"\")","v":""},{"$f":"IF(D49<>\"\",'tabella sintetica'!D91,\"\")","v":""},null,null,null,null,null,null,{"$f":"IF(D49<>\"\",'tabella sintetica'!E91,\"\")","v":""},{"$f":"IF(L49=\"\",\"\",IF(H1=0,HLOOKUP(D49,C104:G105,2),'tabella sintetica'!J91))","v":""},{"$f":"'tabella sintetica'!G91","v":{"$error":"#NUM!"}}]
[null,null,null,{"$f":"IF(AND('tabella sintetica'!C92>0,'tabella sintetica'!C92<40909),'tabella sintetica'!C92,\"\")","v":""},{"$f":"IF(D50<>\"\",'tabella sintetica'!D92,\"\")","v":""},null,null,null,null,null,null,{"$f":"IF(D50<>\"\",'tabella sintetica'!E92,\"\")","v":""},{"$f":"IF(L50=\"\",\"\",IF(H1=0,HLOOKUP(D50,C104:G105,2),'tabella sintetica'!J92))","v":""},{"$f":"'tabella sintetica'!G92","v":{"$error":"#NUM!"}}]
[null,null,null,{"$f":"IF(AND('tabella sintetica'!C93>0,'tabella sintetica'!C93<40909),'tabella sintetica'!C93,\"\")","v":""},{"$f":"IF(D51<>\"\",'tabella sintetica'!D93,\"\")","v":""},null,null,null,null,null,null,{"$f":"IF(D51<>\"\",'tabella sintetica'!E93,\"\")","v":""},{"$f":"IF(L51=\"\",\"\",IF(H1=0,HLOOKUP(D51,C104:G105,2),'tabella sintetica'!J93))","v":""},{"$f":"'tabella sintetica'!G93","v":{"$error":"#NUM!"}}]
[null,null,null,{"$f":"IF(AND('tabella sintetica'!C94>0,'tabella sintetica'!C94<40909),'tabella sintetica'!C94,\"\")","v":""},{"$f":"IF(D52<>\"\",'tabella sintetica'!D94,\"\")","v":""},null,null,null,null,null,null,{"$f":"IF(D52<>\"\",'tabella sintetica'!E94,\"\")","v":""},{"$f":"IF(L52=\"\",\"\",IF(H1=0,HLOOKUP(D52,C104:G105,2),'tabella sintetica'!J94))","v":""},{"$f":"'tabella sintetica'!G94","v":{"$error":"#NUM!"}}]
[null,null,null,{"$f":"IF(AND('tabella sintetica'!C95>0,'tabella sintetica'!C95<40909),'tabella sintetica'!C95,\"\")","v":""},{"$f":"IF(D53<>\"\",'tabella sintetica'!D95,\"\")","v":""},null,null,null,null,null,null,{"$f":"IF(D53<>\"\",'tabella sintetica'!E95,\"\")","v":""},{"$f":"IF(L53=\"\",\"\",IF(H1=0,HLOOKUP(D53,C104:G105,2),'tabella sintetica'!J95))","v":""},{"$f":"'tabella sintetica'!G95","v":{"$error":"#NUM!"}}]
[null,null,null,{"$f":"IF(AND('tabella sintetica'!C96>0,'tabella sintetica'!C96<40909),'tabella sintetica'!C96,\"\")","v":""},{"$f":"IF(D54<>\"\",'tabella sintetica'!D96,\"\")","v":""},null,null,null,null,null,null,{"$f":"IF(D54<>\"\",'tabella sintetica'!E96,\"\")","v":""},{"$f":"IF(L54=\"\",\"\",IF(H1=0,HLOOKUP(D54,C104:G105,2),'tabella sintetica'!J96))","v":""},{"$f":"'tabella sintetica'!G96","v":{"$error":"#NUM!"}}]
[null,null,null,{"$f":"IF(AND('tabella sintetica'!C97>0,'tabella sintetica'!C97<40909),'tabella sintetica'!C97,\"\")","v":""},{"$f":"IF(D55<>\"\",'tabella sintetica'!D97,\"\")","v":""},null,null,null,null,null,null,{"$f":"IF(D55<>\"\",'tabella sintetica'!E97,\"\")","v":""},{"$f":"IF(L55=\"\",\"\",IF(H1=0,HLOOKUP(D55,C104:G105,2),'tabella sintetica'!J97))","v":""},{"$f":"'tabella sintetica'!G97","v":{"$error":"#NUM!"}}]
[null,null,null,{"$f":"IF(AND('tabella sintetica'!C98>0,'tabella sintetica'!C98<40909),'tabella sintetica'!C98,\"\")","v":""},{"$f":"IF(D56<>\"\",'tabella sintetica'!D98,\"\")","v":""},null,null,null,null,null,null,{"$f":"IF(D56<>\"\",'tabella sintetica'!E98,\"\")","v":""},{"$f":"IF(L56=\"\",\"\",IF(H1=0,HLOOKUP(D56,C104:G105,2),'tabella sintetica'!J98))","v":""},{"$f":"'tabella sintetica'!G98","v":{"$error":"#NUM!"}}]
[null,null,null,{"$f":"IF(AND('tabella sintetica'!C99>0,'tabella sintetica'!C99<40909),'tabella sintetica'!C99,\"\")","v":""},{"$f":"IF(D57<>\"\",'tabella sintetica'!D99,\"\")","v":""},null,null,null,null,null,null,{"$f":"IF(D57<>\"\",'tabella sintetica'!E99,\"\")","v":""},{"$f":"IF(L57=\"\",\"\",IF(H1=0,HLOOKUP(D57,C104:G105,2),'tabella sintetica'!J99))","v":""},{"$f":"'tabella sintetica'!G99","v":{"$error":"#NUM!"}}]
[null,null,null,{"$f":"IF(AND('tabella sintetica'!C100>0,'tabella sintetica'!C100<40909),'tabella sintetica'!C100,\"\")","v":""},{"$f":"IF(D58<>\"\",'tabella sintetica'!D100,\"\")","v":""},null,null,null,null,null,null,{"$f":"IF(D58<>\"\",'tabella sintetica'!E100,\"\")","v":""},{"$f":"IF(L58=\"\",\"\",IF(H1=0,HLOOKUP(D58,C104:G105,2),'tabella sintetica'!J100))","v":""},{"$f":"'tabella sintetica'!G100","v":{"$error":"#NUM!"}}]
[null,null,null,{"$f":"IF(AND('tabella sintetica'!C101>0,'tabella sintetica'!C101<40909),'tabella sintetica'!C101,\"\")","v":""},{"$f":"IF(D59<>\"\",'tabella sintetica'!D101,\"\")","v":""},null,null,null,null,null,null,{"$f":"IF(D59<>\"\",'tabella sintetica'!E101,\"\")","v":""},{"$f":"IF(L59=\"\",\"\",IF(H1=0,HLOOKUP(D59,C104:G105,2),'tabella sintetica'!J101))","v":""},{"$f":"'tabella sintetica'!G101","v":{"$error":"#NUM!"}}]
[null,null,null,{"$f":"IF(AND('tabella sintetica'!C102>0,'tabella sintetica'!C102<40909),'tabella sintetica'!C102,\"\")","v":""},{"$f":"IF(D60<>\"\",'tabella sintetica'!D102,\"\")","v":""},null,null,null,null,null,null,{"$f":"IF(D60<>\"\",'tabella sintetica'!E102,\"\")","v":""},{"$f":"IF(L60=\"\",\"\",IF(H1=0,HLOOKUP(D60,C104:G105,2),'tabella sintetica'!J102))","v":""},{"$f":"'tabella sintetica'!G102","v":0}]
[]
[]
[]
[]
[null,null,"Tabella Stipendiale relativa al profilo di:",null,null,null,null,{"$f":"G7","v":0}]
[null,null,null,null,0,3,9,15,21,28,35]
[null,null,null,"Data",{"$f":"Foglio1!B1203","v":"fascia di anzianità da 0-2 anni"},{"$f":"Foglio1!C1203","v":"fascia di anzianità da 3-8 anni"},{"$f":"Foglio1!D1203","v":"fascia di anzianità da 9-14 anni"},{"$f":"Foglio1!E1203","v":"fascia di anzianità da 15-20 anni"},{"$f":"Foglio1!F1203","v":"fascia di anzianità da 21-27 anni"},{"$f":"Foglio1!G1203","v":"fascia di anzianità da 28-34 anni"},{"$f":"Foglio1!H1203","v":"fascia di anzianità da 35 anni in poi"}]
[null,null,null,{"$f":"Foglio1!A1204","v":"1996-01-01"},{"$f":"Foglio1!B1204","v":8741.0330170895595},{"$f":"Foglio1!C1204","v":9161.4289329484018},{"$f":"Foglio1!D1204","v":10525.391603443735},{"$f":"Foglio1!E1204","v":12100.068688767578},{"$f":"Foglio1!F1204","v":13634.978592861533},{"$f":"Foglio1!G1204","v":15136.83525541376},{"$f":"Foglio1!H1204","v":16259.096097135214}]
[null,null,null,{"$f":"Foglio1!A1205","v":"1998-11-01"},{"$f":"Foglio1!B1205","v":10011.516988849695},{"$f":"Foglio1!C1205","v":10462.900318653907},{"$f":"Foglio1!D1205","v":11944.615162141643},{"$f":"Foglio1!E1205","v":13649.439386036038},{"$f":"Foglio1!F1205","v":15314.496428700542},{"$f":"Foglio1!G1205","v":16946.500229823319},{"$f":"Foglio1!H1205","v":18155.525830591807}]
[null,null,null,{"$f":"Foglio1!A1206","v":"1999-06-01"},{"$f":"Foglio1!B1206","v":10253.218817623576},{"$f":"Foglio1!C1206","v":10710.799630216861},{"$f":"Foglio1!D1206","v":12217.304404860892},{"$f":"Foglio1!E1206","v":13946.918559911583},{"$f":"Foglio1!F1206","v":15636.765533732383},{"$f":"Foglio1!G1206","v":17293.559266011456},{"$f":"Foglio1!H1206","v":18521.177315147164}]
[null,null,null,{"$f":"Foglio1!A1207","v":"2000-07-01"},{"$f":"Foglio1!B1207","v":10451.538266873938},{"$f":"Foglio1!C1207","v":10915.316562256297},{"$f":"Foglio1!D1207","v":12440.41378526755},{"$f":"Foglio1!E1207","v":14194.817871474535},{"$f":"Foglio1!F1207","v":15903.257293662558},{"$f":"Foglio1!G1207","v":17578.64347430885},{"$f":"Foglio1!H1207","v":18818.656489022709}]
[null,null,null,{"$f":"Foglio1!A1208","v":"2001-01-01"},{"$f":"Foglio1!B1208","v":10786.202337483925},{"$f":"Foglio1!C1208","v":11262.375598444432},{"$f":"Foglio1!D1208","v":12818.460235401055},{"$f":"Foglio1!E1208","v":14610.049218342483},{"$f":"Foglio1!F1208","v":16349.476054475874},{"$f":"Foglio1!G1208","v":18055.849649067539},{"$f":"Foglio1!H1208","v":19320.652594937688}]
[null,null,null,{"$f":"Foglio1!A1209","v":"2002-01-01"},{"$f":"Foglio1!B1209","v":11221.802337483925},{"$f":"Foglio1!C1209","v":11709.975598444433},{"$f":"Foglio1!D1209","v":13305.420235401054},{"$f":"Foglio1!E1209","v":15142.249218342484},{"$f":"Foglio1!F1209","v":16925.596054475875},{"$f":"Foglio1!G1209","v":18675.04964906754},{"$f":"Foglio1!H1209","v":19971.772594937687}]
[null,null,null,{"$f":"Foglio1!A1210","v":"2003-01-01"},{"$f":"Foglio1!B1210","v":18128.79},{"$f":"Foglio1!C1210","v":18629.330000000002},{"$f":"Foglio1!D1210","v":20265.09},{"$f":"Foglio1!E1210","v":22148.36},{"$f":"Foglio1!F1210","v":23976.83},{"$f":"Foglio1!G1210","v":25770.560000000001},{"$f":"Foglio1!H1210","v":27100.16}]
[null,null,null,{"$f":"Foglio1!A1211","v":"2004-01-01"},{"$f":"Foglio1!B1211","v":18566.91},{"$f":"Foglio1!C1211","v":19079.57},{"$f":"Foglio1!D1211","v":20754.93},{"$f":"Foglio1!E1211","v":22683.68},{"$f":"Foglio1!F1211","v":24556.31},{"$f":"Foglio1!G1211","v":26393.48},{"$f":"Foglio1!H1211","v":27755.119999999999}]
[null,null,null,{"$f":"Foglio1!A1212","v":"2005-02-01"},{"$f":"Foglio1!B1212","v":19082.5},{"$f":"Foglio1!C1212","v":19609.37},{"$f":"Foglio1!D1212","v":21331.19},{"$f":"Foglio1!E1212","v":23313.53},{"$f":"Foglio1!F1212","v":25238.19},{"$f":"Foglio1!G1212","v":27126.29},{"$f":"Foglio1!H1212","v":28525.83}]
[null,null,null,{"$f":"Foglio1!A1213","v":"2006-01-01"},{"$f":"Foglio1!B1213","v":19170.939999999999},{"$f":"Foglio1!C1213","v":19700.21},{"$f":"Foglio1!D1213","v":21429.95},{"$f":"Foglio1!E1213","v":23421.53},{"$f":"Foglio1!F1213","v":25355.07},{"$f":"Foglio1!G1213","v":27251.93},{"$f":"Foglio1!H1213","v":28657.95}]
[null,null,null,{"$f":"Foglio1!A1214","v":"2007-01-01"},{"$f":"Foglio1!B1214","v":19535.740000000002},{"$f":"Foglio1!C1214","v":20075.21},{"$f":"Foglio1!D1214","v":21837.83},{"$f":"Foglio1!E1214","v":23867.33},{"$f":"Foglio1!F1214","v":25837.71},{"$f":"Foglio1!G1214","v":27770.69},{"$f":"Foglio1!H1214","v":29203.47}]
[null,null,null,{"$f":"Foglio1!A1215","v":"2007-02-01"},{"$f":"Foglio1!B1215","v":20068.419999999998},{"$f":"Foglio1!C1215","v":20622.41},{"$f":"Foglio1!D1215","v":22433.27},{"$f":"Foglio1!E1215","v":24517.97},{"$f":"Foglio1!F1215","v":26542.11},{"$f":"Foglio1!G1215","v":28527.77},{"$f":"Foglio1!H1215","v":29999.55}]
[null,null,null,{"$f":"Foglio1!A1216","v":"2008-01-01"},{"$f":"Foglio1!B1216","v":20197.18},{"$f":"Foglio1!C1216","v":20754.77},{"$f":"Foglio1!D1216","v":22577.27},{"$f":"Foglio1!E1216","v":24675.29},{"$f":"Foglio1!F1216","v":26712.51},{"$f":"Foglio1!G1216","v":28710.89},{"$f":"Foglio1!H1216","v":30192.03}]
[null,null,null,{"$f":"Foglio1!A1217","v":"2008-04-01"},{"$f":"Foglio1!B1217","v":20300.14},{"$f":"Foglio1!C1217","v":20857.73},{"$f":"Foglio1!D1217","v":22680.23},{"$f":"Foglio1!E1217","v":24778.25},{"$f":"Foglio1!F1217","v":26815.47},{"$f":"Foglio1!G1217","v":28813.85},{"$f":"Foglio1!H1217","v":30294.99}]
[null,null,null,{"$f":"Foglio1!A1218","v":"2008-07-01"},{"$f":"Foglio1!B1218","v":20368.900000000001},{"$f":"Foglio1!C1218","v":20926.490000000002},{"$f":"Foglio1!D1218","v":22748.99},{"$f":"Foglio1!E1218","v":24847.01},{"$f":"Foglio1!F1218","v":26884.23},{"$f":"Foglio1!G1218","v":28882.61},{"$f":"Foglio1!H1218","v":30363.75}]
[null,null,null,{"$f":"Foglio1!A1219","v":"2009-01-01"},{"$f":"Foglio1!B1219","v":20973.22},{"$f":"Foglio1!C1219","v":21552.17},{"$f":"Foglio1!D1219","v":23444.75},{"$f":"Foglio1!E1219","v":25623.29},{"$f":"Foglio1!F1219","v":27738.87},{"$f":"Foglio1!G1219","v":29814.05},{"$f":"Foglio1!H1219","v":31352.07}]
[null,null,null,{"$f":"Foglio1!A1220","v":"2010-04-01"},{"$f":"Foglio1!B1220","v":21067.54},{"$f":"Foglio1!C1220","v":21646.49},{"$f":"Foglio1!D1220","v":23539.07},{"$f":"Foglio1!E1220","v":25717.61},{"$f":"Foglio1!F1220","v":27833.19},{"$f":"Foglio1!G1220","v":29908.37},{"$f":"Foglio1!H1220","v":31446.39}]
[null,null,null,{"$f":"Foglio1!A1221","v":"2010-07-01"},{"$f":"Foglio1!B1221","v":21130.54},{"$f":"Foglio1!C1221","v":21709.49},{"$f":"Foglio1!D1221","v":23602.07},{"$f":"Foglio1!E1221","v":25780.61},{"$f":"Foglio1!F1221","v":27896.19},{"$f":"Foglio1!G1221","v":29971.37},{"$f":"Foglio1!H1221","v":31509.39}]
[null,null,null,{"$f":"Foglio1!A1224","v":"2010-09-01"},{"$f":"Foglio1!B1224","v":21130.54},{"$f":"Foglio1!B1224","v":21130.54},{"$f":"Foglio1!C1224","v":23602.07},{"$f":"Foglio1!D1224","v":25780.61},{"$f":"Foglio1!E1224","v":27896.19},{"$f":"Foglio1!F1224","v":29971.37},{"$f":"Foglio1!G1224","v":31509.39}]
[]
[]
[]
[null,null,null,null,null,null,"Torna al foglio principale"]
[]
[]
[]
[]
[]
[null,null,null,null,"R.p.D.","Valore annuo"]
[null,null,"anzianita","00:00:00","1999-07-01","2000-01-01","2001-01-01","2002-01-01","2003-01-01","2004-01-01","2005-01-01","2006-01-01","2007-01-01","2008-01-01"]
[null,null,"0-14",0,594.96,594.96,1338.6562824399489,1578.6562824399489,1710.6,1857.84,1857.84,1968,1968,1968]
[null,null,"15-27",0,594.96,594.96,1667.1228702608623,1955.1228702608623,2111.16,2287.8000000000002,2287.8000000000002,2424,2424,2424]
[null,null,"28 in poi",0,594.96,594.96,1865.4423195112252,2333.4423195112249,2585.4,2870.04,2870.04,3090,3090,3090]
[]
[]
[null,null,null,null,"C.I.A.","PROFILO A/AS","VALORE ANNUO"]
[null,null,"1990-01-01","1999-07-01","2002-01-01","2003-01-01","2006-01-01"]
[null,null,0,471,495,579,702]

{"sheet":"Foglio10","index":11,"n_rows":114,"n_cols":5,"rows_kept":114,"cut":false,"hidden":false,"merged":[[113,4,114,6]]}
[]
[]
[]
[]
[]
[]
[]
[]
[]
[]
[]
[]
[]
[]
[]
[]
[]
[]
[]
[]
[]
[]
[]
[]
[]
[]
[]
[]
[]
[]
[]
[]
[]
[]
[]
[]
[]
[]
[]
[]
[]
[]
[]
[]
[]
[]
[]
[]
[]
[]
[]
[]
[]
[]
[]
[]
[]
[]
[]
[]
[]
[]
[]
[]
[]
[]
[]
[]
[]
[]
[]
[]
[]
[]
[]
[]
[]
[]
[]
[]
[]
[]
[]
[]
[]
[]
[]
[]
[]
[]
[]
[]
[]
[]
[]
[]
[]
[]
[]
[]
[]
[]
[]
[]
[]
[]
[]
[]
[]
[]
[]
[]
[]
[null,null,null,null,"torna"]

{"sheet":"verimacro","index":12,"n_rows":33,"n_cols":7,"rows_kept":33,"cut":false,"hidden":false,"merged":[[24,6,27,13],[32,6,37,13],[1,1,1,9],[5,1,8,9],[21,4,21,5]]}
[]
[null,"RICORDARSI DI ABILITARE IL CONTENUTO ATTIVO DI EXCEL / O DI ATTIVARE LE MACRO, CLICCANDO SU:\nABILITA MODIFICA / ABILITA CONTENUTO / OPZIONI - \n PRESENTE NELL'AVVISO DI SOPRA."]
[]
[]
[]
[null,"Programma per il calcolo delle ricostruzioni di carriera a seguito sentenza del tribunale"]
[]
[]
[]
[]
[]
[]
[]
[]
[]
[]
[]
[]
[]
[]
[]
[null,null,null,null,"ver.2018"]
[]
[]
[null,null,null,null,null,null,"LICENZA N. 240/2018 - IL SOFTWARE DEVE ESSERE UTILIZZATO SOLO NELL'AMBITO DELL'ENTE / PRIVATO CHE DETIENE LA LICENZA - E' VIETATO IL PRESTITO, LA COPIA E LA CONCESSIONE A TERZI. L'UTILIZZO NON CONSENTITO E' PENALMENTE PERSEGUIBILE"]
[]
[]
[]
[]
[]
[]
[]
[null,null,null,null,null,null,"ISTRUZIONI: accertarsi di aver abilitato il contenuto attivo di excel e poi cliccare su: VAI AL PROGRAMMA. Se il link non funziona è perché il contenuto attivo di excel non è stato abilitato. Per abilitare il contenuto attivo di excel è sufficiente cliccare sull'avviso di protezione che appare in alto in questa finestra (sotto la barra dei comandi excel). Scegliere \"ABILITA CONTENUTO\" oppure  clicca su opzioni per attivare le macro - così come riportato nell'immagine sottostante"]

{"sheet":"front utente","index":13,"n_rows":237,"n_cols":47,"rows_kept":237,"cut":false,"hidden":false,"merged":[[9,2,9,7],[82,9,98,16],[27,9,28,10],[58,10,58,12],[64,9,81,16],[60,9,62,12],[43,9,44,10],[10,9,10,10],[12,8,12,9],[0,9,0,12],[99,9,118,16],[8,1,8,14],[10,2,10,3],[10,4,10,7],[10,11,10,13],[16,2,19,5],[12,6,12,7],[12,2,13,5],[15,10,15,15],[12,10,12,13],[144,9,153,16],[119,9,143,16],[23,1,23,6],[24,4,24,6],[24,1,24,3],[21,10,23,15],[14,2,14,7],[25,13,25,16]]}
[null,null,null,null,null,null,{"$f":"N1*12+O1*1000","v":18048},{"$f":"N2*12+O2*1000","v":19036},{"$f":"IF(G1>H1,\"scaduto\",\"\")","v":""},{"$f":"IF(I1=\"scaduto\",\"ATTENZIONE - CALCOLI NON CORRETTI - IL SOFTWARE E' DA AGGIORNARE\",\"\")","v":""},null,null,null,{"$f":"MONTH((NOW()))","v":4},{"$f":"YEAR((NOW()))-2000","v":18},null,null,null,null,null,null,null,null,null,null,null,null,null,null,null,null,null,null,null,null,null,null,null,null,null,null,null,null,null,"tutti","superiori","comprensivi"]
[null,null,null,null,null,null,null,null,null,null,null,null,null,3,19,null,null,null,null,null,null,null,null,null,null,null,null,null,null,null,null,null,null,null,null,null,null,null,null,null,null,null,null,null,"Docente scuola materna elementare"]
[null,null,null,null,null,null,null,null,null,null,null,null,null,null,null,null,null,null,null,null,null,null,null,null,null,null,null,null,null,null,null,null,null,null,null,null,null,null,null,null,null,null,null,null,null,null,"Docente scuola materna elementare"]
[null,null,null,null,null,null,null,null,null,null,null,null,null,null,null,null,null,null,null,null,null,null,null,null,null,null,null,null,null,null,null,null,null,null,null,null,null,null,null,null,null,null,null,null,"Docente scuola Media e laureato 1 grado"]
[null,null,null,null,null,null,null,null,null,null,null,null,null,null,null,null,null,null,null,null,null,null,null,null,null,null,null,null,null,null,null,null,null,null,null,null,null,null,null,null,null,null,null,null,null,null,"Docente scuola Media e laureato 1 grado"]
[null,null,null,null,null,null,null,null,null,null,null,null,null,null,null,null,null,null,null,null,null,null,null,null,null,null,null,null,null,null,null,null,null,null,null,null,null,null,null,null,null,null,null,null,"Docente scuola Superiore e laureato 2 grado","Docente scuola Superiore e laureato 2 grado"]
[null,null,null,null,null,null,null,null,null,null,null,null,null,null,null,null,null,null,null,null,null,null,null,null,null,null,null,null,null,null,null,null,null,null,null,null,null,null,null,null,null,null,null,null,"Docente Diplomato","Docente Diplomato"]
[null,null,null,null,null,null,null,null,null,null,null,null,null,null,null,null,null,"si",null,null,null,null,null,null,null,null,null,null,null,null,null,null,null,null,null,null,null,null,null,null,null,null,null,null,"Assistente Amministrativo","Assistente Amministrativo"]
[null,"Programma per il calcolo delle Ricostruzioni di Carriera in applicazione alle sentenze del Tribunale - Ver 2018\n****** VERSIONE DIMOSTRATIVA - ELABORAZIONI NON CORRETTE *************",null,null,null,null,null,null,null,null,null,null,null,null,null,null,null,"no",null,null,null,null,null,null,null,null,null,null,null,null,null,null,null,null,null,null,null,null,null,null,null,null,null,null,"Dsga","Dsga","Assistente Amministrativo"]
[null,null,"VEDI ISTRUZIONi ED ESEMPIO",null,null,null,null,null,null,null,null,null,null,null,null,null,null,null,null,null,null,null,null,null,null,null,null,null,null,null,null,null,null,null,null,null,null,null,null,null,null,null,null,null,"Collaboratore scolastico","Collaboratore scolastico","Dsga"]
[null,null,"Nominativo",null,null,null,null,null,null,"Codice Fiscale",null,null,null,null,null,null,null,null,null,null,null,null,null,null,null,null,null,null,null,null,null,null,null,null,null,null,null,null,null,null,null,null,null,null,"Collaboratore scolastico istruttore","Collaboratore scolastico istruttore","Collaboratore scolastico"]
[null,null,null,null,null,null,null,null,null,null,null,null,null,null,null,null,null,null,null,null,null,null,null,null,null,null,null,null,null,null,null,null,null,null,null,null,null,null,null,null,null,null,null,null,null,null,"Collaboratore scolastico istruttore"]
[null,null,"Data di decorrenza della ricostruzione (gg/mm/aaaa)\ndi solito corrisponde al primo giorno di supplenza",null,null,null,null,null,"Qualifica",null,"Docente scuola Media e laureato 1 grado",null,null,null,null,null,null,"Docente scuola materna elementare",null,null,null,"Doc. materna elem.",null,"Coll.Sc. "]
[]
[null,null,"Blocco anno 2013? \n(attualmente è in vigore il blocco -si consiglia inserire SI)",null,null,null,null,null,"si",null,"Modalità di calcolo della progressione di carriera",null,null,null,null,null,null,"Docente scuola Media e laureato 1 grado",null,null,null,"Doc. laureato 1° Grado",null,"C.S. Istr."]
[null,null,null,null,null,null,null,null,null,null,"1) Calcola la progressione di carriera considerando soli i giorni effettivamente lavorati"]
[null,null,"Eventuale ulteriore anzianità riconosciuta alla data di decorrenza della ricostruzione\n(di solito non vi è ulteriore anzianità - lasciare 0 (zero) )",null,null,null,null,null,null,null,null,null,null,null,null,null,null,"Docente scuola Superiore e laureato 2 grado",null,null,null,"Doc. laureato 2° Grado",null,"Ass.A.T."]
[null,null,null,null,null,null,"ANNI:",0,"MESI:",null,"GIORNI:",null,null,null,null,null,null,"Docente Diplomato",null,null,null,"Doc.Dipl.",null,"Coord. A/T"]
[null,null,null,null,null,null,null,null,null,null,null,null,null,null,null,null,null,"Assistente Amministrativo",null,null,null,"Ass.A.T."]
[null,null,null,null,null,null,null,null,null,null,null,null,null,null,null,null,null,"Dsga",null,null,null,"Coord. A/T",null,"Doc. materna elem."]
[null,null,null,null,null,null,null,null,null,null,null,null,null,null,null,null,null,"Collaboratore scolastico",null,null,null,"Coll.Sc. ",null,"Doc.Dipl."]
[null,null,null,null,null,null,null,null,null,null,"Scegliere quale progressione applicare: opzione 1, 2 oppure 3. ( di solito si sceglie o l'opzione 1 o la 3)\nOpzione 1 - la più applicata -  si applica per il  calcolo dei periodi effettivamente lavorati\nOpzione 2 si applica quando all'interessato si deve conteggiare l'anno per intero anche se parzialmente lavorato (tale opzione non viene mai applicata anche se risulta la più vantaggiosa).\nOpzione 3 si applica se sono da considerare validi solo gli A.S. superiori o pari a 180 gg. e dal 01/02 fino al termine delle lezioni",null,null,null,null,null,null,"Collaboratore scolastico istruttore",null,null,null,"C.S. Istr.",null,"Doc. laureato 1° Grado",null,null,null,null,null,"1) Calcola la progressione di carriera considerando soli i giorni effettivamente lavorati"]
[null,null,null,null,null,null,null,null,null,null,null,null,null,null,null,null,null,null,null,null,null,null,null,"Doc. laureato 2° Grado",null,null,null,null,null,"2) Calcola la progressione di carriera considerando agli anni effettivamente trascorsi anche se non lavorati"]
[null,"Inserire i Periodi di servizio \ndi solito si inseriscono i periodi di servizio riconosciuti dalla sentenza o tutti i periodi a tempo determinato",null,null,null,null,null,null,null,null,null,null,null,null,null,null,null,null,null,null,null,null,null,"Doc. Religione Media e Sup. incaricato annuale",null,null,null,null,null,"3) Calcola la progressione di carriera considerando solo gli anni scolastici superiori a 180 gg. e calcolandoli come intero anno"]
[null,"inserire i periodi di servizi che devono essere oggetto della ricostruzione\nI singoli periodi devono appartenere ad un anno scolastico per volta",null,null,"Orario di Lavoro \n(per es. 24 su 24 - compilazione facoltativa)",null,null,null,null,null,null,null,null,null,null,null,null,{"$f":"VLOOKUP(K13,R13:V23,5,0)","v":"Doc. laureato 1° Grado"},null,null,null,null,null,"Doc. Religione Materna Elementare incaricato annuale"]
[null,null,"dal:\n(gg/mm/aaaa)","al:\n(gg/mm/aaaa)","ore","su","ore",{"$f":"IF(LEFT(K16,1)=\"3\",\"anni scolastici validi\",\"\")","v":""},"tot. gg singolo periodo","totale giornate effettivamente lavorate (senza eventuali giorni in comune)",null,null,null,{"$f":"IF(C27<>G13,\"ATTENZIONE: LA DATA DI DECORRENZA DELLA RICOSTRUZIONE DOVREBBE COINCIDERE CON IL PRIMO GIORNO DI SUPPLENZA - CONTROLLARE\",\"\")","v":""},null,null,null,null,null,null,null,null,null,"Docente Religione Media e sup. di ruolo"]
[null,1,null,null,null,{"$f":"IF(OR(I27>366,I27<0    ),\"ERRORE\",\"\")","v":""},null,{"$f":"IF(LEFT($K$16,1)=\"3\",principale!AT9,\"\")","v":""},{"$f":"IF(D27>0,D27-C27+1,0)","v":0},{"$f":"calcoloperiodi1!C40","v":1},null,null,null,null,null,null,null,null,null,null,null,null,null,"Docente Religione Materna elementare di ruolo"]
[null,2,null,null,null,{"$f":"IF(OR(I28>366,I28<0    ),\"ERRORE\",\"\")","v":""},null,{"$f":"IF(LEFT($K$16,1)=\"3\",principale!AT10,\"\")","v":""},0,null,null,null,"Se il bottone Elabora Decreto non dovesse funzionare,"]
[null,3,null,null,null,"",null,{"$f":"IF(LEFT($K$16,1)=\"3\",principale!AT11,\"\")","v":""},{"$f":"IF(D29>0,D29-C29+1,0)","v":0},null,null,null,"bisognerà abilitare il contenuto attivo di excel o "]
[null,4,null,null,null,"",null,{"$f":"IF(LEFT($K$16,1)=\"3\",principale!AT12,\"\")","v":""},{"$f":"IF(D30>0,D30-C30+1,0)","v":0},"Pari a:",null,null,"attivare le macro."]
[null,5,null,null,null,"",null,{"$f":"IF(LEFT($K$16,1)=\"3\",principale!AT13,\"\")","v":""},{"$f":"IF(D31>0,D31-C31+1,0)","v":0},"ANNI:",{"$f":"N39","v":0}]
[null,6,null,null,null,"",null,{"$f":"IF(LEFT($K$16,1)=\"3\",principale!AT14,\"\")","v":""},{"$f":"IF(D32>0,D32-C32+1,0)","v":0},"MESI:",{"$f":"N43","v":0}]
[null,7,null,null,null,"",null,{"$f":"IF(LEFT($K$16,1)=\"3\",principale!AT15,\"\")","v":""},0,"GIORNI:",{"$f":"N45","v":1}]
[null,8,null,null,null,"",null,{"$f":"IF(LEFT($K$16,1)=\"3\",principale!AT16,\"\")","v":""},0]
[null,9,null,null,null,"",null,{"$f":"IF(LEFT($K$16,1)=\"3\",principale!AT17,\"\")","v":""},0]
[null,10,null,null,null,"",null,{"$f":"IF(LEFT($K$16,1)=\"3\",principale!AT18,\"\")","v":""},0,null,null,null,null,{"$f":"J27/365","v":2.7397260273972603E-3}]
[null,11,null,null,null,"",null,{"$f":"IF(LEFT($K$16,1)=\"3\",principale!AT19,\"\")","v":""},0,"Progressione di carriera:",null,null,null,"Pari ad anni:"]
[null,12,null,null,null,"",null,{"$f":"IF(LEFT($K$16,1)=\"3\",principale!AT20,\"\")","v":""},0,"0 anni",{"$f":"IF(C27>100000,\"\",C27)","v":"00:00:00"}]
[null,13,null,null,null,"",null,{"$f":"IF(LEFT($K$16,1)=\"3\",principale!AT21,\"\")","v":""},0,"3 anni",{"$f":"IF(    AND(Foglio2!P108<100000,  Foglio2!P108<calcoloperiodi1!$F$272,Foglio2!P108>1000   ),Foglio2!P108,\"\")","v":{"$error":"#NUM!"}},null,null,{"$f":"INT(N36)","v":0},"anni"]
[null,14,null,null,null,"",null,{"$f":"IF(LEFT($K$16,1)=\"3\",principale!AT22,\"\")","v":""},0,"9 anni",{"$f":"IF(    AND(Foglio2!P109<100000,  Foglio2!P109<calcoloperiodi1!$F$272,Foglio2!P109>1000   ),Foglio2!P109,\"\")","v":{"$error":"#NUM!"}},null,null,{"$f":"365*N39","v":0}]
[null,15,null,null,null,"",null,{"$f":"IF(LEFT($K$16,1)=\"3\",principale!AT23,\"\")","v":""},0,"15 anni",{"$f":"IF(    AND(Foglio2!P110<100000,  Foglio2!P110<calcoloperiodi1!$F$272,Foglio2!P110>1000   ),Foglio2!P110,\"\")","v":{"$error":"#NUM!"}},null,null,{"$f":"J27-N40","v":1}]
[null,16,null,null,null,"",null,{"$f":"IF(LEFT($K$16,1)=\"3\",principale!AT24,\"\")","v":""},0,"21 anni",{"$f":"IF(    AND(Foglio2!P111<100000,  Foglio2!P111<calcoloperiodi1!$F$272,Foglio2!P111>1000   ),Foglio2!P111,\"\")","v":{"$error":"#NUM!"}},null,null,{"$f":"N41/30","v":3.3333333333333333E-2}]
[null,17,null,null,null,"",null,{"$f":"IF(LEFT($K$16,1)=\"3\",principale!AT25,\"\")","v":""},0,"28 anni",{"$f":"IF(    AND(Foglio2!P112<100000,  Foglio2!P112<calcoloperiodi1!$F$272,Foglio2!P112>1000   ),Foglio2!P112,\"\")","v":{"$error":"#NUM!"}},null,null,{"$f":"INT(N42)","v":0},"mesi"]
[null,18,null,null,null,"",null,{"$f":"IF(LEFT($K$16,1)=\"3\",principale!AT26,\"\")","v":""},0,{"$f":"IF( calcoloperiodi1!AH11=\"NO\",\"\",         \"Arrotondamento anzianita al 01/01/1996: anni \n(ccnl scuola 01/08/96)\")","v":"Arrotondamento anzianita al 01/01/1996: anni \n(ccnl scuola 01/08/96)"},null,{"$f":"IF(calcoloperiodi1!AH11=\"NO\",\"\",calcoloperiodi1!AH11)","v":0},null,{"$f":"J27-(N40+N43*30)","v":1}]
[null,19,null,null,null,"",null,{"$f":"IF(LEFT($K$16,1)=\"3\",principale!AT27,\"\")","v":""},0,null,null,null,null,{"$f":"INT(N44)","v":1},"giorni"]
[null,20,null,null,null,"",null,{"$f":"IF(LEFT($K$16,1)=\"3\",principale!AT28,\"\")","v":""},0,null,"Editoriale Pagano"]
[null,21,null,null,null,"",null,{"$f":"IF(LEFT($K$16,1)=\"3\",principale!AT29,\"\")","v":""},0,null,"Via Consalvo - 99 h"]
[null,22,null,null,null,"",null,{"$f":"IF(LEFT($K$16,1)=\"3\",principale!AT30,\"\")","v":""},0,null,"80100 NAPOLI"]
[null,23,null,null,null,"",null,{"$f":"IF(LEFT($K$16,1)=\"3\",principale!AT31,\"\")","v":""},0,null,"tel 081 5930413"]
[null,24,null,null,null,"",null,{"$f":"IF(LEFT($K$16,1)=\"3\",principale!AT32,\"\")","v":""},0,null,"e.mail: agenziapagano@gmail.com"]
[null,25,null,null,null,"",null,{"$f":"IF(LEFT($K$16,1)=\"3\",principale!AT33,\"\")","v":""},0,null,"www.dsga.it"]
[null,26,null,null,null,"",null,{"$f":"IF(LEFT($K$16,1)=\"3\",principale!AT34,\"\")","v":""},0]
[null,27,null,null,null,"",null,{"$f":"IF(LEFT($K$16,1)=\"3\",principale!AT35,\"\")","v":""},0]
[null,28,null,null,null,"",null,{"$f":"IF(LEFT($K$16,1)=\"3\",principale!AT36,\"\")","v":""},0]
[null,29,null,null,null,"",null,{"$f":"IF(LEFT($K$16,1)=\"3\",principale!AT37,\"\")","v":""},0]
[null,30,null,null,null,"",null,{"$f":"IF(LEFT($K$16,1)=\"3\",principale!AT38,\"\")","v":""},0]
[null,31,null,null,null,"",null,{"$f":"IF(LEFT($K$16,1)=\"3\",principale!AT39,\"\")","v":""},0]
[null,32,null,null,null,"",null,{"$f":"IF(LEFT($K$16,1)=\"3\",principale!AT40,\"\")","v":""},0]
[null,33,null,null,null,"",null,{"$f":"IF(LEFT($K$16,1)=\"3\",principale!AT41,\"\")","v":""},0,null,"VEDI ESEMPIO"]
[null,34,null,null,null,"",null,{"$f":"IF(LEFT($K$16,1)=\"3\",principale!AT42,\"\")","v":""},0]
[null,35,null,null,null,"",null,{"$f":"IF(LEFT($K$16,1)=\"3\",principale!AT43,\"\")","v":""},0,"ISTRUZIONI"]
[null,36,null,null,null,"",null,{"$f":"IF(LEFT($K$16,1)=\"3\",principale!AT44,\"\")","v":""},0]
[null,37,null,null,null,"",null,{"$f":"IF(LEFT($K$16,1)=\"3\",principale!AT45,\"\")","v":""},0]
[null,38,null,null,null,"",null,{"$f":"IF(LEFT($K$16,1)=\"3\",principale!AT46,\"\")","v":""},0]
[null,39,null,null,null,"",null,{"$f":"IF(LEFT($K$16,1)=\"3\",principale!AT47,\"\")","v":""},0,"ISTRUZIONI:\nIl software calcola le ricostruzioni di carriera in ottemperanza alle sentenze del Tribunale.\nIl programma riconosce la progressione di carriera dell’interessato a partire dal 1° giorno di lavoro come dipendente della scuola, \nanche se assunto con contratto a tempo determinato  fermo ad anni zero.\nLa progressione di carriera e quindi gli anni di servizio, devono essere calcolati in base all’effettivo \nperiodo di lavoro svolto nell'anno scolastico e sommando i singoli periodi di servizio (opzione 1). Le opzioni 2 e 3 si utilizzano solo se nella sentenza viene espressamente richiesto tale modalità di calcolo.\n\nINSERIMENTO DATI\nUna volta inserito nelle caselle bianche il nominativo ed il codice fiscale dell’interessato, bisognerà inserire la decorrenza della \nricostruzione che di solito corrisponde al primo giorno di servizio avuto nella scuola.\nInserire la qualifica scegliendola dall’elenco a discesa presente nel programma."]
[null,40,null,null,null,"",null,{"$f":"IF(LEFT($K$16,1)=\"3\",principale!AT48,\"\")","v":""},0]
[null,{"$f":"B66+1","v":41},null,null,null,"",null,{"$f":"IF(LEFT($K$16,1)=\"3\",principale!AT49,\"\")","v":""},0]
[null,{"$f":"B67+1","v":42},null,null,null,"",null,{"$f":"IF(LEFT($K$16,1)=\"3\",principale!AT50,\"\")","v":""},0]
[null,43,null,null,null,"",null,{"$f":"IF(LEFT($K$16,1)=\"3\",principale!AT51,\"\")","v":""},0]
[null,44,null,null,null,"",null,{"$f":"IF(LEFT($K$16,1)=\"3\",principale!AT52,\"\")","v":""},0]
[null,45,null,null,null,"",null,{"$f":"IF(LEFT($K$16,1)=\"3\",principale!AT53,\"\")","v":""},0]
[null,46,null,null,null,"",null,{"$f":"IF(LEFT($K$16,1)=\"3\",principale!AT54,\"\")","v":""},0]
[null,47,null,null,null,"",null,{"$f":"IF(LEFT($K$16,1)=\"3\",principale!AT55,\"\")","v":""},0]
[null,48,null,null,null,"",null,{"$f":"IF(LEFT($K$16,1)=\"3\",principale!AT56,\"\")","v":""},0]
[null,49,null,null,null,"",null,{"$f":"IF(LEFT($K$16,1)=\"3\",principale!AT57,\"\")","v":""},0]
[null,50,null,null,null,"",null,{"$f":"IF(LEFT($K$16,1)=\"3\",principale!AT58,\"\")","v":""},0]
[null,51,null,null,null,"",null,{"$f":"IF(LEFT($K$16,1)=\"3\",principale!AT59,\"\")","v":""},0]
[null,52,null,null,null,"",null,{"$f":"IF(LEFT($K$16,1)=\"3\",principale!AT60,\"\")","v":""},0]
[null,53,null,null,null,"",null,{"$f":"IF(LEFT($K$16,1)=\"3\",principale!AT61,\"\")","v":""},0]
[null,54,null,null,null,"",null,{"$f":"IF(LEFT($K$16,1)=\"3\",principale!AT62,\"\")","v":""},0]
[null,55,null,null,null,"",null,{"$f":"IF(LEFT($K$16,1)=\"3\",principale!AT63,\"\")","v":""},0]
[null,56,null,null,null,"",null,{"$f":"IF(LEFT($K$16,1)=\"3\",principale!AT64,\"\")","v":""},0]
[null,57,null,null,null,"",null,{"$f":"IF(LEFT($K$16,1)=\"3\",principale!AT65,\"\")","v":""},0,"MODALITA DI CALCOLO DELLA PROGRESSIONE DI CARRIERA:\nSono previste tre opzioni sulla modalità di progressioni della carriera per questa tipologia di personale, che essendo con contratto a tempo determinato, è rimasto a zero anni.\nL'opzione 1, prende in considerazione i giorni effettivamente lavorati adeguando l'anzianità e la progressione in base a tali giorni. Per esempio se l'interessato ha lavorato in un arco di 5 anni, ma per ogni singolo anno ha svolto solo 30 giorni di lavoro effettivo, \ncon l'opzione 1 avremo che al termine dei 5 anni, un anzianità di soli 5 mesi.\nInvero con l'opzione 2, al termine dei 5 anni avremmo invece un anzianità di 5 anni.\nCon l'opzione 3 avremmo zero anni di anzianità riconosciuta, perchè ogni anno scolastico è inferiore ai 180 giorni.\nPer decidere per quale opzione propendere, bisogna leggere il PQM della sentenza dove di solito è riportato l'indicazione per il calcolo della progressione.\nNel 90% dei casi comunque l'opzione da adottare è la n.1"]
[null,58,null,null,null,"",null,{"$f":"IF(LEFT($K$16,1)=\"3\",principale!AT66,\"\")","v":""},0]
[null,59,null,null,null,"",null,{"$f":"IF(LEFT($K$16,1)=\"3\",principale!AT67,\"\")","v":""},0]
[null,60,null,null,null,"",null,{"$f":"IF(LEFT($K$16,1)=\"3\",principale!AT68,\"\")","v":""},0]
[null,61,null,null,null,"",null,{"$f":"IF(LEFT($K$16,1)=\"3\",principale!AT69,\"\")","v":""},0]
[null,62,null,null,null,"",null,{"$f":"IF(LEFT($K$16,1)=\"3\",principale!AT70,\"\")","v":""},0]
[null,63,null,null,null,"",null,{"$f":"IF(LEFT($K$16,1)=\"3\",principale!AT71,\"\")","v":""},0]
[null,64,null,null,null,"",null,{"$f":"IF(LEFT($K$16,1)=\"3\",principale!AT72,\"\")","v":""},0]
[null,65,null,null,null,"",null,{"$f":"IF(LEFT($K$16,1)=\"3\",principale!AT73,\"\")","v":""},{"$f":"IF(D91>0,D91-C91+1,0)","v":0}]
[null,66,null,null,null,{"$f":"IF(OR(I92>366,I92<0    ),\"ERRORE\",\"\")","v":""},null,{"$f":"IF(LEFT($K$16,1)=\"3\",principale!AT74,\"\")","v":""},0]
[null,67,null,null,null,"",null,{"$f":"IF(LEFT($K$16,1)=\"3\",principale!AT75,\"\")","v":""},0]
[null,68,null,null,null,"",null,{"$f":"IF(LEFT($K$16,1)=\"3\",principale!AT76,\"\")","v":""},0]
[null,69,null,null,null,"",null,{"$f":"IF(LEFT($K$16,1)=\"3\",principale!AT77,\"\")","v":""},0]
[null,70,null,null,null,"",null,{"$f":"IF(LEFT($K$16,1)=\"3\",principale!AT78,\"\")","v":""},0]
[null,71,null,null,null,"",null,{"$f":"IF(LEFT($K$16,1)=\"3\",principale!AT79,\"\")","v":""},0]
[null,72,null,null,null,"",null,{"$f":"IF(LEFT($K$16,1)=\"3\",principale!AT80,\"\")","v":""},0]
[null,73,null,null,null,"",null,{"$f":"IF(LEFT($K$16,1)=\"3\",principale!AT81,\"\")","v":""},0]
[null,74,null,null,null,"",null,{"$f":"IF(LEFT($K$16,1)=\"3\",principale!AT82,\"\")","v":""},0,"INSERIMENTO PERIODI DI SERVIZIO A TEMPO DETERMINATO\nIn ultimo inserire i periodi di servizio oggetto del riconoscimento.\nDi solito i periodi da inserire sono quelli ottentuti con incarico annuale / a tempo determinato.\nI periodi vanno inseriti in ordine cronologico dal più vecchio al più recente.\nSe la sentenza non prevede diversamente, i periodi di lavoro non sono soggetti a prescrizione, quindi vanno inseriti anche periodi molto vecchi - (la prescrizione richiamate dalle sentenze è riferita al calcolo delle somme spettanti che parte da una certa data ) - \nL'ultimo periodo inserito potrà essere quello ottenuto prima dell'immissione in ruolo.\n\nESEMPIO:\nDipendente cha ha iniziato a lavorare nella scuola come supplente dal 01/09/2000 - E' entrato di ruolo il 01/09/2010 - \nHa fatto ricorso nel 2011 ed ha ottenuto il riconoscimento da parte del tribunale, di tutti i servizi a tempo determinato che dovranno essere pertanto equiparati come se fossero a tempo indeterminato.\n"]
[null,75,null,null,null,"",null,{"$f":"IF(LEFT($K$16,1)=\"3\",principale!AT83,\"\")","v":""},0]
[null,76,null,null,null,"",null,{"$f":"IF(LEFT($K$16,1)=\"3\",principale!AT84,\"\")","v":""},0]
[null,77,null,null,null,"",null,{"$f":"IF(LEFT($K$16,1)=\"3\",principale!AT85,\"\")","v":""},0]
[null,78,null,null,null,"",null,{"$f":"IF(LEFT($K$16,1)=\"3\",principale!AT86,\"\")","v":""},0]
[null,79,null,null,null,"",null,{"$f":"IF(LEFT($K$16,1)=\"3\",principale!AT87,\"\")","v":""},0]
[null,80,null,null,null,"",null,{"$f":"IF(LEFT($K$16,1)=\"3\",principale!AT88,\"\")","v":""},0]
[null,81,null,null,null,"",null,{"$f":"IF(LEFT($K$16,1)=\"3\",principale!AT89,\"\")","v":""},0]
[null,82,null,null,null,"",null,{"$f":"IF(LEFT($K$16,1)=\"3\",principale!AT90,\"\")","v":""},0]
[null,83,null,null,null,"",null,{"$f":"IF(LEFT($K$16,1)=\"3\",principale!AT91,\"\")","v":""},0]
[null,84,null,null,null,"",null,{"$f":"IF(LEFT($K$16,1)=\"3\",principale!AT92,\"\")","v":""},0]
[null,85,null,null,null,"",null,{"$f":"IF(LEFT($K$16,1)=\"3\",principale!AT93,\"\")","v":""},0]
[null,86,null,null,null,"",null,{"$f":"IF(LEFT($K$16,1)=\"3\",principale!AT94,\"\")","v":""},0]
[null,87,null,null,null,"",null,{"$f":"IF(LEFT($K$16,1)=\"3\",principale!AT95,\"\")","v":""},0]
[null,88,null,null,null,"",null,{"$f":"IF(LEFT($K$16,1)=\"3\",principale!AT96,\"\")","v":""},0]
[null,89,null,null,null,"",null,{"$f":"IF(LEFT($K$16,1)=\"3\",principale!AT97,\"\")","v":""},0]
[null,90,null,null,null,"",null,{"$f":"IF(LEFT($K$16,1)=\"3\",principale!AT98,\"\")","v":""},0]
[null,91,null,null,null,"",null,{"$f":"IF(LEFT($K$16,1)=\"3\",principale!AT99,\"\")","v":""},0]
[null,92,null,null,null,"",null,{"$f":"IF(LEFT($K$16,1)=\"3\",principale!AT100,\"\")","v":""},0]
[null,93,null,null,null,"",null,{"$f":"IF(LEFT($K$16,1)=\"3\",principale!AT101,\"\")","v":""},0]
[null,94,null,null,null,"",null,{"$f":"IF(LEFT($K$16,1)=\"3\",principale!AT102,\"\")","v":""},0,"PROCEDIMENTO:\nNell'esempio di cui sopra, si inserisce come decorrenza della ricostruzione la data: 01/09/2000.\nNella tabella riservata ai servizi, si inseriscono i servizi effettivamente svolti a far data dal 01/09/2000 fino alla data di immissione in ruolo OPPURE  fino alla data del ricorso se tale ricorso è stato presentato PRIMA dell'immissione in ruolo.\n\nIn effetti all'atto del ricorso, l'interessato porterà in giudizio i servizi effettuati fino a tale data.\nE quindi la successiva sentenza farà riferimento a quei servizi e ovviamente non potrà prendere in considerazione servizi svolti dopo.\nIn pratica se l'interessato presenta il suo ricorso nel 2010, porterà in giudizio i servizi fino al 2010. \nAnche se dopo il 2010 l'interessato ha fatto innumerevoli supplenze, queste NON potranno essere riconosciute nella sentenza che ci sarà dopo qualche anno. \nE' comunque sempre indispensabile leggere le sentenze in quanto ci possono essere deroghe a quanto detto sopra, magari perchè il giudice ha accertato ulteriori servizi durante l'iter processuale.\n\nPRESCRIZIONE\nDi solito le differenze stipendiali spettanti all'interessato sono soggette a prescrizione quinquennale. \nCioè sono riconosciute le somme spettanti a partire dal quinto anno precedente alla notifica del ricorso.\nIn tal caso (quindi è necessario che la sentenza riporti espressamente che le somme sono soggette a prescrizione) \nsi dovrà riportare nelle premesse del decreto la data di decorrenza degli arretrati spettanti.\nLo sviluppo del calcolo della ricostruzione e degli importi presenti, invece non dovrà essere modificato, in quanto sarà la \nragioneria ad effettuare gli opportuni calcoli."]
[null,95,null,null,null,"",null,{"$f":"IF(LEFT($K$16,1)=\"3\",principale!AT103,\"\")","v":""},0]
[null,96,null,null,null,"",null,{"$f":"IF(LEFT($K$16,1)=\"3\",principale!AT104,\"\")","v":""},0]
[null,97,null,null,null,"",null,{"$f":"IF(LEFT($K$16,1)=\"3\",principale!AT105,\"\")","v":""},0]
[null,98,null,null,null,"",null,{"$f":"IF(LEFT($K$16,1)=\"3\",principale!AT106,\"\")","v":""},0]
[null,99,null,null,null,"",null,{"$f":"IF(LEFT($K$16,1)=\"3\",principale!AT107,\"\")","v":""},0]
[null,100,null,null,null,"",null,{"$f":"IF(LEFT($K$16,1)=\"3\",principale!AT108,\"\")","v":""},0]
[null,{"$f":"B126+1","v":101},null,null,null,"",null,{"$f":"IF(LEFT($K$16,1)=\"3\",principale!AT109,\"\")","v":""},0]
[null,102,null,null,null,"",null,{"$f":"IF(LEFT($K$16,1)=\"3\",principale!AT110,\"\")","v":""},0]
[null,103,null,null,null,"",null,{"$f":"IF(LEFT($K$16,1)=\"3\",principale!AT111,\"\")","v":""},0]
[null,104,null,null,null,"",null,{"$f":"IF(LEFT($K$16,1)=\"3\",principale!AT112,\"\")","v":""},0]
[null,105,null,null,null,"",null,{"$f":"IF(LEFT($K$16,1)=\"3\",principale!AT113,\"\")","v":""},0]
[null,106,null,null,null,"",null,{"$f":"IF(LEFT($K$16,1)=\"3\",principale!AT114,\"\")","v":""},0]
[null,107,null,null,null,"",null,{"$f":"IF(LEFT($K$16,1)=\"3\",principale!AT115,\"\")","v":""},0]
[null,108,null,null,null,"",null,{"$f":"IF(LEFT($K$16,1)=\"3\",principale!AT116,\"\")","v":""},0]
[null,109,null,null,null,"",null,{"$f":"IF(LEFT($K$16,1)=\"3\",principale!AT117,\"\")","v":""},0]
[null,110,null,null,null,"",null,{"$f":"IF(LEFT($K$16,1)=\"3\",principale!AT118,\"\")","v":""},0]
[null,111,null,null,null,"",null,{"$f":"IF(LEFT($K$16,1)=\"3\",principale!AT119,\"\")","v":""},0]
[null,112,null,null,null,"",null,{"$f":"IF(LEFT($K$16,1)=\"3\",principale!AT120,\"\")","v":""},0]
[null,113,null,null,null,"",null,{"$f":"IF(LEFT($K$16,1)=\"3\",principale!AT121,\"\")","v":""},0]
[null,114,null,null,null,"",null,{"$f":"IF(LEFT($K$16,1)=\"3\",principale!AT122,\"\")","v":""},0]
[null,115,null,null,null,"",null,{"$f":"IF(LEFT($K$16,1)=\"3\",principale!AT123,\"\")","v":""},0]
[null,116,null,null,null,"",null,{"$f":"IF(LEFT($K$16,1)=\"3\",principale!AT124,\"\")","v":""},0]
[null,117,null,null,null,"",null,{"$f":"IF(LEFT($K$16,1)=\"3\",principale!AT125,\"\")","v":""},0]
[null,118,null,null,null,"",null,{"$f":"IF(LEFT($K$16,1)=\"3\",principale!AT126,\"\")","v":""},0]
[null,119,null,null,null,"",null,{"$f":"IF(LEFT($K$16,1)=\"3\",principale!AT127,\"\")","v":""},0,"ELABORA DECRETO\nCliccando su Elabora Decreto, il programma visualizzerà il decreto da inviare alla ragioneria.\nIl decreto potrà essere stampato direttamente utilizzando il comando stampa di excel, oppure potrà essere selezionato col mouse e \nfacendo copia e incolla, potrà essere incollato su foglio word per una migliore gestione della stampa.\nLa prima parte del decreto, quella riguardante i richiami alla normativa, dovrà essere eventualmente completata con i dati della \npersona, precisazioni sulla sentenza, richiamo alla prescrizione quinquennale con  precisazione della data di decorrenza, etc.\nLa seconda parte del decreto, quella riguardante i calcoli, dovrebbe essere lasciata così come è -  o modificata secondo \nspecifiche esigenze  (al limite si può modificare l’aspetto e la formattazione del testo) ."]
[null,120,null,null,null,"",null,{"$f":"IF(LEFT($K$16,1)=\"3\",principale!AT128,\"\")","v":""},0]
[null,121,null,null,null,"",null,{"$f":"IF(LEFT($K$16,1)=\"3\",principale!AT129,\"\")","v":""},0]
[null,122,null,null,null,"",null,{"$f":"IF(LEFT($K$16,1)=\"3\",principale!AT130,\"\")","v":""},0]
[null,123,null,null,null,"",null,{"$f":"IF(LEFT($K$16,1)=\"3\",principale!AT131,\"\")","v":""},0]
[null,124,null,null,null,"",null,{"$f":"IF(LEFT($K$16,1)=\"3\",principale!AT132,\"\")","v":""},0]
[null,125,null,null,null,"",null,{"$f":"IF(LEFT($K$16,1)=\"3\",principale!AT133,\"\")","v":""},0]
[null,126,null,null,null,"",null,{"$f":"IF(LEFT($K$16,1)=\"3\",principale!AT134,\"\")","v":""},0]
[null,127,null,null,null,"",null,{"$f":"IF(LEFT($K$16,1)=\"3\",principale!AT135,\"\")","v":""},0]
[null,128,null,null,null,"",null,{"$f":"IF(LEFT($K$16,1)=\"3\",principale!AT136,\"\")","v":""},0]
[null,129,null,null,null,"",null,{"$f":"IF(LEFT($K$16,1)=\"3\",principale!AT137,\"\")","v":""},{"$f":"IF(D155>0,D155-C155+1,0)","v":0}]
[null,130,null,null,null,{"$f":"IF(OR(I156>366,I156<0    ),\"ERRORE\",\"\")","v":""},null,{"$f":"IF(LEFT($K$16,1)=\"3\",principale!AT138,\"\")","v":""},0]
[null,131,null,null,null,"",null,{"$f":"IF(LEFT($K$16,1)=\"3\",principale!AT139,\"\")","v":""},0]
[null,132,null,null,null,"",null,{"$f":"IF(LEFT($K$16,1)=\"3\",principale!AT140,\"\")","v":""},0]
[null,133,null,null,null,"",null,{"$f":"IF(LEFT($K$16,1)=\"3\",principale!AT141,\"\")","v":""},0]
[null,134,null,null,null,"",null,{"$f":"IF(LEFT($K$16,1)=\"3\",principale!AT142,\"\")","v":""},0]
[null,135,null,null,null,"",null,{"$f":"IF(LEFT($K$16,1)=\"3\",principale!AT143,\"\")","v":""},0]
[null,136,null,null,null,"",null,{"$f":"IF(LEFT($K$16,1)=\"3\",principale!AT144,\"\")","v":""},0]
[null,137,null,null,null,"",null,{"$f":"IF(LEFT($K$16,1)=\"3\",principale!AT145,\"\")","v":""},0]
[null,138,null,null,null,"",null,{"$f":"IF(LEFT($K$16,1)=\"3\",principale!AT146,\"\")","v":""},0]
[null,139,null,null,null,"",null,{"$f":"IF(LEFT($K$16,1)=\"3\",principale!AT147,\"\")","v":""},0]
[null,140,null,null,null,"",null,{"$f":"IF(LEFT($K$16,1)=\"3\",principale!AT148,\"\")","v":""},0]
[null,141,null,null,null,"",null,{"$f":"IF(LEFT($K$16,1)=\"3\",principale!AT149,\"\")","v":""},0]
[null,142,null,null,null,"",null,{"$f":"IF(LEFT($K$16,1)=\"3\",principale!AT150,\"\")","v":""},0]
[null,143,null,null,null,"",null,{"$f":"IF(LEFT($K$16,1)=\"3\",principale!AT151,\"\")","v":""},0]
[null,144,null,null,null,"",null,{"$f":"IF(LEFT($K$16,1)=\"3\",principale!AT152,\"\")","v":""},0]
[null,145,null,null,null,"",null,{"$f":"IF(LEFT($K$16,1)=\"3\",principale!AT153,\"\")","v":""},0]
[null,146,null,null,null,"",null,{"$f":"IF(LEFT($K$16,1)=\"3\",principale!AT154,\"\")","v":""},0]
[null,147,null,null,null,"",null,{"$f":"IF(LEFT($K$16,1)=\"3\",principale!AT155,\"\")","v":""},0]
[null,148,null,null,null,"",null,{"$f":"IF(LEFT($K$16,1)=\"3\",principale!AT156,\"\")","v":""},0]
[null,149,null,null,null,"",null,{"$f":"IF(LEFT($K$16,1)=\"3\",principale!AT157,\"\")","v":""},0]
[null,150,null,null,null,"",null,{"$f":"IF(LEFT($K$16,1)=\"3\",principale!AT158,\"\")","v":""},0]
[null,151,null,null,null,"",null,{"$f":"IF(LEFT($K$16,1)=\"3\",principale!AT159,\"\")","v":""},0]
[null,152,null,null,null,"",null,{"$f":"IF(LEFT($K$16,1)=\"3\",principale!AT160,\"\")","v":""},0]
[null,153,null,null,null,"",null,{"$f":"IF(LEFT($K$16,1)=\"3\",principale!AT161,\"\")","v":""},0]
[null,154,null,null,null,"",null,{"$f":"IF(LEFT($K$16,1)=\"3\",principale!AT162,\"\")","v":""},0]
[null,155,null,null,null,"",null,{"$f":"IF(LEFT($K$16,1)=\"3\",principale!AT163,\"\")","v":""},0]
[null,156,null,null,null,"",null,{"$f":"IF(LEFT($K$16,1)=\"3\",principale!AT164,\"\")","v":""},0]
[null,157,null,null,null,"",null,{"$f":"IF(LEFT($K$16,1)=\"3\",principale!AT165,\"\")","v":""},0]
[null,158,null,null,null,"",null,{"$f":"IF(LEFT($K$16,1)=\"3\",principale!AT166,\"\")","v":""},0]
[null,159,null,null,null,"",null,{"$f":"IF(LEFT($K$16,1)=\"3\",principale!AT167,\"\")","v":""},0]
[null,160,null,null,null,"",null,{"$f":"IF(LEFT($K$16,1)=\"3\",principale!AT168,\"\")","v":""},0]
[null,161,null,null,null,"",null,{"$f":"IF(LEFT($K$16,1)=\"3\",principale!AT169,\"\")","v":""},0]
[null,162,null,null,null,"",null,{"$f":"IF(LEFT($K$16,1)=\"3\",principale!AT170,\"\")","v":""},0]
[null,163,null,null,null,"",null,{"$f":"IF(LEFT($K$16,1)=\"3\",principale!AT171,\"\")","v":""},0]
[null,164,null,null,null,"",null,{"$f":"IF(LEFT($K$16,1)=\"3\",principale!AT172,\"\")","v":""},0]
[null,{"$f":"B190+1","v":165},null,null,null,"",null,{"$f":"IF(LEFT($K$16,1)=\"3\",principale!AT173,\"\")","v":""},0]
[null,166,null,null,null,"",null,{"$f":"IF(LEFT($K$16,1)=\"3\",principale!AT174,\"\")","v":""},0]
[null,167,null,null,null,"",null,{"$f":"IF(LEFT($K$16,1)=\"3\",principale!AT175,\"\")","v":""},0]
[null,168,null,null,null,"",null,{"$f":"IF(LEFT($K$16,1)=\"3\",principale!AT176,\"\")","v":""},0]
[null,169,null,null,null,"",null,{"$f":"IF(LEFT($K$16,1)=\"3\",principale!AT177,\"\")","v":""},0]
[null,170,null,null,null,"",null,{"$f":"IF(LEFT($K$16,1)=\"3\",principale!AT178,\"\")","v":""},0]
[null,171,null,null,null,"",null,{"$f":"IF(LEFT($K$16,1)=\"3\",principale!AT179,\"\")","v":""},0]
[null,172,null,null,null,"",null,{"$f":"IF(LEFT($K$16,1)=\"3\",principale!AT180,\"\")","v":""},0]
[null,173,null,null,null,"",null,{"$f":"IF(LEFT($K$16,1)=\"3\",principale!AT181,\"\")","v":""},0]
[null,174,null,null,null,"",null,{"$f":"IF(LEFT($K$16,1)=\"3\",principale!AT182,\"\")","v":""},0]
[null,175,null,null,null,"",null,{"$f":"IF(LEFT($K$16,1)=\"3\",principale!AT183,\"\")","v":""},0]
[null,176,null,null,null,"",null,{"$f":"IF(LEFT($K$16,1)=\"3\",principale!AT184,\"\")","v":""},0]
[null,177,null,null,null,"",null,{"$f":"IF(LEFT($K$16,1)=\"3\",principale!AT185,\"\")","v":""},0]
[null,178,null,null,null,"",null,{"$f":"IF(LEFT($K$16,1)=\"3\",principale!AT186,\"\")","v":""},0]
[null,179,null,null,null,"",null,{"$f":"IF(LEFT($K$16,1)=\"3\",principale!AT187,\"\")","v":""},0]
[null,180,null,null,null,"",null,{"$f":"IF(LEFT($K$16,1)=\"3\",principale!AT188,\"\")","v":""},0]
[null,181,null,null,null,"",null,null,0]
[null,182,null,null,null,"",null,null,0]
[null,183,null,null,null,"",null,null,0]
[null,184,null,null,null,"",null,null,0]
[null,185,null,null,null,"",null,null,0]
[null,186,null,null,null,"",null,null,0]
[null,187,null,null,null,"",null,null,0]
[null,188,null,null,null,"",null,null,0]
[null,189,null,null,null,"",null,null,0]
[null,190,null,null,null,"",null,null,0]
[null,191,null,null,null,"",null,null,0]
[null,192,null,null,null,"",null,null,0]
[null,193,null,null,null,"",null,null,{"$f":"IF(D219>0,D219-C219+1,0)","v":0}]
[null,194,null,null,null,{"$f":"IF(OR(I220>366,I220<0    ),\"ERRORE\",\"\")","v":""},null,null,0]
[null,195,null,null,null,"",null,null,0]
[null,196,null,null,null,"",null,null,0]
[null,197,null,null,null,"",null,null,0]
[null,198,null,null,null,"",null,null,0]
[null,199,null,null,null,"",null,null,0]
[null,200,null,null,null,"",null,null,0]
[null,201,null,null,null,"",null,null,0]
[null,202,null,null,null,"",null,null,0]
[null,203,null,null,null,"",null,null,0]
[null,204,null,null,null,"",null,null,0]
[null,205,null,null,null,"",null,null,0]
[null,206,null,null,null,"",null,null,0]
[null,207,null,null,null,"",null,null,0]
[null,208,null,null,null,"",null,null,0]
[null,209,null,null,null,"",null,null,0]
[null,210,null,null,null,"",null,null,0]
[null,211,null,null,null,"",null,null,0]

{"sheet":"calcoladifferenzespettanti","index":14,"n_rows":395,"n_cols":21,"rows_kept":395,"cut":false,"hidden":false,"merged":[[394,2,394,12],[381,3,383,12],[7,16,10,16],[6,14,6,16],[9,1,9,4],[378,2,378,10],[9,8,9,13],[206,12,206,13],[374,12,374,13],[201,11,201,12],[196,3,197,13]]}
[null,null,null,null,null,"TABELLA PROGRESSIONE",null,null,null,null,0,{"$f":"'front utente'!K38","v":"00:00:00"}]
[null,null,null,null,null,null,null,null,null,null,3,{"$f":"'front utente'!K39","v":{"$error":"#NUM!"}}]
[null,null,null,null,null,null,null,null,null,null,9,{"$f":"'front utente'!K40","v":{"$error":"#NUM!"}}]
[null,null,null,null,null,null,null,null,null,null,15,{"$f":"'front utente'!K41","v":{"$error":"#NUM!"}}]
[null,null,null,null,null,null,null,null,null,null,21,{"$f":"'front utente'!K42","v":{"$error":"#NUM!"}}]
[null,null,null,null,null,null,null,null,null,null,28,{"$f":"'front utente'!K43","v":{"$error":"#NUM!"}}]
[null,null,null,null,null,null,null,null,null,null,35,null,null,null,"TIENE CONTO SE ALL'INTERNO DEL PERIODO, SIA PRESENTE UN PASSAGGIO AD UNA FASCIA SUCCESSIVA E NE CALCOLA LA DIFFERENZA RETRIBUTIVA"]
[null,null,null,null,null,null,null,null,null,null,null,null,null,null,null,null,"differenza da aggiungere in caso che il periodo (dal al) includa un apssaggio ad una fascia successiva"]
[]
[null,"TABELLA STIPENDIALE RIFERITA AL CCNL",null,null,null,null,null,null,"PERIODI EFFETTIVAMENTE LAVORATI"]
[null,{"$f":"differenzespettanti!E13","v":"decorrenza data"},{"$f":"differenzespettanti!F13","v":"inquadramento contrattuale"},{"$f":"differenzespettanti!G13","v":"Stipendio annuo lordo spettante a seguito ricostruzione"},{"$f":"differenzespettanti!I13","v":"Stipendio annuo lordo percepito nella fascia di zero anni"},"differenza tra ricostruzione e supplenza",null,null,null,"dal","al","n.gg.","orario","STIPENDIO TABELLARE ANNUO LORDO","DIFFERENZA stipendio tabellare annuo riferito all ultimo giorno del periodo","decorrenza della stipendio tabellare lordo riferito all'ultimo giorno del periodo",null,null,"STIPENDIO TABELLARE ANNUO LORDO DA SUPPLENTE","RANGE\nDOVE IL RANGE E DIVERSO BISOGNA DIVIDERE I PERIODI"]
[null,{"$f":"'front utente'!G13","v":"00:00:00"},{"$f":"differenzespettanti!F14","v":""},{"$f":"differenzespettanti!G14","v":""},{"$f":"differenzespettanti!I14","v":""},{"$f":"0","v":0},null,null,1,{"$f":"'front utente'!C27","v":"00:00:00"},{"$f":"'front utente'!D27","v":"00:00:00"},{"$f":"'front utente'!I27","v":0},{"$f":"'front utente'!E27/'front utente'!G27","v":{"$error":"#DIV/0!"}},{"$f":"IF(L12=0,0,VLOOKUP(J12,$B$12:$E$42,3,1)+Q12*R12*U12)","v":0},{"$f":"IF(L12>0,VLOOKUP(K12,$B$12:$F$42,5,1),0)","v":0},{"$f":"IF(O12>0,VLOOKUP(K12,$L$1:$L$7,1,1),0)","v":"00:00:00"},{"$f":"IF(P12>0,(O12/365)*(K12-P12),0)","v":0},{"$f":"IF(P12>J12,1,0)","v":0},{"$f":"IF(L12>0,VLOOKUP(J12,$B$12:$E$42,4,1),0)","v":0},{"$f":"IF(L12>0,VLOOKUP(K12,$B$12:$E$42,3,1),0)","v":0},{"$f":"365/L12","v":{"$error":"#DIV/0!"}}]
[null,{"$f":"differenzespettanti!E15","v":""},{"$f":"differenzespettanti!F15","v":""},{"$f":"IF(differenzespettanti!G15>D12,differenzespettanti!G15,D12)","v":""},{"$f":"differenzespettanti!I15","v":""},{"$f":"IF(D13<>\"\",D13-D12,\"\")","v":""},null,null,{"$f":"I12+1","v":2},{"$f":"'front utente'!C28","v":"00:00:00"},{"$f":"'front utente'!D28","v":"00:00:00"},{"$f":"'front utente'!I28","v":0},{"$f":"'front utente'!E28/'front utente'!G28","v":{"$error":"#DIV/0!"}},{"$f":"IF(L13=0,0,VLOOKUP(J13,$B$12:$E$42,3,1)+Q13*R13*U13)","v":0},{"$f":"IF(L13>0,VLOOKUP(K13,$B$12:$F$42,5,1),0)","v":0},{"$f":"IF(O13>0,VLOOKUP(K13,$L$1:$L$7,1,1),0)","v":"00:00:00"},{"$f":"IF(P13>0,(O13/365)*(K13-P13),0)","v":0},{"$f":"IF(P13>J13,1,0)","v":0},0,0,{"$f":"365/L13","v":{"$error":"#DIV/0!"}}]
[null,{"$f":"differenzespettanti!E16","v":""},{"$f":"differenzespettanti!F16","v":""},{"$f":"IF(differenzespettanti!G16>D13,differenzespettanti!G16,D13)","v":""},{"$f":"differenzespettanti!I16","v":""},{"$f":"IF(D14<>\"\",D14-D13,\"\")","v":""},null,null,3,{"$f":"'front utente'!C29","v":"00:00:00"},{"$f":"'front utente'!D29","v":"00:00:00"},{"$f":"'front utente'!I29","v":0},{"$f":"'front utente'!E29/'front utente'!G29","v":{"$error":"#DIV/0!"}},0,0,{"$f":"IF(O14>0,VLOOKUP(K14,$L$1:$L$7,1,1),0)","v":"00:00:00"},{"$f":"IF(P14>0,(O14/365)*(K14-P14),0)","v":0},{"$f":"IF(P14>J14,1,0)","v":0},0,0,{"$error":"#DIV/0!"}]
[null,{"$f":"differenzespettanti!E17","v":""},{"$f":"differenzespettanti!F17","v":""},{"$f":"IF(differenzespettanti!G17>D14,differenzespettanti!G17,D14)","v":""},{"$f":"differenzespettanti!I17","v":""},"",null,null,4,{"$f":"'front utente'!C30","v":"00:00:00"},{"$f":"'front utente'!D30","v":"00:00:00"},{"$f":"'front utente'!I30","v":0},{"$f":"'front utente'!E30/'front utente'!G30","v":{"$error":"#DIV/0!"}},0,0,{"$f":"IF(O15>0,VLOOKUP(K15,$L$1:$L$7,1,1),0)","v":"00:00:00"},{"$f":"IF(P15>0,(O15/365)*(K15-P15),0)","v":0},{"$f":"IF(P15>J15,1,0)","v":0},0,0,{"$error":"#DIV/0!"}]
[null,{"$f":"differenzespettanti!E18","v":""},{"$f":"differenzespettanti!F18","v":""},{"$f":"IF(differenzespettanti!G18>D15,differenzespettanti!G18,D15)","v":""},{"$f":"differenzespettanti!I18","v":""},"",null,null,5,{"$f":"'front utente'!C31","v":"00:00:00"},{"$f":"'front utente'!D31","v":"00:00:00"},{"$f":"'front utente'!I31","v":0},{"$f":"'front utente'!E31/'front utente'!G31","v":{"$error":"#DIV/0!"}},0,0,{"$f":"IF(O16>0,VLOOKUP(K16,$L$1:$L$7,1,1),0)","v":"00:00:00"},{"$f":"IF(P16>0,(O16/365)*(K16-P16),0)","v":0},{"$f":"IF(P16>J16,1,0)","v":0},0,0,{"$error":"#DIV/0!"}]
[null,{"$f":"differenzespettanti!E19","v":""},{"$f":"differenzespettanti!F19","v":""},{"$f":"IF(differenzespettanti!G19>D16,differenzespettanti!G19,D16)","v":""},{"$f":"differenzespettanti!I19","v":""},"",null,null,6,{"$f":"'front utente'!C32","v":"00:00:00"},{"$f":"'front utente'!D32","v":"00:00:00"},{"$f":"'front utente'!I32","v":0},{"$f":"'front utente'!E32/'front utente'!G32","v":{"$error":"#DIV/0!"}},0,0,{"$f":"IF(O17>0,VLOOKUP(K17,$L$1:$L$7,1,1),0)","v":"00:00:00"},{"$f":"IF(P17>0,(O17/365)*(K17-P17),0)","v":0},0,0,0,{"$error":"#DIV/0!"}]
[null,{"$f":"differenzespettanti!E20","v":""},{"$f":"differenzespettanti!F20","v":""},{"$f":"IF(differenzespettanti!G20>D17,differenzespettanti!G20,D17)","v":""},{"$f":"differenzespettanti!I20","v":""},"",null,null,7,{"$f":"'front utente'!C33","v":"00:00:00"},{"$f":"'front utente'!D33","v":"00:00:00"},{"$f":"'front utente'!I33","v":0},{"$f":"'front utente'!E33/'front utente'!G33","v":{"$error":"#DIV/0!"}},0,0,"00:00:00",0,0,0,0,{"$error":"#DIV/0!"}]
[null,{"$f":"differenzespettanti!E21","v":""},{"$f":"differenzespettanti!F21","v":""},{"$f":"IF(differenzespettanti!G21>D18,differenzespettanti!G21,D18)","v":""},{"$f":"differenzespettanti!I21","v":""},"",null,null,8,{"$f":"'front utente'!C34","v":"00:00:00"},{"$f":"'front utente'!D34","v":"00:00:00"},{"$f":"'front utente'!I34","v":0},{"$f":"'front utente'!E34/'front utente'!G34","v":{"$error":"#DIV/0!"}},0,0,"00:00:00",0,0,0,0,{"$error":"#DIV/0!"}]
[null,{"$f":"differenzespettanti!E22","v":""},{"$f":"differenzespettanti!F22","v":""},{"$f":"IF(differenzespettanti!G22>D19,differenzespettanti!G22,D19)","v":""},{"$f":"differenzespettanti!I22","v":""},"",null,null,9,{"$f":"'front utente'!C35","v":"00:00:00"},{"$f":"'front utente'!D35","v":"00:00:00"},{"$f":"'front utente'!I35","v":0},{"$f":"'front utente'!E35/'front utente'!G35","v":{"$error":"#DIV/0!"}},0,0,"00:00:00",0,0,0,0,{"$error":"#DIV/0!"}]
[null,{"$f":"differenzespettanti!E23","v":""},{"$f":"differenzespettanti!F23","v":""},{"$f":"IF(differenzespettanti!G23>D20,differenzespettanti!G23,D20)","v":""},{"$f":"differenzespettanti!I23","v":""},"",null,null,10,{"$f":"'front utente'!C36","v":"00:00:00"},{"$f":"'front utente'!D36","v":"00:00:00"},{"$f":"'front utente'!I36","v":0},{"$f":"'front utente'!E36/'front utente'!G36","v":{"$error":"#DIV/0!"}},0,0,"00:00:00",0,0,0,0,{"$error":"#DIV/0!"}]
[null,{"$f":"differenzespettanti!E24","v":""},{"$f":"differenzespettanti!F24","v":""},{"$f":"IF(differenzespettanti!G24>D21,differenzespettanti!G24,D21)","v":""},{"$f":"differenzespettanti!I24","v":""},"",null,null,11,{"$f":"'front utente'!C37","v":"00:00:00"},{"$f":"'front utente'!D37","v":"00:00:00"},{"$f":"'front utente'!I37","v":0},{"$f":"'front utente'!E37/'front utente'!G37","v":{"$error":"#DIV/0!"}},0,0,"00:00:00",0,0,0,0,{"$error":"#DIV/0!"}]
[null,{"$f":"differenzespettanti!E25","v":""},{"$f":"differenzespettanti!F25","v":""},{"$f":"IF(differenzespettanti!G25>D22,differenzespettanti!G25,D22)","v":""},{"$f":"differenzespettanti!I25","v":""},"",null,null,12,{"$f":"'front utente'!C38","v":"00:00:00"},{"$f":"'front utente'!D38","v":"00:00:00"},{"$f":"'front utente'!I38","v":0},{"$f":"'front utente'!E38/'front utente'!G38","v":{"$error":"#DIV/0!"}},0,0,"00:00:00",0,0,0,0,{"$error":"#DIV/0!"}]
[null,{"$f":"differenzespettanti!E26","v":""},{"$f":"differenzespettanti!F26","v":""},{"$f":"IF(differenzespettanti!G26>D23,differenzespettanti!G26,D23)","v":""},{"$f":"differenzespettanti!I26","v":""},"",null,null,13,{"$f":"'front utente'!C39","v":"00:00:00"},{"$f":"'front utente'!D39","v":"00:00:00"},{"$f":"'front utente'!I39","v":0},{"$f":"'front utente'!E39/'front utente'!G39","v":{"$error":"#DIV/0!"}},0,0,"00:00:00",0,0,0,0,{"$error":"#DIV/0!"}]
[null,{"$f":"differenzespettanti!E27","v":""},{"$f":"differenzespettanti!F27","v":""},{"$f":"IF(differenzespettanti!G27>D24,differenzespettanti!G27,D24)","v":""},{"$f":"differenzespettanti!I27","v":""},"",null,null,14,{"$f":"'front utente'!C40","v":"00:00:00"},{"$f":"'front utente'!D40","v":"00:00:00"},{"$f":"'front utente'!I40","v":0},{"$f":"'front utente'!E40/'front utente'!G40","v":{"$error":"#DIV/0!"}},0,0,"00:00:00",0,0,0,0,{"$error":"#DIV/0!"}]
[null,{"$f":"differenzespettanti!E28","v":""},{"$f":"differenzespettanti!F28","v":""},{"$f":"IF(differenzespettanti!G28>D25,differenzespettanti!G28,D25)","v":""},{"$f":"differenzespettanti!I28","v":""},"",null,null,15,{"$f":"'front utente'!C41","v":"00:00:00"},{"$f":"'front utente'!D41","v":"00:00:00"},{"$f":"'front utente'!I41","v":0},{"$f":"'front utente'!E41/'front utente'!G41","v":{"$error":"#DIV/0!"}},0,0,"00:00:00",0,0,0,0,{"$error":"#DIV/0!"}]
[null,{"$f":"differenzespettanti!E29","v":""},{"$f":"differenzespettanti!F29","v":""},{"$f":"IF(differenzespettanti!G29>D26,differenzespettanti!G29,D26)","v":""},{"$f":"differenzespettanti!I29","v":""},"",null,null,16,{"$f":"'front utente'!C42","v":"00:00:00"},{"$f":"'front utente'!D42","v":"00:00:00"},{"$f":"'front utente'!I42","v":0},{"$f":"'front utente'!E42/'front utente'!G42","v":{"$error":"#DIV/0!"}},0,0,"00:00:00",0,0,0,0,{"$error":"#DIV/0!"}]
[null,{"$f":"differenzespettanti!E30","v":""},{"$f":"differenzespettanti!F30","v":""},{"$f":"IF(differenzespettanti!G30>D27,differenzespettanti!G30,D27)","v":""},{"$f":"differenzespettanti!I30","v":""},"",null,null,17,{"$f":"'front utente'!C43","v":"00:00:00"},{"$f":"'front utente'!D43","v":"00:00:00"},{"$f":"'front utente'!I43","v":0},{"$f":"'front utente'!E43/'front utente'!G43","v":{"$error":"#DIV/0!"}},0,0,"00:00:00",0,0,0,0,{"$error":"#DIV/0!"}]
[null,{"$f":"differenzespettanti!E31","v":""},{"$f":"differenzespettanti!F31","v":""},{"$f":"IF(differenzespettanti!G31>D28,differenzespettanti!G31,D28)","v":""},{"$f":"differenzespettanti!I31","v":""},"",null,null,18,{"$f":"'front utente'!C44","v":"00:00:00"},{"$f":"'front utente'!D44","v":"00:00:00"},{"$f":"'front utente'!I44","v":0},{"$f":"'front utente'!E44/'front utente'!G44","v":{"$error":"#DIV/0!"}},{"$f":"IF(L29=0,0,VLOOKUP(J29,$B$12:$E$42,3,1)+Q29*R29*U29)","v":0},0,"00:00:00",0,0,0,0,{"$error":"#DIV/0!"}]
[null,{"$f":"differenzespettanti!E32","v":""},{"$f":"differenzespettanti!F32","v":""},{"$f":"IF(differenzespettanti!G32>D29,differenzespettanti!G32,D29)","v":""},{"$f":"differenzespettanti!I32","v":""},"",null,null,19,{"$f":"'front utente'!C45","v":"00:00:00"},{"$f":"'front utente'!D45","v":"00:00:00"},{"$f":"'front utente'!I45","v":0},{"$f":"'front utente'!E45/'front utente'!G45","v":{"$error":"#DIV/0!"}},{"$f":"IF(L30=0,0,VLOOKUP(J30,$B$12:$E$42,3,1)+Q30*R30*U30)","v":0},0,"00:00:00",0,0,0,0,{"$error":"#DIV/0!"}]
[null,{"$f":"differenzespettanti!E33","v":""},{"$f":"differenzespettanti!F33","v":""},{"$f":"IF(differenzespettanti!G33>D30,differenzespettanti!G33,D30)","v":""},{"$f":"differenzespettanti!I33","v":""},{"$f":"IF(D31<>\"\",D31-E31,\"\")","v":""},null,null,20,{"$f":"'front utente'!C46","v":"00:00:00"},{"$f":"'front utente'!D46","v":"00:00:00"},{"$f":"'front utente'!I46","v":0},{"$f":"'front utente'!E46/'front utente'!G46","v":{"$error":"#DIV/0!"}},0,0,"00:00:00",0,0,0,0,{"$error":"#DIV/0!"}]
[null,{"$f":"differenzespettanti!E34","v":""},{"$f":"differenzespettanti!F34","v":""},{"$f":"IF(differenzespettanti!G34>D31,differenzespettanti!G34,D31)","v":""},{"$f":"differenzespettanti!I34","v":""},"",null,null,21,{"$f":"'front utente'!C47","v":"00:00:00"},{"$f":"'front utente'!D47","v":"00:00:00"},{"$f":"'front utente'!I47","v":0},{"$f":"'front utente'!E47/'front utente'!G47","v":{"$error":"#DIV/0!"}},0,0,"00:00:00",0,0,0,0,{"$error":"#DIV/0!"}]
[null,{"$f":"differenzespettanti!E35","v":""},{"$f":"differenzespettanti!F35","v":""},{"$f":"IF(differenzespettanti!G35>D32,differenzespettanti!G35,D32)","v":""},{"$f":"differenzespettanti!I35","v":""},"",null,null,22,{"$f":"'front utente'!C48","v":"00:00:00"},{"$f":"'front utente'!D48","v":"00:00:00"},{"$f":"'front utente'!I48","v":0},{"$f":"'front utente'!E48/'front utente'!G48","v":{"$error":"#DIV/0!"}},0,0,"00:00:00",0,0,0,0,{"$error":"#DIV/0!"}]
[null,{"$f":"differenzespettanti!E36","v":""},{"$f":"differenzespettanti!F36","v":""},{"$f":"IF(differenzespettanti!G36>D33,differenzespettanti!G36,D33)","v":""},{"$f":"differenzespettanti!I36","v":""},"",null,null,23,{"$f":"'front utente'!C49","v":"00:00:00"},{"$f":"'front utente'!D49","v":"00:00:00"},{"$f":"'front utente'!I49","v":0},{"$f":"'front utente'!E49/'front utente'!G49","v":{"$error":"#DIV/0!"}},0,0,"00:00:00",0,0,0,0,{"$error":"#DIV/0!"}]
[null,{"$f":"differenzespettanti!E37","v":""},{"$f":"differenzespettanti!F37","v":""},{"$f":"IF(differenzespettanti!G37>D34,differenzespettanti!G37,D34)","v":""},{"$f":"differenzespettanti!I37","v":""},"",null,null,24,{"$f":"'front utente'!C50","v":"00:00:00"},{"$f":"'front utente'!D50","v":"00:00:00"},{"$f":"'front utente'!I50","v":0},{"$f":"'front utente'!E50/'front utente'!G50","v":{"$error":"#DIV/0!"}},0,0,"00:00:00",0,0,0,0,{"$error":"#DIV/0!"}]
[null,{"$f":"differenzespettanti!E38","v":""},{"$f":"differenzespettanti!F38","v":""},{"$f":"IF(differenzespettanti!G38>D35,differenzespettanti!G38,D35)","v":""},{"$f":"differenzespettanti!I38","v":""},"",null,null,25,{"$f":"'front utente'!C51","v":"00:00:00"},{"$f":"'front utente'!D51","v":"00:00:00"},{"$f":"'front utente'!I51","v":0},{"$f":"'front utente'!E51/'front utente'!G51","v":{"$error":"#DIV/0!"}},0,0,"00:00:00",0,0,0,0,{"$error":"#DIV/0!"}]
[null,{"$f":"differenzespettanti!E39","v":""},{"$f":"differenzespettanti!F39","v":""},{"$f":"IF(differenzespettanti!G39>D36,differenzespettanti!G39,D36)","v":""},{"$f":"differenzespettanti!I39","v":""},"",null,null,26,{"$f":"'front utente'!C52","v":"00:00:00"},{"$f":"'front utente'!D52","v":"00:00:00"},{"$f":"'front utente'!I52","v":0},{"$f":"'front utente'!E52/'front utente'!G52","v":{"$error":"#DIV/0!"}},0,0,"00:00:00",0,0,0,0,{"$error":"#DIV/0!"}]
[null,{"$f":"differenzespettanti!E40","v":""},{"$f":"differenzespettanti!F40","v":""},{"$f":"IF(differenzespettanti!G40>D37,differenzespettanti!G40,D37)","v":""},{"$f":"differenzespettanti!I40","v":""},"",null,null,27,{"$f":"'front utente'!C53","v":"00:00:00"},{"$f":"'front utente'!D53","v":"00:00:00"},{"$f":"'front utente'!I53","v":0},{"$f":"'front utente'!E53/'front utente'!G53","v":{"$error":"#DIV/0!"}},0,0,"00:00:00",0,0,0,0,{"$error":"#DIV/0!"}]
[null,{"$f":"differenzespettanti!E41","v":""},{"$f":"differenzespettanti!F41","v":""},{"$f":"IF(differenzespettanti!G41>D38,differenzespettanti!G41,D38)","v":""},{"$f":"differenzespettanti!I41","v":""},"",null,null,28,{"$f":"'front utente'!C54","v":"00:00:00"},{"$f":"'front utente'!D54","v":"00:00:00"},{"$f":"'front utente'!I54","v":0},{"$f":"'front utente'!E54/'front utente'!G54","v":{"$error":"#DIV/0!"}},0,0,"00:00:00",0,0,0,0,{"$error":"#DIV/0!"}]
[null,{"$f":"differenzespettanti!E42","v":""},{"$f":"differenzespettanti!F42","v":""},{"$f":"IF(differenzespettanti!G42>D39,differenzespettanti!G42,D39)","v":""},{"$f":"differenzespettanti!I42","v":""},"",null,null,29,{"$f":"'front utente'!C55","v":"00:00:00"},{"$f":"'front utente'!D55","v":"00:00:00"},{"$f":"'front utente'!I55","v":0},{"$f":"'front utente'!E55/'front utente'!G55","v":{"$error":"#DIV/0!"}},0,0,"00:00:00",0,0,0,0,{"$error":"#DIV/0!"}]
[null,{"$f":"differenzespettanti!E43","v":""},{"$f":"differenzespettanti!F43","v":""},{"$f":"IF(differenzespettanti!G43>D40,differenzespettanti!G43,D40)","v":""},{"$f":"differenzespettanti!I43","v":""},"",null,null,30,{"$f":"'front utente'!C56","v":"00:00:00"},{"$f":"'front utente'!D56","v":"00:00:00"},{"$f":"'front utente'!I56","v":0},{"$f":"'front utente'!E56/'front utente'!G56","v":{"$error":"#DIV/0!"}},0,0,"00:00:00",0,0,0,0,{"$error":"#DIV/0!"}]
[null,{"$f":"differenzespettanti!E44","v":""},{"$f":"differenzespettanti!F44","v":""},{"$f":"IF(differenzespettanti!G44>D41,differenzespettanti!G44,D41)","v":""},{"$f":"differenzespettanti!I44","v":""},"",null,null,31,{"$f":"'front utente'!C57","v":"00:00:00"},{"$f":"'front utente'!D57","v":"00:00:00"},{"$f":"'front utente'!I57","v":0},{"$f":"'front utente'!E57/'front utente'!G57","v":{"$error":"#DIV/0!"}},0,0,"00:00:00",0,0,0,0,{"$error":"#DIV/0!"}]
[null,null,null,{"$f":"IF(differenzespettanti!G45>D42,differenzespettanti!G45,D42)","v":""},null,"",null,null,32,{"$f":"'front utente'!C58","v":"00:00:00"},{"$f":"'front utente'!D58","v":"00:00:00"},{"$f":"'front utente'!I58","v":0},{"$f":"'front utente'!E58/'front utente'!G58","v":{"$error":"#DIV/0!"}},0,0,"00:00:00",0,0,0,0,{"$error":"#DIV/0!"}]
[null,null,null,{"$f":"IF(differenzespettanti!G46>D43,differenzespettanti!G46,D43)","v":""},null,"",null,null,33,{"$f":"'front utente'!C59","v":"00:00:00"},{"$f":"'front utente'!D59","v":"00:00:00"},{"$f":"'front utente'!I59","v":0},{"$f":"'front utente'!E59/'front utente'!G59","v":{"$error":"#DIV/0!"}},0,0,"00:00:00",0,0,{"$f":"IF(L44>0,VLOOKUP(J44,$B$12:$E$42,4,1),0)","v":0},{"$f":"IF(L44>0,VLOOKUP(K44,$B$12:$E$42,3,1),0)","v":0},{"$error":"#DIV/0!"}]
[null,null,null,{"$f":"IF(differenzespettanti!G47>D44,differenzespettanti!G47,D44)","v":""},null,"",null,null,{"$f":"I44+1","v":34},{"$f":"'front utente'!C60","v":"00:00:00"},{"$f":"'front utente'!D60","v":"00:00:00"},{"$f":"'front utente'!I60","v":0},{"$f":"'front utente'!E60/'front utente'!G60","v":{"$error":"#DIV/0!"}},0,0,"00:00:00",0,0,0,0,{"$error":"#DIV/0!"}]
[null,null,null,{"$f":"IF(differenzespettanti!G48>D45,differenzespettanti!G48,D45)","v":""},null,"",null,null,35,{"$f":"'front utente'!C61","v":"00:00:00"},{"$f":"'front utente'!D61","v":"00:00:00"},{"$f":"'front utente'!I61","v":0},{"$f":"'front utente'!E61/'front utente'!G61","v":{"$error":"#DIV/0!"}},0,0,"00:00:00",0,0,0,0,{"$error":"#DIV/0!"}]
[null,null,null,null,null,"",null,null,36,{"$f":"'front utente'!C62","v":"00:00:00"},{"$f":"'front utente'!D62","v":"00:00:00"},{"$f":"'front utente'!I62","v":0},{"$f":"'front utente'!E62/'front utente'!G62","v":{"$error":"#DIV/0!"}},0,0,"00:00:00",0,0,0,0,{"$error":"#DIV/0!"}]
[null,null,null,null,null,"",null,null,37,{"$f":"'front utente'!C63","v":"00:00:00"},{"$f":"'front utente'!D63","v":"00:00:00"},{"$f":"'front utente'!I63","v":0},{"$f":"'front utente'!E63/'front utente'!G63","v":{"$error":"#DIV/0!"}},0,0,"00:00:00",0,0,0,0,{"$error":"#DIV/0!"}]
[null,null,null,null,null,"",null,null,38,{"$f":"'front utente'!C64","v":"00:00:00"},{"$f":"'front utente'!D64","v":"00:00:00"},{"$f":"'front utente'!I64","v":0},{"$f":"'front utente'!E64/'front utente'!G64","v":{"$error":"#DIV/0!"}},0,0,"00:00:00",0,0,0,0,{"$error":"#DIV/0!"}]
[null,null,null,null,null,"",null,null,39,{"$f":"'front utente'!C65","v":"00:00:00"},{"$f":"'front utente'!D65","v":"00:00:00"},{"$f":"'front utente'!I65","v":0},{"$f":"'front utente'!E65/'front utente'!G65","v":{"$error":"#DIV/0!"}},0,0,"00:00:00",0,0,0,0,{"$error":"#DIV/0!"}]
[null,null,null,null,null,"",null,null,40,{"$f":"'front utente'!C66","v":"00:00:00"},{"$f":"'front utente'!D66","v":"00:00:00"},{"$f":"'front utente'!I66","v":0},{"$f":"'front utente'!E66/'front utente'!G66","v":{"$error":"#DIV/0!"}},0,0,"00:00:00",0,0,0,0,{"$error":"#DIV/0!"}]
[null,null,null,null,null,"",null,null,41,{"$f":"'front utente'!C67","v":"00:00:00"},{"$f":"'front utente'!D67","v":"00:00:00"},{"$f":"'front utente'!I67","v":0},{"$f":"'front utente'!E67/'front utente'!G67","v":{"$error":"#DIV/0!"}},0,0,"00:00:00",0,0,0,0,{"$error":"#DIV/0!"}]
[null,null,null,null,null,"",null,null,42,{"$f":"'front utente'!C68","v":"00:00:00"},{"$f":"'front utente'!D68","v":"00:00:00"},{"$f":"'front utente'!I68","v":0},{"$f":"'front utente'!E68/'front utente'!G68","v":{"$error":"#DIV/0!"}},0,0,"00:00:00",0,0,0,0,{"$error":"#DIV/0!"}]
[null,null,null,null,null,"",null,null,43,{"$f":"'front utente'!C69","v":"00:00:00"},{"$f":"'front utente'!D69","v":"00:00:00"},{"$f":"'front utente'!I69","v":0},{"$f":"'front utente'!E69/'front utente'!G69","v":{"$error":"#DIV/0!"}},0,0,"00:00:00",0,0,0,0,{"$error":"#DIV/0!"}]
[null,null,null,null,null,"",null,null,44,{"$f":"'front utente'!C70","v":"00:00:00"},{"$f":"'front utente'!D70","v":"00:00:00"},{"$f":"'front utente'!I70","v":0},{"$f":"'front utente'!E70/'front utente'!G70","v":{"$error":"#DIV/0!"}},0,0,"00:00:00",0,0,0,0,{"$error":"#DIV/0!"}]
[null,null,null,null,null,"",null,null,45,{"$f":"'front utente'!C71","v":"00:00:00"},{"$f":"'front utente'!D71","v":"00:00:00"},{"$f":"'front utente'!I71","v":0},{"$f":"'front utente'!E71/'front utente'!G71","v":{"$error":"#DIV/0!"}},0,0,"00:00:00",0,0,0,0,{"$error":"#DIV/0!"}]
[null,null,null,null,null,"",null,null,46,{"$f":"'front utente'!C72","v":"00:00:00"},{"$f":"'front utente'!D72","v":"00:00:00"},{"$f":"'front utente'!I72","v":0},{"$f":"'front utente'!E72/'front utente'!G72","v":{"$error":"#DIV/0!"}},0,0,"00:00:00",0,0,0,0,{"$error":"#DIV/0!"}]
[null,null,null,null,null,"",null,null,47,{"$f":"'front utente'!C73","v":"00:00:00"},{"$f":"'front utente'!D73","v":"00:00:00"},{"$f":"'front utente'!I73","v":0},{"$f":"'front utente'!E73/'front utente'!G73","v":{"$error":"#DIV/0!"}},0,0,"00:00:00",0,0,0,0,{"$error":"#DIV/0!"}]
[null,null,null,null,null,"",null,null,48,{"$f":"'front utente'!C74","v":"00:00:00"},{"$f":"'front utente'!D74","v":"00:00:00"},{"$f":"'front utente'!I74","v":0},{"$f":"'front utente'!E74/'front utente'!G74","v":{"$error":"#DIV/0!"}},0,0,"00:00:00",0,0,0,0,{"$error":"#DIV/0!"}]
[null,null,null,null,null,"",null,null,49,{"$f":"'front utente'!C75","v":"00:00:00"},{"$f":"'front utente'!D75","v":"00:00:00"},{"$f":"'front utente'!I75","v":0},{"$f":"'front utente'!E75/'front utente'!G75","v":{"$error":"#DIV/0!"}},0,0,"00:00:00",0,0,0,0,{"$error":"#DIV/0!"}]
[null,null,null,null,null,null,null,null,50,{"$f":"'front utente'!C76","v":"00:00:00"},{"$f":"'front utente'!D76","v":"00:00:00"},{"$f":"'front utente'!I76","v":0},{"$f":"'front utente'!E76/'front utente'!G76","v":{"$error":"#DIV/0!"}},0,0,"00:00:00",0,0,0,0,{"$error":"#DIV/0!"}]
[null,null,null,null,null,null,null,null,51,{"$f":"'front utente'!C77","v":"00:00:00"},{"$f":"'front utente'!D77","v":"00:00:00"},{"$f":"'front utente'!I77","v":0},{"$f":"'front utente'!E77/'front utente'!G77","v":{"$error":"#DIV/0!"}},0,0,"00:00:00",0,0,0,0,{"$error":"#DIV/0!"}]
[null,null,null,null,null,null,null,null,52,{"$f":"'front utente'!C78","v":"00:00:00"},{"$f":"'front utente'!D78","v":"00:00:00"},{"$f":"'front utente'!I78","v":0},{"$f":"'front utente'!E78/'front utente'!G78","v":{"$error":"#DIV/0!"}},0,0,"00:00:00",0,0,0,0,{"$error":"#DIV/0!"}]
[null,null,null,null,null,null,null,null,53,{"$f":"'front utente'!C79","v":"00:00:00"},{"$f":"'front utente'!D79","v":"00:00:00"},{"$f":"'front utente'!I79","v":0},{"$f":"'front utente'!E79/'front utente'!G79","v":{"$error":"#DIV/0!"}},0,0,"00:00:00",0,0,0,0,{"$error":"#DIV/0!"}]
[null,null,null,null,null,null,null,null,54,{"$f":"'front utente'!C80","v":"00:00:00"},{"$f":"'front utente'!D80","v":"00:00:00"},{"$f":"'front utente'!I80","v":0},{"$f":"'front utente'!E80/'front utente'!G80","v":{"$error":"#DIV/0!"}},0,0,"00:00:00",0,0,0,0,{"$error":"#DIV/0!"}]
[null,null,null,null,null,null,null,null,55,{"$f":"'front utente'!C81","v":"00:00:00"},{"$f":"'front utente'!D81","v":"00:00:00"},{"$f":"'front utente'!I81","v":0},{"$f":"'front utente'!E81/'front utente'!G81","v":{"$error":"#DIV/0!"}},0,0,"00:00:00",0,0,0,0,{"$error":"#DIV/0!"}]
[null,null,null,null,null,null,null,null,56,{"$f":"'front utente'!C82","v":"00:00:00"},{"$f":"'front utente'!D82","v":"00:00:00"},{"$f":"'front utente'!I82","v":0},{"$f":"'front utente'!E82/'front utente'!G82","v":{"$error":"#DIV/0!"}},0,0,"00:00:00",0,0,0,0,{"$error":"#DIV/0!"}]
[null,null,null,null,null,null,null,null,57,{"$f":"'front utente'!C83","v":"00:00:00"},{"$f":"'front utente'!D83","v":"00:00:00"},{"$f":"'front utente'!I83","v":0},{"$f":"'front utente'!E83/'front utente'!G83","v":{"$error":"#DIV/0!"}},0,0,"00:00:00",0,0,0,0,{"$error":"#DIV/0!"}]
[null,null,null,null,null,null,null,null,58,{"$f":"'front utente'!C84","v":"00:00:00"},{"$f":"'front utente'!D84","v":"00:00:00"},{"$f":"'front utente'!I84","v":0},{"$f":"'front utente'!E84/'front utente'!G84","v":{"$error":"#DIV/0!"}},0,0,"00:00:00",0,0,0,0,{"$error":"#DIV/0!"}]
[null,null,null,null,null,null,null,null,59,{"$f":"'front utente'!C85","v":"00:00:00"},{"$f":"'front utente'!D85","v":"00:00:00"},{"$f":"'front utente'!I85","v":0},{"$f":"'front utente'!E85/'front utente'!G85","v":{"$error":"#DIV/0!"}},0,0,"00:00:00",0,0,0,0,{"$error":"#DIV/0!"}]
[null,null,null,null,null,null,null,null,60,{"$f":"'front utente'!C86","v":"00:00:00"},{"$f":"'front utente'!D86","v":"00:00:00"},{"$f":"'front utente'!I86","v":0},{"$f":"'front utente'!E86/'front utente'!G86","v":{"$error":"#DIV/0!"}},0,0,"00:00:00",0,0,0,0,{"$error":"#DIV/0!"}]
[null,null,null,null,null,null,null,null,61,{"$f":"'front utente'!C87","v":"00:00:00"},{"$f":"'front utente'!D87","v":"00:00:00"},{"$f":"'front utente'!I87","v":0},{"$f":"'front utente'!E87/'front utente'!G87","v":{"$error":"#DIV/0!"}},0,0,"00:00:00",0,0,0,0,{"$error":"#DIV/0!"}]
[null,null,null,null,null,null,null,null,62,{"$f":"'front utente'!C88","v":"00:00:00"},{"$f":"'front utente'!D88","v":"00:00:00"},{"$f":"'front utente'!I88","v":0},{"$f":"'front utente'!E88/'front utente'!G88","v":{"$error":"#DIV/0!"}},0,0,"00:00:00",0,0,0,0,{"$error":"#DIV/0!"}]
[null,null,null,null,null,null,null,null,63,{"$f":"'front utente'!C89","v":"00:00:00"},{"$f":"'front utente'!D89","v":"00:00:00"},{"$f":"'front utente'!I89","v":0},{"$f":"'front utente'!E89/'front utente'!G89","v":{"$error":"#DIV/0!"}},0,0,"00:00:00",0,0,0,0,{"$error":"#DIV/0!"}]
[null,null,null,null,null,null,null,null,64,{"$f":"'front utente'!C90","v":"00:00:00"},{"$f":"'front utente'!D90","v":"00:00:00"},{"$f":"'front utente'!I90","v":0},{"$f":"'front utente'!E90/'front utente'!G90","v":{"$error":"#DIV/0!"}},0,0,"00:00:00",0,0,0,0,{"$error":"#DIV/0!"}]
[null,null,null,null,null,null,null,null,65,{"$f":"'front utente'!C91","v":"00:00:00"},{"$f":"'front utente'!D91","v":"00:00:00"},{"$f":"'front utente'!I91","v":0},{"$f":"'front utente'!E91/'front utente'!G91","v":{"$error":"#DIV/0!"}},0,0,"00:00:00",0,0,{"$f":"IF(L76>0,VLOOKUP(J76,$B$12:$E$42,4,1),0)","v":0},{"$f":"IF(L76>0,VLOOKUP(K76,$B$12:$E$42,3,1),0)","v":0},{"$error":"#DIV/0!"}]
[null,null,null,null,null,null,null,null,{"$f":"I76+1","v":66},{"$f":"'front utente'!C92","v":"00:00:00"},{"$f":"'front utente'!D92","v":"00:00:00"},{"$f":"'front utente'!I92","v":0},{"$f":"'front utente'!E92/'front utente'!G92","v":{"$error":"#DIV/0!"}},0,{"$f":"IF(L77>0,VLOOKUP(K77,$B$12:$F$42,5,1),0)","v":0},"00:00:00",0,0,0,0,{"$f":"365/L77","v":{"$error":"#DIV/0!"}}]
[null,null,null,null,null,null,null,null,67,{"$f":"'front utente'!C93","v":"00:00:00"},{"$f":"'front utente'!D93","v":"00:00:00"},{"$f":"'front utente'!I93","v":0},{"$f":"'front utente'!E93/'front utente'!G93","v":{"$error":"#DIV/0!"}},0,0,"00:00:00",0,0,0,0,{"$error":"#DIV/0!"}]
[null,null,null,null,null,null,null,null,68,{"$f":"'front utente'!C94","v":"00:00:00"},{"$f":"'front utente'!D94","v":"00:00:00"},{"$f":"'front utente'!I94","v":0},{"$f":"'front utente'!E94/'front utente'!G94","v":{"$error":"#DIV/0!"}},0,0,"00:00:00",0,0,0,0,{"$error":"#DIV/0!"}]
[null,null,null,null,null,null,null,null,69,{"$f":"'front utente'!C95","v":"00:00:00"},{"$f":"'front utente'!D95","v":"00:00:00"},{"$f":"'front utente'!I95","v":0},{"$f":"'front utente'!E95/'front utente'!G95","v":{"$error":"#DIV/0!"}},0,0,"00:00:00",0,{"$f":"IF(P80>J80,1,0)","v":0},0,0,{"$error":"#DIV/0!"}]
[null,null,null,null,null,null,null,null,70,{"$f":"'front utente'!C96","v":"00:00:00"},{"$f":"'front utente'!D96","v":"00:00:00"},{"$f":"'front utente'!I96","v":0},{"$f":"'front utente'!E96/'front utente'!G96","v":{"$error":"#DIV/0!"}},0,0,{"$f":"IF(O81>0,VLOOKUP(K81,$L$1:$L$7,1,1),0)","v":"00:00:00"},{"$f":"IF(P81>0,(O81/365)*(K81-P81),0)","v":0},0,0,0,{"$error":"#DIV/0!"}]
[null,null,null,null,null,null,null,null,71,{"$f":"'front utente'!C97","v":"00:00:00"},{"$f":"'front utente'!D97","v":"00:00:00"},{"$f":"'front utente'!I97","v":0},{"$f":"'front utente'!E97/'front utente'!G97","v":{"$error":"#DIV/0!"}},0,0,"00:00:00",0,0,0,0,{"$error":"#DIV/0!"}]
[null,null,null,null,null,null,null,null,72,{"$f":"'front utente'!C98","v":"00:00:00"},{"$f":"'front utente'!D98","v":"00:00:00"},{"$f":"'front utente'!I98","v":0},{"$f":"'front utente'!E98/'front utente'!G98","v":{"$error":"#DIV/0!"}},0,0,"00:00:00",0,0,0,0,{"$error":"#DIV/0!"}]
[null,null,null,null,null,null,null,null,73,{"$f":"'front utente'!C99","v":"00:00:00"},{"$f":"'front utente'!D99","v":"00:00:00"},{"$f":"'front utente'!I99","v":0},{"$f":"'front utente'!E99/'front utente'!G99","v":{"$error":"#DIV/0!"}},0,0,"00:00:00",0,0,0,0,{"$error":"#DIV/0!"}]
[null,null,null,null,null,null,null,null,74,{"$f":"'front utente'!C100","v":"00:00:00"},{"$f":"'front utente'!D100","v":"00:00:00"},{"$f":"'front utente'!I100","v":0},{"$f":"'front utente'!E100/'front utente'!G100","v":{"$error":"#DIV/0!"}},0,0,"00:00:00",0,0,0,0,{"$error":"#DIV/0!"}]
[null,null,null,null,null,null,null,null,75,{"$f":"'front utente'!C101","v":"00:00:00"},{"$f":"'front utente'!D101","v":"00:00:00"},{"$f":"'front utente'!I101","v":0},{"$f":"'front utente'!E101/'front utente'!G101","v":{"$error":"#DIV/0!"}},0,0,"00:00:00",0,0,0,0,{"$error":"#DIV/0!"}]
[null,null,null,null,null,null,null,null,76,{"$f":"'front utente'!C102","v":"00:00:00"},{"$f":"'front utente'!D102","v":"00:00:00"},{"$f":"'front utente'!I102","v":0},{"$f":"'front utente'!E102/'front utente'!G102","v":{"$error":"#DIV/0!"}},0,0,"00:00:00",0,0,0,0,{"$error":"#DIV/0!"}]
[null,null,null,null,null,null,null,null,77,{"$f":"'front utente'!C103","v":"00:00:00"},{"$f":"'front utente'!D103","v":"00:00:00"},{"$f":"'front utente'!I103","v":0},{"$f":"'front utente'!E103/'front utente'!G103","v":{"$error":"#DIV/0!"}},0,0,"00:00:00",0,0,0,0,{"$error":"#DIV/0!"}]
[null,null,null,null,null,null,null,null,78,{"$f":"'front utente'!C104","v":"00:00:00"},{"$f":"'front utente'!D104","v":"00:00:00"},{"$f":"'front utente'!I104","v":0},{"$f":"'front utente'!E104/'front utente'!G104","v":{"$error":"#DIV/0!"}},0,0,"00:00:00",0,0,0,0,{"$error":"#DIV/0!"}]
[null,null,null,null,null,null,null,null,79,{"$f":"'front utente'!C105","v":"00:00:00"},{"$f":"'front utente'!D105","v":"00:00:00"},{"$f":"'front utente'!I105","v":0},{"$f":"'front utente'!E105/'front utente'!G105","v":{"$error":"#DIV/0!"}},0,0,"00:00:00",0,0,0,0,{"$error":"#DIV/0!"}]
[null,null,null,null,null,null,null,null,80,{"$f":"'front utente'!C106","v":"00:00:00"},{"$f":"'front utente'!D106","v":"00:00:00"},{"$f":"'front utente'!I106","v":0},{"$f":"'front utente'!E106/'front utente'!G106","v":{"$error":"#DIV/0!"}},0,0,"00:00:00",0,0,0,0,{"$error":"#DIV/0!"}]
[null,null,null,null,null,null,null,null,81,{"$f":"'front utente'!C107","v":"00:00:00"},{"$f":"'front utente'!D107","v":"00:00:00"},{"$f":"'front utente'!I107","v":0},{"$f":"'front utente'!E107/'front utente'!G107","v":{"$error":"#DIV/0!"}},0,0,"00:00:00",0,0,0,0,{"$error":"#DIV/0!"}]
[null,null,null,null,null,null,null,null,82,{"$f":"'front utente'!C108","v":"00:00:00"},{"$f":"'front utente'!D108","v":"00:00:00"},{"$f":"'front utente'!I108","v":0},{"$f":"'front utente'!E108/'front utente'!G108","v":{"$error":"#DIV/0!"}},0,0,"00:00:00",0,0,0,0,{"$error":"#DIV/0!"}]
[null,null,null,null,null,null,null,null,83,{"$f":"'front utente'!C109","v":"00:00:00"},{"$f":"'front utente'!D109","v":"00:00:00"},{"$f":"'front utente'!I109","v":0},{"$f":"'front utente'!E109/'front utente'!G109","v":{"$error":"#DIV/0!"}},{"$f":"IF(L94=0,0,VLOOKUP(J94,$B$12:$E$42,3,1)+Q94*R94*U94)","v":0},0,"00:00:00",0,0,0,0,{"$error":"#DIV/0!"}]
[null,null,null,null,null,null,null,null,84,{"$f":"'front utente'!C110","v":"00:00:00"},{"$f":"'front utente'!D110","v":"00:00:00"},{"$f":"'front utente'!I110","v":0},{"$f":"'front utente'!E110/'front utente'!G110","v":{"$error":"#DIV/0!"}},0,0,"00:00:00",0,0,0,0,{"$error":"#DIV/0!"}]
[null,null,null,null,null,null,null,null,85,{"$f":"'front utente'!C111","v":"00:00:00"},{"$f":"'front utente'!D111","v":"00:00:00"},{"$f":"'front utente'!I111","v":0},{"$f":"'front utente'!E111/'front utente'!G111","v":{"$error":"#DIV/0!"}},0,0,"00:00:00",0,0,0,0,{"$error":"#DIV/0!"}]
[null,null,null,null,null,null,null,null,86,{"$f":"'front utente'!C112","v":"00:00:00"},{"$f":"'front utente'!D112","v":"00:00:00"},{"$f":"'front utente'!I112","v":0},{"$f":"'front utente'!E112/'front utente'!G112","v":{"$error":"#DIV/0!"}},0,0,"00:00:00",0,0,0,0,{"$error":"#DIV/0!"}]
[null,null,null,null,null,null,null,null,87,{"$f":"'front utente'!C113","v":"00:00:00"},{"$f":"'front utente'!D113","v":"00:00:00"},{"$f":"'front utente'!I113","v":0},{"$f":"'front utente'!E113/'front utente'!G113","v":{"$error":"#DIV/0!"}},0,0,"00:00:00",0,0,0,0,{"$error":"#DIV/0!"}]
[null,null,null,null,null,null,null,null,88,{"$f":"'front utente'!C114","v":"00:00:00"},{"$f":"'front utente'!D114","v":"00:00:00"},{"$f":"'front utente'!I114","v":0},{"$f":"'front utente'!E114/'front utente'!G114","v":{"$error":"#DIV/0!"}},0,0,"00:00:00",0,0,0,0,{"$error":"#DIV/0!"}]
[null,null,null,null,null,null,null,null,89,{"$f":"'front utente'!C115","v":"00:00:00"},{"$f":"'front utente'!D115","v":"00:00:00"},{"$f":"'front utente'!I115","v":0},{"$f":"'front utente'!E115/'front utente'!G115","v":{"$error":"#DIV/0!"}},0,0,"00:00:00",0,0,0,0,{"$error":"#DIV/0!"}]
[null,null,null,null,null,null,null,null,90,{"$f":"'front utente'!C116","v":"00:00:00"},{"$f":"'front utente'!D116","v":"00:00:00"},{"$f":"'front utente'!I116","v":0},{"$f":"'front utente'!E116/'front utente'!G116","v":{"$error":"#DIV/0!"}},0,0,"00:00:00",0,0,0,0,{"$error":"#DIV/0!"}]
[null,null,null,null,null,null,null,null,91,{"$f":"'front utente'!C117","v":"00:00:00"},{"$f":"'front utente'!D117","v":"00:00:00"},{"$f":"'front utente'!I117","v":0},{"$f":"'front utente'!E117/'front utente'!G117","v":{"$error":"#DIV/0!"}},0,0,"00:00:00",0,0,0,0,{"$error":"#DIV/0!"}]
[null,null,null,null,null,null,null,null,92,{"$f":"'front utente'!C118","v":"00:00:00"},{"$f":"'front utente'!D118","v":"00:00:00"},{"$f":"'front utente'!I118","v":0},{"$f":"'front utente'!E118/'front utente'!G118","v":{"$error":"#DIV/0!"}},0,0,"00:00:00",0,0,0,0,{"$error":"#DIV/0!"}]
[null,null,null,null,null,null,null,null,93,{"$f":"'front utente'!C119","v":"00:00:00"},{"$f":"'front utente'!D119","v":"00:00:00"},{"$f":"'front utente'!I119","v":0},{"$f":"'front utente'!E119/'front utente'!G119","v":{"$error":"#DIV/0!"}},0,0,"00:00:00",0,0,0,0,{"$error":"#DIV/0!"}]
[null,null,null,null,null,null,null,null,94,{"$f":"'front utente'!C120","v":"00:00:00"},{"$f":"'front utente'!D120","v":"00:00:00"},{"$f":"'front utente'!I120","v":0},{"$f":"'front utente'!E120/'front utente'!G120","v":{"$error":"#DIV/0!"}},0,0,"00:00:00",0,0,0,0,{"$error":"#DIV/0!"}]
[null,null,null,null,null,null,null,null,95,{"$f":"'front utente'!C121","v":"00:00:00"},{"$f":"'front utente'!D121","v":"00:00:00"},{"$f":"'front utente'!I121","v":0},{"$f":"'front utente'!E121/'front utente'!G121","v":{"$error":"#DIV/0!"}},0,0,"00:00:00",0,0,0,0,{"$error":"#DIV/0!"}]
[null,null,null,null,null,null,null,null,96,{"$f":"'front utente'!C122","v":"00:00:00"},{"$f":"'front utente'!D122","v":"00:00:00"},{"$f":"'front utente'!I122","v":0},{"$f":"'front utente'!E122/'front utente'!G122","v":{"$error":"#DIV/0!"}},0,0,"00:00:00",0,0,0,0,{"$error":"#DIV/0!"}]
[null,null,null,null,null,null,null,null,97,{"$f":"'front utente'!C123","v":"00:00:00"},{"$f":"'front utente'!D123","v":"00:00:00"},{"$f":"'front utente'!I123","v":0},{"$f":"'front utente'!E123/'front utente'!G123","v":{"$error":"#DIV/0!"}},0,0,"00:00:00",0,0,{"$f":"IF(L108>0,VLOOKUP(J108,$B$12:$E$42,4,1),0)","v":0},{"$f":"IF(L108>0,VLOOKUP(K108,$B$12:$E$42,3,1),0)","v":0},{"$error":"#DIV/0!"}]
[null,null,null,null,null,null,null,null,{"$f":"I108+1","v":98},{"$f":"'front utente'!C124","v":"00:00:00"},{"$f":"'front utente'!D124","v":"00:00:00"},{"$f":"'front utente'!I124","v":0},{"$f":"'front utente'!E124/'front utente'!G124","v":{"$error":"#DIV/0!"}},0,0,"00:00:00",0,0,{"$f":"IF(L109>0,VLOOKUP(J109,$B$12:$E$42,4,1),0)","v":0},{"$f":"IF(L109>0,VLOOKUP(K109,$B$12:$E$42,3,1),0)","v":0},{"$error":"#DIV/0!"}]
[null,null,null,null,null,null,null,null,{"$f":"I109+1","v":99},{"$f":"'front utente'!C125","v":"00:00:00"},{"$f":"'front utente'!D125","v":"00:00:00"},{"$f":"'front utente'!I125","v":0},{"$f":"'front utente'!E125/'front utente'!G125","v":{"$error":"#DIV/0!"}},0,0,"00:00:00",0,0,{"$f":"IF(L110>0,VLOOKUP(J110,$B$12:$E$42,4,1),0)","v":0},{"$f":"IF(L110>0,VLOOKUP(K110,$B$12:$E$42,3,1),0)","v":0},{"$error":"#DIV/0!"}]
[null,null,null,null,null,null,null,null,{"$f":"I110+1","v":100},{"$f":"'front utente'!C126","v":"00:00:00"},{"$f":"'front utente'!D126","v":"00:00:00"},{"$f":"'front utente'!I126","v":0},{"$f":"'front utente'!E126/'front utente'!G126","v":{"$error":"#DIV/0!"}},0,null,null,null,null,{"$f":"IF(L111>0,VLOOKUP(J111,$B$12:$E$42,4,1),0)","v":0},{"$f":"IF(L111>0,VLOOKUP(K111,$B$12:$E$42,3,1),0)","v":0},{"$error":"#DIV/0!"}]
[null,null,null,null,null,null,null,null,{"$f":"I111+1","v":101},{"$f":"'front utente'!C127","v":"00:00:00"},{"$f":"'front utente'!D127","v":"00:00:00"},{"$f":"'front utente'!I127","v":0},{"$f":"'front utente'!E127/'front utente'!G127","v":{"$error":"#DIV/0!"}},0,null,null,null,null,{"$f":"IF(L112>0,VLOOKUP(J112,$B$12:$E$42,4,1),0)","v":0},{"$f":"IF(L112>0,VLOOKUP(K112,$B$12:$E$42,3,1),0)","v":0},{"$error":"#DIV/0!"}]
[null,null,null,null,null,null,null,null,102,{"$f":"'front utente'!C128","v":"00:00:00"},{"$f":"'front utente'!D128","v":"00:00:00"},{"$f":"'front utente'!I128","v":0},{"$f":"'front utente'!E128/'front utente'!G128","v":{"$error":"#DIV/0!"}},0,null,null,null,null,0,0,{"$error":"#DIV/0!"}]
[null,null,null,null,null,null,null,null,103,{"$f":"'front utente'!C129","v":"00:00:00"},{"$f":"'front utente'!D129","v":"00:00:00"},{"$f":"'front utente'!I129","v":0},{"$f":"'front utente'!E129/'front utente'!G129","v":{"$error":"#DIV/0!"}},0,null,null,null,null,0,0,{"$error":"#DIV/0!"}]
[null,null,null,null,null,null,null,null,104,{"$f":"'front utente'!C130","v":"00:00:00"},{"$f":"'front utente'!D130","v":"00:00:00"},{"$f":"'front utente'!I130","v":0},{"$f":"'front utente'!E130/'front utente'!G130","v":{"$error":"#DIV/0!"}},0,null,null,null,null,0,0,{"$error":"#DIV/0!"}]
[null,null,null,null,null,null,null,null,105,{"$f":"'front utente'!C131","v":"00:00:00"},{"$f":"'front utente'!D131","v":"00:00:00"},{"$f":"'front utente'!I131","v":0},{"$f":"'front utente'!E131/'front utente'!G131","v":{"$error":"#DIV/0!"}},0,null,null,null,null,0,0,{"$error":"#DIV/0!"}]
[null,null,null,null,null,null,null,null,106,{"$f":"'front utente'!C132","v":"00:00:00"},{"$f":"'front utente'!D132","v":"00:00:00"},{"$f":"'front utente'!I132","v":0},{"$f":"'front utente'!E132/'front utente'!G132","v":{"$error":"#DIV/0!"}},0,null,null,null,null,0,0,{"$error":"#DIV/0!"}]
[null,null,null,null,null,null,null,null,107,{"$f":"'front utente'!C133","v":"00:00:00"},{"$f":"'front utente'!D133","v":"00:00:00"},{"$f":"'front utente'!I133","v":0},{"$f":"'front utente'!E133/'front utente'!G133","v":{"$error":"#DIV/0!"}},0,null,null,null,null,0,0,{"$error":"#DIV/0!"}]
[null,null,null,null,null,null,null,null,108,{"$f":"'front utente'!C134","v":"00:00:00"},{"$f":"'front utente'!D134","v":"00:00:00"},{"$f":"'front utente'!I134","v":0},{"$f":"'front utente'!E134/'front utente'!G134","v":{"$error":"#DIV/0!"}},0,null,null,null,null,0,0,{"$error":"#DIV/0!"}]
[null,null,null,null,null,null,null,null,109,{"$f":"'front utente'!C135","v":"00:00:00"},{"$f":"'front utente'!D135","v":"00:00:00"},{"$f":"'front utente'!I135","v":0},{"$f":"'front utente'!E135/'front utente'!G135","v":{"$error":"#DIV/0!"}},0,null,null,null,null,0,0,{"$error":"#DIV/0!"}]
[null,null,null,null,null,null,null,null,110,{"$f":"'front utente'!C136","v":"00:00:00"},{"$f":"'front utente'!D136","v":"00:00:00"},{"$f":"'front utente'!I136","v":0},{"$f":"'front utente'!E136/'front utente'!G136","v":{"$error":"#DIV/0!"}},0,null,null,null,null,0,0,{"$error":"#DIV/0!"}]
[null,null,null,null,null,null,null,null,111,{"$f":"'front utente'!C137","v":"00:00:00"},{"$f":"'front utente'!D137","v":"00:00:00"},{"$f":"'front utente'!I137","v":0},{"$f":"'front utente'!E137/'front utente'!G137","v":{"$error":"#DIV/0!"}},0,null,null,null,null,0,0,{"$error":"#DIV/0!"}]
[null,null,null,null,null,null,null,null,112,{"$f":"'front utente'!C138","v":"00:00:00"},{"$f":"'front utente'!D138","v":"00:00:00"},{"$f":"'front utente'!I138","v":0},{"$f":"'front utente'!E138/'front utente'!G138","v":{"$error":"#DIV/0!"}},0,null,null,null,null,0,0,{"$error":"#DIV/0!"}]
[null,null,null,null,null,null,null,null,113,{"$f":"'front utente'!C139","v":"00:00:00"},{"$f":"'front utente'!D139","v":"00:00:00"},{"$f":"'front utente'!I139","v":0},{"$f":"'front utente'!E139/'front utente'!G139","v":{"$error":"#DIV/0!"}},0,null,null,null,null,0,0,{"$error":"#DIV/0!"}]
[null,null,null,null,null,null,null,null,114,{"$f":"'front utente'!C140","v":"00:00:00"},{"$f":"'front utente'!D140","v":"00:00:00"},{"$f":"'front utente'!I140","v":0},{"$f":"'front utente'!E140/'front utente'!G140","v":{"$error":"#DIV/0!"}},0,null,null,null,null,0,0,{"$error":"#DIV/0!"}]
[null,null,null,null,null,null,null,null,115,{"$f":"'front utente'!C141","v":"00:00:00"},{"$f":"'front utente'!D141","v":"00:00:00"},{"$f":"'front utente'!I141","v":0},{"$f":"'front utente'!E141/'front utente'!G141","v":{"$error":"#DIV/0!"}},0,null,null,null,null,0,0,{"$error":"#DIV/0!"}]
[null,null,null,null,null,null,null,null,116,{"$f":"'front utente'!C142","v":"00:00:00"},{"$f":"'front utente'!D142","v":"00:00:00"},{"$f":"'front utente'!I142","v":0},{"$f":"'front utente'!E142/'front utente'!G142","v":{"$error":"#DIV/0!"}},0,null,null,null,null,0,0,{"$error":"#DIV/0!"}]
[null,null,null,null,null,null,null,null,117,{"$f":"'front utente'!C143","v":"00:00:00"},{"$f":"'front utente'!D143","v":"00:00:00"},{"$f":"'front utente'!I143","v":0},{"$f":"'front utente'!E143/'front utente'!G143","v":{"$error":"#DIV/0!"}},0,null,null,null,null,0,0,{"$error":"#DIV/0!"}]
[null,null,null,null,null,null,null,null,118,{"$f":"'front utente'!C144","v":"00:00:00"},{"$f":"'front utente'!D144","v":"00:00:00"},{"$f":"'front utente'!I144","v":0},{"$f":"'front utente'!E144/'front utente'!G144","v":{"$error":"#DIV/0!"}},0,null,null,null,null,0,0,{"$error":"#DIV/0!"}]
[null,null,null,null,null,null,null,null,119,{"$f":"'front utente'!C145","v":"00:00:00"},{"$f":"'front utente'!D145","v":"00:00:00"},{"$f":"'front utente'!I145","v":0},{"$f":"'front utente'!E145/'front utente'!G145","v":{"$error":"#DIV/0!"}},0,null,null,null,null,0,0,{"$error":"#DIV/0!"}]
[null,null,null,null,null,null,null,null,120,{"$f":"'front utente'!C146","v":"00:00:00"},{"$f":"'front utente'!D146","v":"00:00:00"},{"$f":"'front utente'!I146","v":0},{"$f":"'front utente'!E146/'front utente'!G146","v":{"$error":"#DIV/0!"}},0,null,null,null,null,0,0,{"$error":"#DIV/0!"}]
[null,null,null,null,null,null,null,null,121,{"$f":"'front utente'!C147","v":"00:00:00"},{"$f":"'front utente'!D147","v":"00:00:00"},{"$f":"'front utente'!I147","v":0},{"$f":"'front utente'!E147/'front utente'!G147","v":{"$error":"#DIV/0!"}},0,null,null,null,null,0,0,{"$error":"#DIV/0!"}]
[null,null,null,null,null,null,null,null,122,{"$f":"'front utente'!C148","v":"00:00:00"},{"$f":"'front utente'!D148","v":"00:00:00"},{"$f":"'front utente'!I148","v":0},{"$f":"'front utente'!E148/'front utente'!G148","v":{"$error":"#DIV/0!"}},0,null,null,null,null,0,0,{"$error":"#DIV/0!"}]
[null,null,null,null,null,null,null,null,123,{"$f":"'front utente'!C149","v":"00:00:00"},{"$f":"'front utente'!D149","v":"00:00:00"},{"$f":"'front utente'!I149","v":0},{"$f":"'front utente'!E149/'front utente'!G149","v":{"$error":"#DIV/0!"}},0,null,null,null,null,0,0,{"$error":"#DIV/0!"}]
[null,null,null,null,null,null,null,null,124,{"$f":"'front utente'!C150","v":"00:00:00"},{"$f":"'front utente'!D150","v":"00:00:00"},{"$f":"'front utente'!I150","v":0},{"$f":"'front utente'!E150/'front utente'!G150","v":{"$error":"#DIV/0!"}},0,null,null,null,null,0,0,{"$error":"#DIV/0!"}]
[null,null,null,null,null,null,null,null,125,{"$f":"'front utente'!C151","v":"00:00:00"},{"$f":"'front utente'!D151","v":"00:00:00"},{"$f":"'front utente'!I151","v":0},{"$f":"'front utente'!E151/'front utente'!G151","v":{"$error":"#DIV/0!"}},0,null,null,null,null,0,0,{"$error":"#DIV/0!"}]
[null,null,null,null,null,null,null,null,126,{"$f":"'front utente'!C152","v":"00:00:00"},{"$f":"'front utente'!D152","v":"00:00:00"},{"$f":"'front utente'!I152","v":0},{"$f":"'front utente'!E152/'front utente'!G152","v":{"$error":"#DIV/0!"}},0,null,null,null,null,0,0,{"$error":"#DIV/0!"}]
[null,null,null,null,null,null,null,null,127,{"$f":"'front utente'!C153","v":"00:00:00"},{"$f":"'front utente'!D153","v":"00:00:00"},{"$f":"'front utente'!I153","v":0},{"$f":"'front utente'!E153/'front utente'!G153","v":{"$error":"#DIV/0!"}},0,null,null,null,null,0,0,{"$error":"#DIV/0!"}]
[null,null,null,null,null,null,null,null,128,{"$f":"'front utente'!C154","v":"00:00:00"},{"$f":"'front utente'!D154","v":"00:00:00"},{"$f":"'front utente'!I154","v":0},{"$f":"'front utente'!E154/'front utente'!G154","v":{"$error":"#DIV/0!"}},0,null,null,null,null,0,0,{"$error":"#DIV/0!"}]
[null,null,null,null,null,null,null,null,129,{"$f":"'front utente'!C155","v":"00:00:00"},{"$f":"'front utente'!D155","v":"00:00:00"},{"$f":"'front utente'!I155","v":0},{"$f":"'front utente'!E155/'front utente'!G155","v":{"$error":"#DIV/0!"}},0,null,null,null,null,0,0,{"$error":"#DIV/0!"}]
[null,null,null,null,null,null,null,null,130,{"$f":"'front utente'!C156","v":"00:00:00"},{"$f":"'front utente'!D156","v":"00:00:00"},{"$f":"'front utente'!I156","v":0},{"$f":"'front utente'!E156/'front utente'!G156","v":{"$error":"#DIV/0!"}},0,null,null,null,null,0,0,{"$f":"365/L141","v":{"$error":"#DIV/0!"}}]
[null,null,null,null,null,null,null,null,131,{"$f":"'front utente'!C157","v":"00:00:00"},{"$f":"'front utente'!D157","v":"00:00:00"},{"$f":"'front utente'!I157","v":0},{"$f":"'front utente'!E157/'front utente'!G157","v":{"$error":"#DIV/0!"}},0,null,null,null,null,0,0,{"$error":"#DIV/0!"}]
[null,null,null,null,null,null,null,null,132,{"$f":"'front utente'!C158","v":"00:00:00"},{"$f":"'front utente'!D158","v":"00:00:00"},{"$f":"'front utente'!I158","v":0},{"$f":"'front utente'!E158/'front utente'!G158","v":{"$error":"#DIV/0!"}},0,null,null,null,null,0,0,{"$error":"#DIV/0!"}]
[null,null,null,null,null,null,null,null,133,{"$f":"'front utente'!C159","v":"00:00:00"},{"$f":"'front utente'!D159","v":"00:00:00"},{"$f":"'front utente'!I159","v":0},{"$f":"'front utente'!E159/'front utente'!G159","v":{"$error":"#DIV/0!"}},0,null,null,null,null,0,0,{"$error":"#DIV/0!"}]
[null,null,null,null,null,null,null,null,134,{"$f":"'front utente'!C160","v":"00:00:00"},{"$f":"'front utente'!D160","v":"00:00:00"},{"$f":"'front utente'!I160","v":0},{"$f":"'front utente'!E160/'front utente'!G160","v":{"$error":"#DIV/0!"}},0,null,null,null,null,0,0,{"$error":"#DIV/0!"}]
[null,null,null,null,null,null,null,null,135,{"$f":"'front utente'!C161","v":"00:00:00"},{"$f":"'front utente'!D161","v":"00:00:00"},{"$f":"'front utente'!I161","v":0},{"$f":"'front utente'!E161/'front utente'!G161","v":{"$error":"#DIV/0!"}},0,null,null,null,null,0,0,{"$error":"#DIV/0!"}]
[null,null,null,null,null,null,null,null,136,{"$f":"'front utente'!C162","v":"00:00:00"},{"$f":"'front utente'!D162","v":"00:00:00"},{"$f":"'front utente'!I162","v":0},{"$f":"'front utente'!E162/'front utente'!G162","v":{"$error":"#DIV/0!"}},0,null,null,null,null,0,0,{"$error":"#DIV/0!"}]
[null,null,null,null,null,null,null,null,137,{"$f":"'front utente'!C163","v":"00:00:00"},{"$f":"'front utente'!D163","v":"00:00:00"},{"$f":"'front utente'!I163","v":0},{"$f":"'front utente'!E163/'front utente'!G163","v":{"$error":"#DIV/0!"}},0,null,null,null,null,0,0,{"$error":"#DIV/0!"}]
[null,null,null,null,null,null,null,null,138,{"$f":"'front utente'!C164","v":"00:00:00"},{"$f":"'front utente'!D164","v":"00:00:00"},{"$f":"'front utente'!I164","v":0},{"$f":"'front utente'!E164/'front utente'!G164","v":{"$error":"#DIV/0!"}},0,null,null,null,null,0,0,{"$error":"#DIV/0!"}]
[null,null,null,null,null,null,null,null,139,{"$f":"'front utente'!C165","v":"00:00:00"},{"$f":"'front utente'!D165","v":"00:00:00"},{"$f":"'front utente'!I165","v":0},{"$f":"'front utente'!E165/'front utente'!G165","v":{"$error":"#DIV/0!"}},0,null,null,null,null,0,0,{"$error":"#DIV/0!"}]
[null,null,null,null,null,null,null,null,140,{"$f":"'front utente'!C166","v":"00:00:00"},{"$f":"'front utente'!D166","v":"00:00:00"},{"$f":"'front utente'!I166","v":0},{"$f":"'front utente'!E166/'front utente'!G166","v":{"$error":"#DIV/0!"}},0,null,null,null,null,0,0,{"$error":"#DIV/0!"}]
[null,null,null,null,null,null,null,null,141,{"$f":"'front utente'!C167","v":"00:00:00"},{"$f":"'front utente'!D167","v":"00:00:00"},{"$f":"'front utente'!I167","v":0},{"$f":"'front utente'!E167/'front utente'!G167","v":{"$error":"#DIV/0!"}},0,null,null,null,null,0,0,{"$error":"#DIV/0!"}]
[null,null,null,null,null,null,null,null,142,{"$f":"'front utente'!C168","v":"00:00:00"},{"$f":"'front utente'!D168","v":"00:00:00"},{"$f":"'front utente'!I168","v":0},{"$f":"'front utente'!E168/'front utente'!G168","v":{"$error":"#DIV/0!"}},0,null,null,null,null,0,0,{"$error":"#DIV/0!"}]
[null,null,null,null,null,null,null,null,143,{"$f":"'front utente'!C169","v":"00:00:00"},{"$f":"'front utente'!D169","v":"00:00:00"},{"$f":"'front utente'!I169","v":0},{"$f":"'front utente'!E169/'front utente'!G169","v":{"$error":"#DIV/0!"}},0,null,null,null,null,0,0,{"$error":"#DIV/0!"}]
[null,null,null,null,null,null,null,null,144,{"$f":"'front utente'!C170","v":"00:00:00"},{"$f":"'front utente'!D170","v":"00:00:00"},{"$f":"'front utente'!I170","v":0},{"$f":"'front utente'!E170/'front utente'!G170","v":{"$error":"#DIV/0!"}},0,null,null,null,null,0,0,{"$error":"#DIV/0!"}]
[null,null,null,null,null,null,null,null,145,{"$f":"'front utente'!C171","v":"00:00:00"},{"$f":"'front utente'!D171","v":"00:00:00"},{"$f":"'front utente'!I171","v":0},{"$f":"'front utente'!E171/'front utente'!G171","v":{"$error":"#DIV/0!"}},0,null,null,null,null,0,0,{"$error":"#DIV/0!"}]
[null,null,null,null,null,null,null,null,146,{"$f":"'front utente'!C172","v":"00:00:00"},{"$f":"'front utente'!D172","v":"00:00:00"},{"$f":"'front utente'!I172","v":0},{"$f":"'front utente'!E172/'front utente'!G172","v":{"$error":"#DIV/0!"}},0,null,null,null,null,0,0,{"$error":"#DIV/0!"}]
[null,null,null,null,null,null,null,null,147,{"$f":"'front utente'!C173","v":"00:00:00"},{"$f":"'front utente'!D173","v":"00:00:00"},{"$f":"'front utente'!I173","v":0},{"$f":"'front utente'!E173/'front utente'!G173","v":{"$error":"#DIV/0!"}},{"$f":"IF(L158=0,0,VLOOKUP(J158,$B$12:$E$42,3,1)+Q158*R158*U158)","v":0},null,null,null,null,0,0,{"$error":"#DIV/0!"}]
[null,null,null,null,null,null,null,null,148,{"$f":"'front utente'!C174","v":"00:00:00"},{"$f":"'front utente'!D174","v":"00:00:00"},{"$f":"'front utente'!I174","v":0},{"$f":"'front utente'!E174/'front utente'!G174","v":{"$error":"#DIV/0!"}},0,null,null,null,null,0,0,{"$error":"#DIV/0!"}]
[null,null,null,null,null,null,null,null,149,{"$f":"'front utente'!C175","v":"00:00:00"},{"$f":"'front utente'!D175","v":"00:00:00"},{"$f":"'front utente'!I175","v":0},{"$f":"'front utente'!E175/'front utente'!G175","v":{"$error":"#DIV/0!"}},0,null,null,null,null,0,0,{"$error":"#DIV/0!"}]
[null,null,null,null,null,null,null,null,150,{"$f":"'front utente'!C176","v":"00:00:00"},{"$f":"'front utente'!D176","v":"00:00:00"},{"$f":"'front utente'!I176","v":0},{"$f":"'front utente'!E176/'front utente'!G176","v":{"$error":"#DIV/0!"}},0,null,null,null,null,0,0,{"$error":"#DIV/0!"}]
[null,null,null,null,null,null,null,null,151,{"$f":"'front utente'!C177","v":"00:00:00"},{"$f":"'front utente'!D177","v":"00:00:00"},{"$f":"'front utente'!I177","v":0},{"$f":"'front utente'!E177/'front utente'!G177","v":{"$error":"#DIV/0!"}},0,null,null,null,null,0,0,{"$error":"#DIV/0!"}]
[null,null,null,null,null,null,null,null,152,{"$f":"'front utente'!C178","v":"00:00:00"},{"$f":"'front utente'!D178","v":"00:00:00"},{"$f":"'front utente'!I178","v":0},{"$f":"'front utente'!E178/'front utente'!G178","v":{"$error":"#DIV/0!"}},0,null,null,null,null,0,0,{"$error":"#DIV/0!"}]
[null,null,null,null,null,null,null,null,153,{"$f":"'front utente'!C179","v":"00:00:00"},{"$f":"'front utente'!D179","v":"00:00:00"},{"$f":"'front utente'!I179","v":0},{"$f":"'front utente'!E179/'front utente'!G179","v":{"$error":"#DIV/0!"}},0,null,null,null,null,0,0,{"$error":"#DIV/0!"}]
[null,null,null,null,null,null,null,null,154,{"$f":"'front utente'!C180","v":"00:00:00"},{"$f":"'front utente'!D180","v":"00:00:00"},{"$f":"'front utente'!I180","v":0},{"$f":"'front utente'!E180/'front utente'!G180","v":{"$error":"#DIV/0!"}},0,null,null,null,null,0,0,{"$error":"#DIV/0!"}]
[null,null,null,null,null,null,null,null,155,{"$f":"'front utente'!C181","v":"00:00:00"},{"$f":"'front utente'!D181","v":"00:00:00"},{"$f":"'front utente'!I181","v":0},{"$f":"'front utente'!E181/'front utente'!G181","v":{"$error":"#DIV/0!"}},0,null,null,null,null,0,0,{"$error":"#DIV/0!"}]
[null,null,null,null,null,null,null,null,156,{"$f":"'front utente'!C182","v":"00:00:00"},{"$f":"'front utente'!D182","v":"00:00:00"},{"$f":"'front utente'!I182","v":0},{"$f":"'front utente'!E182/'front utente'!G182","v":{"$error":"#DIV/0!"}},0,null,null,null,null,0,0,{"$error":"#DIV/0!"}]
[null,null,null,null,null,null,null,null,157,{"$f":"'front utente'!C183","v":"00:00:00"},{"$f":"'front utente'!D183","v":"00:00:00"},{"$f":"'front utente'!I183","v":0},{"$f":"'front utente'!E183/'front utente'!G183","v":{"$error":"#DIV/0!"}},0,null,null,null,null,0,0,{"$error":"#DIV/0!"}]
[null,null,null,null,null,null,null,null,158,{"$f":"'front utente'!C184","v":"00:00:00"},{"$f":"'front utente'!D184","v":"00:00:00"},{"$f":"'front utente'!I184","v":0},{"$f":"'front utente'!E184/'front utente'!G184","v":{"$error":"#DIV/0!"}},0,null,null,null,null,0,0,{"$error":"#DIV/0!"}]
[null,null,null,null,null,null,null,null,159,{"$f":"'front utente'!C185","v":"00:00:00"},{"$f":"'front utente'!D185","v":"00:00:00"},{"$f":"'front utente'!I185","v":0},{"$f":"'front utente'!E185/'front utente'!G185","v":{"$error":"#DIV/0!"}},0,null,null,null,null,0,0,{"$error":"#DIV/0!"}]
[null,null,null,null,null,null,null,null,160,{"$f":"'front utente'!C186","v":"00:00:00"},{"$f":"'front utente'!D186","v":"00:00:00"},{"$f":"'front utente'!I186","v":0},{"$f":"'front utente'!E186/'front utente'!G186","v":{"$error":"#DIV/0!"}},0,null,null,null,null,0,0,{"$error":"#DIV/0!"}]
[null,null,null,null,null,null,null,null,161,{"$f":"'front utente'!C187","v":"00:00:00"},{"$f":"'front utente'!D187","v":"00:00:00"},{"$f":"'front utente'!I187","v":0},{"$f":"'front utente'!E187/'front utente'!G187","v":{"$error":"#DIV/0!"}},0,null,null,null,null,0,0,{"$error":"#DIV/0!"}]
[null,null,null,null,null,null,null,null,162,{"$f":"'front utente'!C188","v":"00:00:00"},{"$f":"'front utente'!D188","v":"00:00:00"},{"$f":"'front utente'!I188","v":0},{"$f":"'front utente'!E188/'front utente'!G188","v":{"$error":"#DIV/0!"}},0,null,null,null,null,0,0,{"$error":"#DIV/0!"}]
[null,null,null,null,null,null,null,null,163,{"$f":"'front utente'!C189","v":"00:00:00"},{"$f":"'front utente'!D189","v":"00:00:00"},{"$f":"'front utente'!I189","v":0},{"$f":"'front utente'!E189/'front utente'!G189","v":{"$error":"#DIV/0!"}},0,null,null,null,null,0,0,{"$error":"#DIV/0!"}]
[null,null,null,null,null,null,null,null,164,{"$f":"'front utente'!C190","v":"00:00:00"},{"$f":"'front utente'!D190","v":"00:00:00"},{"$f":"'front utente'!I190","v":0},{"$f":"'front utente'!E190/'front utente'!G190","v":{"$error":"#DIV/0!"}},0,null,null,null,null,0,0,{"$error":"#DIV/0!"}]
[null,null,null,null,null,null,null,null,{"$f":"I175+1","v":165},{"$f":"'front utente'!C191","v":"00:00:00"},{"$f":"'front utente'!D191","v":"00:00:00"},{"$f":"'front utente'!I191","v":0},{"$f":"'front utente'!E191/'front utente'!G191","v":{"$error":"#DIV/0!"}},0,null,null,null,null,{"$f":"IF(L176>0,VLOOKUP(J176,$B$12:$E$42,4,1),0)","v":0},{"$f":"IF(L176>0,VLOOKUP(K176,$B$12:$E$42,3,1),0)","v":0},{"$error":"#DIV/0!"}]
[null,null,null,null,null,null,null,null,166,{"$f":"'front utente'!C192","v":"00:00:00"},{"$f":"'front utente'!D192","v":"00:00:00"},{"$f":"'front utente'!I192","v":0},{"$f":"'front utente'!E192/'front utente'!G192","v":{"$error":"#DIV/0!"}},0,null,null,null,null,0,0,{"$error":"#DIV/0!"}]
[null,null,null,null,null,null,null,null,167,{"$f":"'front utente'!C193","v":"00:00:00"},{"$f":"'front utente'!D193","v":"00:00:00"},{"$f":"'front utente'!I193","v":0},{"$f":"'front utente'!E193/'front utente'!G193","v":{"$error":"#DIV/0!"}},0,null,null,null,null,0,0,{"$error":"#DIV/0!"}]
[null,null,null,null,null,null,null,null,168,{"$f":"'front utente'!C194","v":"00:00:00"},{"$f":"'front utente'!D194","v":"00:00:00"},{"$f":"'front utente'!I194","v":0},{"$f":"'front utente'!E194/'front utente'!G194","v":{"$error":"#DIV/0!"}},0,null,null,null,null,0,0,{"$error":"#DIV/0!"}]
[null,null,null,null,null,null,null,null,169,{"$f":"'front utente'!C195","v":"00:00:00"},{"$f":"'front utente'!D195","v":"00:00:00"},{"$f":"'front utente'!I195","v":0},{"$f":"'front utente'!E195/'front utente'!G195","v":{"$error":"#DIV/0!"}},0,null,null,null,null,0,0,{"$error":"#DIV/0!"}]
[null,null,null,null,null,null,null,null,170,{"$f":"'front utente'!C196","v":"00:00:00"},{"$f":"'front utente'!D196","v":"00:00:00"},{"$f":"'front utente'!I196","v":0},{"$f":"'front utente'!E196/'front utente'!G196","v":{"$error":"#DIV/0!"}},0,null,null,null,null,0,0,{"$error":"#DIV/0!"}]
[null,null,null,null,null,null,null,null,171,{"$f":"'front utente'!C197","v":"00:00:00"},{"$f":"'front utente'!D197","v":"00:00:00"},{"$f":"'front utente'!I197","v":0},{"$f":"'front utente'!E197/'front utente'!G197","v":{"$error":"#DIV/0!"}},0,null,null,null,null,0,0,{"$error":"#DIV/0!"}]
[null,null,null,null,null,null,null,null,172,{"$f":"'front utente'!C198","v":"00:00:00"},{"$f":"'front utente'!D198","v":"00:00:00"},{"$f":"'front utente'!I198","v":0},{"$f":"'front utente'!E198/'front utente'!G198","v":{"$error":"#DIV/0!"}},0,null,null,null,null,0,0,{"$error":"#DIV/0!"}]
[null,null,null,null,null,null,null,null,173,{"$f":"'front utente'!C199","v":"00:00:00"},{"$f":"'front utente'!D199","v":"00:00:00"},{"$f":"'front utente'!I199","v":0},{"$f":"'front utente'!E199/'front utente'!G199","v":{"$error":"#DIV/0!"}},0,null,null,null,null,0,0,{"$error":"#DIV/0!"}]
[null,null,null,null,null,null,null,null,174,{"$f":"'front utente'!C200","v":"00:00:00"},{"$f":"'front utente'!D200","v":"00:00:00"},{"$f":"'front utente'!I200","v":0},{"$f":"'front utente'!E200/'front utente'!G200","v":{"$error":"#DIV/0!"}},0,null,null,null,null,0,0,{"$error":"#DIV/0!"}]
[null,null,null,null,null,null,null,null,175,{"$f":"'front utente'!C201","v":"00:00:00"},{"$f":"'front utente'!D201","v":"00:00:00"},{"$f":"'front utente'!I201","v":0},{"$f":"'front utente'!E201/'front utente'!G201","v":{"$error":"#DIV/0!"}},0,null,null,null,null,0,0,{"$error":"#DIV/0!"}]
[null,null,null,null,null,null,null,null,176,{"$f":"'front utente'!C202","v":"00:00:00"},{"$f":"'front utente'!D202","v":"00:00:00"},{"$f":"'front utente'!I202","v":0},{"$f":"'front utente'!E202/'front utente'!G202","v":{"$error":"#DIV/0!"}},0,null,null,null,null,0,0,{"$error":"#DIV/0!"}]
[null,null,null,null,null,null,null,null,177,{"$f":"'front utente'!C203","v":"00:00:00"},{"$f":"'front utente'!D203","v":"00:00:00"},{"$f":"'front utente'!I203","v":0},{"$f":"'front utente'!E203/'front utente'!G203","v":{"$error":"#DIV/0!"}},0,null,null,null,null,0,0,{"$error":"#DIV/0!"}]
[null,null,null,null,null,null,null,null,178,{"$f":"'front utente'!C204","v":"00:00:00"},{"$f":"'front utente'!D204","v":"00:00:00"},{"$f":"'front utente'!I204","v":0},{"$f":"'front utente'!E204/'front utente'!G204","v":{"$error":"#DIV/0!"}},0,null,null,null,null,0,0,{"$error":"#DIV/0!"}]
[null,null,null,null,null,null,null,null,179,{"$f":"'front utente'!C205","v":"00:00:00"},{"$f":"'front utente'!D205","v":"00:00:00"},{"$f":"'front utente'!I205","v":0},{"$f":"'front utente'!E205/'front utente'!G205","v":{"$error":"#DIV/0!"}},0,null,null,null,null,0,0,{"$error":"#DIV/0!"}]
[null,null,null,null,null,null,null,null,180,{"$f":"'front utente'!C206","v":"00:00:00"},{"$f":"'front utente'!D206","v":"00:00:00"},{"$f":"'front utente'!I206","v":0},{"$f":"'front utente'!E206/'front utente'!G206","v":{"$error":"#DIV/0!"}},0,null,null,null,null,0,0,{"$error":"#DIV/0!"}]
[null,null,null,null,null,null,null,null,181,{"$f":"'front utente'!C207","v":"00:00:00"},{"$f":"'front utente'!D207","v":"00:00:00"},{"$f":"'front utente'!I207","v":0},{"$f":"'front utente'!E207/'front utente'!G207","v":{"$error":"#DIV/0!"}},0,null,null,null,null,0,0,{"$error":"#DIV/0!"}]
[null,null,null,null,null,null,null,null,182,{"$f":"'front utente'!C208","v":"00:00:00"},{"$f":"'front utente'!D208","v":"00:00:00"},{"$f":"'front utente'!I208","v":0},{"$f":"'front utente'!E208/'front utente'!G208","v":{"$error":"#DIV/0!"}},0,null,null,null,null,0,0,{"$error":"#DIV/0!"}]
[null,null,null,null,null,null,null,null,183,{"$f":"'front utente'!C209","v":"00:00:00"},{"$f":"'front utente'!D209","v":"00:00:00"},{"$f":"'front utente'!I209","v":0},{"$f":"'front utente'!E209/'front utente'!G209","v":{"$error":"#DIV/0!"}},0,null,null,null,null,0,0,{"$error":"#DIV/0!"}]
[]
[]
[null,null,null,"La tabella sottostante può essere stampata ed allegata al decreto.\nE' possibile anche  fare il copia e incolla della tabella sottostante, per riportarla su un foglio Word"]
[]
[]
[null,null,null,null,null,null,"Calcolo DIfferenze spettanti"]
[]
[null,null,null,"Nominativo:",{"$f":"'front utente'!E11","v":0},null,null,null,null,null,"cod. fisc:",{"$f":"'front utente'!L11","v":0}]
[null,null,null,"qualifica:",{"$f":"'front utente'!K13","v":"Docente scuola Media e laureato 1 grado"}]
[]
[null,null,null,"PERIODI DI LAVORO SVOLTI OGGETTO DEL RICORSO:"]
[]
[null,null,null,"DAL","AL",null,"N. GIORNI \n(A)","ORE\n(B)","SU ","ORE\n(C)","STIPENDIO TABELLARE ANNUO LORDO PREVISTO A SEGUITO RICONOSCIMENTO\n(D)","STIPENDIO TABELLARE ANNUO LORDO SUPPLENTE\n(E)","Calcolo differenza spettante nel singolo periodo \n= (D-E)/365 x A x (B/C)"]
[null,null,1,{"$f":"IF(L12>0,J12:J12,\"\")","v":""},{"$f":"IF(L12>0,K12:K12,\"\")","v":""},null,{"$f":"IF(L12>0,L12:L12,\"\")","v":""},{"$f":"IF(AND(  L12>0,'front utente'!E27>0),'front utente'!E27,\"\")","v":""},{"$f":"IF(J208<>\"\",H208/J208,1)","v":1},{"$f":"IF(AND(  N12>0,'front utente'!G27>0),'front utente'!G27,\"\")","v":""},{"$f":"IF(L12>0,N12,\"\")","v":""},{"$f":"IF(  L12>0,IF(      YEAR(D208)<1997,K208,IF( L12>0,S12,\"\")),\"\")","v":""},{"$f":"IF(G208<>\"\",(K208-L208)/365*G208*(I208),0)","v":0}]
[null,null,{"$f":"C208+1","v":2},"","",null,"",{"$f":"IF(AND(  L13>0,'front utente'!E28>0),'front utente'!E28,\"\")","v":""},{"$f":"IF(J209<>\"\",H209/J209,1)","v":1},{"$f":"IF(AND(  N13>0,'front utente'!G28>0),'front utente'!G28,\"\")","v":""},"",{"$f":"IF(  L13>0,IF(      YEAR(D209)<1997,K209,IF( L13>0,S13,\"\")),\"\")","v":""},{"$f":"IF(G209<>\"\",(K209-L209)/365*G209*(I209),0)","v":0}]
[null,null,3,"","",null,"",{"$f":"IF(AND(  L14>0,'front utente'!E29>0),'front utente'!E29,\"\")","v":""},1,{"$f":"IF(AND(  N14>0,'front utente'!G29>0),'front utente'!G29,\"\")","v":""},"","",0]
[null,null,4,"","",null,"",{"$f":"IF(AND(  L15>0,'front utente'!E30>0),'front utente'!E30,\"\")","v":""},1,{"$f":"IF(AND(  N15>0,'front utente'!G30>0),'front utente'!G30,\"\")","v":""},"","",0]
[null,null,5,"","",null,"",{"$f":"IF(AND(  L16>0,'front utente'!E31>0),'front utente'!E31,\"\")","v":""},1,{"$f":"IF(AND(  N16>0,'front utente'!G31>0),'front utente'!G31,\"\")","v":""},"","",0]
[null,null,6,"","",null,"",{"$f":"IF(AND(  L17>0,'front utente'!E32>0),'front utente'!E32,\"\")","v":""},1,{"$f":"IF(AND(  N17>0,'front utente'!G32>0),'front utente'!G32,\"\")","v":""},"","",0]
[null,null,7,"","",null,"",{"$f":"IF(AND(  L18>0,'front utente'!E33>0),'front utente'!E33,\"\")","v":""},1,{"$f":"IF(AND(  N18>0,'front utente'!G33>0),'front utente'!G33,\"\")","v":""},"","",0]
[null,null,8,"","",null,"",{"$f":"IF(AND(  L19>0,'front utente'!E34>0),'front utente'!E34,\"\")","v":""},1,{"$f":"IF(AND(  N19>0,'front utente'!G34>0),'front utente'!G34,\"\")","v":""},"","",0]
[null,null,9,"","",null,"",{"$f":"IF(AND(  L20>0,'front utente'!E35>0),'front utente'!E35,\"\")","v":""},1,{"$f":"IF(AND(  N20>0,'front utente'!G35>0),'front utente'!G35,\"\")","v":""},"","",0]
[null,null,10,"","",null,"",{"$f":"IF(AND(  L21>0,'front utente'!E36>0),'front utente'!E36,\"\")","v":""},1,{"$f":"IF(AND(  N21>0,'front utente'!G36>0),'front utente'!G36,\"\")","v":""},"","",0]
[null,null,11,"","",null,"",{"$f":"IF(AND(  L22>0,'front utente'!E37>0),'front utente'!E37,\"\")","v":""},1,{"$f":"IF(AND(  N22>0,'front utente'!G37>0),'front utente'!G37,\"\")","v":""},"","",0]
[null,null,12,"","",null,"",{"$f":"IF(AND(  L23>0,'front utente'!E38>0),'front utente'!E38,\"\")","v":""},1,{"$f":"IF(AND(  N23>0,'front utente'!G38>0),'front utente'!G38,\"\")","v":""},"","",0]
[null,null,13,"","",null,"",{"$f":"IF(AND(  L24>0,'front utente'!E39>0),'front utente'!E39,\"\")","v":""},1,{"$f":"IF(AND(  N24>0,'front utente'!G39>0),'front utente'!G39,\"\")","v":""},"","",0]
[null,null,14,"","",null,"",{"$f":"IF(AND(  L25>0,'front utente'!E40>0),'front utente'!E40,\"\")","v":""},1,{"$f":"IF(AND(  N25>0,'front utente'!G40>0),'front utente'!G40,\"\")","v":""},"","",0]
[null,null,15,"","",null,"",{"$f":"IF(AND(  L26>0,'front utente'!E41>0),'front utente'!E41,\"\")","v":""},1,{"$f":"IF(AND(  N26>0,'front utente'!G41>0),'front utente'!G41,\"\")","v":""},"","",0]
[null,null,16,"","",null,"",{"$f":"IF(AND(  L27>0,'front utente'!E42>0),'front utente'!E42,\"\")","v":""},1,{"$f":"IF(AND(  N27>0,'front utente'!G42>0),'front utente'!G42,\"\")","v":""},"","",0]
[null,null,17,"","",null,"",{"$f":"IF(AND(  L28>0,'front utente'!E43>0),'front utente'!E43,\"\")","v":""},1,{"$f":"IF(AND(  N28>0,'front utente'!G43>0),'front utente'!G43,\"\")","v":""},"","",0]
[null,null,18,"","",null,"",{"$f":"IF(AND(  L29>0,'front utente'!E44>0),'front utente'!E44,\"\")","v":""},1,{"$f":"IF(AND(  N29>0,'front utente'!G44>0),'front utente'!G44,\"\")","v":""},"","",0]
[null,null,19,"","",null,"",{"$f":"IF(AND(  L30>0,'front utente'!E45>0),'front utente'!E45,\"\")","v":""},1,{"$f":"IF(AND(  N30>0,'front utente'!G45>0),'front utente'!G45,\"\")","v":""},"","",0]
[null,null,20,"","",null,"",{"$f":"IF(AND(  L31>0,'front utente'!E46>0),'front utente'!E46,\"\")","v":""},1,{"$f":"IF(AND(  N31>0,'front utente'!G46>0),'front utente'!G46,\"\")","v":""},"","",0]
[null,null,21,"","",null,"",{"$f":"IF(AND(  L32>0,'front utente'!E47>0),'front utente'!E47,\"\")","v":""},1,{"$f":"IF(AND(  N32>0,'front utente'!G47>0),'front utente'!G47,\"\")","v":""},"","",0]
[null,null,22,"","",null,"",{"$f":"IF(AND(  L33>0,'front utente'!E48>0),'front utente'!E48,\"\")","v":""},1,{"$f":"IF(AND(  N33>0,'front utente'!G48>0),'front utente'!G48,\"\")","v":""},"","",0]
[null,null,23,"","",null,"",{"$f":"IF(AND(  L34>0,'front utente'!E49>0),'front utente'!E49,\"\")","v":""},1,{"$f":"IF(AND(  N34>0,'front utente'!G49>0),'front utente'!G49,\"\")","v":""},"",{"$f":"IF(  L34>0,IF(      YEAR(D230)<1997,K230,IF( L34>0,S34,\"\")),\"\")","v":""},0]
[null,null,24,"","",null,"",{"$f":"IF(AND(  L35>0,'front utente'!E50>0),'front utente'!E50,\"\")","v":""},1,{"$f":"IF(AND(  N35>0,'front utente'!G50>0),'front utente'!G50,\"\")","v":""},"",{"$f":"IF(  L35>0,IF(      YEAR(D231)<1997,K231,IF( L35>0,S35,\"\")),\"\")","v":""},0]
[null,null,25,"","",null,"",{"$f":"IF(AND(  L36>0,'front utente'!E51>0),'front utente'!E51,\"\")","v":""},1,{"$f":"IF(AND(  N36>0,'front utente'!G51>0),'front utente'!G51,\"\")","v":""},"","",0]
[null,null,26,"","",null,"",{"$f":"IF(AND(  L37>0,'front utente'!E52>0),'front utente'!E52,\"\")","v":""},1,{"$f":"IF(AND(  N37>0,'front utente'!G52>0),'front utente'!G52,\"\")","v":""},"","",0]
[null,null,27,"","",null,"",{"$f":"IF(AND(  L38>0,'front utente'!E53>0),'front utente'!E53,\"\")","v":""},1,{"$f":"IF(AND(  N38>0,'front utente'!G53>0),'front utente'!G53,\"\")","v":""},"","",0]
[null,null,28,"","",null,"",{"$f":"IF(AND(  L39>0,'front utente'!E54>0),'front utente'!E54,\"\")","v":""},1,{"$f":"IF(AND(  N39>0,'front utente'!G54>0),'front utente'!G54,\"\")","v":""},"","",0]
[null,null,29,"","",null,"",{"$f":"IF(AND(  L40>0,'front utente'!E55>0),'front utente'!E55,\"\")","v":""},1,{"$f":"IF(AND(  N40>0,'front utente'!G55>0),'front utente'!G55,\"\")","v":""},"","",0]
[null,null,30,"","",null,"",{"$f":"IF(AND(  L41>0,'front utente'!E56>0),'front utente'!E56,\"\")","v":""},1,{"$f":"IF(AND(  N41>0,'front utente'!G56>0),'front utente'!G56,\"\")","v":""},"","",0]
[null,null,31,"","",null,"",{"$f":"IF(AND(  L42>0,'front utente'!E57>0),'front utente'!E57,\"\")","v":""},1,{"$f":"IF(AND(  N42>0,'front utente'!G57>0),'front utente'!G57,\"\")","v":""},"","",0]
[null,null,32,"","",null,"",{"$f":"IF(AND(  L43>0,'front utente'!E58>0),'front utente'!E58,\"\")","v":""},1,{"$f":"IF(AND(  N43>0,'front utente'!G58>0),'front utente'!G58,\"\")","v":""},"","",0]
[null,null,33,{"$f":"IF(L44>0,J44:J44,\"\")","v":""},{"$f":"IF(L44>0,K44:K44,\"\")","v":""},null,{"$f":"IF(L44>0,L44:L44,\"\")","v":""},{"$f":"IF(AND(  L44>0,'front utente'!E59>0),'front utente'!E59,\"\")","v":""},1,{"$f":"IF(AND(  N44>0,'front utente'!G59>0),'front utente'!G59,\"\")","v":""},{"$f":"IF(L44>0,N44,\"\")","v":""},"",0]
[null,null,{"$f":"C240+1","v":34},"","",null,"",{"$f":"IF(AND(  L45>0,'front utente'!E60>0),'front utente'!E60,\"\")","v":""},1,{"$f":"IF(AND(  N45>0,'front utente'!G60>0),'front utente'!G60,\"\")","v":""},"","",0]
[null,null,35,"","",null,"",{"$f":"IF(AND(  L46>0,'front utente'!E61>0),'front utente'!E61,\"\")","v":""},1,{"$f":"IF(AND(  N46>0,'front utente'!G61>0),'front utente'!G61,\"\")","v":""},"","",0]
[null,null,36,"","",null,"",{"$f":"IF(AND(  L47>0,'front utente'!E62>0),'front utente'!E62,\"\")","v":""},1,{"$f":"IF(AND(  N47>0,'front utente'!G62>0),'front utente'!G62,\"\")","v":""},"","",0]
[null,null,37,"","",null,"",{"$f":"IF(AND(  L48>0,'front utente'!E63>0),'front utente'!E63,\"\")","v":""},1,{"$f":"IF(AND(  N48>0,'front utente'!G63>0),'front utente'!G63,\"\")","v":""},"","",0]
[null,null,38,"","",null,"",{"$f":"IF(AND(  L49>0,'front utente'!E64>0),'front utente'!E64,\"\")","v":""},1,{"$f":"IF(AND(  N49>0,'front utente'!G64>0),'front utente'!G64,\"\")","v":""},"","",0]
[null,null,39,"","",null,"",{"$f":"IF(AND(  L50>0,'front utente'!E65>0),'front utente'!E65,\"\")","v":""},1,{"$f":"IF(AND(  N50>0,'front utente'!G65>0),'front utente'!G65,\"\")","v":""},"","",0]
[null,null,40,"","",null,"",{"$f":"IF(AND(  L51>0,'front utente'!E66>0),'front utente'!E66,\"\")","v":""},1,{"$f":"IF(AND(  N51>0,'front utente'!G66>0),'front utente'!G66,\"\")","v":""},"","",0]
[null,null,41,"","",null,"",{"$f":"IF(AND(  L52>0,'front utente'!E67>0),'front utente'!E67,\"\")","v":""},1,{"$f":"IF(AND(  N52>0,'front utente'!G67>0),'front utente'!G67,\"\")","v":""},"","",0]
[null,null,42,"","",null,"",{"$f":"IF(AND(  L53>0,'front utente'!E68>0),'front utente'!E68,\"\")","v":""},1,{"$f":"IF(AND(  N53>0,'front utente'!G68>0),'front utente'!G68,\"\")","v":""},"","",0]
[null,null,43,"","",null,"",{"$f":"IF(AND(  L54>0,'front utente'!E69>0),'front utente'!E69,\"\")","v":""},1,{"$f":"IF(AND(  N54>0,'front utente'!G69>0),'front utente'!G69,\"\")","v":""},"","",0]
[null,null,44,"","",null,"",{"$f":"IF(AND(  L55>0,'front utente'!E70>0),'front utente'!E70,\"\")","v":""},1,{"$f":"IF(AND(  N55>0,'front utente'!G70>0),'front utente'!G70,\"\")","v":""},"","",0]
[null,null,45,"","",null,"",{"$f":"IF(AND(  L56>0,'front utente'!E71>0),'front utente'!E71,\"\")","v":""},1,{"$f":"IF(AND(  N56>0,'front utente'!G71>0),'front utente'!G71,\"\")","v":""},"","",0]
[null,null,46,"","",null,"",{"$f":"IF(AND(  L57>0,'front utente'!E72>0),'front utente'!E72,\"\")","v":""},1,{"$f":"IF(AND(  N57>0,'front utente'!G72>0),'front utente'!G72,\"\")","v":""},"","",0]
[null,null,47,"","",null,"",{"$f":"IF(AND(  L58>0,'front utente'!E73>0),'front utente'!E73,\"\")","v":""},1,{"$f":"IF(AND(  N58>0,'front utente'!G73>0),'front utente'!G73,\"\")","v":""},"","",0]
[null,null,48,"","",null,"",{"$f":"IF(AND(  L59>0,'front utente'!E74>0),'front utente'!E74,\"\")","v":""},1,{"$f":"IF(AND(  N59>0,'front utente'!G74>0),'front utente'!G74,\"\")","v":""},"","",0]
[null,null,49,"","",null,"",{"$f":"IF(AND(  L60>0,'front utente'!E75>0),'front utente'!E75,\"\")","v":""},1,{"$f":"IF(AND(  N60>0,'front utente'!G75>0),'front utente'!G75,\"\")","v":""},"","",0]
[null,null,50,"","",null,"",{"$f":"IF(AND(  L61>0,'front utente'!E76>0),'front utente'!E76,\"\")","v":""},1,{"$f":"IF(AND(  N61>0,'front utente'!G76>0),'front utente'!G76,\"\")","v":""},"","",0]
[null,null,51,"","",null,"",{"$f":"IF(AND(  L62>0,'front utente'!E77>0),'front utente'!E77,\"\")","v":""},1,{"$f":"IF(AND(  N62>0,'front utente'!G77>0),'front utente'!G77,\"\")","v":""},"","",0]
[null,null,52,"","",null,"",{"$f":"IF(AND(  L63>0,'front utente'!E78>0),'front utente'!E78,\"\")","v":""},1,{"$f":"IF(AND(  N63>0,'front utente'!G78>0),'front utente'!G78,\"\")","v":""},"","",0]
[null,null,53,"","",null,"",{"$f":"IF(AND(  L64>0,'front utente'!E79>0),'front utente'!E79,\"\")","v":""},1,{"$f":"IF(AND(  N64>0,'front utente'!G79>0),'front utente'!G79,\"\")","v":""},"","",0]
[null,null,54,"","",null,"",{"$f":"IF(AND(  L65>0,'front utente'!E80>0),'front utente'!E80,\"\")","v":""},1,{"$f":"IF(AND(  N65>0,'front utente'!G80>0),'front utente'!G80,\"\")","v":""},"","",0]
[null,null,55,"","",null,"",{"$f":"IF(AND(  L66>0,'front utente'!E81>0),'front utente'!E81,\"\")","v":""},1,{"$f":"IF(AND(  N66>0,'front utente'!G81>0),'front utente'!G81,\"\")","v":""},"","",0]
[null,null,56,"","",null,"",{"$f":"IF(AND(  L67>0,'front utente'!E82>0),'front utente'!E82,\"\")","v":""},1,{"$f":"IF(AND(  N67>0,'front utente'!G82>0),'front utente'!G82,\"\")","v":""},"","",0]
[null,null,57,"","",null,"",{"$f":"IF(AND(  L68>0,'front utente'!E83>0),'front utente'!E83,\"\")","v":""},1,{"$f":"IF(AND(  N68>0,'front utente'!G83>0),'front utente'!G83,\"\")","v":""},"","",0]
[null,null,58,"","",null,"",{"$f":"IF(AND(  L69>0,'front utente'!E84>0),'front utente'!E84,\"\")","v":""},1,{"$f":"IF(AND(  N69>0,'front utente'!G84>0),'front utente'!G84,\"\")","v":""},"","",0]
[null,null,59,"","",null,"",{"$f":"IF(AND(  L70>0,'front utente'!E85>0),'front utente'!E85,\"\")","v":""},1,{"$f":"IF(AND(  N70>0,'front utente'!G85>0),'front utente'!G85,\"\")","v":""},"","",0]
[null,null,60,"","",null,"",{"$f":"IF(AND(  L71>0,'front utente'!E86>0),'front utente'!E86,\"\")","v":""},1,{"$f":"IF(AND(  N71>0,'front utente'!G86>0),'front utente'!G86,\"\")","v":""},"","",0]
[null,null,61,"","",null,"",{"$f":"IF(AND(  L72>0,'front utente'!E87>0),'front utente'!E87,\"\")","v":""},1,{"$f":"IF(AND(  N72>0,'front utente'!G87>0),'front utente'!G87,\"\")","v":""},"","",0]
[null,null,62,"","",null,"",{"$f":"IF(AND(  L73>0,'front utente'!E88>0),'front utente'!E88,\"\")","v":""},1,{"$f":"IF(AND(  N73>0,'front utente'!G88>0),'front utente'!G88,\"\")","v":""},"","",0]
[null,null,63,"","",null,"",{"$f":"IF(AND(  L74>0,'front utente'!E89>0),'front utente'!E89,\"\")","v":""},1,{"$f":"IF(AND(  N74>0,'front utente'!G89>0),'front utente'!G89,\"\")","v":""},"","",0]
[null,null,64,"","",null,"",{"$f":"IF(AND(  L75>0,'front utente'!E90>0),'front utente'!E90,\"\")","v":""},1,{"$f":"IF(AND(  N75>0,'front utente'!G90>0),'front utente'!G90,\"\")","v":""},"","",0]
[null,null,65,{"$f":"IF(L76>0,J76:J76,\"\")","v":""},{"$f":"IF(L76>0,K76:K76,\"\")","v":""},null,{"$f":"IF(L76>0,L76:L76,\"\")","v":""},{"$f":"IF(AND(  L76>0,'front utente'!E91>0),'front utente'!E91,\"\")","v":""},1,{"$f":"IF(AND(  N76>0,'front utente'!G91>0),'front utente'!G91,\"\")","v":""},{"$f":"IF(L76>0,N76,\"\")","v":""},"",0]
[null,null,{"$f":"C272+1","v":66},"","",null,"",{"$f":"IF(AND(  L77>0,'front utente'!E92>0),'front utente'!E92,\"\")","v":""},{"$f":"IF(J273<>\"\",H273/J273,1)","v":1},{"$f":"IF(AND(  N77>0,'front utente'!G92>0),'front utente'!G92,\"\")","v":""},"","",{"$f":"IF(G273<>\"\",(K273-L273)/365*G273*(I273),0)","v":0}]
[null,null,67,"","",null,"",{"$f":"IF(AND(  L78>0,'front utente'!E93>0),'front utente'!E93,\"\")","v":""},1,{"$f":"IF(AND(  N78>0,'front utente'!G93>0),'front utente'!G93,\"\")","v":""},"","",0]
[null,null,68,"","",null,"",{"$f":"IF(AND(  L79>0,'front utente'!E94>0),'front utente'!E94,\"\")","v":""},1,{"$f":"IF(AND(  N79>0,'front utente'!G94>0),'front utente'!G94,\"\")","v":""},"","",0]
[null,null,69,"","",null,"",{"$f":"IF(AND(  L80>0,'front utente'!E95>0),'front utente'!E95,\"\")","v":""},1,{"$f":"IF(AND(  N80>0,'front utente'!G95>0),'front utente'!G95,\"\")","v":""},"","",0]
[null,null,70,"","",null,"",{"$f":"IF(AND(  L81>0,'front utente'!E96>0),'front utente'!E96,\"\")","v":""},1,{"$f":"IF(AND(  N81>0,'front utente'!G96>0),'front utente'!G96,\"\")","v":""},"","",0]
[null,null,71,"","",null,"",{"$f":"IF(AND(  L82>0,'front utente'!E97>0),'front utente'!E97,\"\")","v":""},1,{"$f":"IF(AND(  N82>0,'front utente'!G97>0),'front utente'!G97,\"\")","v":""},"","",0]
[null,null,72,"","",null,"",{"$f":"IF(AND(  L83>0,'front utente'!E98>0),'front utente'!E98,\"\")","v":""},1,{"$f":"IF(AND(  N83>0,'front utente'!G98>0),'front utente'!G98,\"\")","v":""},"","",0]
[null,null,73,"","",null,"",{"$f":"IF(AND(  L84>0,'front utente'!E99>0),'front utente'!E99,\"\")","v":""},1,{"$f":"IF(AND(  N84>0,'front utente'!G99>0),'front utente'!G99,\"\")","v":""},"","",0]
[null,null,74,"","",null,"",{"$f":"IF(AND(  L85>0,'front utente'!E100>0),'front utente'!E100,\"\")","v":""},1,{"$f":"IF(AND(  N85>0,'front utente'!G100>0),'front utente'!G100,\"\")","v":""},"","",0]
[null,null,75,"","",null,"",{"$f":"IF(AND(  L86>0,'front utente'!E101>0),'front utente'!E101,\"\")","v":""},1,{"$f":"IF(AND(  N86>0,'front utente'!G101>0),'front utente'!G101,\"\")","v":""},"","",0]
[null,null,76,"","",null,"",{"$f":"IF(AND(  L87>0,'front utente'!E102>0),'front utente'!E102,\"\")","v":""},1,{"$f":"IF(AND(  N87>0,'front utente'!G102>0),'front utente'!G102,\"\")","v":""},"","",0]
[null,null,77,"","",null,"",{"$f":"IF(AND(  L88>0,'front utente'!E103>0),'front utente'!E103,\"\")","v":""},1,{"$f":"IF(AND(  N88>0,'front utente'!G103>0),'front utente'!G103,\"\")","v":""},"","",0]
[null,null,78,"","",null,"",{"$f":"IF(AND(  L89>0,'front utente'!E104>0),'front utente'!E104,\"\")","v":""},1,{"$f":"IF(AND(  N89>0,'front utente'!G104>0),'front utente'!G104,\"\")","v":""},"","",0]
[null,null,79,"","",null,"",{"$f":"IF(AND(  L90>0,'front utente'!E105>0),'front utente'!E105,\"\")","v":""},1,{"$f":"IF(AND(  N90>0,'front utente'!G105>0),'front utente'!G105,\"\")","v":""},"","",0]
[null,null,80,"","",null,"",{"$f":"IF(AND(  L91>0,'front utente'!E106>0),'front utente'!E106,\"\")","v":""},1,{"$f":"IF(AND(  N91>0,'front utente'!G106>0),'front utente'!G106,\"\")","v":""},"","",0]
[null,null,81,"","",null,"",{"$f":"IF(AND(  L92>0,'front utente'!E107>0),'front utente'!E107,\"\")","v":""},1,{"$f":"IF(AND(  N92>0,'front utente'!G107>0),'front utente'!G107,\"\")","v":""},"","",0]
[null,null,82,"","",null,"",{"$f":"IF(AND(  L93>0,'front utente'!E108>0),'front utente'!E108,\"\")","v":""},1,{"$f":"IF(AND(  N93>0,'front utente'!G108>0),'front utente'!G108,\"\")","v":""},"","",0]
[null,null,83,"","",null,"",{"$f":"IF(AND(  L94>0,'front utente'!E109>0),'front utente'!E109,\"\")","v":""},1,{"$f":"IF(AND(  N94>0,'front utente'!G109>0),'front utente'!G109,\"\")","v":""},"","",0]
[null,null,84,"","",null,"",{"$f":"IF(AND(  L95>0,'front utente'!E110>0),'front utente'!E110,\"\")","v":""},1,{"$f":"IF(AND(  N95>0,'front utente'!G110>0),'front utente'!G110,\"\")","v":""},"","",0]
[null,null,85,"","",null,"",{"$f":"IF(AND(  L96>0,'front utente'!E111>0),'front utente'!E111,\"\")","v":""},1,{"$f":"IF(AND(  N96>0,'front utente'!G111>0),'front utente'!G111,\"\")","v":""},"","",0]
[null,null,86,"","",null,"",{"$f":"IF(AND(  L97>0,'front utente'!E112>0),'front utente'!E112,\"\")","v":""},1,{"$f":"IF(AND(  N97>0,'front utente'!G112>0),'front utente'!G112,\"\")","v":""},"","",0]
[null,null,87,"","",null,"",{"$f":"IF(AND(  L98>0,'front utente'!E113>0),'front utente'!E113,\"\")","v":""},1,{"$f":"IF(AND(  N98>0,'front utente'!G113>0),'front utente'!G113,\"\")","v":""},"","",0]
[null,null,88,"","",null,"",{"$f":"IF(AND(  L99>0,'front utente'!E114>0),'front utente'!E114,\"\")","v":""},1,{"$f":"IF(AND(  N99>0,'front utente'!G114>0),'front utente'!G114,\"\")","v":""},"",{"$f":"IF(  L99>0,IF(      YEAR(D295)<1997,K295,IF( L99>0,S99,\"\")),\"\")","v":""},0]
[null,null,89,"","",null,"",{"$f":"IF(AND(  L100>0,'front utente'!E115>0),'front utente'!E115,\"\")","v":""},1,{"$f":"IF(AND(  N100>0,'front utente'!G115>0),'front utente'!G115,\"\")","v":""},"","",0]
[null,null,90,"","",null,"",{"$f":"IF(AND(  L101>0,'front utente'!E116>0),'front utente'!E116,\"\")","v":""},1,{"$f":"IF(AND(  N101>0,'front utente'!G116>0),'front utente'!G116,\"\")","v":""},"","",0]
[null,null,91,"","",null,"",{"$f":"IF(AND(  L102>0,'front utente'!E117>0),'front utente'!E117,\"\")","v":""},1,{"$f":"IF(AND(  N102>0,'front utente'!G117>0),'front utente'!G117,\"\")","v":""},"","",0]
[null,null,92,"","",null,"",{"$f":"IF(AND(  L103>0,'front utente'!E118>0),'front utente'!E118,\"\")","v":""},1,{"$f":"IF(AND(  N103>0,'front utente'!G118>0),'front utente'!G118,\"\")","v":""},"","",0]
[null,null,93,"","",null,"",{"$f":"IF(AND(  L104>0,'front utente'!E119>0),'front utente'!E119,\"\")","v":""},1,{"$f":"IF(AND(  N104>0,'front utente'!G119>0),'front utente'!G119,\"\")","v":""},"","",0]
[null,null,94,"","",null,"",{"$f":"IF(AND(  L105>0,'front utente'!E120>0),'front utente'!E120,\"\")","v":""},1,{"$f":"IF(AND(  N105>0,'front utente'!G120>0),'front utente'!G120,\"\")","v":""},"","",0]
[null,null,95,"","",null,"",{"$f":"IF(AND(  L106>0,'front utente'!E121>0),'front utente'!E121,\"\")","v":""},1,{"$f":"IF(AND(  N106>0,'front utente'!G121>0),'front utente'!G121,\"\")","v":""},"","",0]
[null,null,96,"","",null,"",{"$f":"IF(AND(  L107>0,'front utente'!E122>0),'front utente'!E122,\"\")","v":""},1,{"$f":"IF(AND(  N107>0,'front utente'!G122>0),'front utente'!G122,\"\")","v":""},"","",0]
[null,null,97,{"$f":"IF(L108>0,J108:J108,\"\")","v":""},{"$f":"IF(L108>0,K108:K108,\"\")","v":""},null,{"$f":"IF(L108>0,L108:L108,\"\")","v":""},{"$f":"IF(AND(  L108>0,'front utente'!E123>0),'front utente'!E123,\"\")","v":""},1,{"$f":"IF(AND(  N108>0,'front utente'!G123>0),'front utente'!G123,\"\")","v":""},{"$f":"IF(L108>0,N108,\"\")","v":""},"",0]
[null,null,98,{"$f":"IF(L109>0,J109:J109,\"\")","v":""},{"$f":"IF(L109>0,K109:K109,\"\")","v":""},null,{"$f":"IF(L109>0,L109:L109,\"\")","v":""},{"$f":"IF(AND(  L109>0,'front utente'!E124>0),'front utente'!E124,\"\")","v":""},1,{"$f":"IF(AND(  N109>0,'front utente'!G124>0),'front utente'!G124,\"\")","v":""},{"$f":"IF(L109>0,N109,\"\")","v":""},"",0]
[null,null,99,{"$f":"IF(L110>0,J110:J110,\"\")","v":""},{"$f":"IF(L110>0,K110:K110,\"\")","v":""},null,{"$f":"IF(L110>0,L110:L110,\"\")","v":""},{"$f":"IF(AND(  L110>0,'front utente'!E125>0),'front utente'!E125,\"\")","v":""},1,{"$f":"IF(AND(  N110>0,'front utente'!G125>0),'front utente'!G125,\"\")","v":""},{"$f":"IF(L110>0,N110,\"\")","v":""},"",0]
[null,null,{"$f":"C306+1","v":100},{"$f":"IF(L111>0,J111:J111,\"\")","v":""},{"$f":"IF(L111>0,K111:K111,\"\")","v":""},null,{"$f":"IF(L111>0,L111:L111,\"\")","v":""},{"$f":"IF(AND(  L111>0,'front utente'!E126>0),'front utente'!E126,\"\")","v":""},{"$f":"IF(J307<>\"\",H307/J307,1)","v":1},{"$f":"IF(AND(  N111>0,'front utente'!G126>0),'front utente'!G126,\"\")","v":""},{"$f":"IF(L111>0,N111,\"\")","v":""},{"$f":"IF(  L111>0,IF(      YEAR(D307)<1997,K307,IF( L111>0,S111,\"\")),\"\")","v":""},{"$f":"IF(G307<>\"\",(K307-L307)/365*G307*(I307),0)","v":0}]
[null,null,101,"","",null,"",{"$f":"IF(AND(  L112>0,'front utente'!E127>0),'front utente'!E127,\"\")","v":""},1,{"$f":"IF(AND(  N112>0,'front utente'!G127>0),'front utente'!G127,\"\")","v":""},"","",0]
[null,null,102,"","",null,"",{"$f":"IF(AND(  L113>0,'front utente'!E128>0),'front utente'!E128,\"\")","v":""},1,{"$f":"IF(AND(  N113>0,'front utente'!G128>0),'front utente'!G128,\"\")","v":""},"","",0]
[null,null,103,"","",null,"",{"$f":"IF(AND(  L114>0,'front utente'!E129>0),'front utente'!E129,\"\")","v":""},1,{"$f":"IF(AND(  N114>0,'front utente'!G129>0),'front utente'!G129,\"\")","v":""},"","",0]
[null,null,104,"","",null,"",{"$f":"IF(AND(  L115>0,'front utente'!E130>0),'front utente'!E130,\"\")","v":""},1,{"$f":"IF(AND(  N115>0,'front utente'!G130>0),'front utente'!G130,\"\")","v":""},"","",0]
[null,null,105,"","",null,"",{"$f":"IF(AND(  L116>0,'front utente'!E131>0),'front utente'!E131,\"\")","v":""},1,{"$f":"IF(AND(  N116>0,'front utente'!G131>0),'front utente'!G131,\"\")","v":""},"","",0]
[null,null,106,"","",null,"",{"$f":"IF(AND(  L117>0,'front utente'!E132>0),'front utente'!E132,\"\")","v":""},1,{"$f":"IF(AND(  N117>0,'front utente'!G132>0),'front utente'!G132,\"\")","v":""},"","",0]
[null,null,107,"","",null,"",{"$f":"IF(AND(  L118>0,'front utente'!E133>0),'front utente'!E133,\"\")","v":""},1,{"$f":"IF(AND(  N118>0,'front utente'!G133>0),'front utente'!G133,\"\")","v":""},"","",0]
[null,null,108,"","",null,"",{"$f":"IF(AND(  L119>0,'front utente'!E134>0),'front utente'!E134,\"\")","v":""},1,{"$f":"IF(AND(  N119>0,'front utente'!G134>0),'front utente'!G134,\"\")","v":""},"","",0]
[null,null,109,"","",null,"",{"$f":"IF(AND(  L120>0,'front utente'!E135>0),'front utente'!E135,\"\")","v":""},1,{"$f":"IF(AND(  N120>0,'front utente'!G135>0),'front utente'!G135,\"\")","v":""},"","",0]
[null,null,110,"","",null,"",{"$f":"IF(AND(  L121>0,'front utente'!E136>0),'front utente'!E136,\"\")","v":""},1,{"$f":"IF(AND(  N121>0,'front utente'!G136>0),'front utente'!G136,\"\")","v":""},"","",0]
[null,null,111,"","",null,"",{"$f":"IF(AND(  L122>0,'front utente'!E137>0),'front utente'!E137,\"\")","v":""},1,{"$f":"IF(AND(  N122>0,'front utente'!G137>0),'front utente'!G137,\"\")","v":""},"","",0]
[null,null,112,"","",null,"",{"$f":"IF(AND(  L123>0,'front utente'!E138>0),'front utente'!E138,\"\")","v":""},1,{"$f":"IF(AND(  N123>0,'front utente'!G138>0),'front utente'!G138,\"\")","v":""},"","",0]
[null,null,113,"","",null,"",{"$f":"IF(AND(  L124>0,'front utente'!E139>0),'front utente'!E139,\"\")","v":""},1,{"$f":"IF(AND(  N124>0,'front utente'!G139>0),'front utente'!G139,\"\")","v":""},"","",0]
[null,null,114,"","",null,"",{"$f":"IF(AND(  L125>0,'front utente'!E140>0),'front utente'!E140,\"\")","v":""},1,{"$f":"IF(AND(  N125>0,'front utente'!G140>0),'front utente'!G140,\"\")","v":""},"","",0]
[null,null,115,"","",null,"",{"$f":"IF(AND(  L126>0,'front utente'!E141>0),'front utente'!E141,\"\")","v":""},1,{"$f":"IF(AND(  N126>0,'front utente'!G141>0),'front utente'!G141,\"\")","v":""},"","",0]
[null,null,116,"","",null,"",{"$f":"IF(AND(  L127>0,'front utente'!E142>0),'front utente'!E142,\"\")","v":""},1,{"$f":"IF(AND(  N127>0,'front utente'!G142>0),'front utente'!G142,\"\")","v":""},"","",0]
[null,null,117,"","",null,"",{"$f":"IF(AND(  L128>0,'front utente'!E143>0),'front utente'!E143,\"\")","v":""},1,{"$f":"IF(AND(  N128>0,'front utente'!G143>0),'front utente'!G143,\"\")","v":""},"","",0]
[null,null,118,"","",null,"",{"$f":"IF(AND(  L129>0,'front utente'!E144>0),'front utente'!E144,\"\")","v":""},1,{"$f":"IF(AND(  N129>0,'front utente'!G144>0),'front utente'!G144,\"\")","v":""},"","",0]
[null,null,119,"","",null,"",{"$f":"IF(AND(  L130>0,'front utente'!E145>0),'front utente'!E145,\"\")","v":""},1,{"$f":"IF(AND(  N130>0,'front utente'!G145>0),'front utente'!G145,\"\")","v":""},"","",0]
[null,null,120,"","",null,"",{"$f":"IF(AND(  L131>0,'front utente'!E146>0),'front utente'!E146,\"\")","v":""},1,{"$f":"IF(AND(  N131>0,'front utente'!G146>0),'front utente'!G146,\"\")","v":""},"","",0]
[null,null,121,"","",null,"",{"$f":"IF(AND(  L132>0,'front utente'!E147>0),'front utente'!E147,\"\")","v":""},1,{"$f":"IF(AND(  N132>0,'front utente'!G147>0),'front utente'!G147,\"\")","v":""},"","",0]
[null,null,122,"","",null,"",{"$f":"IF(AND(  L133>0,'front utente'!E148>0),'front utente'!E148,\"\")","v":""},1,{"$f":"IF(AND(  N133>0,'front utente'!G148>0),'front utente'!G148,\"\")","v":""},"","",0]
[null,null,123,"","",null,"",{"$f":"IF(AND(  L134>0,'front utente'!E149>0),'front utente'!E149,\"\")","v":""},1,{"$f":"IF(AND(  N134>0,'front utente'!G149>0),'front utente'!G149,\"\")","v":""},"","",0]
[null,null,124,"","",null,"",{"$f":"IF(AND(  L135>0,'front utente'!E150>0),'front utente'!E150,\"\")","v":""},1,{"$f":"IF(AND(  N135>0,'front utente'!G150>0),'front utente'!G150,\"\")","v":""},"","",0]
[null,null,125,"","",null,"",{"$f":"IF(AND(  L136>0,'front utente'!E151>0),'front utente'!E151,\"\")","v":""},1,{"$f":"IF(AND(  N136>0,'front utente'!G151>0),'front utente'!G151,\"\")","v":""},"","",0]
[null,null,126,"","",null,"",{"$f":"IF(AND(  L137>0,'front utente'!E152>0),'front utente'!E152,\"\")","v":""},1,{"$f":"IF(AND(  N137>0,'front utente'!G152>0),'front utente'!G152,\"\")","v":""},"","",0]
[null,null,127,"","",null,"",{"$f":"IF(AND(  L138>0,'front utente'!E153>0),'front utente'!E153,\"\")","v":""},1,{"$f":"IF(AND(  N138>0,'front utente'!G153>0),'front utente'!G153,\"\")","v":""},"","",0]
[null,null,128,"","",null,"",{"$f":"IF(AND(  L139>0,'front utente'!E154>0),'front utente'!E154,\"\")","v":""},1,{"$f":"IF(AND(  N139>0,'front utente'!G154>0),'front utente'!G154,\"\")","v":""},"","",0]
[null,null,129,"","",null,"",{"$f":"IF(AND(  L140>0,'front utente'!E155>0),'front utente'!E155,\"\")","v":""},1,{"$f":"IF(AND(  N140>0,'front utente'!G155>0),'front utente'!G155,\"\")","v":""},"","",0]
[null,null,130,"","",null,"",{"$f":"IF(AND(  L141>0,'front utente'!E156>0),'front utente'!E156,\"\")","v":""},1,{"$f":"IF(AND(  N141>0,'front utente'!G156>0),'front utente'!G156,\"\")","v":""},"","",0]
[null,null,131,"","",null,"",{"$f":"IF(AND(  L142>0,'front utente'!E157>0),'front utente'!E157,\"\")","v":""},1,{"$f":"IF(AND(  N142>0,'front utente'!G157>0),'front utente'!G157,\"\")","v":""},"","",0]
[null,null,132,"","",null,"",{"$f":"IF(AND(  L143>0,'front utente'!E158>0),'front utente'!E158,\"\")","v":""},1,{"$f":"IF(AND(  N143>0,'front utente'!G158>0),'front utente'!G158,\"\")","v":""},"","",0]
[null,null,133,"","",null,"",{"$f":"IF(AND(  L144>0,'front utente'!E159>0),'front utente'!E159,\"\")","v":""},1,{"$f":"IF(AND(  N144>0,'front utente'!G159>0),'front utente'!G159,\"\")","v":""},"","",0]
[null,null,134,"","",null,"",{"$f":"IF(AND(  L145>0,'front utente'!E160>0),'front utente'!E160,\"\")","v":""},1,{"$f":"IF(AND(  N145>0,'front utente'!G160>0),'front utente'!G160,\"\")","v":""},"","",0]
[null,null,135,"","",null,"",{"$f":"IF(AND(  L146>0,'front utente'!E161>0),'front utente'!E161,\"\")","v":""},1,{"$f":"IF(AND(  N146>0,'front utente'!G161>0),'front utente'!G161,\"\")","v":""},"","",0]
[null,null,136,"","",null,"",{"$f":"IF(AND(  L147>0,'front utente'!E162>0),'front utente'!E162,\"\")","v":""},1,{"$f":"IF(AND(  N147>0,'front utente'!G162>0),'front utente'!G162,\"\")","v":""},"","",0]
[null,null,137,"","",null,"",{"$f":"IF(AND(  L148>0,'front utente'!E163>0),'front utente'!E163,\"\")","v":""},1,{"$f":"IF(AND(  N148>0,'front utente'!G163>0),'front utente'!G163,\"\")","v":""},"","",0]
[null,null,138,"","",null,"",{"$f":"IF(AND(  L149>0,'front utente'!E164>0),'front utente'!E164,\"\")","v":""},1,{"$f":"IF(AND(  N149>0,'front utente'!G164>0),'front utente'!G164,\"\")","v":""},"","",0]
[null,null,139,"","",null,"",{"$f":"IF(AND(  L150>0,'front utente'!E165>0),'front utente'!E165,\"\")","v":""},1,{"$f":"IF(AND(  N150>0,'front utente'!G165>0),'front utente'!G165,\"\")","v":""},"","",0]
[null,null,140,"","",null,"",{"$f":"IF(AND(  L151>0,'front utente'!E166>0),'front utente'!E166,\"\")","v":""},1,{"$f":"IF(AND(  N151>0,'front utente'!G166>0),'front utente'!G166,\"\")","v":""},"","",0]
[null,null,141,"","",null,"",{"$f":"IF(AND(  L152>0,'front utente'!E167>0),'front utente'!E167,\"\")","v":""},1,{"$f":"IF(AND(  N152>0,'front utente'!G167>0),'front utente'!G167,\"\")","v":""},"","",0]
[null,null,142,"","",null,"",{"$f":"IF(AND(  L153>0,'front utente'!E168>0),'front utente'!E168,\"\")","v":""},1,{"$f":"IF(AND(  N153>0,'front utente'!G168>0),'front utente'!G168,\"\")","v":""},"","",0]
[null,null,143,"","",null,"",{"$f":"IF(AND(  L154>0,'front utente'!E169>0),'front utente'!E169,\"\")","v":""},1,{"$f":"IF(AND(  N154>0,'front utente'!G169>0),'front utente'!G169,\"\")","v":""},"","",0]
[null,null,144,"","",null,"",{"$f":"IF(AND(  L155>0,'front utente'!E170>0),'front utente'!E170,\"\")","v":""},1,{"$f":"IF(AND(  N155>0,'front utente'!G170>0),'front utente'!G170,\"\")","v":""},"","",0]
[null,null,145,"","",null,"",{"$f":"IF(AND(  L156>0,'front utente'!E171>0),'front utente'!E171,\"\")","v":""},1,{"$f":"IF(AND(  N156>0,'front utente'!G171>0),'front utente'!G171,\"\")","v":""},"","",0]
[null,null,146,"","",null,"",{"$f":"IF(AND(  L157>0,'front utente'!E172>0),'front utente'!E172,\"\")","v":""},1,{"$f":"IF(AND(  N157>0,'front utente'!G172>0),'front utente'!G172,\"\")","v":""},"","",0]
[null,null,147,"","",null,"",{"$f":"IF(AND(  L158>0,'front utente'!E173>0),'front utente'!E173,\"\")","v":""},1,{"$f":"IF(AND(  N158>0,'front utente'!G173>0),'front utente'!G173,\"\")","v":""},"","",0]
[null,null,148,"","",null,"",{"$f":"IF(AND(  L159>0,'front utente'!E174>0),'front utente'!E174,\"\")","v":""},1,{"$f":"IF(AND(  N159>0,'front utente'!G174>0),'front utente'!G174,\"\")","v":""},"","",0]
[null,null,149,"","",null,"",{"$f":"IF(AND(  L160>0,'front utente'!E175>0),'front utente'!E175,\"\")","v":""},1,{"$f":"IF(AND(  N160>0,'front utente'!G175>0),'front utente'!G175,\"\")","v":""},"","",0]
[null,null,150,"","",null,"",{"$f":"IF(AND(  L161>0,'front utente'!E176>0),'front utente'!E176,\"\")","v":""},1,{"$f":"IF(AND(  N161>0,'front utente'!G176>0),'front utente'!G176,\"\")","v":""},"","",0]
[null,null,151,"","",null,"",{"$f":"IF(AND(  L162>0,'front utente'!E177>0),'front utente'!E177,\"\")","v":""},1,{"$f":"IF(AND(  N162>0,'front utente'!G177>0),'front utente'!G177,\"\")","v":""},"","",0]
[null,null,152,"","",null,"",{"$f":"IF(AND(  L163>0,'front utente'!E178>0),'front utente'!E178,\"\")","v":""},1,{"$f":"IF(AND(  N163>0,'front utente'!G178>0),'front utente'!G178,\"\")","v":""},"","",0]
[null,null,153,"","",null,"",{"$f":"IF(AND(  L164>0,'front utente'!E179>0),'front utente'!E179,\"\")","v":""},1,{"$f":"IF(AND(  N164>0,'front utente'!G179>0),'front utente'!G179,\"\")","v":""},"","",0]
[null,null,154,"","",null,"",{"$f":"IF(AND(  L165>0,'front utente'!E180>0),'front utente'!E180,\"\")","v":""},1,{"$f":"IF(AND(  N165>0,'front utente'!G180>0),'front utente'!G180,\"\")","v":""},"","",0]
[null,null,155,"","",null,"",{"$f":"IF(AND(  L166>0,'front utente'!E181>0),'front utente'!E181,\"\")","v":""},1,{"$f":"IF(AND(  N166>0,'front utente'!G181>0),'front utente'!G181,\"\")","v":""},"","",0]
[null,null,156,"","",null,"",{"$f":"IF(AND(  L167>0,'front utente'!E182>0),'front utente'!E182,\"\")","v":""},1,{"$f":"IF(AND(  N167>0,'front utente'!G182>0),'front utente'!G182,\"\")","v":""},"","",0]
[null,null,157,"","",null,"",{"$f":"IF(AND(  L168>0,'front utente'!E183>0),'front utente'!E183,\"\")","v":""},1,{"$f":"IF(AND(  N168>0,'front utente'!G183>0),'front utente'!G183,\"\")","v":""},"","",0]
[null,null,158,"","",null,"",{"$f":"IF(AND(  L169>0,'front utente'!E184>0),'front utente'!E184,\"\")","v":""},1,{"$f":"IF(AND(  N169>0,'front utente'!G184>0),'front utente'!G184,\"\")","v":""},"","",0]
[null,null,159,"","",null,"",{"$f":"IF(AND(  L170>0,'front utente'!E185>0),'front utente'!E185,\"\")","v":""},1,{"$f":"IF(AND(  N170>0,'front utente'!G185>0),'front utente'!G185,\"\")","v":""},"","",0]
[null,null,160,"","",null,"",{"$f":"IF(AND(  L171>0,'front utente'!E186>0),'front utente'!E186,\"\")","v":""},1,{"$f":"IF(AND(  N171>0,'front utente'!G186>0),'front utente'!G186,\"\")","v":""},"","",0]
[null,null,161,"","",null,"",{"$f":"IF(AND(  L172>0,'front utente'!E187>0),'front utente'!E187,\"\")","v":""},1,{"$f":"IF(AND(  N172>0,'front utente'!G187>0),'front utente'!G187,\"\")","v":""},"","",0]
[null,null,162,"","",null,"",{"$f":"IF(AND(  L173>0,'front utente'!E188>0),'front utente'!E188,\"\")","v":""},1,{"$f":"IF(AND(  N173>0,'front utente'!G188>0),'front utente'!G188,\"\")","v":""},"","",0]
[null,null,163,"","",null,"",{"$f":"IF(AND(  L174>0,'front utente'!E189>0),'front utente'!E189,\"\")","v":""},1,{"$f":"IF(AND(  N174>0,'front utente'!G189>0),'front utente'!G189,\"\")","v":""},"","",0]
[null,null,{"$f":"C370+1","v":164},{"$f":"IF(L175>0,J175:J175,\"\")","v":""},{"$f":"IF(L175>0,K175:K175,\"\")","v":""},null,{"$f":"IF(L175>0,L175:L175,\"\")","v":""},{"$f":"IF(AND(  L175>0,'front utente'!E190>0),'front utente'!E190,\"\")","v":""},{"$f":"IF(J371<>\"\",H371/J371,1)","v":1},{"$f":"IF(AND(  N175>0,'front utente'!G190>0),'front utente'!G190,\"\")","v":""},{"$f":"IF(L175>0,N175,\"\")","v":""},{"$f":"IF(  L175>0,IF(      YEAR(D371)<1997,K371,IF( L175>0,S175,\"\")),\"\")","v":""},{"$f":"IF(G371<>\"\",(K371-L371)/365*G371*(I371),0)","v":0}]
[null,null,{"$f":"C371+1","v":165},{"$f":"IF(L176>0,J176:J176,\"\")","v":""},{"$f":"IF(L176>0,K176:K176,\"\")","v":""},null,{"$f":"IF(L176>0,L176:L176,\"\")","v":""},{"$f":"IF(AND(  L176>0,'front utente'!E191>0),'front utente'!E191,\"\")","v":""},{"$f":"IF(J372<>\"\",H372/J372,1)","v":1},{"$f":"IF(AND(  N176>0,'front utente'!G191>0),'front utente'!G191,\"\")","v":""},{"$f":"IF(L176>0,N176,\"\")","v":""},{"$f":"IF(  L176>0,IF(      YEAR(D372)<1997,K372,IF( L176>0,S176,\"\")),\"\")","v":""},{"$f":"IF(G372<>\"\",(K372-L372)/365*G372*(I372),0)","v":0}]
[null,null,{"$f":"C372+1","v":166},{"$f":"IF(L177>0,J177:J177,\"\")","v":""},{"$f":"IF(L177>0,K177:K177,\"\")","v":""},null,{"$f":"IF(L177>0,L177:L177,\"\")","v":""},{"$f":"IF(AND(  L177>0,'front utente'!E192>0),'front utente'!E192,\"\")","v":""},{"$f":"IF(J373<>\"\",H373/J373,1)","v":1},{"$f":"IF(AND(  N177>0,'front utente'!G192>0),'front utente'!G192,\"\")","v":""},{"$f":"IF(L177>0,N177,\"\")","v":""},{"$f":"IF(  L177>0,IF(      YEAR(D373)<1997,K373,IF( L177>0,S177,\"\")),\"\")","v":""},{"$f":"IF(G373<>\"\",(K373-L373)/365*G373*(I373),0)","v":0}]
[]
[null,null,null,null,null,null,null,null,null,null,null,"TOTALE:",{"$f":"SUM(M208:M373)","v":0}]
[]
[]
[]
[null,null,"TOTALI DIFFERENZA STIPENDIALE:",null,null,null,null,null,null,null,null,{"$f":"M375","v":0}]
[]
[]
[null,null,null,{"$f":"'front utente'!K16","v":"1) Calcola la progressione di carriera considerando soli i giorni effettivamente lavorati"}]
[]
[]
[null,null,null,"PROGRESSIONE DI CARRIERA:",null,null,null,null,{"$f":"'front utente'!J38","v":"0 anni"},null,{"$f":"'front utente'!K38","v":"00:00:00"}]
[null,null,null,{"$f":"IF('front utente'!L44<>\"\",CONCATENATE(\"(Anzianità al 01/01/1996 - anni:\",'front utente'!L44,\")\"),\"\")","v":"(Anzianità al 01/01/1996 - anni:0)"},null,null,null,null,{"$f":"'front utente'!J39","v":"3 anni"},null,{"$f":"'front utente'!K39","v":{"$error":"#NUM!"}}]
[null,null,null,null,null,null,null,null,{"$f":"'front utente'!J40","v":"9 anni"},null,{"$f":"'front utente'!K40","v":{"$error":"#NUM!"}}]
[null,null,null,null,null,null,null,null,{"$f":"'front utente'!J41","v":"15 anni"},null,{"$f":"'front utente'!K41","v":{"$error":"#NUM!"}}]
[null,null,null,null,null,null,null,null,{"$f":"'front utente'!J42","v":"21 anni"},null,{"$f":"'front utente'!K42","v":{"$error":"#NUM!"}}]
[null,null,null,null,null,null,null,null,{"$f":"'front utente'!J43","v":"28 anni"},null,{"$f":"'front utente'!K43","v":{"$error":"#NUM!"}}]
[]
[]
[]
[]
[null,null,"N.B.\nIl totale differenza stipendiale è stato calcolato in base ai periodi di lavoro riportati in tabella.  \nIl totale non tiene conto delle somme eventualmete prescritte, dei ratei di tredicesima spettanti, del calcolo degli interessi stabiliti per legge, e di ulteriori eventuali assegni spettanti."]

{"sheet":"principale","index":15,"n_rows":215,"n_cols":46,"rows_kept":215,"cut":false,"hidden":false,"merged":[[7,36,7,37]]}
[]
[null,null,"2014-01-01","2012-12-31"]
[]
[]
[]
[]
[null,null,null,"inserire periodi"]
[null,"data all interno periodo precedente",null,"dal","al","giorni in comune","tot gg",null,"ARROTONDAMENTO IN CASO DI 1 1 96","3-8anni",null,"9-14anni",null,"15-20anni",null,"21-27anni",null,"28-34anni",null,"oltre35",null,null,null,"VALIDITA ANCHE SE DAL 1 FEB AL 30 GIU",null,"ANNO SCOLASTICO",null,null,"GIORNI DA CONSIDERARE (DEPURATI DEI GIORNI IN COMUNE)",null,"ANNO SCOLASTICO","GIORNI EFFETTUATI","anno valido -si/no",null,null,null,"progressione di carriera considerando validi solo gli anni superiori a 180 gg.",null,null,null,null,null,null,null,null,"anni scolastici validi per l opzione 3"]
[null,null,1,{"$f":"IF(AND(YEAR('front utente'!C27)=2013,'front utente'!$I$15=\"si\"),\"01/01/2014\",'front utente'!C27)","v":"00:00:00"},{"$f":"IF(AND(YEAR('front utente'!D27)=2013,'front utente'!$I$15=\"si\"),\"31/12/2012\",'front utente'!D27)","v":"00:00:00"},null,{"$f":" IF(D9>E9,0, calcoloperiodi1!H11)","v":1},{"$f":"G9","v":1},{"$f":" IF(calcoloperiodi1!AH11=\"NO\",0,   calcoloperiodi1!AH11*365)","v":0},{"$f":"IF(  AND(H9>1095,D9>0),E9,100000)","v":"2173-10-14"},{"$f":"H9","v":1},{"$f":"IF(  AND(H9>3285,D9>0),E9,100000)","v":"2173-10-14"},{"$f":"K9","v":1},{"$f":"IF(  AND(H9>5475,D9>0),E9,100000)","v":"2173-10-14"},{"$f":"M9","v":1},{"$f":"IF(  AND(H9>7665,D9>0),E9,100000)","v":"2173-10-14"},{"$f":"O9","v":1},{"$f":"IF(  AND(H9>10220,D9>0),E9,100000)","v":"2173-10-14"},{"$f":"Q9","v":1},{"$f":"IF(  AND(H9>12775,D9>0),E9,100000)","v":"2173-10-14"},{"$f":"S9","v":1},null,null,{"$f":"IF(AND(YEAR(D9)=YEAR(E9),E9-D9>147, MONTH(D9)<3,MONTH(E9)>5,DAY(E9)>29      ),1,0)","v":0},{"$f":"IF(MONTH(D9)<9,YEAR(D9)-1,YEAR(D9))","v":1899},{"$f":"IF(Y9>1900,Y9,\"\")","v":""},{"$f":"IF(Y9>1900,Z9+1,\"\")","v":""},{"$f":"CONCATENATE(Z9,\"/\",AA9)","v":"/"},{"$f":"G9-F9","v":1},{"$f":"AC9","v":1},{"$f":"IF(AB9<>AB10,AB9,\"\")","v":""},{"$f":"IF(AE9<>\"\",AD9,\"\")","v":""},{"$f":"IF(AE9<>\"\",IF(  OR(  AF9>179, X9=1 ),1,0),0)","v":0},{"$f":"AG9","v":0},{"$f":"AH9*AG9","v":0},{"$f":"AE9","v":""},{"$f":"VLOOKUP(4,AI9:AJ193,2,0)","v":0},"3 anni",{"$f":"IF(AK9>0,LEFT(AK9,4),0)","v":0},{"$f":"DATE(AM9,9,1)","v":"1900-09-01"},null,null,null,null,null,{"$f":"IF(AG9=1,AE9,\"\")","v":""}]
[null,{"$f":"IF(AND(D10<=E9,E10<=E9,D10>0),\"si\",\"\")","v":""},2,{"$f":"IF(AND(YEAR('front utente'!C28)=2013,'front utente'!$I$15=\"si\"),$C$2,'front utente'!C28)","v":"00:00:00"},{"$f":"IF(AND(YEAR('front utente'!D28)=2013,'front utente'!$I$15=\"si\"),$D$2,'front utente'!D28)","v":"00:00:00"},null,{"$f":" IF(D10>E10,0, calcoloperiodi1!H12)","v":0},{"$f":"H9+G10","v":1},{"$f":" IF(calcoloperiodi1!AH11=\"NO\",0,  calcoloperiodi1!AC11)","v":0},{"$f":"IF(  AND(H10>1095-$I$11,D10>0,B10<>\"si\",YEAR(E10)>1995                ),E10-$I$11,100000)","v":"2173-10-14"},{"$f":"H10","v":1},{"$f":"IF(  AND(H10>3285-$I$11,D10>0,B10<>\"si\",YEAR(E10)>1995),E10-$I$11,100000)","v":"2173-10-14"},{"$f":"K10","v":1},{"$f":"IF(  AND(H10>5475-$I$11,D10>0,B10<>\"si\",YEAR(E10)>1995),E10-$I$11,100000)","v":"2173-10-14"},{"$f":"M10","v":1},{"$f":"IF(  AND(H10>7665-$I$11,D10>0,B10<>\"si\",YEAR(E10)>1995),E10-$I$11,100000)","v":"2173-10-14"},{"$f":"O10","v":1},{"$f":"IF(  AND(H10>10220-$I$11,D10>0,B10<>\"si\"),E10-$I$11,100000)","v":"2173-10-14"},{"$f":"Q10","v":1},{"$f":"IF(  AND(H10>12775-$I$11,D10>0,B10<>\"si\"),E10-$I$11,100000)","v":"2173-10-14"},{"$f":"S10","v":1},null,null,0,{"$f":"IF(MONTH(D10)<9,YEAR(D10)-1,YEAR(D10))","v":1899},{"$f":"IF(Y10>1900,Y10,\"\")","v":""},{"$f":"IF(Y10>1900,Z10+1,\"\")","v":""},{"$f":"CONCATENATE(Z10,\"/\",AA10)","v":"/"},{"$f":"G10-F10","v":0},{"$f":"IF(AB10=AB9,AC10+AD9,AC10)","v":1},{"$f":"IF(AB10<>AB11,AB10,\"\")","v":""},{"$f":"IF(AE10<>\"\",AD10,\"\")","v":""},{"$f":"IF(AE10<>\"\",IF(  OR(  AF10>179, X10=1 ),1,0),0)","v":0},{"$f":"AH9+AG10","v":0},{"$f":"AH10*AG10","v":0},{"$f":"AE10","v":""},{"$f":"VLOOKUP(10,AI9:AJ193,2,0)","v":0},"9 anni",{"$f":"IF(AK10>0,LEFT(AK10,4),0)","v":0},"1900-09-01",null,null,null,null,null,{"$f":"IF(AG10=1,AE10,\"\")","v":""}]
[null,{"$f":"IF(AND(D11<=E10,E11<=E10,D11>0),\"si\",\"\")","v":""},3,{"$f":"IF(AND(YEAR('front utente'!C29)=2013,'front utente'!$I$15=\"si\"),$C$2,'front utente'!C29)","v":"00:00:00"},{"$f":"IF(AND(YEAR('front utente'!D29)=2013,'front utente'!$I$15=\"si\"),$D$2,'front utente'!D29)","v":"00:00:00"},null,{"$f":" IF(D11>E11,0, calcoloperiodi1!H13)","v":0},{"$f":"H10+G11","v":1},{"$f":" IF(calcoloperiodi1!AH11=\"NO\",0,  I9-I10)","v":0},{"$f":"IF(  AND(H11>1095-$I$11,D11>0,B11<>\"si\",YEAR(E11)>1995                ),E11-$I$11,100000)","v":"2173-10-14"},{"$f":"H11","v":1},{"$f":"IF(  AND(H11>3285-$I$11,D11>0,B11<>\"si\",YEAR(E11)>1995),E11-$I$11,100000)","v":"2173-10-14"},{"$f":"K11","v":1},{"$f":"IF(  AND(H11>5475-$I$11,D11>0,B11<>\"si\",YEAR(E11)>1995),E11-$I$11,100000)","v":"2173-10-14"},{"$f":"M11","v":1},{"$f":"IF(  AND(H11>7665-$I$11,D11>0,B11<>\"si\",YEAR(E11)>1995),E11-$I$11,100000)","v":"2173-10-14"},{"$f":"O11","v":1},{"$f":"IF(  AND(H11>10220-$I$11,D11>0,B11<>\"si\"),E11-$I$11,100000)","v":"2173-10-14"},{"$f":"Q11","v":1},{"$f":"IF(  AND(H11>12775-$I$11,D11>0,B11<>\"si\"),E11-$I$11,100000)","v":"2173-10-14"},1,null,null,0,1899,"","","/",0,{"$f":"IF(AB11=AB10,AC11+AD10,AC11)","v":1},"","",{"$f":"IF(AE11<>\"\",IF(  OR(  AF11>179, X11=1 ),1,0),0)","v":0},{"$f":"AH10+AG11","v":0},{"$f":"AH11*AG11","v":0},"",{"$f":"VLOOKUP(16,AI9:AJ193,2,0)","v":0},"15 anni",{"$f":"IF(AK11>0,LEFT(AK11,4),5000)","v":5000},"5000-09-01",null,null,null,null,null,""]
[null,"",4,{"$f":"IF(AND(YEAR('front utente'!C30)=2013,'front utente'!$I$15=\"si\"),$C$2,'front utente'!C30)","v":"00:00:00"},{"$f":"IF(AND(YEAR('front utente'!D30)=2013,'front utente'!$I$15=\"si\"),$D$2,'front utente'!D30)","v":"00:00:00"},null,{"$f":" IF(D12>E12,0, calcoloperiodi1!H14)","v":0},1,null,"2173-10-14",1,"2173-10-14",1,"2173-10-14",1,"2173-10-14",1,"2173-10-14",1,"2173-10-14",1,null,null,0,1899,"","","/",0,1,"","",{"$f":"IF(AE12<>\"\",IF(  OR(  AF12>179, X12=1 ),1,0),0)","v":0},0,0,"",{"$f":"VLOOKUP(22,AI9:AJ193,2,0)","v":0},"21 anni",{"$f":"IF(AK12>0,LEFT(AK12,4),5000)","v":5000},"5000-09-01",null,null,null,null,null,""]
[null,"",5,{"$f":"IF(AND(YEAR('front utente'!C31)=2013,'front utente'!$I$15=\"si\"),$C$2,'front utente'!C31)","v":"00:00:00"},{"$f":"IF(AND(YEAR('front utente'!D31)=2013,'front utente'!$I$15=\"si\"),$D$2,'front utente'!D31)","v":"00:00:00"},null,{"$f":" IF(D13>E13,0, calcoloperiodi1!H15)","v":0},1,null,"2173-10-14",1,"2173-10-14",1,"2173-10-14",1,"2173-10-14",1,"2173-10-14",1,"2173-10-14",1,null,null,0,1899,"","","/",0,1,"","",{"$f":"IF(AE13<>\"\",IF(  OR(  AF13>179, X13=1 ),1,0),0)","v":0},0,0,"",{"$f":"VLOOKUP(29,AI9:AJ193,2,0)","v":0},"28 anni",{"$f":"IF(AK13>0,LEFT(AK13,4),5000)","v":5000},"5000-09-01",null,null,null,null,null,""]
[null,"",6,{"$f":"IF(AND(YEAR('front utente'!C32)=2013,'front utente'!$I$15=\"si\"),$C$2,'front utente'!C32)","v":"00:00:00"},{"$f":"IF(AND(YEAR('front utente'!D32)=2013,'front utente'!$I$15=\"si\"),$D$2,'front utente'!D32)","v":"00:00:00"},null,{"$f":" IF(D14>E14,0, calcoloperiodi1!H16)","v":0},1,null,"2173-10-14",1,"2173-10-14",1,"2173-10-14",1,"2173-10-14",1,"2173-10-14",1,"2173-10-14",1,null,null,0,1899,"","","/",0,1,"","",{"$f":"IF(AE14<>\"\",IF(  OR(  AF14>179, X14=1 ),1,0),0)","v":0},0,0,"",{"$f":"VLOOKUP(36,AI9:AJ193,2,0)","v":0},"35 anni",{"$f":"IF(AK14>0,LEFT(AK14,4),5000)","v":5000},"5000-09-01",null,null,null,null,null,""]
[null,"",7,{"$f":"IF(AND(YEAR('front utente'!C33)=2013,'front utente'!$I$15=\"si\"),$C$2,'front utente'!C33)","v":"00:00:00"},{"$f":"IF(AND(YEAR('front utente'!D33)=2013,'front utente'!$I$15=\"si\"),$D$2,'front utente'!D33)","v":"00:00:00"},null,{"$f":" IF(D15>E15,0, calcoloperiodi1!H17)","v":0},1,null,"2173-10-14",1,"2173-10-14",1,"2173-10-14",1,"2173-10-14",1,"2173-10-14",1,"2173-10-14",1,null,null,0,1899,"","","/",0,1,"","",0,0,0,"",null,null,null,null,null,null,null,null,null,""]
[null,"",8,{"$f":"IF(AND(YEAR('front utente'!C34)=2013,'front utente'!$I$15=\"si\"),$C$2,'front utente'!C34)","v":"00:00:00"},{"$f":"IF(AND(YEAR('front utente'!D34)=2013,'front utente'!$I$15=\"si\"),$D$2,'front utente'!D34)","v":"00:00:00"},null,{"$f":" IF(D16>E16,0, calcoloperiodi1!H18)","v":0},1,null,"2173-10-14",1,"2173-10-14",1,"2173-10-14",1,"2173-10-14",1,"2173-10-14",1,"2173-10-14",1,null,null,0,1899,"","","/",0,1,"","",0,0,0,"",null,null,null,null,null,null,null,null,null,""]
[null,"",9,{"$f":"IF(AND(YEAR('front utente'!C35)=2013,'front utente'!$I$15=\"si\"),$C$2,'front utente'!C35)","v":"00:00:00"},{"$f":"IF(AND(YEAR('front utente'!D35)=2013,'front utente'!$I$15=\"si\"),$D$2,'front utente'!D35)","v":"00:00:00"},null,{"$f":" IF(D17>E17,0, calcoloperiodi1!H19)","v":0},1,null,"2173-10-14",1,"2173-10-14",1,"2173-10-14",1,"2173-10-14",1,"2173-10-14",1,"2173-10-14",1,null,null,0,1899,"","","/",0,1,"","",0,0,0,"",null,null,null,null,null,null,null,null,null,""]
[null,"",10,{"$f":"IF(AND(YEAR('front utente'!C36)=2013,'front utente'!$I$15=\"si\"),$C$2,'front utente'!C36)","v":"00:00:00"},{"$f":"IF(AND(YEAR('front utente'!D36)=2013,'front utente'!$I$15=\"si\"),$D$2,'front utente'!D36)","v":"00:00:00"},null,{"$f":" IF(D18>E18,0, calcoloperiodi1!H20)","v":0},1,null,"2173-10-14",1,"2173-10-14",1,"2173-10-14",1,"2173-10-14",1,"2173-10-14",1,"2173-10-14",1,null,null,0,1899,"","","/",0,1,"","",0,0,0,"",null,null,null,null,null,null,null,null,null,""]
[null,"",11,{"$f":"IF(AND(YEAR('front utente'!C37)=2013,'front utente'!$I$15=\"si\"),$C$2,'front utente'!C37)","v":"00:00:00"},{"$f":"IF(AND(YEAR('front utente'!D37)=2013,'front utente'!$I$15=\"si\"),$D$2,'front utente'!D37)","v":"00:00:00"},null,{"$f":" IF(D19>E19,0, calcoloperiodi1!H21)","v":0},1,null,"2173-10-14",1,"2173-10-14",1,"2173-10-14",1,"2173-10-14",1,"2173-10-14",1,"2173-10-14",1,null,null,{"$f":"IF(AND(YEAR(D19)=YEAR(E19),E19-D19>147, MONTH(D19)<3,MONTH(E19)>5,DAY(E19)>29      ),1,0)","v":0},1899,"","","/",0,1,"","",0,0,0,"",null,null,null,null,null,null,null,null,null,""]
[null,"",12,{"$f":"IF(AND(YEAR('front utente'!C38)=2013,'front utente'!$I$15=\"si\"),$C$2,'front utente'!C38)","v":"00:00:00"},{"$f":"IF(AND(YEAR('front utente'!D38)=2013,'front utente'!$I$15=\"si\"),$D$2,'front utente'!D38)","v":"00:00:00"},null,{"$f":" IF(D20>E20,0, calcoloperiodi1!H22)","v":0},1,null,"2173-10-14",1,"2173-10-14",1,"2173-10-14",1,"2173-10-14",1,"2173-10-14",1,"2173-10-14",1,null,null,0,1899,"","","/",0,1,"","",0,0,0,"",null,null,null,null,null,null,null,null,null,""]
[null,"",13,{"$f":"IF(AND(YEAR('front utente'!C39)=2013,'front utente'!$I$15=\"si\"),$C$2,'front utente'!C39)","v":"00:00:00"},{"$f":"IF(AND(YEAR('front utente'!D39)=2013,'front utente'!$I$15=\"si\"),$D$2,'front utente'!D39)","v":"00:00:00"},null,{"$f":" IF(D21>E21,0, calcoloperiodi1!H23)","v":0},1,null,"2173-10-14",1,"2173-10-14",1,"2173-10-14",1,"2173-10-14",1,"2173-10-14",1,"2173-10-14",1,null,null,0,1899,"","","/",0,1,"","",0,0,0,"",null,null,null,null,null,null,null,null,null,""]
[null,"",14,{"$f":"IF(AND(YEAR('front utente'!C40)=2013,'front utente'!$I$15=\"si\"),$C$2,'front utente'!C40)","v":"00:00:00"},{"$f":"IF(AND(YEAR('front utente'!D40)=2013,'front utente'!$I$15=\"si\"),$D$2,'front utente'!D40)","v":"00:00:00"},null,{"$f":" IF(D22>E22,0, calcoloperiodi1!H24)","v":0},1,null,"2173-10-14",1,"2173-10-14",1,"2173-10-14",1,"2173-10-14",1,"2173-10-14",1,"2173-10-14",1,null,null,0,1899,"","","/",0,1,"","",0,0,0,"",null,null,null,null,null,null,null,null,null,""]
[null,"",15,{"$f":"IF(AND(YEAR('front utente'!C41)=2013,'front utente'!$I$15=\"si\"),$C$2,'front utente'!C41)","v":"00:00:00"},{"$f":"IF(AND(YEAR('front utente'!D41)=2013,'front utente'!$I$15=\"si\"),$D$2,'front utente'!D41)","v":"00:00:00"},null,{"$f":" IF(D23>E23,0, calcoloperiodi1!H25)","v":0},1,null,"2173-10-14",1,"2173-10-14",1,"2173-10-14",1,"2173-10-14",1,"2173-10-14",1,"2173-10-14",1,null,null,0,1899,"","","/",0,1,"","",0,0,0,"",null,null,null,null,null,null,null,null,null,""]
[null,"",16,{"$f":"IF(AND(YEAR('front utente'!C42)=2013,'front utente'!$I$15=\"si\"),$C$2,'front utente'!C42)","v":"00:00:00"},{"$f":"IF(AND(YEAR('front utente'!D42)=2013,'front utente'!$I$15=\"si\"),$D$2,'front utente'!D42)","v":"00:00:00"},null,{"$f":" IF(D24>E24,0, calcoloperiodi1!H26)","v":0},1,null,"2173-10-14",1,"2173-10-14",1,"2173-10-14",1,"2173-10-14",1,"2173-10-14",1,"2173-10-14",1,null,null,0,1899,"","","/",0,1,"","",0,0,0,"",null,null,null,null,null,null,null,null,null,""]
[null,"",17,{"$f":"IF(AND(YEAR('front utente'!C43)=2013,'front utente'!$I$15=\"si\"),$C$2,'front utente'!C43)","v":"00:00:00"},{"$f":"IF(AND(YEAR('front utente'!D43)=2013,'front utente'!$I$15=\"si\"),$D$2,'front utente'!D43)","v":"00:00:00"},null,{"$f":" IF(D25>E25,0, calcoloperiodi1!H27)","v":0},1,null,"2173-10-14",1,"2173-10-14",1,"2173-10-14",1,"2173-10-14",1,"2173-10-14",1,"2173-10-14",1,null,null,0,1899,"","","/",0,1,"","",0,0,0,"",null,null,null,null,null,null,null,null,null,""]
[null,"",18,{"$f":"IF(AND(YEAR('front utente'!C44)=2013,'front utente'!$I$15=\"si\"),$C$2,'front utente'!C44)","v":"00:00:00"},{"$f":"IF(AND(YEAR('front utente'!D44)=2013,'front utente'!$I$15=\"si\"),$D$2,'front utente'!D44)","v":"00:00:00"},null,{"$f":" IF(D26>E26,0, calcoloperiodi1!H28)","v":0},1,null,"2173-10-14",1,"2173-10-14",1,"2173-10-14",1,"2173-10-14",1,"2173-10-14",1,"2173-10-14",1,null,null,0,1899,"","","/",0,1,"","",0,0,0,"",null,null,null,null,null,null,null,null,null,""]
[null,"",19,{"$f":"IF(AND(YEAR('front utente'!C45)=2013,'front utente'!$I$15=\"si\"),$C$2,'front utente'!C45)","v":"00:00:00"},{"$f":"IF(AND(YEAR('front utente'!D45)=2013,'front utente'!$I$15=\"si\"),$D$2,'front utente'!D45)","v":"00:00:00"},null,{"$f":" IF(D27>E27,0, calcoloperiodi1!H29)","v":0},1,null,"2173-10-14",1,"2173-10-14",1,"2173-10-14",1,"2173-10-14",1,"2173-10-14",1,"2173-10-14",1,null,null,0,{"$f":"IF(MONTH(D27)<9,YEAR(D27)-1,YEAR(D27))","v":1899},"",{"$f":"IF(Y27>1900,Z27+1,\"\")","v":""},{"$f":"CONCATENATE(Z27,\"/\",AA27)","v":"/"},{"$f":"G27-F27","v":0},{"$f":"IF(AB27=AB26,AC27+AD26,AC27)","v":1},{"$f":"IF(AB27<>AB28,AB27,\"\")","v":""},{"$f":"IF(AE27<>\"\",AD27,\"\")","v":""},0,0,0,"",null,null,null,null,null,null,null,null,null,""]
[null,"",20,{"$f":"IF(AND(YEAR('front utente'!C46)=2013,'front utente'!$I$15=\"si\"),$C$2,'front utente'!C46)","v":"00:00:00"},{"$f":"IF(AND(YEAR('front utente'!D46)=2013,'front utente'!$I$15=\"si\"),$D$2,'front utente'!D46)","v":"00:00:00"},null,{"$f":" IF(D28>E28,0, calcoloperiodi1!H30)","v":0},1,null,"2173-10-14",1,"2173-10-14",1,"2173-10-14",1,"2173-10-14",1,"2173-10-14",1,"2173-10-14",1,null,null,0,{"$f":"IF(MONTH(D28)<9,YEAR(D28)-1,YEAR(D28))","v":1899},"",{"$f":"IF(Y28>1900,Z28+1,\"\")","v":""},{"$f":"CONCATENATE(Z28,\"/\",AA28)","v":"/"},{"$f":"G28-F28","v":0},{"$f":"IF(AB28=AB27,AC28+AD27,AC28)","v":1},{"$f":"IF(AB28<>AB29,AB28,\"\")","v":""},{"$f":"IF(AE28<>\"\",AD28,\"\")","v":""},0,0,0,"",null,null,null,null,null,null,null,null,null,""]
[null,"",21,{"$f":"IF(AND(YEAR('front utente'!C47)=2013,'front utente'!$I$15=\"si\"),$C$2,'front utente'!C47)","v":"00:00:00"},{"$f":"IF(AND(YEAR('front utente'!D47)=2013,'front utente'!$I$15=\"si\"),$D$2,'front utente'!D47)","v":"00:00:00"},null,{"$f":" IF(D29>E29,0, calcoloperiodi1!H31)","v":0},1,null,"2173-10-14",1,"2173-10-14",1,"2173-10-14",1,"2173-10-14",1,"2173-10-14",1,"2173-10-14",1,null,null,0,{"$f":"IF(MONTH(D29)<9,YEAR(D29)-1,YEAR(D29))","v":1899},"",{"$f":"IF(Y29>1900,Z29+1,\"\")","v":""},{"$f":"CONCATENATE(Z29,\"/\",AA29)","v":"/"},{"$f":"G29-F29","v":0},{"$f":"IF(AB29=AB28,AC29+AD28,AC29)","v":1},{"$f":"IF(AB29<>AB30,AB29,\"\")","v":""},{"$f":"IF(AE29<>\"\",AD29,\"\")","v":""},0,0,0,"",null,null,null,null,null,null,null,null,null,""]
[null,"",22,{"$f":"IF(AND(YEAR('front utente'!C48)=2013,'front utente'!$I$15=\"si\"),$C$2,'front utente'!C48)","v":"00:00:00"},{"$f":"IF(AND(YEAR('front utente'!D48)=2013,'front utente'!$I$15=\"si\"),$D$2,'front utente'!D48)","v":"00:00:00"},null,{"$f":" IF(D30>E30,0, calcoloperiodi1!H32)","v":0},1,null,"2173-10-14",1,"2173-10-14",1,"2173-10-14",1,"2173-10-14",1,"2173-10-14",1,"2173-10-14",1,null,null,0,{"$f":"IF(MONTH(D30)<9,YEAR(D30)-1,YEAR(D30))","v":1899},"",{"$f":"IF(Y30>1900,Z30+1,\"\")","v":""},{"$f":"CONCATENATE(Z30,\"/\",AA30)","v":"/"},{"$f":"G30-F30","v":0},{"$f":"IF(AB30=AB29,AC30+AD29,AC30)","v":1},{"$f":"IF(AB30<>AB31,AB30,\"\")","v":""},{"$f":"IF(AE30<>\"\",AD30,\"\")","v":""},0,{"$f":"AH29+AG30","v":0},{"$f":"AH30*AG30","v":0},{"$f":"AE30","v":""},null,null,null,null,null,null,null,null,null,""]
[null,"",23,{"$f":"IF(AND(YEAR('front utente'!C49)=2013,'front utente'!$I$15=\"si\"),$C$2,'front utente'!C49)","v":"00:00:00"},{"$f":"IF(AND(YEAR('front utente'!D49)=2013,'front utente'!$I$15=\"si\"),$D$2,'front utente'!D49)","v":"00:00:00"},null,{"$f":" IF(D31>E31,0, calcoloperiodi1!H33)","v":0},1,null,"2173-10-14",1,"2173-10-14",1,"2173-10-14",1,"2173-10-14",1,"2173-10-14",1,"2173-10-14",1,null,null,0,1899,"","","/",0,1,"","",0,0,0,"",null,null,null,null,null,null,null,null,null,""]
[null,"",24,{"$f":"IF(AND(YEAR('front utente'!C50)=2013,'front utente'!$I$15=\"si\"),$C$2,'front utente'!C50)","v":"00:00:00"},{"$f":"IF(AND(YEAR('front utente'!D50)=2013,'front utente'!$I$15=\"si\"),$D$2,'front utente'!D50)","v":"00:00:00"},null,{"$f":" IF(D32>E32,0, calcoloperiodi1!H34)","v":0},1,null,"2173-10-14",1,"2173-10-14",1,"2173-10-14",1,"2173-10-14",1,"2173-10-14",1,"2173-10-14",1,null,null,0,1899,"","","/",0,1,"","",0,0,0,"",null,null,null,null,null,null,null,null,null,""]
[null,"",25,{"$f":"IF(AND(YEAR('front utente'!C51)=2013,'front utente'!$I$15=\"si\"),$C$2,'front utente'!C51)","v":"00:00:00"},{"$f":"IF(AND(YEAR('front utente'!D51)=2013,'front utente'!$I$15=\"si\"),$D$2,'front utente'!D51)","v":"00:00:00"},null,{"$f":" IF(D33>E33,0, calcoloperiodi1!H35)","v":0},1,null,"2173-10-14",1,"2173-10-14",1,"2173-10-14",1,"2173-10-14",1,"2173-10-14",1,"2173-10-14",1,null,null,0,1899,"","","/",0,1,"","",0,0,0,"",null,null,null,null,null,null,null,null,null,""]
[null,"",26,{"$f":"IF(AND(YEAR('front utente'!C52)=2013,'front utente'!$I$15=\"si\"),$C$2,'front utente'!C52)","v":"00:00:00"},{"$f":"IF(AND(YEAR('front utente'!D52)=2013,'front utente'!$I$15=\"si\"),$D$2,'front utente'!D52)","v":"00:00:00"},null,{"$f":" IF(D34>E34,0, calcoloperiodi1!H36)","v":0},1,null,"2173-10-14",1,"2173-10-14",1,"2173-10-14",1,"2173-10-14",1,"2173-10-14",1,"2173-10-14",1,null,null,0,1899,"","","/",0,1,"","",0,0,0,"",null,null,null,null,null,null,null,null,null,""]
[null,"",27,{"$f":"IF(AND(YEAR('front utente'!C53)=2013,'front utente'!$I$15=\"si\"),$C$2,'front utente'!C53)","v":"00:00:00"},{"$f":"IF(AND(YEAR('front utente'!D53)=2013,'front utente'!$I$15=\"si\"),$D$2,'front utente'!D53)","v":"00:00:00"},null,{"$f":" IF(D35>E35,0, calcoloperiodi1!H37)","v":0},1,null,"2173-10-14",1,"2173-10-14",1,"2173-10-14",1,"2173-10-14",1,"2173-10-14",1,"2173-10-14",1,null,null,0,1899,"","","/",0,1,"","",0,0,0,"",null,null,null,null,null,null,null,null,null,""]
[null,"",28,{"$f":"IF(AND(YEAR('front utente'!C54)=2013,'front utente'!$I$15=\"si\"),$C$2,'front utente'!C54)","v":"00:00:00"},{"$f":"IF(AND(YEAR('front utente'!D54)=2013,'front utente'!$I$15=\"si\"),$D$2,'front utente'!D54)","v":"00:00:00"},null,{"$f":" IF(D36>E36,0, calcoloperiodi1!H38)","v":0},1,null,"2173-10-14",1,"2173-10-14",1,"2173-10-14",1,"2173-10-14",1,"2173-10-14",1,"2173-10-14",1,null,null,0,1899,"","","/",0,1,"","",0,0,0,"",null,null,null,null,null,null,null,null,null,""]
[null,"",29,{"$f":"IF(AND(YEAR('front utente'!C55)=2013,'front utente'!$I$15=\"si\"),$C$2,'front utente'!C55)","v":"00:00:00"},{"$f":"IF(AND(YEAR('front utente'!D55)=2013,'front utente'!$I$15=\"si\"),$D$2,'front utente'!D55)","v":"00:00:00"},null,{"$f":" IF(D37>E37,0, calcoloperiodi1!H39)","v":0},1,null,"2173-10-14",1,"2173-10-14",1,"2173-10-14",1,"2173-10-14",1,"2173-10-14",1,"2173-10-14",1,null,null,0,1899,"","","/",0,1,"","",0,0,0,"",null,null,null,null,null,null,null,null,null,""]
[null,"",30,{"$f":"IF(AND(YEAR('front utente'!C56)=2013,'front utente'!$I$15=\"si\"),$C$2,'front utente'!C56)","v":"00:00:00"},{"$f":"IF(AND(YEAR('front utente'!D56)=2013,'front utente'!$I$15=\"si\"),$D$2,'front utente'!D56)","v":"00:00:00"},null,{"$f":" IF(D38>E38,0, calcoloperiodi1!H40)","v":0},1,null,"2173-10-14",1,"2173-10-14",1,"2173-10-14",1,"2173-10-14",1,"2173-10-14",1,"2173-10-14",1,null,null,0,1899,"","","/",0,1,"","",0,0,0,"",null,null,null,null,null,null,null,null,null,""]
[null,"",31,{"$f":"IF(AND(YEAR('front utente'!C57)=2013,'front utente'!$I$15=\"si\"),$C$2,'front utente'!C57)","v":"00:00:00"},{"$f":"IF(AND(YEAR('front utente'!D57)=2013,'front utente'!$I$15=\"si\"),$D$2,'front utente'!D57)","v":"00:00:00"},null,{"$f":" IF(D39>E39,0, calcoloperiodi1!H41)","v":0},1,null,"2173-10-14",1,"2173-10-14",1,"2173-10-14",1,"2173-10-14",1,"2173-10-14",1,"2173-10-14",1,null,null,0,1899,"","","/",0,1,"","",0,0,0,"",null,null,null,null,null,null,null,null,null,""]
[null,"",32,{"$f":"IF(AND(YEAR('front utente'!C58)=2013,'front utente'!$I$15=\"si\"),$C$2,'front utente'!C58)","v":"00:00:00"},{"$f":"IF(AND(YEAR('front utente'!D58)=2013,'front utente'!$I$15=\"si\"),$D$2,'front utente'!D58)","v":"00:00:00"},null,{"$f":" IF(D40>E40,0, calcoloperiodi1!H42)","v":0},1,null,"2173-10-14",1,"2173-10-14",1,"2173-10-14",1,"2173-10-14",1,"2173-10-14",1,"2173-10-14",1,null,null,0,1899,"","","/",0,1,"","",0,0,0,"",null,null,null,null,null,null,null,null,null,""]
[null,"",33,{"$f":"IF(AND(YEAR('front utente'!C59)=2013,'front utente'!$I$15=\"si\"),$C$2,'front utente'!C59)","v":"00:00:00"},{"$f":"IF(AND(YEAR('front utente'!D59)=2013,'front utente'!$I$15=\"si\"),$D$2,'front utente'!D59)","v":"00:00:00"},null,{"$f":" IF(D41>E41,0, calcoloperiodi1!H43)","v":0},1,null,"2173-10-14",1,"2173-10-14",1,"2173-10-14",1,"2173-10-14",1,"2173-10-14",1,"2173-10-14",1,null,null,0,1899,"","","/",0,1,"","",0,0,0,"",null,null,null,null,null,null,null,null,null,""]
[null,"",34,{"$f":"IF(AND(YEAR('front utente'!C60)=2013,'front utente'!$I$15=\"si\"),$C$2,'front utente'!C60)","v":"00:00:00"},{"$f":"IF(AND(YEAR('front utente'!D60)=2013,'front utente'!$I$15=\"si\"),$D$2,'front utente'!D60)","v":"00:00:00"},null,{"$f":" IF(D42>E42,0, calcoloperiodi1!H44)","v":0},1,null,"2173-10-14",1,"2173-10-14",1,"2173-10-14",1,"2173-10-14",1,"2173-10-14",1,"2173-10-14",1,null,null,0,1899,"","","/",0,1,"","",0,0,0,"",null,null,null,null,null,null,null,null,null,""]
[null,"",35,{"$f":"IF(AND(YEAR('front utente'!C61)=2013,'front utente'!$I$15=\"si\"),$C$2,'front utente'!C61)","v":"00:00:00"},{"$f":"IF(AND(YEAR('front utente'!D61)=2013,'front utente'!$I$15=\"si\"),$D$2,'front utente'!D61)","v":"00:00:00"},null,{"$f":" IF(D43>E43,0, calcoloperiodi1!H45)","v":0},1,null,"2173-10-14",1,"2173-10-14",1,"2173-10-14",1,"2173-10-14",1,"2173-10-14",1,"2173-10-14",1,null,null,0,1899,"","","/",0,1,"","",0,0,0,"",null,null,null,null,null,null,null,null,null,""]
[null,"",36,{"$f":"IF(AND(YEAR('front utente'!C62)=2013,'front utente'!$I$15=\"si\"),$C$2,'front utente'!C62)","v":"00:00:00"},{"$f":"IF(AND(YEAR('front utente'!D62)=2013,'front utente'!$I$15=\"si\"),$D$2,'front utente'!D62)","v":"00:00:00"},null,{"$f":" IF(D44>E44,0, calcoloperiodi1!H46)","v":0},1,null,"2173-10-14",1,"2173-10-14",1,"2173-10-14",1,"2173-10-14",1,"2173-10-14",1,"2173-10-14",1,null,null,0,1899,"","","/",0,1,"","",0,0,0,"",null,null,null,null,null,null,null,null,null,""]
[null,"",37,{"$f":"IF(AND(YEAR('front utente'!C63)=2013,'front utente'!$I$15=\"si\"),$C$2,'front utente'!C63)","v":"00:00:00"},{"$f":"IF(AND(YEAR('front utente'!D63)=2013,'front utente'!$I$15=\"si\"),$D$2,'front utente'!D63)","v":"00:00:00"},null,{"$f":" IF(D45>E45,0, calcoloperiodi1!H47)","v":0},1,null,"2173-10-14",1,"2173-10-14",1,"2173-10-14",1,"2173-10-14",1,"2173-10-14",1,"2173-10-14",1,null,null,0,1899,"","","/",0,1,"","",0,0,0,"",null,null,null,null,null,null,null,null,null,""]
[null,"",38,{"$f":"IF(AND(YEAR('front utente'!C64)=2013,'front utente'!$I$15=\"si\"),$C$2,'front utente'!C64)","v":"00:00:00"},{"$f":"IF(AND(YEAR('front utente'!D64)=2013,'front utente'!$I$15=\"si\"),$D$2,'front utente'!D64)","v":"00:00:00"},null,{"$f":" IF(D46>E46,0, calcoloperiodi1!H48)","v":0},1,null,"2173-10-14",1,"2173-10-14",1,"2173-10-14",1,"2173-10-14",1,"2173-10-14",1,"2173-10-14",1,null,null,0,1899,"","","/",0,1,"","",0,0,0,"",null,null,null,null,null,null,null,null,null,""]
[null,"",39,{"$f":"IF(AND(YEAR('front utente'!C65)=2013,'front utente'!$I$15=\"si\"),$C$2,'front utente'!C65)","v":"00:00:00"},{"$f":"IF(AND(YEAR('front utente'!D65)=2013,'front utente'!$I$15=\"si\"),$D$2,'front utente'!D65)","v":"00:00:00"},null,{"$f":" IF(D47>E47,0, calcoloperiodi1!H49)","v":0},1,null,"2173-10-14",1,"2173-10-14",1,"2173-10-14",1,"2173-10-14",1,"2173-10-14",1,"2173-10-14",1,null,null,0,1899,"","","/",0,1,"","",0,0,0,"",null,null,null,null,null,null,null,null,null,""]
[null,"",40,{"$f":"IF(AND(YEAR('front utente'!C66)=2013,'front utente'!$I$15=\"si\"),$C$2,'front utente'!C66)","v":"00:00:00"},{"$f":"IF(AND(YEAR('front utente'!D66)=2013,'front utente'!$I$15=\"si\"),$D$2,'front utente'!D66)","v":"00:00:00"},null,{"$f":" IF(D48>E48,0, calcoloperiodi1!H50)","v":0},1,null,"2173-10-14",1,"2173-10-14",1,"2173-10-14",1,"2173-10-14",1,"2173-10-14",1,"2173-10-14",1,null,null,0,1899,"","","/",0,1,"","",0,0,0,"",null,null,null,null,null,null,null,null,null,""]
[null,null,{"$f":"C48+1","v":41},{"$f":"IF(AND(YEAR('front utente'!C67)=2013,'front utente'!$I$15=\"si\"),$C$2,'front utente'!C67)","v":"00:00:00"},{"$f":"IF(AND(YEAR('front utente'!D67)=2013,'front utente'!$I$15=\"si\"),$D$2,'front utente'!D67)","v":"00:00:00"},null,{"$f":" IF(D49>E49,0, calcoloperiodi1!H51)","v":0},1,null,"2173-10-14",1,"2173-10-14",1,"2173-10-14",1,"2173-10-14",1,"2173-10-14",1,"2173-10-14",{"$f":"S49","v":1},null,null,0,1899,"","","/",0,1,"","",0,0,0,"",null,null,null,null,null,null,null,null,null,""]
[null,null,{"$f":"C49+1","v":42},{"$f":"IF(AND(YEAR('front utente'!C68)=2013,'front utente'!$I$15=\"si\"),$C$2,'front utente'!C68)","v":"00:00:00"},{"$f":"IF(AND(YEAR('front utente'!D68)=2013,'front utente'!$I$15=\"si\"),$D$2,'front utente'!D68)","v":"00:00:00"},null,{"$f":" IF(D50>E50,0, calcoloperiodi1!H52)","v":0},1,null,"2173-10-14",1,"2173-10-14",1,"2173-10-14",1,"2173-10-14",1,"2173-10-14",1,"2173-10-14",{"$f":"S50","v":1},null,null,0,1899,"","","/",0,1,"","",0,0,0,"",null,null,null,null,null,null,null,null,null,""]
[null,null,43,{"$f":"IF(AND(YEAR('front utente'!C69)=2013,'front utente'!$I$15=\"si\"),$C$2,'front utente'!C69)","v":"00:00:00"},{"$f":"IF(AND(YEAR('front utente'!D69)=2013,'front utente'!$I$15=\"si\"),$D$2,'front utente'!D69)","v":"00:00:00"},null,{"$f":" IF(D51>E51,0, calcoloperiodi1!H53)","v":0},1,null,"2173-10-14",1,"2173-10-14",1,"2173-10-14",1,"2173-10-14",1,"2173-10-14",1,"2173-10-14",1,null,null,0,{"$f":"IF(MONTH(D51)<9,YEAR(D51)-1,YEAR(D51))","v":1899},"",{"$f":"IF(Y51>1900,Z51+1,\"\")","v":""},{"$f":"CONCATENATE(Z51,\"/\",AA51)","v":"/"},{"$f":"G51-F51","v":0},{"$f":"IF(AB51=AB50,AC51+AD50,AC51)","v":1},{"$f":"IF(AB51<>AB52,AB51,\"\")","v":""},{"$f":"IF(AE51<>\"\",AD51,\"\")","v":""},0,{"$f":"AH50+AG51","v":0},{"$f":"AH51*AG51","v":0},{"$f":"AE51","v":""},null,null,null,null,null,null,null,null,null,""]
[null,null,44,{"$f":"IF(AND(YEAR('front utente'!C70)=2013,'front utente'!$I$15=\"si\"),$C$2,'front utente'!C70)","v":"00:00:00"},{"$f":"IF(AND(YEAR('front utente'!D70)=2013,'front utente'!$I$15=\"si\"),$D$2,'front utente'!D70)","v":"00:00:00"},null,{"$f":" IF(D52>E52,0, calcoloperiodi1!H54)","v":0},1,null,"2173-10-14",1,"2173-10-14",1,"2173-10-14",1,"2173-10-14",1,"2173-10-14",1,"2173-10-14",1,null,null,0,1899,"","","/",0,1,"","",0,0,0,"",null,null,null,null,null,null,null,null,null,""]
[null,null,45,{"$f":"IF(AND(YEAR('front utente'!C71)=2013,'front utente'!$I$15=\"si\"),$C$2,'front utente'!C71)","v":"00:00:00"},{"$f":"IF(AND(YEAR('front utente'!D71)=2013,'front utente'!$I$15=\"si\"),$D$2,'front utente'!D71)","v":"00:00:00"},null,{"$f":" IF(D53>E53,0, calcoloperiodi1!H55)","v":0},1,null,"2173-10-14",1,"2173-10-14",1,"2173-10-14",1,"2173-10-14",1,"2173-10-14",1,"2173-10-14",1,null,null,0,1899,"","","/",0,1,"","",0,0,0,"",null,null,null,null,null,null,null,null,null,""]
[null,null,46,{"$f":"IF(AND(YEAR('front utente'!C72)=2013,'front utente'!$I$15=\"si\"),$C$2,'front utente'!C72)","v":"00:00:00"},{"$f":"IF(AND(YEAR('front utente'!D72)=2013,'front utente'!$I$15=\"si\"),$D$2,'front utente'!D72)","v":"00:00:00"},null,{"$f":" IF(D54>E54,0, calcoloperiodi1!H56)","v":0},1,null,"2173-10-14",1,"2173-10-14",1,"2173-10-14",1,"2173-10-14",1,"2173-10-14",1,"2173-10-14",1,null,null,0,1899,"","","/",0,1,"","",0,0,0,"",null,null,null,null,null,null,null,null,null,""]
[null,null,47,{"$f":"IF(AND(YEAR('front utente'!C73)=2013,'front utente'!$I$15=\"si\"),$C$2,'front utente'!C73)","v":"00:00:00"},{"$f":"IF(AND(YEAR('front utente'!D73)=2013,'front utente'!$I$15=\"si\"),$D$2,'front utente'!D73)","v":"00:00:00"},null,{"$f":" IF(D55>E55,0, calcoloperiodi1!H57)","v":0},1,null,"2173-10-14",1,"2173-10-14",1,"2173-10-14",1,"2173-10-14",1,"2173-10-14",1,"2173-10-14",1,null,null,0,1899,"","","/",0,1,"","",0,0,0,"",null,null,null,null,null,null,null,null,null,""]
[null,null,48,{"$f":"IF(AND(YEAR('front utente'!C74)=2013,'front utente'!$I$15=\"si\"),$C$2,'front utente'!C74)","v":"00:00:00"},{"$f":"IF(AND(YEAR('front utente'!D74)=2013,'front utente'!$I$15=\"si\"),$D$2,'front utente'!D74)","v":"00:00:00"},null,{"$f":" IF(D56>E56,0, calcoloperiodi1!H58)","v":0},1,null,"2173-10-14",1,"2173-10-14",1,"2173-10-14",1,"2173-10-14",1,"2173-10-14",1,"2173-10-14",1,null,null,0,1899,"","","/",0,1,"","",0,0,0,"",null,null,null,null,null,null,null,null,null,""]
[null,null,49,{"$f":"IF(AND(YEAR('front utente'!C75)=2013,'front utente'!$I$15=\"si\"),$C$2,'front utente'!C75)","v":"00:00:00"},{"$f":"IF(AND(YEAR('front utente'!D75)=2013,'front utente'!$I$15=\"si\"),$D$2,'front utente'!D75)","v":"00:00:00"},null,{"$f":" IF(D57>E57,0, calcoloperiodi1!H59)","v":0},1,null,"2173-10-14",1,"2173-10-14",1,"2173-10-14",1,"2173-10-14",1,"2173-10-14",1,"2173-10-14",1,null,null,0,1899,"","","/",0,1,"","",0,0,0,"",null,null,null,null,null,null,null,null,null,""]
[null,null,50,{"$f":"IF(AND(YEAR('front utente'!C76)=2013,'front utente'!$I$15=\"si\"),$C$2,'front utente'!C76)","v":"00:00:00"},{"$f":"IF(AND(YEAR('front utente'!D76)=2013,'front utente'!$I$15=\"si\"),$D$2,'front utente'!D76)","v":"00:00:00"},null,{"$f":" IF(D58>E58,0, calcoloperiodi1!H60)","v":0},1,null,"2173-10-14",1,"2173-10-14",1,"2173-10-14",1,"2173-10-14",1,"2173-10-14",1,"2173-10-14",1,null,null,0,1899,"","","/",0,1,"","",0,0,0,"",null,null,null,null,null,null,null,null,null,""]
[null,null,51,{"$f":"IF(AND(YEAR('front utente'!C77)=2013,'front utente'!$I$15=\"si\"),$C$2,'front utente'!C77)","v":"00:00:00"},{"$f":"IF(AND(YEAR('front utente'!D77)=2013,'front utente'!$I$15=\"si\"),$D$2,'front utente'!D77)","v":"00:00:00"},null,{"$f":" IF(D59>E59,0, calcoloperiodi1!H61)","v":0},1,null,"2173-10-14",1,"2173-10-14",1,"2173-10-14",1,"2173-10-14",1,"2173-10-14",1,"2173-10-14",1,null,null,0,1899,"","","/",0,1,"","",0,0,0,"",null,null,null,null,null,null,null,null,null,""]
[null,null,52,{"$f":"IF(AND(YEAR('front utente'!C78)=2013,'front utente'!$I$15=\"si\"),$C$2,'front utente'!C78)","v":"00:00:00"},{"$f":"IF(AND(YEAR('front utente'!D78)=2013,'front utente'!$I$15=\"si\"),$D$2,'front utente'!D78)","v":"00:00:00"},null,{"$f":" IF(D60>E60,0, calcoloperiodi1!H62)","v":0},1,null,"2173-10-14",1,"2173-10-14",1,"2173-10-14",1,"2173-10-14",1,"2173-10-14",1,"2173-10-14",1,null,null,0,1899,"","","/",0,1,"","",0,0,0,"",null,null,null,null,null,null,null,null,null,""]
[null,null,53,{"$f":"IF(AND(YEAR('front utente'!C79)=2013,'front utente'!$I$15=\"si\"),$C$2,'front utente'!C79)","v":"00:00:00"},{"$f":"IF(AND(YEAR('front utente'!D79)=2013,'front utente'!$I$15=\"si\"),$D$2,'front utente'!D79)","v":"00:00:00"},null,{"$f":" IF(D61>E61,0, calcoloperiodi1!H63)","v":0},1,null,"2173-10-14",1,"2173-10-14",1,"2173-10-14",1,"2173-10-14",1,"2173-10-14",1,"2173-10-14",1,null,null,0,1899,"","","/",0,1,"","",0,0,0,"",null,null,null,null,null,null,null,null,null,""]
[null,null,54,{"$f":"IF(AND(YEAR('front utente'!C80)=2013,'front utente'!$I$15=\"si\"),$C$2,'front utente'!C80)","v":"00:00:00"},{"$f":"IF(AND(YEAR('front utente'!D80)=2013,'front utente'!$I$15=\"si\"),$D$2,'front utente'!D80)","v":"00:00:00"},null,{"$f":" IF(D62>E62,0, calcoloperiodi1!H64)","v":0},1,null,"2173-10-14",1,"2173-10-14",1,"2173-10-14",1,"2173-10-14",1,"2173-10-14",1,"2173-10-14",1,null,null,0,1899,"","","/",0,1,"","",0,0,0,"",null,null,null,null,null,null,null,null,null,""]
[null,null,55,{"$f":"IF(AND(YEAR('front utente'!C81)=2013,'front utente'!$I$15=\"si\"),$C$2,'front utente'!C81)","v":"00:00:00"},{"$f":"IF(AND(YEAR('front utente'!D81)=2013,'front utente'!$I$15=\"si\"),$D$2,'front utente'!D81)","v":"00:00:00"},null,{"$f":" IF(D63>E63,0, calcoloperiodi1!H65)","v":0},1,null,"2173-10-14",1,"2173-10-14",1,"2173-10-14",1,"2173-10-14",1,"2173-10-14",1,"2173-10-14",1,null,null,0,1899,"","","/",0,1,"","",0,0,0,"",null,null,null,null,null,null,null,null,null,""]
[null,null,56,{"$f":"IF(AND(YEAR('front utente'!C82)=2013,'front utente'!$I$15=\"si\"),$C$2,'front utente'!C82)","v":"00:00:00"},{"$f":"IF(AND(YEAR('front utente'!D82)=2013,'front utente'!$I$15=\"si\"),$D$2,'front utente'!D82)","v":"00:00:00"},null,{"$f":" IF(D64>E64,0, calcoloperiodi1!H66)","v":0},1,null,"2173-10-14",1,"2173-10-14",1,"2173-10-14",1,"2173-10-14",1,"2173-10-14",1,"2173-10-14",1,null,null,0,1899,"","","/",0,1,"","",0,0,0,"",null,null,null,null,null,null,null,null,null,""]
[null,null,57,{"$f":"IF(AND(YEAR('front utente'!C83)=2013,'front utente'!$I$15=\"si\"),$C$2,'front utente'!C83)","v":"00:00:00"},{"$f":"IF(AND(YEAR('front utente'!D83)=2013,'front utente'!$I$15=\"si\"),$D$2,'front utente'!D83)","v":"00:00:00"},null,{"$f":" IF(D65>E65,0, calcoloperiodi1!H67)","v":0},1,null,"2173-10-14",1,"2173-10-14",1,"2173-10-14",1,"2173-10-14",1,"2173-10-14",1,"2173-10-14",1,null,null,0,1899,"","","/",0,1,"","",0,0,0,"",null,null,null,null,null,null,null,null,null,""]
[null,null,58,{"$f":"IF(AND(YEAR('front utente'!C84)=2013,'front utente'!$I$15=\"si\"),$C$2,'front utente'!C84)","v":"00:00:00"},{"$f":"IF(AND(YEAR('front utente'!D84)=2013,'front utente'!$I$15=\"si\"),$D$2,'front utente'!D84)","v":"00:00:00"},null,{"$f":" IF(D66>E66,0, calcoloperiodi1!H68)","v":0},1,null,"2173-10-14",1,"2173-10-14",1,"2173-10-14",1,"2173-10-14",1,"2173-10-14",1,"2173-10-14",1,null,null,0,1899,"","","/",0,1,"","",0,0,0,"",null,null,null,null,null,null,null,null,null,""]
[null,null,59,{"$f":"IF(AND(YEAR('front utente'!C85)=2013,'front utente'!$I$15=\"si\"),$C$2,'front utente'!C85)","v":"00:00:00"},{"$f":"IF(AND(YEAR('front utente'!D85)=2013,'front utente'!$I$15=\"si\"),$D$2,'front utente'!D85)","v":"00:00:00"},null,{"$f":" IF(D67>E67,0, calcoloperiodi1!H69)","v":0},1,null,"2173-10-14",1,"2173-10-14",1,"2173-10-14",1,"2173-10-14",1,"2173-10-14",1,"2173-10-14",1,null,null,0,1899,"","","/",0,1,"","",0,0,0,"",null,null,null,null,null,null,null,null,null,""]
[null,null,60,{"$f":"IF(AND(YEAR('front utente'!C86)=2013,'front utente'!$I$15=\"si\"),$C$2,'front utente'!C86)","v":"00:00:00"},{"$f":"IF(AND(YEAR('front utente'!D86)=2013,'front utente'!$I$15=\"si\"),$D$2,'front utente'!D86)","v":"00:00:00"},null,{"$f":" IF(D68>E68,0, calcoloperiodi1!H70)","v":0},1,null,"2173-10-14",1,"2173-10-14",1,"2173-10-14",1,"2173-10-14",1,"2173-10-14",1,"2173-10-14",1,null,null,0,1899,"","","/",0,1,"","",0,0,0,"",null,null,null,null,null,null,null,null,null,""]
[null,null,61,{"$f":"IF(AND(YEAR('front utente'!C87)=2013,'front utente'!$I$15=\"si\"),$C$2,'front utente'!C87)","v":"00:00:00"},{"$f":"IF(AND(YEAR('front utente'!D87)=2013,'front utente'!$I$15=\"si\"),$D$2,'front utente'!D87)","v":"00:00:00"},null,{"$f":" IF(D69>E69,0, calcoloperiodi1!H71)","v":0},1,null,"2173-10-14",1,"2173-10-14",1,"2173-10-14",1,"2173-10-14",1,"2173-10-14",1,"2173-10-14",1,null,null,0,1899,"","","/",0,1,"","",0,0,0,"",null,null,null,null,null,null,null,null,null,""]
[null,null,62,{"$f":"IF(AND(YEAR('front utente'!C88)=2013,'front utente'!$I$15=\"si\"),$C$2,'front utente'!C88)","v":"00:00:00"},{"$f":"IF(AND(YEAR('front utente'!D88)=2013,'front utente'!$I$15=\"si\"),$D$2,'front utente'!D88)","v":"00:00:00"},null,{"$f":" IF(D70>E70,0, calcoloperiodi1!H72)","v":0},1,null,"2173-10-14",1,"2173-10-14",1,"2173-10-14",1,"2173-10-14",1,"2173-10-14",1,"2173-10-14",1,null,null,0,1899,"","","/",0,1,"","",0,0,0,"",null,null,null,null,null,null,null,null,null,""]
[null,null,63,{"$f":"IF(AND(YEAR('front utente'!C89)=2013,'front utente'!$I$15=\"si\"),$C$2,'front utente'!C89)","v":"00:00:00"},{"$f":"IF(AND(YEAR('front utente'!D89)=2013,'front utente'!$I$15=\"si\"),$D$2,'front utente'!D89)","v":"00:00:00"},null,{"$f":" IF(D71>E71,0, calcoloperiodi1!H73)","v":0},1,null,"2173-10-14",1,"2173-10-14",1,"2173-10-14",1,"2173-10-14",1,"2173-10-14",1,"2173-10-14",1,null,null,0,1899,"","","/",0,1,"","",0,0,0,"",null,null,null,null,null,null,null,null,null,""]
[null,null,64,{"$f":"IF(AND(YEAR('front utente'!C90)=2013,'front utente'!$I$15=\"si\"),$C$2,'front utente'!C90)","v":"00:00:00"},{"$f":"IF(AND(YEAR('front utente'!D90)=2013,'front utente'!$I$15=\"si\"),$D$2,'front utente'!D90)","v":"00:00:00"},null,{"$f":" IF(D72>E72,0, calcoloperiodi1!H74)","v":0},1,null,"2173-10-14",1,"2173-10-14",1,"2173-10-14",1,"2173-10-14",1,"2173-10-14",1,"2173-10-14",1,null,null,0,1899,"","","/",0,1,"","",0,0,0,"",null,null,null,null,null,null,null,null,null,""]
[null,null,65,{"$f":"IF(AND(YEAR('front utente'!C91)=2013,'front utente'!$I$15=\"si\"),$C$2,'front utente'!C91)","v":"00:00:00"},{"$f":"IF(AND(YEAR('front utente'!D91)=2013,'front utente'!$I$15=\"si\"),$D$2,'front utente'!D91)","v":"00:00:00"},null,{"$f":" IF(D73>E73,0, calcoloperiodi1!H75)","v":0},1,null,"2173-10-14",1,"2173-10-14",1,"2173-10-14",1,"2173-10-14",1,"2173-10-14",1,"2173-10-14",1,null,null,0,1899,"","","/",0,1,"","",0,0,0,"",null,null,null,null,null,null,null,null,null,""]
[null,null,66,{"$f":"IF(AND(YEAR('front utente'!C92)=2013,'front utente'!$I$15=\"si\"),$C$2,'front utente'!C92)","v":"00:00:00"},{"$f":"IF(AND(YEAR('front utente'!D92)=2013,'front utente'!$I$15=\"si\"),$D$2,'front utente'!D92)","v":"00:00:00"},null,{"$f":" IF(D74>E74,0, calcoloperiodi1!H76)","v":0},1,null,"2173-10-14",1,"2173-10-14",1,"2173-10-14",1,"2173-10-14",1,"2173-10-14",1,"2173-10-14",1,null,null,0,1899,{"$f":"IF(Y74>1900,Y74,\"\")","v":""},"","/",0,1,"","",0,0,0,"",null,null,null,null,null,null,null,null,null,{"$f":"IF(AG74=1,AE74,\"\")","v":""}]
[null,null,67,{"$f":"IF(AND(YEAR('front utente'!C93)=2013,'front utente'!$I$15=\"si\"),$C$2,'front utente'!C93)","v":"00:00:00"},{"$f":"IF(AND(YEAR('front utente'!D93)=2013,'front utente'!$I$15=\"si\"),$D$2,'front utente'!D93)","v":"00:00:00"},null,{"$f":" IF(D75>E75,0, calcoloperiodi1!H77)","v":0},{"$f":"H74+G75","v":1},null,{"$f":"IF(  AND(H75>1095-$I$11,D75>0,B75<>\"si\",YEAR(E75)>1995                ),E75-$I$11,100000)","v":"2173-10-14"},{"$f":"H75","v":1},{"$f":"IF(  AND(H75>3285-$I$11,D75>0,B75<>\"si\",YEAR(E75)>1995),E75-$I$11,100000)","v":"2173-10-14"},{"$f":"K75","v":1},{"$f":"IF(  AND(H75>5475-$I$11,D75>0,B75<>\"si\",YEAR(E75)>1995),E75-$I$11,100000)","v":"2173-10-14"},{"$f":"M75","v":1},{"$f":"IF(  AND(H75>7665-$I$11,D75>0,B75<>\"si\",YEAR(E75)>1995),E75-$I$11,100000)","v":"2173-10-14"},{"$f":"O75","v":1},{"$f":"IF(  AND(H75>10220-$I$11,D75>0,B75<>\"si\"),E75-$I$11,100000)","v":"2173-10-14"},{"$f":"Q75","v":1},{"$f":"IF(  AND(H75>12775-$I$11,D75>0,B75<>\"si\"),E75-$I$11,100000)","v":"2173-10-14"},1,null,null,0,1899,"","","/",0,1,"","",0,0,0,"",null,null,null,null,null,null,null,null,null,""]
[null,null,68,{"$f":"IF(AND(YEAR('front utente'!C94)=2013,'front utente'!$I$15=\"si\"),$C$2,'front utente'!C94)","v":"00:00:00"},{"$f":"IF(AND(YEAR('front utente'!D94)=2013,'front utente'!$I$15=\"si\"),$D$2,'front utente'!D94)","v":"00:00:00"},null,{"$f":" IF(D76>E76,0, calcoloperiodi1!H78)","v":0},1,null,"2173-10-14",1,"2173-10-14",1,"2173-10-14",1,"2173-10-14",1,"2173-10-14",1,"2173-10-14",1,null,null,0,1899,"","","/",0,1,"","",0,0,0,"",null,null,null,null,null,null,null,null,null,""]
[null,null,69,{"$f":"IF(AND(YEAR('front utente'!C95)=2013,'front utente'!$I$15=\"si\"),$C$2,'front utente'!C95)","v":"00:00:00"},{"$f":"IF(AND(YEAR('front utente'!D95)=2013,'front utente'!$I$15=\"si\"),$D$2,'front utente'!D95)","v":"00:00:00"},null,{"$f":" IF(D77>E77,0, calcoloperiodi1!H79)","v":0},1,null,"2173-10-14",1,"2173-10-14",1,"2173-10-14",1,"2173-10-14",1,"2173-10-14",1,"2173-10-14",1,null,null,0,1899,"","","/",0,1,"","",0,0,0,"",null,null,null,null,null,null,null,null,null,""]
[null,null,70,{"$f":"IF(AND(YEAR('front utente'!C96)=2013,'front utente'!$I$15=\"si\"),$C$2,'front utente'!C96)","v":"00:00:00"},{"$f":"IF(AND(YEAR('front utente'!D96)=2013,'front utente'!$I$15=\"si\"),$D$2,'front utente'!D96)","v":"00:00:00"},null,{"$f":" IF(D78>E78,0, calcoloperiodi1!H80)","v":0},1,null,"2173-10-14",1,"2173-10-14",1,"2173-10-14",1,"2173-10-14",1,"2173-10-14",1,"2173-10-14",1,null,null,0,1899,"","","/",0,1,"","",{"$f":"IF(AE78<>\"\",IF(  OR(  AF78>179, X78=1 ),1,0),0)","v":0},0,0,"",null,null,null,null,null,null,null,null,null,""]
[null,null,71,{"$f":"IF(AND(YEAR('front utente'!C97)=2013,'front utente'!$I$15=\"si\"),$C$2,'front utente'!C97)","v":"00:00:00"},{"$f":"IF(AND(YEAR('front utente'!D97)=2013,'front utente'!$I$15=\"si\"),$D$2,'front utente'!D97)","v":"00:00:00"},null,{"$f":" IF(D79>E79,0, calcoloperiodi1!H81)","v":0},1,null,"2173-10-14",1,"2173-10-14",1,"2173-10-14",1,"2173-10-14",1,"2173-10-14",1,"2173-10-14",1,null,null,0,1899,"","","/",0,1,"","",0,0,0,"",null,null,null,null,null,null,null,null,null,""]
[null,null,72,{"$f":"IF(AND(YEAR('front utente'!C98)=2013,'front utente'!$I$15=\"si\"),$C$2,'front utente'!C98)","v":"00:00:00"},{"$f":"IF(AND(YEAR('front utente'!D98)=2013,'front utente'!$I$15=\"si\"),$D$2,'front utente'!D98)","v":"00:00:00"},null,{"$f":" IF(D80>E80,0, calcoloperiodi1!H82)","v":0},1,null,"2173-10-14",1,"2173-10-14",1,"2173-10-14",1,"2173-10-14",1,"2173-10-14",1,"2173-10-14",1,null,null,0,1899,"","","/",0,1,"","",0,0,0,"",null,null,null,null,null,null,null,null,null,""]
[null,null,73,{"$f":"IF(AND(YEAR('front utente'!C99)=2013,'front utente'!$I$15=\"si\"),$C$2,'front utente'!C99)","v":"00:00:00"},{"$f":"IF(AND(YEAR('front utente'!D99)=2013,'front utente'!$I$15=\"si\"),$D$2,'front utente'!D99)","v":"00:00:00"},null,{"$f":" IF(D81>E81,0, calcoloperiodi1!H83)","v":0},1,null,"2173-10-14",1,"2173-10-14",1,"2173-10-14",1,"2173-10-14",1,"2173-10-14",1,"2173-10-14",1,null,null,0,1899,"","","/",0,1,"","",0,0,0,"",null,null,null,null,null,null,null,null,null,""]
[null,null,74,{"$f":"IF(AND(YEAR('front utente'!C100)=2013,'front utente'!$I$15=\"si\"),$C$2,'front utente'!C100)","v":"00:00:00"},{"$f":"IF(AND(YEAR('front utente'!D100)=2013,'front utente'!$I$15=\"si\"),$D$2,'front utente'!D100)","v":"00:00:00"},null,{"$f":" IF(D82>E82,0, calcoloperiodi1!H84)","v":0},1,null,"2173-10-14",1,"2173-10-14",1,"2173-10-14",1,"2173-10-14",1,"2173-10-14",1,"2173-10-14",1,null,null,0,1899,"","","/",0,1,"","",0,0,0,"",null,null,null,null,null,null,null,null,null,""]
[null,null,75,{"$f":"IF(AND(YEAR('front utente'!C101)=2013,'front utente'!$I$15=\"si\"),$C$2,'front utente'!C101)","v":"00:00:00"},{"$f":"IF(AND(YEAR('front utente'!D101)=2013,'front utente'!$I$15=\"si\"),$D$2,'front utente'!D101)","v":"00:00:00"},null,{"$f":" IF(D83>E83,0, calcoloperiodi1!H85)","v":0},1,null,"2173-10-14",1,"2173-10-14",1,"2173-10-14",1,"2173-10-14",1,"2173-10-14",1,"2173-10-14",1,null,null,{"$f":"IF(AND(YEAR(D83)=YEAR(E83),E83-D83>147, MONTH(D83)<3,MONTH(E83)>5,DAY(E83)>29      ),1,0)","v":0},1899,"","","/",0,1,"","",0,0,0,"",null,null,null,null,null,null,null,null,null,""]
[null,null,76,{"$f":"IF(AND(YEAR('front utente'!C102)=2013,'front utente'!$I$15=\"si\"),$C$2,'front utente'!C102)","v":"00:00:00"},{"$f":"IF(AND(YEAR('front utente'!D102)=2013,'front utente'!$I$15=\"si\"),$D$2,'front utente'!D102)","v":"00:00:00"},null,{"$f":" IF(D84>E84,0, calcoloperiodi1!H86)","v":0},1,null,"2173-10-14",1,"2173-10-14",1,"2173-10-14",1,"2173-10-14",1,"2173-10-14",1,"2173-10-14",1,null,null,0,1899,"","","/",0,1,"","",0,0,0,"",null,null,null,null,null,null,null,null,null,""]
[null,null,77,{"$f":"IF(AND(YEAR('front utente'!C103)=2013,'front utente'!$I$15=\"si\"),$C$2,'front utente'!C103)","v":"00:00:00"},{"$f":"IF(AND(YEAR('front utente'!D103)=2013,'front utente'!$I$15=\"si\"),$D$2,'front utente'!D103)","v":"00:00:00"},null,{"$f":" IF(D85>E85,0, calcoloperiodi1!H87)","v":0},1,null,"2173-10-14",1,"2173-10-14",1,"2173-10-14",1,"2173-10-14",1,"2173-10-14",1,"2173-10-14",1,null,null,0,1899,"","","/",0,1,"","",0,0,0,"",null,null,null,null,null,null,null,null,null,""]
[null,null,78,{"$f":"IF(AND(YEAR('front utente'!C104)=2013,'front utente'!$I$15=\"si\"),$C$2,'front utente'!C104)","v":"00:00:00"},{"$f":"IF(AND(YEAR('front utente'!D104)=2013,'front utente'!$I$15=\"si\"),$D$2,'front utente'!D104)","v":"00:00:00"},null,{"$f":" IF(D86>E86,0, calcoloperiodi1!H88)","v":0},1,null,"2173-10-14",1,"2173-10-14",1,"2173-10-14",1,"2173-10-14",1,"2173-10-14",1,"2173-10-14",1,null,null,0,1899,"","","/",0,1,"","",0,0,0,"",null,null,null,null,null,null,null,null,null,""]
["\\",null,{"$f":"C86+1","v":79},{"$f":"IF(AND(YEAR('front utente'!C105)=2013,'front utente'!$I$15=\"si\"),$C$2,'front utente'!C105)","v":"00:00:00"},{"$f":"IF(AND(YEAR('front utente'!D105)=2013,'front utente'!$I$15=\"si\"),$D$2,'front utente'!D105)","v":"00:00:00"},null,{"$f":" IF(D87>E87,0, calcoloperiodi1!H89)","v":0},1,null,"2173-10-14",1,"2173-10-14",1,"2173-10-14",1,"2173-10-14",1,"2173-10-14",1,"2173-10-14",{"$f":"S87","v":1},null,null,0,1899,"","","/",0,1,"","",0,0,0,"",null,null,null,null,null,null,null,null,null,""]
[null,null,80,{"$f":"IF(AND(YEAR('front utente'!C106)=2013,'front utente'!$I$15=\"si\"),$C$2,'front utente'!C106)","v":"00:00:00"},{"$f":"IF(AND(YEAR('front utente'!D106)=2013,'front utente'!$I$15=\"si\"),$D$2,'front utente'!D106)","v":"00:00:00"},null,{"$f":" IF(D88>E88,0, calcoloperiodi1!H90)","v":0},1,null,"2173-10-14",1,"2173-10-14",1,"2173-10-14",1,"2173-10-14",1,"2173-10-14",1,"2173-10-14",1,null,null,0,1899,"","","/",0,1,"","",0,0,0,"",null,null,null,null,null,null,null,null,null,""]
[null,null,81,{"$f":"IF(AND(YEAR('front utente'!C107)=2013,'front utente'!$I$15=\"si\"),$C$2,'front utente'!C107)","v":"00:00:00"},{"$f":"IF(AND(YEAR('front utente'!D107)=2013,'front utente'!$I$15=\"si\"),$D$2,'front utente'!D107)","v":"00:00:00"},null,{"$f":" IF(D89>E89,0, calcoloperiodi1!H91)","v":0},1,null,"2173-10-14",1,"2173-10-14",1,"2173-10-14",1,"2173-10-14",1,"2173-10-14",1,"2173-10-14",1,null,null,0,1899,"","","/",0,1,"","",0,0,0,"",null,null,null,null,null,null,null,null,null,""]
[null,null,82,{"$f":"IF(AND(YEAR('front utente'!C108)=2013,'front utente'!$I$15=\"si\"),$C$2,'front utente'!C108)","v":"00:00:00"},{"$f":"IF(AND(YEAR('front utente'!D108)=2013,'front utente'!$I$15=\"si\"),$D$2,'front utente'!D108)","v":"00:00:00"},null,{"$f":" IF(D90>E90,0, calcoloperiodi1!H92)","v":0},1,null,"2173-10-14",1,"2173-10-14",1,"2173-10-14",1,"2173-10-14",1,"2173-10-14",1,"2173-10-14",1,null,null,0,1899,"","","/",0,1,"","",0,0,0,"",null,null,null,null,null,null,null,null,null,""]
[null,null,83,{"$f":"IF(AND(YEAR('front utente'!C109)=2013,'front utente'!$I$15=\"si\"),$C$2,'front utente'!C109)","v":"00:00:00"},{"$f":"IF(AND(YEAR('front utente'!D109)=2013,'front utente'!$I$15=\"si\"),$D$2,'front utente'!D109)","v":"00:00:00"},null,{"$f":" IF(D91>E91,0, calcoloperiodi1!H93)","v":0},1,null,"2173-10-14",1,"2173-10-14",1,"2173-10-14",1,"2173-10-14",1,"2173-10-14",1,"2173-10-14",1,null,null,0,1899,"","","/",0,1,"","",0,0,0,"",null,null,null,null,null,null,null,null,null,""]
[null,null,84,{"$f":"IF(AND(YEAR('front utente'!C110)=2013,'front utente'!$I$15=\"si\"),$C$2,'front utente'!C110)","v":"00:00:00"},{"$f":"IF(AND(YEAR('front utente'!D110)=2013,'front utente'!$I$15=\"si\"),$D$2,'front utente'!D110)","v":"00:00:00"},null,{"$f":" IF(D92>E92,0, calcoloperiodi1!H94)","v":0},1,null,"2173-10-14",1,"2173-10-14",1,"2173-10-14",1,"2173-10-14",1,"2173-10-14",1,"2173-10-14",1,null,null,0,1899,"","","/",0,1,"","",0,0,0,"",null,null,null,null,null,null,null,null,null,""]
[null,null,85,{"$f":"IF(AND(YEAR('front utente'!C111)=2013,'front utente'!$I$15=\"si\"),$C$2,'front utente'!C111)","v":"00:00:00"},{"$f":"IF(AND(YEAR('front utente'!D111)=2013,'front utente'!$I$15=\"si\"),$D$2,'front utente'!D111)","v":"00:00:00"},null,{"$f":" IF(D93>E93,0, calcoloperiodi1!H95)","v":0},1,null,"2173-10-14",1,"2173-10-14",1,"2173-10-14",1,"2173-10-14",1,"2173-10-14",1,"2173-10-14",1,null,null,0,1899,"","","/",0,1,"","",0,0,0,"",null,null,null,null,null,null,null,null,null,""]
[null,null,86,{"$f":"IF(AND(YEAR('front utente'!C112)=2013,'front utente'!$I$15=\"si\"),$C$2,'front utente'!C112)","v":"00:00:00"},{"$f":"IF(AND(YEAR('front utente'!D112)=2013,'front utente'!$I$15=\"si\"),$D$2,'front utente'!D112)","v":"00:00:00"},null,{"$f":" IF(D94>E94,0, calcoloperiodi1!H96)","v":0},1,null,"2173-10-14",1,"2173-10-14",1,"2173-10-14",1,"2173-10-14",1,"2173-10-14",1,"2173-10-14",1,null,null,0,1899,"","","/",0,1,"","",0,0,0,"",null,null,null,null,null,null,null,null,null,""]
[null,null,87,{"$f":"IF(AND(YEAR('front utente'!C113)=2013,'front utente'!$I$15=\"si\"),$C$2,'front utente'!C113)","v":"00:00:00"},{"$f":"IF(AND(YEAR('front utente'!D113)=2013,'front utente'!$I$15=\"si\"),$D$2,'front utente'!D113)","v":"00:00:00"},null,{"$f":" IF(D95>E95,0, calcoloperiodi1!H97)","v":0},1,null,"2173-10-14",1,"2173-10-14",1,"2173-10-14",1,"2173-10-14",1,"2173-10-14",1,"2173-10-14",1,null,null,0,1899,"","","/",0,1,"","",0,0,0,"",null,null,null,null,null,null,null,null,null,""]
[null,null,88,{"$f":"IF(AND(YEAR('front utente'!C114)=2013,'front utente'!$I$15=\"si\"),$C$2,'front utente'!C114)","v":"00:00:00"},{"$f":"IF(AND(YEAR('front utente'!D114)=2013,'front utente'!$I$15=\"si\"),$D$2,'front utente'!D114)","v":"00:00:00"},null,{"$f":" IF(D96>E96,0, calcoloperiodi1!H98)","v":0},1,null,"2173-10-14",1,"2173-10-14",1,"2173-10-14",1,"2173-10-14",1,"2173-10-14",1,"2173-10-14",1,null,null,0,1899,"","","/",0,1,"","",0,0,0,"",null,null,null,null,null,null,null,null,null,""]
[null,null,89,{"$f":"IF(AND(YEAR('front utente'!C115)=2013,'front utente'!$I$15=\"si\"),$C$2,'front utente'!C115)","v":"00:00:00"},{"$f":"IF(AND(YEAR('front utente'!D115)=2013,'front utente'!$I$15=\"si\"),$D$2,'front utente'!D115)","v":"00:00:00"},null,{"$f":" IF(D97>E97,0, calcoloperiodi1!H99)","v":0},1,null,"2173-10-14",1,"2173-10-14",1,"2173-10-14",1,"2173-10-14",1,"2173-10-14",1,"2173-10-14",1,null,null,0,1899,"","","/",0,1,"","",0,0,0,"",null,null,null,null,null,null,null,null,null,""]
[null,null,90,{"$f":"IF(AND(YEAR('front utente'!C116)=2013,'front utente'!$I$15=\"si\"),$C$2,'front utente'!C116)","v":"00:00:00"},{"$f":"IF(AND(YEAR('front utente'!D116)=2013,'front utente'!$I$15=\"si\"),$D$2,'front utente'!D116)","v":"00:00:00"},null,{"$f":" IF(D98>E98,0, calcoloperiodi1!H100)","v":0},1,null,"2173-10-14",1,"2173-10-14",1,"2173-10-14",1,"2173-10-14",1,"2173-10-14",1,"2173-10-14",1,null,null,0,1899,"","","/",0,1,"","",0,0,0,"",null,null,null,null,null,null,null,null,null,""]
[null,null,91,{"$f":"IF(AND(YEAR('front utente'!C117)=2013,'front utente'!$I$15=\"si\"),$C$2,'front utente'!C117)","v":"00:00:00"},{"$f":"IF(AND(YEAR('front utente'!D117)=2013,'front utente'!$I$15=\"si\"),$D$2,'front utente'!D117)","v":"00:00:00"},null,{"$f":" IF(D99>E99,0, calcoloperiodi1!H101)","v":0},1,null,"2173-10-14",1,"2173-10-14",1,"2173-10-14",1,"2173-10-14",1,"2173-10-14",1,"2173-10-14",1,null,null,0,1899,"","","/",0,1,"","",0,0,0,"",null,null,null,null,null,null,null,null,null,""]
[null,null,92,{"$f":"IF(AND(YEAR('front utente'!C118)=2013,'front utente'!$I$15=\"si\"),$C$2,'front utente'!C118)","v":"00:00:00"},{"$f":"IF(AND(YEAR('front utente'!D118)=2013,'front utente'!$I$15=\"si\"),$D$2,'front utente'!D118)","v":"00:00:00"},null,{"$f":" IF(D100>E100,0, calcoloperiodi1!H102)","v":0},1,null,"2173-10-14",1,"2173-10-14",1,"2173-10-14",1,"2173-10-14",1,"2173-10-14",1,"2173-10-14",1,null,null,0,1899,"","","/",0,1,"","",0,0,0,"",null,null,null,null,null,null,null,null,null,""]
[null,null,93,{"$f":"IF(AND(YEAR('front utente'!C119)=2013,'front utente'!$I$15=\"si\"),$C$2,'front utente'!C119)","v":"00:00:00"},{"$f":"IF(AND(YEAR('front utente'!D119)=2013,'front utente'!$I$15=\"si\"),$D$2,'front utente'!D119)","v":"00:00:00"},null,{"$f":" IF(D101>E101,0, calcoloperiodi1!H103)","v":0},1,null,"2173-10-14",1,"2173-10-14",1,"2173-10-14",1,"2173-10-14",1,"2173-10-14",1,"2173-10-14",1,null,null,0,1899,"","","/",0,1,"","",0,0,0,"",null,null,null,null,null,null,null,null,null,""]
[null,null,94,{"$f":"IF(AND(YEAR('front utente'!C120)=2013,'front utente'!$I$15=\"si\"),$C$2,'front utente'!C120)","v":"00:00:00"},{"$f":"IF(AND(YEAR('front utente'!D120)=2013,'front utente'!$I$15=\"si\"),$D$2,'front utente'!D120)","v":"00:00:00"},null,{"$f":" IF(D102>E102,0, calcoloperiodi1!H104)","v":0},1,null,"2173-10-14",1,"2173-10-14",1,"2173-10-14",1,"2173-10-14",1,"2173-10-14",1,"2173-10-14",1,null,null,0,1899,"","","/",0,1,"","",0,0,0,"",null,null,null,null,null,null,null,null,null,""]
[null,null,95,{"$f":"IF(AND(YEAR('front utente'!C121)=2013,'front utente'!$I$15=\"si\"),$C$2,'front utente'!C121)","v":"00:00:00"},{"$f":"IF(AND(YEAR('front utente'!D121)=2013,'front utente'!$I$15=\"si\"),$D$2,'front utente'!D121)","v":"00:00:00"},null,{"$f":" IF(D103>E103,0, calcoloperiodi1!H105)","v":0},1,null,"2173-10-14",1,"2173-10-14",1,"2173-10-14",1,"2173-10-14",1,"2173-10-14",1,"2173-10-14",1,null,null,0,1899,"","","/",0,1,"","",0,0,0,"",null,null,null,null,null,null,null,null,null,""]
[null,null,96,{"$f":"IF(AND(YEAR('front utente'!C122)=2013,'front utente'!$I$15=\"si\"),$C$2,'front utente'!C122)","v":"00:00:00"},{"$f":"IF(AND(YEAR('front utente'!D122)=2013,'front utente'!$I$15=\"si\"),$D$2,'front utente'!D122)","v":"00:00:00"},null,{"$f":" IF(D104>E104,0, calcoloperiodi1!H106)","v":0},1,null,"2173-10-14",1,"2173-10-14",1,"2173-10-14",1,"2173-10-14",1,"2173-10-14",1,"2173-10-14",1,null,null,0,1899,"","","/",0,1,"","",0,0,0,"",null,null,null,null,null,null,null,null,null,""]
[null,null,{"$f":"C104+1","v":97},{"$f":"IF(AND(YEAR('front utente'!C123)=2013,'front utente'!$I$15=\"si\"),$C$2,'front utente'!C123)","v":"00:00:00"},{"$f":"IF(AND(YEAR('front utente'!D123)=2013,'front utente'!$I$15=\"si\"),$D$2,'front utente'!D123)","v":"00:00:00"},null,{"$f":" IF(D105>E105,0, calcoloperiodi1!H107)","v":0},1,null,"2173-10-14",1,"2173-10-14",1,"2173-10-14",1,"2173-10-14",1,"2173-10-14",1,"2173-10-14",{"$f":"S105","v":1},null,null,0,1899,"","","/",0,1,"","",0,0,0,"",null,null,null,null,null,null,null,null,null,""]
[null,null,{"$f":"C105+1","v":98},{"$f":"IF(AND(YEAR('front utente'!C124)=2013,'front utente'!$I$15=\"si\"),$C$2,'front utente'!C124)","v":"00:00:00"},{"$f":"IF(AND(YEAR('front utente'!D124)=2013,'front utente'!$I$15=\"si\"),$D$2,'front utente'!D124)","v":"00:00:00"},null,{"$f":" IF(D106>E106,0, calcoloperiodi1!H108)","v":0},1,null,"2173-10-14",1,"2173-10-14",1,"2173-10-14",1,"2173-10-14",1,"2173-10-14",1,"2173-10-14",{"$f":"S106","v":1},null,null,0,1899,"","","/",0,1,"","",0,0,0,"",null,null,null,null,null,null,null,null,null,""]
[null,null,{"$f":"C106+1","v":99},{"$f":"IF(AND(YEAR('front utente'!C125)=2013,'front utente'!$I$15=\"si\"),$C$2,'front utente'!C125)","v":"00:00:00"},{"$f":"IF(AND(YEAR('front utente'!D125)=2013,'front utente'!$I$15=\"si\"),$D$2,'front utente'!D125)","v":"00:00:00"},null,{"$f":" IF(D107>E107,0, calcoloperiodi1!H109)","v":0},1,null,"2173-10-14",1,"2173-10-14",1,"2173-10-14",1,"2173-10-14",1,"2173-10-14",1,"2173-10-14",{"$f":"S107","v":1},null,null,0,1899,"","","/",0,1,"","",0,0,0,"",null,null,null,null,null,null,null,null,null,""]
[null,null,{"$f":"C107+1","v":100},{"$f":"IF(AND(YEAR('front utente'!C126)=2013,'front utente'!$I$15=\"si\"),$C$2,'front utente'!C126)","v":"00:00:00"},{"$f":"IF(AND(YEAR('front utente'!D126)=2013,'front utente'!$I$15=\"si\"),$D$2,'front utente'!D126)","v":"00:00:00"},null,{"$f":" IF(D108>E108,0, calcoloperiodi1!H110)","v":0},1,null,"2173-10-14",1,"2173-10-14",1,"2173-10-14",1,"2173-10-14",1,"2173-10-14",1,"2173-10-14",{"$f":"S108","v":1},null,null,0,{"$f":"IF(MONTH(D108)<9,YEAR(D108)-1,YEAR(D108))","v":1899},"",{"$f":"IF(Y108>1900,Z108+1,\"\")","v":""},{"$f":"CONCATENATE(Z108,\"/\",AA108)","v":"/"},{"$f":"G108-F108","v":0},{"$f":"IF(AB108=AB107,AC108+AD107,AC108)","v":1},{"$f":"IF(AB108<>AB188,AB108,\"\")","v":""},{"$f":"IF(AE108<>\"\",AD108,\"\")","v":""},0,{"$f":"AH107+AG108","v":0},{"$f":"AH108*AG108","v":0},{"$f":"AE108","v":""},null,null,null,null,null,null,null,null,null,""]
[null,null,{"$f":"C108+1","v":101},{"$f":"IF(AND(YEAR('front utente'!C127)=2013,'front utente'!$I$15=\"si\"),$C$2,'front utente'!C127)","v":"00:00:00"},{"$f":"IF(AND(YEAR('front utente'!D127)=2013,'front utente'!$I$15=\"si\"),$D$2,'front utente'!D127)","v":"00:00:00"},null,{"$f":" IF(D109>E109,0, calcoloperiodi1!H111)","v":0},1,null,"2173-10-14",1,"2173-10-14",1,"2173-10-14",1,"2173-10-14",1,"2173-10-14",1,"2173-10-14",{"$f":"S109","v":1},null,null,0,{"$f":"IF(MONTH(D109)<9,YEAR(D109)-1,YEAR(D109))","v":1899},"",{"$f":"IF(Y109>1900,Z109+1,\"\")","v":""},{"$f":"CONCATENATE(Z109,\"/\",AA109)","v":"/"},{"$f":"G109-F109","v":0},{"$f":"IF(AB109=AB108,AC109+AD108,AC109)","v":1},{"$f":"IF(AB109<>AB189,AB109,\"\")","v":""},{"$f":"IF(AE109<>\"\",AD109,\"\")","v":""},0,{"$f":"AH108+AG109","v":0},{"$f":"AH109*AG109","v":0},{"$f":"AE109","v":""},null,null,null,null,null,null,null,null,null,""]
[null,null,102,{"$f":"IF(AND(YEAR('front utente'!C128)=2013,'front utente'!$I$15=\"si\"),$C$2,'front utente'!C128)","v":"00:00:00"},{"$f":"IF(AND(YEAR('front utente'!D128)=2013,'front utente'!$I$15=\"si\"),$D$2,'front utente'!D128)","v":"00:00:00"},null,{"$f":" IF(D110>E110,0, calcoloperiodi1!H112)","v":0},1,null,"2173-10-14",1,"2173-10-14",1,"2173-10-14",1,"2173-10-14",1,"2173-10-14",1,"2173-10-14",1,null,null,0,1899,"","","/",0,1,"","",0,0,0,"",null,null,null,null,null,null,null,null,null,""]
[null,null,103,{"$f":"IF(AND(YEAR('front utente'!C129)=2013,'front utente'!$I$15=\"si\"),$C$2,'front utente'!C129)","v":"00:00:00"},{"$f":"IF(AND(YEAR('front utente'!D129)=2013,'front utente'!$I$15=\"si\"),$D$2,'front utente'!D129)","v":"00:00:00"},null,{"$f":" IF(D111>E111,0, calcoloperiodi1!H113)","v":0},1,null,"2173-10-14",1,"2173-10-14",1,"2173-10-14",1,"2173-10-14",1,"2173-10-14",1,"2173-10-14",1,null,null,0,1899,"","","/",0,1,"","",0,0,0,"",null,null,null,null,null,null,null,null,null,""]
[null,null,104,{"$f":"IF(AND(YEAR('front utente'!C130)=2013,'front utente'!$I$15=\"si\"),$C$2,'front utente'!C130)","v":"00:00:00"},{"$f":"IF(AND(YEAR('front utente'!D130)=2013,'front utente'!$I$15=\"si\"),$D$2,'front utente'!D130)","v":"00:00:00"},null,{"$f":" IF(D112>E112,0, calcoloperiodi1!H114)","v":0},1,null,"2173-10-14",1,"2173-10-14",1,"2173-10-14",1,"2173-10-14",1,"2173-10-14",1,"2173-10-14",1,null,null,0,1899,"","","/",0,1,"","",0,0,0,"",null,null,null,null,null,null,null,null,null,""]
[null,null,105,{"$f":"IF(AND(YEAR('front utente'!C131)=2013,'front utente'!$I$15=\"si\"),$C$2,'front utente'!C131)","v":"00:00:00"},{"$f":"IF(AND(YEAR('front utente'!D131)=2013,'front utente'!$I$15=\"si\"),$D$2,'front utente'!D131)","v":"00:00:00"},null,{"$f":" IF(D113>E113,0, calcoloperiodi1!H115)","v":0},1,null,"2173-10-14",1,"2173-10-14",1,"2173-10-14",1,"2173-10-14",1,"2173-10-14",1,"2173-10-14",1,null,null,0,1899,"","","/",0,1,"","",0,0,0,"",null,null,null,null,null,null,null,null,null,""]
[null,null,106,{"$f":"IF(AND(YEAR('front utente'!C132)=2013,'front utente'!$I$15=\"si\"),$C$2,'front utente'!C132)","v":"00:00:00"},{"$f":"IF(AND(YEAR('front utente'!D132)=2013,'front utente'!$I$15=\"si\"),$D$2,'front utente'!D132)","v":"00:00:00"},null,{"$f":" IF(D114>E114,0, calcoloperiodi1!H116)","v":0},1,null,"2173-10-14",1,"2173-10-14",1,"2173-10-14",1,"2173-10-14",1,"2173-10-14",1,"2173-10-14",1,null,null,0,1899,"","","/",0,1,"/",1,0,0,0,"/",null,null,null,null,null,null,null,null,null,""]
[null,null,107,{"$f":"IF(AND(YEAR('front utente'!C133)=2013,'front utente'!$I$15=\"si\"),$C$2,'front utente'!C133)","v":"00:00:00"},{"$f":"IF(AND(YEAR('front utente'!D133)=2013,'front utente'!$I$15=\"si\"),$D$2,'front utente'!D133)","v":"00:00:00"},null,{"$f":" IF(D115>E115,0, calcoloperiodi1!H117)","v":0},1,null,"2173-10-14",1,"2173-10-14",1,"2173-10-14",1,"2173-10-14",1,"2173-10-14",1,"2173-10-14",1,null,null,0,1899,"","","/",0,1,"/",1,0,0,0,"/",null,null,null,null,null,null,null,null,null,""]
[null,null,108,{"$f":"IF(AND(YEAR('front utente'!C134)=2013,'front utente'!$I$15=\"si\"),$C$2,'front utente'!C134)","v":"00:00:00"},{"$f":"IF(AND(YEAR('front utente'!D134)=2013,'front utente'!$I$15=\"si\"),$D$2,'front utente'!D134)","v":"00:00:00"},null,{"$f":" IF(D116>E116,0, calcoloperiodi1!H118)","v":0},1,null,"2173-10-14",1,"2173-10-14",1,"2173-10-14",1,"2173-10-14",1,"2173-10-14",1,"2173-10-14",1,null,null,0,1899,"","","/",0,1,"/",1,0,0,0,"/",null,null,null,null,null,null,null,null,null,""]
[null,null,109,{"$f":"IF(AND(YEAR('front utente'!C135)=2013,'front utente'!$I$15=\"si\"),$C$2,'front utente'!C135)","v":"00:00:00"},{"$f":"IF(AND(YEAR('front utente'!D135)=2013,'front utente'!$I$15=\"si\"),$D$2,'front utente'!D135)","v":"00:00:00"},null,{"$f":" IF(D117>E117,0, calcoloperiodi1!H119)","v":0},1,null,"2173-10-14",1,"2173-10-14",1,"2173-10-14",1,"2173-10-14",1,"2173-10-14",1,"2173-10-14",1,null,null,0,1899,"","","/",0,1,"/",1,0,0,0,"/",null,null,null,null,null,null,null,null,null,""]
[null,null,110,{"$f":"IF(AND(YEAR('front utente'!C136)=2013,'front utente'!$I$15=\"si\"),$C$2,'front utente'!C136)","v":"00:00:00"},{"$f":"IF(AND(YEAR('front utente'!D136)=2013,'front utente'!$I$15=\"si\"),$D$2,'front utente'!D136)","v":"00:00:00"},null,{"$f":" IF(D118>E118,0, calcoloperiodi1!H120)","v":0},1,null,"2173-10-14",1,"2173-10-14",1,"2173-10-14",1,"2173-10-14",1,"2173-10-14",1,"2173-10-14",1,null,null,0,1899,"","","/",0,1,"/",1,0,0,0,"/",null,null,null,null,null,null,null,null,null,""]
[null,null,111,{"$f":"IF(AND(YEAR('front utente'!C137)=2013,'front utente'!$I$15=\"si\"),$C$2,'front utente'!C137)","v":"00:00:00"},{"$f":"IF(AND(YEAR('front utente'!D137)=2013,'front utente'!$I$15=\"si\"),$D$2,'front utente'!D137)","v":"00:00:00"},null,{"$f":" IF(D119>E119,0, calcoloperiodi1!H121)","v":0},1,null,"2173-10-14",1,"2173-10-14",1,"2173-10-14",1,"2173-10-14",1,"2173-10-14",1,"2173-10-14",1,null,null,0,1899,"","","/",0,1,"/",1,0,0,0,"/",null,null,null,null,null,null,null,null,null,""]
[null,null,112,{"$f":"IF(AND(YEAR('front utente'!C138)=2013,'front utente'!$I$15=\"si\"),$C$2,'front utente'!C138)","v":"00:00:00"},{"$f":"IF(AND(YEAR('front utente'!D138)=2013,'front utente'!$I$15=\"si\"),$D$2,'front utente'!D138)","v":"00:00:00"},null,{"$f":" IF(D120>E120,0, calcoloperiodi1!H122)","v":0},1,null,"2173-10-14",1,"2173-10-14",1,"2173-10-14",1,"2173-10-14",1,"2173-10-14",1,"2173-10-14",1,null,null,0,1899,"","","/",0,1,"/",1,0,0,0,"/",null,null,null,null,null,null,null,null,null,""]
[null,null,113,{"$f":"IF(AND(YEAR('front utente'!C139)=2013,'front utente'!$I$15=\"si\"),$C$2,'front utente'!C139)","v":"00:00:00"},{"$f":"IF(AND(YEAR('front utente'!D139)=2013,'front utente'!$I$15=\"si\"),$D$2,'front utente'!D139)","v":"00:00:00"},null,{"$f":" IF(D121>E121,0, calcoloperiodi1!H123)","v":0},1,null,"2173-10-14",1,"2173-10-14",1,"2173-10-14",1,"2173-10-14",1,"2173-10-14",1,"2173-10-14",1,null,null,0,1899,"","","/",0,1,"/",1,0,0,0,"/",null,null,null,null,null,null,null,null,null,""]
[null,null,114,{"$f":"IF(AND(YEAR('front utente'!C140)=2013,'front utente'!$I$15=\"si\"),$C$2,'front utente'!C140)","v":"00:00:00"},{"$f":"IF(AND(YEAR('front utente'!D140)=2013,'front utente'!$I$15=\"si\"),$D$2,'front utente'!D140)","v":"00:00:00"},null,{"$f":" IF(D122>E122,0, calcoloperiodi1!H124)","v":0},1,null,"2173-10-14",1,"2173-10-14",1,"2173-10-14",1,"2173-10-14",1,"2173-10-14",1,"2173-10-14",1,null,null,0,1899,"","","/",0,1,"/",1,0,0,0,"/",null,null,null,null,null,null,null,null,null,""]
[null,null,115,{"$f":"IF(AND(YEAR('front utente'!C141)=2013,'front utente'!$I$15=\"si\"),$C$2,'front utente'!C141)","v":"00:00:00"},{"$f":"IF(AND(YEAR('front utente'!D141)=2013,'front utente'!$I$15=\"si\"),$D$2,'front utente'!D141)","v":"00:00:00"},null,{"$f":" IF(D123>E123,0, calcoloperiodi1!H125)","v":0},1,null,"2173-10-14",1,"2173-10-14",1,"2173-10-14",1,"2173-10-14",1,"2173-10-14",1,"2173-10-14",1,null,null,0,1899,"","","/",0,1,"/",1,0,0,0,"/",null,null,null,null,null,null,null,null,null,""]
[null,null,116,{"$f":"IF(AND(YEAR('front utente'!C142)=2013,'front utente'!$I$15=\"si\"),$C$2,'front utente'!C142)","v":"00:00:00"},{"$f":"IF(AND(YEAR('front utente'!D142)=2013,'front utente'!$I$15=\"si\"),$D$2,'front utente'!D142)","v":"00:00:00"},null,{"$f":" IF(D124>E124,0, calcoloperiodi1!H126)","v":0},1,null,"2173-10-14",1,"2173-10-14",1,"2173-10-14",1,"2173-10-14",1,"2173-10-14",1,"2173-10-14",1,null,null,0,1899,"","","/",0,1,"/",1,0,0,0,"/",null,null,null,null,null,null,null,null,null,""]
[null,null,117,{"$f":"IF(AND(YEAR('front utente'!C143)=2013,'front utente'!$I$15=\"si\"),$C$2,'front utente'!C143)","v":"00:00:00"},{"$f":"IF(AND(YEAR('front utente'!D143)=2013,'front utente'!$I$15=\"si\"),$D$2,'front utente'!D143)","v":"00:00:00"},null,{"$f":" IF(D125>E125,0, calcoloperiodi1!H127)","v":0},1,null,"2173-10-14",1,"2173-10-14",1,"2173-10-14",1,"2173-10-14",1,"2173-10-14",1,"2173-10-14",1,null,null,0,1899,"","","/",0,1,"/",1,0,0,0,"/",null,null,null,null,null,null,null,null,null,""]
[null,null,118,{"$f":"IF(AND(YEAR('front utente'!C144)=2013,'front utente'!$I$15=\"si\"),$C$2,'front utente'!C144)","v":"00:00:00"},{"$f":"IF(AND(YEAR('front utente'!D144)=2013,'front utente'!$I$15=\"si\"),$D$2,'front utente'!D144)","v":"00:00:00"},null,{"$f":" IF(D126>E126,0, calcoloperiodi1!H128)","v":0},1,null,"2173-10-14",1,"2173-10-14",1,"2173-10-14",1,"2173-10-14",1,"2173-10-14",1,"2173-10-14",1,null,null,0,1899,"","","/",0,1,"/",1,0,0,0,"/",null,null,null,null,null,null,null,null,null,""]
[null,null,119,{"$f":"IF(AND(YEAR('front utente'!C145)=2013,'front utente'!$I$15=\"si\"),$C$2,'front utente'!C145)","v":"00:00:00"},{"$f":"IF(AND(YEAR('front utente'!D145)=2013,'front utente'!$I$15=\"si\"),$D$2,'front utente'!D145)","v":"00:00:00"},null,{"$f":" IF(D127>E127,0, calcoloperiodi1!H129)","v":0},1,null,"2173-10-14",1,"2173-10-14",1,"2173-10-14",1,"2173-10-14",1,"2173-10-14",1,"2173-10-14",1,null,null,0,1899,"","","/",0,1,"/",1,0,0,0,"/",null,null,null,null,null,null,null,null,null,""]
[null,null,120,{"$f":"IF(AND(YEAR('front utente'!C146)=2013,'front utente'!$I$15=\"si\"),$C$2,'front utente'!C146)","v":"00:00:00"},{"$f":"IF(AND(YEAR('front utente'!D146)=2013,'front utente'!$I$15=\"si\"),$D$2,'front utente'!D146)","v":"00:00:00"},null,{"$f":" IF(D128>E128,0, calcoloperiodi1!H130)","v":0},1,null,"2173-10-14",1,"2173-10-14",1,"2173-10-14",1,"2173-10-14",1,"2173-10-14",1,"2173-10-14",1,null,null,0,1899,"","","/",0,1,"/",1,0,0,0,"/",null,null,null,null,null,null,null,null,null,""]
[null,null,121,{"$f":"IF(AND(YEAR('front utente'!C147)=2013,'front utente'!$I$15=\"si\"),$C$2,'front utente'!C147)","v":"00:00:00"},{"$f":"IF(AND(YEAR('front utente'!D147)=2013,'front utente'!$I$15=\"si\"),$D$2,'front utente'!D147)","v":"00:00:00"},null,{"$f":" IF(D129>E129,0, calcoloperiodi1!H131)","v":0},1,null,"2173-10-14",1,"2173-10-14",1,"2173-10-14",1,"2173-10-14",1,"2173-10-14",1,"2173-10-14",1,null,null,0,1899,"","","/",0,1,"/",1,0,0,0,"/",null,null,null,null,null,null,null,null,null,""]
[null,null,122,{"$f":"IF(AND(YEAR('front utente'!C148)=2013,'front utente'!$I$15=\"si\"),$C$2,'front utente'!C148)","v":"00:00:00"},{"$f":"IF(AND(YEAR('front utente'!D148)=2013,'front utente'!$I$15=\"si\"),$D$2,'front utente'!D148)","v":"00:00:00"},null,{"$f":" IF(D130>E130,0, calcoloperiodi1!H132)","v":0},1,null,"2173-10-14",1,"2173-10-14",1,"2173-10-14",1,"2173-10-14",1,"2173-10-14",1,"2173-10-14",1,null,null,0,1899,"","","/",0,1,"/",1,0,0,0,"/",null,null,null,null,null,null,null,null,null,""]
[null,null,123,{"$f":"IF(AND(YEAR('front utente'!C149)=2013,'front utente'!$I$15=\"si\"),$C$2,'front utente'!C149)","v":"00:00:00"},{"$f":"IF(AND(YEAR('front utente'!D149)=2013,'front utente'!$I$15=\"si\"),$D$2,'front utente'!D149)","v":"00:00:00"},null,{"$f":" IF(D131>E131,0, calcoloperiodi1!H133)","v":0},1,null,"2173-10-14",1,"2173-10-14",1,"2173-10-14",1,"2173-10-14",1,"2173-10-14",1,"2173-10-14",1,null,null,0,1899,"","","/",0,1,"/",1,0,0,0,"/",null,null,null,null,null,null,null,null,null,""]
[null,null,124,{"$f":"IF(AND(YEAR('front utente'!C150)=2013,'front utente'!$I$15=\"si\"),$C$2,'front utente'!C150)","v":"00:00:00"},{"$f":"IF(AND(YEAR('front utente'!D150)=2013,'front utente'!$I$15=\"si\"),$D$2,'front utente'!D150)","v":"00:00:00"},null,{"$f":" IF(D132>E132,0, calcoloperiodi1!H134)","v":0},1,null,"2173-10-14",1,"2173-10-14",1,"2173-10-14",1,"2173-10-14",1,"2173-10-14",1,"2173-10-14",1,null,null,0,1899,"","","/",0,1,"/",1,0,0,0,"/",null,null,null,null,null,null,null,null,null,""]
[null,null,125,{"$f":"IF(AND(YEAR('front utente'!C151)=2013,'front utente'!$I$15=\"si\"),$C$2,'front utente'!C151)","v":"00:00:00"},{"$f":"IF(AND(YEAR('front utente'!D151)=2013,'front utente'!$I$15=\"si\"),$D$2,'front utente'!D151)","v":"00:00:00"},null,{"$f":" IF(D133>E133,0, calcoloperiodi1!H135)","v":0},1,null,"2173-10-14",1,"2173-10-14",1,"2173-10-14",1,"2173-10-14",1,"2173-10-14",1,"2173-10-14",1,null,null,0,1899,"","","/",0,1,"/",1,0,0,0,"/",null,null,null,null,null,null,null,null,null,""]
[null,null,126,{"$f":"IF(AND(YEAR('front utente'!C152)=2013,'front utente'!$I$15=\"si\"),$C$2,'front utente'!C152)","v":"00:00:00"},{"$f":"IF(AND(YEAR('front utente'!D152)=2013,'front utente'!$I$15=\"si\"),$D$2,'front utente'!D152)","v":"00:00:00"},null,{"$f":" IF(D134>E134,0, calcoloperiodi1!H136)","v":0},1,null,"2173-10-14",1,"2173-10-14",1,"2173-10-14",1,"2173-10-14",1,"2173-10-14",1,"2173-10-14",1,null,null,0,1899,"","","/",0,1,"/",1,0,0,0,"/",null,null,null,null,null,null,null,null,null,""]
[null,null,127,{"$f":"IF(AND(YEAR('front utente'!C153)=2013,'front utente'!$I$15=\"si\"),$C$2,'front utente'!C153)","v":"00:00:00"},{"$f":"IF(AND(YEAR('front utente'!D153)=2013,'front utente'!$I$15=\"si\"),$D$2,'front utente'!D153)","v":"00:00:00"},null,{"$f":" IF(D135>E135,0, calcoloperiodi1!H137)","v":0},1,null,"2173-10-14",1,"2173-10-14",1,"2173-10-14",1,"2173-10-14",1,"2173-10-14",1,"2173-10-14",1,null,null,0,1899,"","","/",0,1,"/",1,0,0,0,"/",null,null,null,null,null,null,null,null,null,""]
[null,null,128,{"$f":"IF(AND(YEAR('front utente'!C154)=2013,'front utente'!$I$15=\"si\"),$C$2,'front utente'!C154)","v":"00:00:00"},{"$f":"IF(AND(YEAR('front utente'!D154)=2013,'front utente'!$I$15=\"si\"),$D$2,'front utente'!D154)","v":"00:00:00"},null,{"$f":" IF(D136>E136,0, calcoloperiodi1!H138)","v":0},1,null,"2173-10-14",1,"2173-10-14",1,"2173-10-14",1,"2173-10-14",1,"2173-10-14",1,"2173-10-14",1,null,null,0,1899,"","","/",0,1,"/",1,0,0,0,"/",null,null,null,null,null,null,null,null,null,""]
[null,null,129,{"$f":"IF(AND(YEAR('front utente'!C155)=2013,'front utente'!$I$15=\"si\"),$C$2,'front utente'!C155)","v":"00:00:00"},{"$f":"IF(AND(YEAR('front utente'!D155)=2013,'front utente'!$I$15=\"si\"),$D$2,'front utente'!D155)","v":"00:00:00"},null,{"$f":" IF(D137>E137,0, calcoloperiodi1!H139)","v":0},1,null,"2173-10-14",1,"2173-10-14",1,"2173-10-14",1,"2173-10-14",1,"2173-10-14",1,"2173-10-14",1,null,null,0,1899,"","","/",0,1,"/",1,0,0,0,"/",null,null,null,null,null,null,null,null,null,""]
[null,null,130,{"$f":"IF(AND(YEAR('front utente'!C156)=2013,'front utente'!$I$15=\"si\"),$C$2,'front utente'!C156)","v":"00:00:00"},{"$f":"IF(AND(YEAR('front utente'!D156)=2013,'front utente'!$I$15=\"si\"),$D$2,'front utente'!D156)","v":"00:00:00"},null,{"$f":" IF(D138>E138,0, calcoloperiodi1!H140)","v":0},1,null,"2173-10-14",1,"2173-10-14",1,"2173-10-14",1,"2173-10-14",1,"2173-10-14",1,"2173-10-14",1,null,null,0,1899,"","","/",0,1,"/",1,0,0,0,"/",null,null,null,null,null,null,null,null,null,{"$f":"IF(AG138=1,AE138,\"\")","v":""}]
[null,null,131,{"$f":"IF(AND(YEAR('front utente'!C157)=2013,'front utente'!$I$15=\"si\"),$C$2,'front utente'!C157)","v":"00:00:00"},{"$f":"IF(AND(YEAR('front utente'!D157)=2013,'front utente'!$I$15=\"si\"),$D$2,'front utente'!D157)","v":"00:00:00"},null,{"$f":" IF(D139>E139,0, calcoloperiodi1!H141)","v":0},{"$f":"H138+G139","v":1},null,{"$f":"IF(  AND(H139>1095-$I$11,D139>0,B139<>\"si\",YEAR(E139)>1995                ),E139-$I$11,100000)","v":"2173-10-14"},{"$f":"H139","v":1},{"$f":"IF(  AND(H139>3285-$I$11,D139>0,B139<>\"si\",YEAR(E139)>1995),E139-$I$11,100000)","v":"2173-10-14"},{"$f":"K139","v":1},{"$f":"IF(  AND(H139>5475-$I$11,D139>0,B139<>\"si\",YEAR(E139)>1995),E139-$I$11,100000)","v":"2173-10-14"},{"$f":"M139","v":1},{"$f":"IF(  AND(H139>7665-$I$11,D139>0,B139<>\"si\",YEAR(E139)>1995),E139-$I$11,100000)","v":"2173-10-14"},{"$f":"O139","v":1},{"$f":"IF(  AND(H139>10220-$I$11,D139>0,B139<>\"si\"),E139-$I$11,100000)","v":"2173-10-14"},{"$f":"Q139","v":1},{"$f":"IF(  AND(H139>12775-$I$11,D139>0,B139<>\"si\"),E139-$I$11,100000)","v":"2173-10-14"},1,null,null,0,1899,"","","/",0,1,"/",1,0,0,0,"/",null,null,null,null,null,null,null,null,null,""]
[null,null,132,{"$f":"IF(AND(YEAR('front utente'!C158)=2013,'front utente'!$I$15=\"si\"),$C$2,'front utente'!C158)","v":"00:00:00"},{"$f":"IF(AND(YEAR('front utente'!D158)=2013,'front utente'!$I$15=\"si\"),$D$2,'front utente'!D158)","v":"00:00:00"},null,{"$f":" IF(D140>E140,0, calcoloperiodi1!H142)","v":0},1,null,"2173-10-14",1,"2173-10-14",1,"2173-10-14",1,"2173-10-14",1,"2173-10-14",1,"2173-10-14",1,null,null,0,1899,"","","/",0,1,"/",1,0,0,0,"/",null,null,null,null,null,null,null,null,null,""]
[null,null,133,{"$f":"IF(AND(YEAR('front utente'!C159)=2013,'front utente'!$I$15=\"si\"),$C$2,'front utente'!C159)","v":"00:00:00"},{"$f":"IF(AND(YEAR('front utente'!D159)=2013,'front utente'!$I$15=\"si\"),$D$2,'front utente'!D159)","v":"00:00:00"},null,{"$f":" IF(D141>E141,0, calcoloperiodi1!H143)","v":0},1,null,"2173-10-14",1,"2173-10-14",1,"2173-10-14",1,"2173-10-14",1,"2173-10-14",1,"2173-10-14",1,null,null,0,1899,"","","/",0,1,"/",1,0,0,0,"/",null,null,null,null,null,null,null,null,null,""]
[null,null,134,{"$f":"IF(AND(YEAR('front utente'!C160)=2013,'front utente'!$I$15=\"si\"),$C$2,'front utente'!C160)","v":"00:00:00"},{"$f":"IF(AND(YEAR('front utente'!D160)=2013,'front utente'!$I$15=\"si\"),$D$2,'front utente'!D160)","v":"00:00:00"},null,{"$f":" IF(D142>E142,0, calcoloperiodi1!H144)","v":0},1,null,"2173-10-14",1,"2173-10-14",1,"2173-10-14",1,"2173-10-14",1,"2173-10-14",1,"2173-10-14",1,null,null,0,1899,"","","/",0,1,"/",1,{"$f":"IF(AE142<>\"\",IF(  OR(  AF142>179, X142=1 ),1,0),0)","v":0},0,0,"/",null,null,null,null,null,null,null,null,null,""]
[null,null,135,{"$f":"IF(AND(YEAR('front utente'!C161)=2013,'front utente'!$I$15=\"si\"),$C$2,'front utente'!C161)","v":"00:00:00"},{"$f":"IF(AND(YEAR('front utente'!D161)=2013,'front utente'!$I$15=\"si\"),$D$2,'front utente'!D161)","v":"00:00:00"},null,{"$f":" IF(D143>E143,0, calcoloperiodi1!H145)","v":0},1,null,"2173-10-14",1,"2173-10-14",1,"2173-10-14",1,"2173-10-14",1,"2173-10-14",1,"2173-10-14",1,null,null,0,1899,"","","/",0,1,"/",1,0,0,0,"/",null,null,null,null,null,null,null,null,null,""]
[null,null,136,{"$f":"IF(AND(YEAR('front utente'!C162)=2013,'front utente'!$I$15=\"si\"),$C$2,'front utente'!C162)","v":"00:00:00"},{"$f":"IF(AND(YEAR('front utente'!D162)=2013,'front utente'!$I$15=\"si\"),$D$2,'front utente'!D162)","v":"00:00:00"},null,{"$f":" IF(D144>E144,0, calcoloperiodi1!H146)","v":0},1,null,"2173-10-14",1,"2173-10-14",1,"2173-10-14",1,"2173-10-14",1,"2173-10-14",1,"2173-10-14",1,null,null,0,1899,"","","/",0,1,"/",1,0,0,0,"/",null,null,null,null,null,null,null,null,null,""]
[null,null,137,{"$f":"IF(AND(YEAR('front utente'!C163)=2013,'front utente'!$I$15=\"si\"),$C$2,'front utente'!C163)","v":"00:00:00"},{"$f":"IF(AND(YEAR('front utente'!D163)=2013,'front utente'!$I$15=\"si\"),$D$2,'front utente'!D163)","v":"00:00:00"},null,{"$f":" IF(D145>E145,0, calcoloperiodi1!H147)","v":0},1,null,"2173-10-14",1,"2173-10-14",1,"2173-10-14",1,"2173-10-14",1,"2173-10-14",1,"2173-10-14",1,null,null,0,1899,"","","/",0,1,"/",1,0,0,0,"/",null,null,null,null,null,null,null,null,null,""]
[null,null,138,{"$f":"IF(AND(YEAR('front utente'!C164)=2013,'front utente'!$I$15=\"si\"),$C$2,'front utente'!C164)","v":"00:00:00"},{"$f":"IF(AND(YEAR('front utente'!D164)=2013,'front utente'!$I$15=\"si\"),$D$2,'front utente'!D164)","v":"00:00:00"},null,{"$f":" IF(D146>E146,0, calcoloperiodi1!H148)","v":0},1,null,"2173-10-14",1,"2173-10-14",1,"2173-10-14",1,"2173-10-14",1,"2173-10-14",1,"2173-10-14",1,null,null,0,1899,"","","/",0,1,"/",1,0,0,0,"/",null,null,null,null,null,null,null,null,null,""]
[null,null,139,{"$f":"IF(AND(YEAR('front utente'!C165)=2013,'front utente'!$I$15=\"si\"),$C$2,'front utente'!C165)","v":"00:00:00"},{"$f":"IF(AND(YEAR('front utente'!D165)=2013,'front utente'!$I$15=\"si\"),$D$2,'front utente'!D165)","v":"00:00:00"},null,{"$f":" IF(D147>E147,0, calcoloperiodi1!H149)","v":0},1,null,"2173-10-14",1,"2173-10-14",1,"2173-10-14",1,"2173-10-14",1,"2173-10-14",1,"2173-10-14",1,null,null,{"$f":"IF(AND(YEAR(D147)=YEAR(E147),E147-D147>147, MONTH(D147)<3,MONTH(E147)>5,DAY(E147)>29      ),1,0)","v":0},1899,"","","/",0,1,"/",1,0,0,0,"/",null,null,null,null,null,null,null,null,null,""]
[null,null,140,{"$f":"IF(AND(YEAR('front utente'!C166)=2013,'front utente'!$I$15=\"si\"),$C$2,'front utente'!C166)","v":"00:00:00"},{"$f":"IF(AND(YEAR('front utente'!D166)=2013,'front utente'!$I$15=\"si\"),$D$2,'front utente'!D166)","v":"00:00:00"},null,{"$f":" IF(D148>E148,0, calcoloperiodi1!H150)","v":0},1,null,"2173-10-14",1,"2173-10-14",1,"2173-10-14",1,"2173-10-14",1,"2173-10-14",1,"2173-10-14",1,null,null,0,1899,"","","/",0,1,"/",1,0,0,0,"/",null,null,null,null,null,null,null,null,null,""]
[null,null,141,{"$f":"IF(AND(YEAR('front utente'!C167)=2013,'front utente'!$I$15=\"si\"),$C$2,'front utente'!C167)","v":"00:00:00"},{"$f":"IF(AND(YEAR('front utente'!D167)=2013,'front utente'!$I$15=\"si\"),$D$2,'front utente'!D167)","v":"00:00:00"},null,{"$f":" IF(D149>E149,0, calcoloperiodi1!H151)","v":0},1,null,"2173-10-14",1,"2173-10-14",1,"2173-10-14",1,"2173-10-14",1,"2173-10-14",1,"2173-10-14",1,null,null,0,1899,"","","/",0,1,"/",1,0,0,0,"/",null,null,null,null,null,null,null,null,null,""]
[null,null,142,{"$f":"IF(AND(YEAR('front utente'!C168)=2013,'front utente'!$I$15=\"si\"),$C$2,'front utente'!C168)","v":"00:00:00"},{"$f":"IF(AND(YEAR('front utente'!D168)=2013,'front utente'!$I$15=\"si\"),$D$2,'front utente'!D168)","v":"00:00:00"},null,{"$f":" IF(D150>E150,0, calcoloperiodi1!H152)","v":0},1,null,"2173-10-14",1,"2173-10-14",1,"2173-10-14",1,"2173-10-14",1,"2173-10-14",1,"2173-10-14",1,null,null,0,1899,"","","/",0,1,"/",1,0,0,0,"/",null,null,null,null,null,null,null,null,null,""]
[null,null,143,{"$f":"IF(AND(YEAR('front utente'!C169)=2013,'front utente'!$I$15=\"si\"),$C$2,'front utente'!C169)","v":"00:00:00"},{"$f":"IF(AND(YEAR('front utente'!D169)=2013,'front utente'!$I$15=\"si\"),$D$2,'front utente'!D169)","v":"00:00:00"},null,{"$f":" IF(D151>E151,0, calcoloperiodi1!H153)","v":0},1,null,"2173-10-14",1,"2173-10-14",1,"2173-10-14",1,"2173-10-14",1,"2173-10-14",1,"2173-10-14",1,null,null,0,1899,"","","/",0,1,"/",1,0,0,0,"/",null,null,null,null,null,null,null,null,null,""]
[null,null,144,{"$f":"IF(AND(YEAR('front utente'!C170)=2013,'front utente'!$I$15=\"si\"),$C$2,'front utente'!C170)","v":"00:00:00"},{"$f":"IF(AND(YEAR('front utente'!D170)=2013,'front utente'!$I$15=\"si\"),$D$2,'front utente'!D170)","v":"00:00:00"},null,{"$f":" IF(D152>E152,0, calcoloperiodi1!H154)","v":0},1,null,"2173-10-14",1,"2173-10-14",1,"2173-10-14",1,"2173-10-14",1,"2173-10-14",1,"2173-10-14",1,null,null,0,1899,"","","/",0,1,"/",1,0,0,0,"/",null,null,null,null,null,null,null,null,null,""]
[null,null,145,{"$f":"IF(AND(YEAR('front utente'!C171)=2013,'front utente'!$I$15=\"si\"),$C$2,'front utente'!C171)","v":"00:00:00"},{"$f":"IF(AND(YEAR('front utente'!D171)=2013,'front utente'!$I$15=\"si\"),$D$2,'front utente'!D171)","v":"00:00:00"},null,{"$f":" IF(D153>E153,0, calcoloperiodi1!H155)","v":0},1,null,"2173-10-14",1,"2173-10-14",1,"2173-10-14",1,"2173-10-14",1,"2173-10-14",1,"2173-10-14",1,null,null,0,1899,"","","/",0,1,"/",1,0,0,0,"/",null,null,null,null,null,null,null,null,null,""]
[null,null,146,{"$f":"IF(AND(YEAR('front utente'!C172)=2013,'front utente'!$I$15=\"si\"),$C$2,'front utente'!C172)","v":"00:00:00"},{"$f":"IF(AND(YEAR('front utente'!D172)=2013,'front utente'!$I$15=\"si\"),$D$2,'front utente'!D172)","v":"00:00:00"},null,{"$f":" IF(D154>E154,0, calcoloperiodi1!H156)","v":0},1,null,"2173-10-14",1,"2173-10-14",1,"2173-10-14",1,"2173-10-14",1,"2173-10-14",1,"2173-10-14",1,null,null,0,1899,"","","/",0,1,"/",1,0,0,0,"/",null,null,null,null,null,null,null,null,null,""]
[null,null,147,{"$f":"IF(AND(YEAR('front utente'!C173)=2013,'front utente'!$I$15=\"si\"),$C$2,'front utente'!C173)","v":"00:00:00"},{"$f":"IF(AND(YEAR('front utente'!D173)=2013,'front utente'!$I$15=\"si\"),$D$2,'front utente'!D173)","v":"00:00:00"},null,{"$f":" IF(D155>E155,0, calcoloperiodi1!H157)","v":0},1,null,"2173-10-14",1,"2173-10-14",1,"2173-10-14",1,"2173-10-14",1,"2173-10-14",1,"2173-10-14",1,null,null,0,1899,"","","/",0,1,"/",1,0,0,0,"/",null,null,null,null,null,null,null,null,null,""]
[null,null,148,{"$f":"IF(AND(YEAR('front utente'!C174)=2013,'front utente'!$I$15=\"si\"),$C$2,'front utente'!C174)","v":"00:00:00"},{"$f":"IF(AND(YEAR('front utente'!D174)=2013,'front utente'!$I$15=\"si\"),$D$2,'front utente'!D174)","v":"00:00:00"},null,{"$f":" IF(D156>E156,0, calcoloperiodi1!H158)","v":0},1,null,"2173-10-14",1,"2173-10-14",1,"2173-10-14",1,"2173-10-14",1,"2173-10-14",1,"2173-10-14",1,null,null,0,1899,"","","/",0,1,"/",1,0,0,0,"/",null,null,null,null,null,null,null,null,null,""]
[null,null,149,{"$f":"IF(AND(YEAR('front utente'!C175)=2013,'front utente'!$I$15=\"si\"),$C$2,'front utente'!C175)","v":"00:00:00"},{"$f":"IF(AND(YEAR('front utente'!D175)=2013,'front utente'!$I$15=\"si\"),$D$2,'front utente'!D175)","v":"00:00:00"},null,{"$f":" IF(D157>E157,0, calcoloperiodi1!H159)","v":0},1,null,"2173-10-14",1,"2173-10-14",1,"2173-10-14",1,"2173-10-14",1,"2173-10-14",1,"2173-10-14",1,null,null,0,1899,"","","/",0,1,"/",1,0,0,0,"/",null,null,null,null,null,null,null,null,null,""]
[null,null,150,{"$f":"IF(AND(YEAR('front utente'!C176)=2013,'front utente'!$I$15=\"si\"),$C$2,'front utente'!C176)","v":"00:00:00"},{"$f":"IF(AND(YEAR('front utente'!D176)=2013,'front utente'!$I$15=\"si\"),$D$2,'front utente'!D176)","v":"00:00:00"},null,{"$f":" IF(D158>E158,0, calcoloperiodi1!H160)","v":0},1,null,"2173-10-14",1,"2173-10-14",1,"2173-10-14",1,"2173-10-14",1,"2173-10-14",1,"2173-10-14",1,null,null,0,1899,"","","/",0,1,"/",1,0,0,0,"/",null,null,null,null,null,null,null,null,null,""]
[null,null,151,{"$f":"IF(AND(YEAR('front utente'!C177)=2013,'front utente'!$I$15=\"si\"),$C$2,'front utente'!C177)","v":"00:00:00"},{"$f":"IF(AND(YEAR('front utente'!D177)=2013,'front utente'!$I$15=\"si\"),$D$2,'front utente'!D177)","v":"00:00:00"},null,{"$f":" IF(D159>E159,0, calcoloperiodi1!H161)","v":0},1,null,"2173-10-14",1,"2173-10-14",1,"2173-10-14",1,"2173-10-14",1,"2173-10-14",1,"2173-10-14",1,null,null,0,1899,"","","/",0,1,"/",1,0,0,0,"/",null,null,null,null,null,null,null,null,null,""]
[null,null,152,{"$f":"IF(AND(YEAR('front utente'!C178)=2013,'front utente'!$I$15=\"si\"),$C$2,'front utente'!C178)","v":"00:00:00"},{"$f":"IF(AND(YEAR('front utente'!D178)=2013,'front utente'!$I$15=\"si\"),$D$2,'front utente'!D178)","v":"00:00:00"},null,{"$f":" IF(D160>E160,0, calcoloperiodi1!H162)","v":0},1,null,"2173-10-14",1,"2173-10-14",1,"2173-10-14",1,"2173-10-14",1,"2173-10-14",1,"2173-10-14",1,null,null,0,1899,"","","/",0,1,"/",1,0,0,0,"/",null,null,null,null,null,null,null,null,null,""]
[null,null,153,{"$f":"IF(AND(YEAR('front utente'!C179)=2013,'front utente'!$I$15=\"si\"),$C$2,'front utente'!C179)","v":"00:00:00"},{"$f":"IF(AND(YEAR('front utente'!D179)=2013,'front utente'!$I$15=\"si\"),$D$2,'front utente'!D179)","v":"00:00:00"},null,{"$f":" IF(D161>E161,0, calcoloperiodi1!H163)","v":0},1,null,"2173-10-14",1,"2173-10-14",1,"2173-10-14",1,"2173-10-14",1,"2173-10-14",1,"2173-10-14",1,null,null,0,1899,"","","/",0,1,"/",1,0,0,0,"/",null,null,null,null,null,null,null,null,null,""]
[null,null,154,{"$f":"IF(AND(YEAR('front utente'!C180)=2013,'front utente'!$I$15=\"si\"),$C$2,'front utente'!C180)","v":"00:00:00"},{"$f":"IF(AND(YEAR('front utente'!D180)=2013,'front utente'!$I$15=\"si\"),$D$2,'front utente'!D180)","v":"00:00:00"},null,{"$f":" IF(D162>E162,0, calcoloperiodi1!H164)","v":0},1,null,"2173-10-14",1,"2173-10-14",1,"2173-10-14",1,"2173-10-14",1,"2173-10-14",1,"2173-10-14",1,null,null,0,1899,"","","/",0,1,"/",1,0,0,0,"/",null,null,null,null,null,null,null,null,null,""]
[null,null,155,{"$f":"IF(AND(YEAR('front utente'!C181)=2013,'front utente'!$I$15=\"si\"),$C$2,'front utente'!C181)","v":"00:00:00"},{"$f":"IF(AND(YEAR('front utente'!D181)=2013,'front utente'!$I$15=\"si\"),$D$2,'front utente'!D181)","v":"00:00:00"},null,{"$f":" IF(D163>E163,0, calcoloperiodi1!H165)","v":0},1,null,"2173-10-14",1,"2173-10-14",1,"2173-10-14",1,"2173-10-14",1,"2173-10-14",1,"2173-10-14",1,null,null,0,1899,"","","/",0,1,"/",1,0,0,0,"/",null,null,null,null,null,null,null,null,null,""]
[null,null,156,{"$f":"IF(AND(YEAR('front utente'!C182)=2013,'front utente'!$I$15=\"si\"),$C$2,'front utente'!C182)","v":"00:00:00"},{"$f":"IF(AND(YEAR('front utente'!D182)=2013,'front utente'!$I$15=\"si\"),$D$2,'front utente'!D182)","v":"00:00:00"},null,{"$f":" IF(D164>E164,0, calcoloperiodi1!H166)","v":0},1,null,"2173-10-14",1,"2173-10-14",1,"2173-10-14",1,"2173-10-14",1,"2173-10-14",1,"2173-10-14",1,null,null,0,1899,"","","/",0,1,"/",1,0,0,0,"/",null,null,null,null,null,null,null,null,null,""]
[null,null,157,{"$f":"IF(AND(YEAR('front utente'!C183)=2013,'front utente'!$I$15=\"si\"),$C$2,'front utente'!C183)","v":"00:00:00"},{"$f":"IF(AND(YEAR('front utente'!D183)=2013,'front utente'!$I$15=\"si\"),$D$2,'front utente'!D183)","v":"00:00:00"},null,{"$f":" IF(D165>E165,0, calcoloperiodi1!H167)","v":0},1,null,"2173-10-14",1,"2173-10-14",1,"2173-10-14",1,"2173-10-14",1,"2173-10-14",1,"2173-10-14",1,null,null,0,1899,"","","/",0,1,"/",1,0,0,0,"/",null,null,null,null,null,null,null,null,null,""]
[null,null,158,{"$f":"IF(AND(YEAR('front utente'!C184)=2013,'front utente'!$I$15=\"si\"),$C$2,'front utente'!C184)","v":"00:00:00"},{"$f":"IF(AND(YEAR('front utente'!D184)=2013,'front utente'!$I$15=\"si\"),$D$2,'front utente'!D184)","v":"00:00:00"},null,{"$f":" IF(D166>E166,0, calcoloperiodi1!H168)","v":0},1,null,"2173-10-14",1,"2173-10-14",1,"2173-10-14",1,"2173-10-14",1,"2173-10-14",1,"2173-10-14",1,null,null,0,1899,"","","/",0,1,"/",1,0,0,0,"/",null,null,null,null,null,null,null,null,null,""]
[null,null,159,{"$f":"IF(AND(YEAR('front utente'!C185)=2013,'front utente'!$I$15=\"si\"),$C$2,'front utente'!C185)","v":"00:00:00"},{"$f":"IF(AND(YEAR('front utente'!D185)=2013,'front utente'!$I$15=\"si\"),$D$2,'front utente'!D185)","v":"00:00:00"},null,{"$f":" IF(D167>E167,0, calcoloperiodi1!H169)","v":0},1,null,"2173-10-14",1,"2173-10-14",1,"2173-10-14",1,"2173-10-14",1,"2173-10-14",1,"2173-10-14",1,null,null,0,1899,"","","/",0,1,"/",1,0,0,0,"/",null,null,null,null,null,null,null,null,null,""]
[null,null,160,{"$f":"IF(AND(YEAR('front utente'!C186)=2013,'front utente'!$I$15=\"si\"),$C$2,'front utente'!C186)","v":"00:00:00"},{"$f":"IF(AND(YEAR('front utente'!D186)=2013,'front utente'!$I$15=\"si\"),$D$2,'front utente'!D186)","v":"00:00:00"},null,{"$f":" IF(D168>E168,0, calcoloperiodi1!H170)","v":0},1,null,"2173-10-14",1,"2173-10-14",1,"2173-10-14",1,"2173-10-14",1,"2173-10-14",1,"2173-10-14",1,null,null,0,1899,"","","/",0,1,"/",1,0,0,0,"/",null,null,null,null,null,null,null,null,null,""]
[null,null,161,{"$f":"IF(AND(YEAR('front utente'!C187)=2013,'front utente'!$I$15=\"si\"),$C$2,'front utente'!C187)","v":"00:00:00"},{"$f":"IF(AND(YEAR('front utente'!D187)=2013,'front utente'!$I$15=\"si\"),$D$2,'front utente'!D187)","v":"00:00:00"},null,{"$f":" IF(D169>E169,0, calcoloperiodi1!H171)","v":0},1,null,"2173-10-14",1,"2173-10-14",1,"2173-10-14",1,"2173-10-14",1,"2173-10-14",1,"2173-10-14",1,null,null,0,1899,"","","/",0,1,"/",1,0,0,0,"/",null,null,null,null,null,null,null,null,null,""]
[null,null,162,{"$f":"IF(AND(YEAR('front utente'!C188)=2013,'front utente'!$I$15=\"si\"),$C$2,'front utente'!C188)","v":"00:00:00"},{"$f":"IF(AND(YEAR('front utente'!D188)=2013,'front utente'!$I$15=\"si\"),$D$2,'front utente'!D188)","v":"00:00:00"},null,{"$f":" IF(D170>E170,0, calcoloperiodi1!H172)","v":0},1,null,"2173-10-14",1,"2173-10-14",1,"2173-10-14",1,"2173-10-14",1,"2173-10-14",1,"2173-10-14",1,null,null,0,1899,"","","/",0,1,"/",1,0,0,0,"/",null,null,null,null,null,null,null,null,null,""]
[null,null,163,{"$f":"IF(AND(YEAR('front utente'!C189)=2013,'front utente'!$I$15=\"si\"),$C$2,'front utente'!C189)","v":"00:00:00"},{"$f":"IF(AND(YEAR('front utente'!D189)=2013,'front utente'!$I$15=\"si\"),$D$2,'front utente'!D189)","v":"00:00:00"},null,{"$f":" IF(D171>E171,0, calcoloperiodi1!H173)","v":0},1,null,"2173-10-14",1,"2173-10-14",1,"2173-10-14",1,"2173-10-14",1,"2173-10-14",1,"2173-10-14",1,null,null,0,1899,"","","/",0,1,"/",1,0,0,0,"/",null,null,null,null,null,null,null,null,null,""]
[null,null,164,{"$f":"IF(AND(YEAR('front utente'!C190)=2013,'front utente'!$I$15=\"si\"),$C$2,'front utente'!C190)","v":"00:00:00"},{"$f":"IF(AND(YEAR('front utente'!D190)=2013,'front utente'!$I$15=\"si\"),$D$2,'front utente'!D190)","v":"00:00:00"},null,{"$f":" IF(D172>E172,0, calcoloperiodi1!H174)","v":0},1,null,"2173-10-14",1,"2173-10-14",1,"2173-10-14",1,"2173-10-14",1,"2173-10-14",1,"2173-10-14",1,null,null,0,1899,"","","/",0,1,"/",1,0,0,0,"/",null,null,null,null,null,null,null,null,null,""]
[null,null,{"$f":"C172+1","v":165},{"$f":"IF(AND(YEAR('front utente'!C191)=2013,'front utente'!$I$15=\"si\"),$C$2,'front utente'!C191)","v":"00:00:00"},{"$f":"IF(AND(YEAR('front utente'!D191)=2013,'front utente'!$I$15=\"si\"),$D$2,'front utente'!D191)","v":"00:00:00"},null,{"$f":" IF(D173>E173,0, calcoloperiodi1!H175)","v":0},1,null,"2173-10-14",1,"2173-10-14",1,"2173-10-14",1,"2173-10-14",1,"2173-10-14",1,"2173-10-14",{"$f":"S173","v":1},null,null,0,{"$f":"IF(MONTH(D173)<9,YEAR(D173)-1,YEAR(D173))","v":1899},"",{"$f":"IF(Y173>1900,Z173+1,\"\")","v":""},{"$f":"CONCATENATE(Z173,\"/\",AA173)","v":"/"},{"$f":"G173-F173","v":0},{"$f":"IF(AB173=AB172,AC173+AD172,AC173)","v":1},{"$f":"IF(AB173<>AB253,AB173,\"\")","v":"/"},{"$f":"IF(AE173<>\"\",AD173,\"\")","v":1},0,{"$f":"AH172+AG173","v":0},{"$f":"AH173*AG173","v":0},{"$f":"AE173","v":"/"},null,null,null,null,null,null,null,null,null,""]
[null,null,166,{"$f":"IF(AND(YEAR('front utente'!C192)=2013,'front utente'!$I$15=\"si\"),$C$2,'front utente'!C192)","v":"00:00:00"},{"$f":"IF(AND(YEAR('front utente'!D192)=2013,'front utente'!$I$15=\"si\"),$D$2,'front utente'!D192)","v":"00:00:00"},null,{"$f":" IF(D174>E174,0, calcoloperiodi1!H176)","v":0},1,null,"2173-10-14",1,"2173-10-14",1,"2173-10-14",1,"2173-10-14",1,"2173-10-14",1,"2173-10-14",1,null,null,0,1899,"","","/",0,1,"/",1,0,0,0,"/",null,null,null,null,null,null,null,null,null,""]
[null,null,167,{"$f":"IF(AND(YEAR('front utente'!C193)=2013,'front utente'!$I$15=\"si\"),$C$2,'front utente'!C193)","v":"00:00:00"},{"$f":"IF(AND(YEAR('front utente'!D193)=2013,'front utente'!$I$15=\"si\"),$D$2,'front utente'!D193)","v":"00:00:00"},null,{"$f":" IF(D175>E175,0, calcoloperiodi1!H177)","v":0},1,null,"2173-10-14",1,"2173-10-14",1,"2173-10-14",1,"2173-10-14",1,"2173-10-14",1,"2173-10-14",1,null,null,0,1899,"","","/",0,1,"/",1,0,0,0,"/",null,null,null,null,null,null,null,null,null,""]
[null,null,168,{"$f":"IF(AND(YEAR('front utente'!C194)=2013,'front utente'!$I$15=\"si\"),$C$2,'front utente'!C194)","v":"00:00:00"},{"$f":"IF(AND(YEAR('front utente'!D194)=2013,'front utente'!$I$15=\"si\"),$D$2,'front utente'!D194)","v":"00:00:00"},null,{"$f":" IF(D176>E176,0, calcoloperiodi1!H178)","v":0},1,null,"2173-10-14",1,"2173-10-14",1,"2173-10-14",1,"2173-10-14",1,"2173-10-14",1,"2173-10-14",1,null,null,0,1899,"","","/",0,1,"/",1,0,0,0,"/",null,null,null,null,null,null,null,null,null,""]
[null,null,169,{"$f":"IF(AND(YEAR('front utente'!C195)=2013,'front utente'!$I$15=\"si\"),$C$2,'front utente'!C195)","v":"00:00:00"},{"$f":"IF(AND(YEAR('front utente'!D195)=2013,'front utente'!$I$15=\"si\"),$D$2,'front utente'!D195)","v":"00:00:00"},null,{"$f":" IF(D177>E177,0, calcoloperiodi1!H179)","v":0},1,null,"2173-10-14",1,"2173-10-14",1,"2173-10-14",1,"2173-10-14",1,"2173-10-14",1,"2173-10-14",1,null,null,0,1899,"","","/",0,1,"/",1,0,0,0,"/",null,null,null,null,null,null,null,null,null,""]
[null,null,170,{"$f":"IF(AND(YEAR('front utente'!C196)=2013,'front utente'!$I$15=\"si\"),$C$2,'front utente'!C196)","v":"00:00:00"},{"$f":"IF(AND(YEAR('front utente'!D196)=2013,'front utente'!$I$15=\"si\"),$D$2,'front utente'!D196)","v":"00:00:00"},null,{"$f":" IF(D178>E178,0, calcoloperiodi1!H180)","v":0},1,null,"2173-10-14",1,"2173-10-14",1,"2173-10-14",1,"2173-10-14",1,"2173-10-14",1,"2173-10-14",1,null,null,0,1899,"","","/",0,1,"/",1,0,0,0,"/",null,null,null,null,null,null,null,null,null,""]
[null,null,171,{"$f":"IF(AND(YEAR('front utente'!C197)=2013,'front utente'!$I$15=\"si\"),$C$2,'front utente'!C197)","v":"00:00:00"},{"$f":"IF(AND(YEAR('front utente'!D197)=2013,'front utente'!$I$15=\"si\"),$D$2,'front utente'!D197)","v":"00:00:00"},null,{"$f":" IF(D179>E179,0, calcoloperiodi1!H181)","v":0},1,null,"2173-10-14",1,"2173-10-14",1,"2173-10-14",1,"2173-10-14",1,"2173-10-14",1,"2173-10-14",1,null,null,0,1899,"","","/",0,1,"/",1,0,0,0,"/",null,null,null,null,null,null,null,null,null,""]
[null,null,172,{"$f":"IF(AND(YEAR('front utente'!C198)=2013,'front utente'!$I$15=\"si\"),$C$2,'front utente'!C198)","v":"00:00:00"},{"$f":"IF(AND(YEAR('front utente'!D198)=2013,'front utente'!$I$15=\"si\"),$D$2,'front utente'!D198)","v":"00:00:00"},null,{"$f":" IF(D180>E180,0, calcoloperiodi1!H182)","v":0},1,null,"2173-10-14",1,"2173-10-14",1,"2173-10-14",1,"2173-10-14",1,"2173-10-14",1,"2173-10-14",1,null,null,0,1899,"","","/",0,1,"/",1,0,0,0,"/",null,null,null,null,null,null,null,null,null,""]
[null,null,173,{"$f":"IF(AND(YEAR('front utente'!C199)=2013,'front utente'!$I$15=\"si\"),$C$2,'front utente'!C199)","v":"00:00:00"},{"$f":"IF(AND(YEAR('front utente'!D199)=2013,'front utente'!$I$15=\"si\"),$D$2,'front utente'!D199)","v":"00:00:00"},null,{"$f":" IF(D181>E181,0, calcoloperiodi1!H183)","v":0},1,null,"2173-10-14",1,"2173-10-14",1,"2173-10-14",1,"2173-10-14",1,"2173-10-14",1,"2173-10-14",1,null,null,0,1899,"","","/",0,1,"/",1,0,0,0,"/",null,null,null,null,null,null,null,null,null,""]
[null,null,174,{"$f":"IF(AND(YEAR('front utente'!C200)=2013,'front utente'!$I$15=\"si\"),$C$2,'front utente'!C200)","v":"00:00:00"},{"$f":"IF(AND(YEAR('front utente'!D200)=2013,'front utente'!$I$15=\"si\"),$D$2,'front utente'!D200)","v":"00:00:00"},null,{"$f":" IF(D182>E182,0, calcoloperiodi1!H184)","v":0},1,null,"2173-10-14",1,"2173-10-14",1,"2173-10-14",1,"2173-10-14",1,"2173-10-14",1,"2173-10-14",1,null,null,0,1899,"","","/",0,1,"/",1,0,0,0,"/",null,null,null,null,null,null,null,null,null,""]
[null,null,175,{"$f":"IF(AND(YEAR('front utente'!C201)=2013,'front utente'!$I$15=\"si\"),$C$2,'front utente'!C201)","v":"00:00:00"},{"$f":"IF(AND(YEAR('front utente'!D201)=2013,'front utente'!$I$15=\"si\"),$D$2,'front utente'!D201)","v":"00:00:00"},null,{"$f":" IF(D183>E183,0, calcoloperiodi1!H185)","v":0},1,null,"2173-10-14",1,"2173-10-14",1,"2173-10-14",1,"2173-10-14",1,"2173-10-14",1,"2173-10-14",1,null,null,0,1899,"","","/",0,1,"/",1,0,0,0,"/",null,null,null,null,null,null,null,null,null,""]
[null,null,176,{"$f":"IF(AND(YEAR('front utente'!C202)=2013,'front utente'!$I$15=\"si\"),$C$2,'front utente'!C202)","v":"00:00:00"},{"$f":"IF(AND(YEAR('front utente'!D202)=2013,'front utente'!$I$15=\"si\"),$D$2,'front utente'!D202)","v":"00:00:00"},null,{"$f":" IF(D184>E184,0, calcoloperiodi1!H186)","v":0},1,null,"2173-10-14",1,"2173-10-14",1,"2173-10-14",1,"2173-10-14",1,"2173-10-14",1,"2173-10-14",1,null,null,0,1899,"","","/",0,1,"/",1,0,0,0,"/",null,null,null,null,null,null,null,null,null,""]
[null,null,177,{"$f":"IF(AND(YEAR('front utente'!C203)=2013,'front utente'!$I$15=\"si\"),$C$2,'front utente'!C203)","v":"00:00:00"},{"$f":"IF(AND(YEAR('front utente'!D203)=2013,'front utente'!$I$15=\"si\"),$D$2,'front utente'!D203)","v":"00:00:00"},null,{"$f":" IF(D185>E185,0, calcoloperiodi1!H187)","v":0},1,null,"2173-10-14",1,"2173-10-14",1,"2173-10-14",1,"2173-10-14",1,"2173-10-14",1,"2173-10-14",1,null,null,0,1899,"","","/",0,1,"/",1,0,0,0,"/",null,null,null,null,null,null,null,null,null,""]
[null,null,178,{"$f":"IF(AND(YEAR('front utente'!C204)=2013,'front utente'!$I$15=\"si\"),$C$2,'front utente'!C204)","v":"00:00:00"},{"$f":"IF(AND(YEAR('front utente'!D204)=2013,'front utente'!$I$15=\"si\"),$D$2,'front utente'!D204)","v":"00:00:00"},null,{"$f":" IF(D186>E186,0, calcoloperiodi1!H188)","v":0},1,null,"2173-10-14",1,"2173-10-14",1,"2173-10-14",1,"2173-10-14",1,"2173-10-14",1,"2173-10-14",1,null,null,0,1899,"","","/",0,1,"/",1,0,0,0,"/",null,null,null,null,null,null,null,null,null,""]
[null,null,179,{"$f":"IF(AND(YEAR('front utente'!C205)=2013,'front utente'!$I$15=\"si\"),$C$2,'front utente'!C205)","v":"00:00:00"},{"$f":"IF(AND(YEAR('front utente'!D205)=2013,'front utente'!$I$15=\"si\"),$D$2,'front utente'!D205)","v":"00:00:00"},null,{"$f":" IF(D187>E187,0, calcoloperiodi1!H189)","v":0},1,null,"2173-10-14",1,"2173-10-14",1,"2173-10-14",1,"2173-10-14",1,"2173-10-14",1,"2173-10-14",1,null,null,0,1899,"","","/",0,1,"/",1,0,0,0,"/",null,null,null,null,null,null,null,null,null,""]
[null,null,180,{"$f":"IF(AND(YEAR('front utente'!C206)=2013,'front utente'!$I$15=\"si\"),$C$2,'front utente'!C206)","v":"00:00:00"},{"$f":"IF(AND(YEAR('front utente'!D206)=2013,'front utente'!$I$15=\"si\"),$D$2,'front utente'!D206)","v":"00:00:00"},null,{"$f":" IF(D188>E188,0, calcoloperiodi1!H190)","v":0},1,null,"2173-10-14",1,"2173-10-14",1,"2173-10-14",1,"2173-10-14",1,"2173-10-14",1,"2173-10-14",1,null,null,0,1899,"","","/",0,1,"/",1,0,0,4,0,null,null,null,null,null,null,null,null,null,""]
[null,null,null,null,null,null,null,null,null,{"$f":"MIN(J9:J188)","v":"2173-10-14"},{"$f":"VLOOKUP(J189,J9:K188,2,0)","v":1},{"$f":"MIN(L9:L188)","v":"2173-10-14"},{"$f":"VLOOKUP(L189,L9:M188,2,0)","v":1},{"$f":"MIN(N9:N188)","v":"2173-10-14"},{"$f":"VLOOKUP(N189,N9:O188,2,0)","v":1},{"$f":"MIN(P9:P188)","v":"2173-10-14"},{"$f":"VLOOKUP(P189,P9:Q188,2,0)","v":1},{"$f":"MIN(R9:R188)","v":"2173-10-14"},{"$f":"VLOOKUP(R189,R9:S188,2,0)","v":1},{"$f":"MIN(T9:T188)","v":"2173-10-14"},{"$f":"VLOOKUP(T189,T9:U188,2,0)","v":1},null,null,null,{"$f":"IF(MONTH(D282)<9,YEAR(D282)-1,YEAR(D282))","v":1899},"",{"$f":"IF(Y189>1900,Z189+1,\"\")","v":""},{"$f":"CONCATENATE(Z189,\"/\",AA189)","v":"/"},{"$f":"G282-F282","v":0},{"$f":"IF(AB189=AB188,AC189+AD188,AC189)","v":1},{"$f":"IF(AB189<>AB190,AB189,\"\")","v":""},{"$f":"IF(AE189<>\"\",AD189,\"\")","v":""},{"$f":"IF(AE189<>\"\",IF(AF189>179,1,0),0)","v":0},{"$f":"AH188+AG189","v":0},10,0]
[null,null,null,null,{"$f":"MAX(E9:E188)","v":"00:00:00"},null,null,null,null,null,null,null,null,null,null,null,null,null,null,null,null,null,null,null,{"$f":"IF(MONTH(D283)<9,YEAR(D283)-1,YEAR(D283))","v":1899},"",{"$f":"IF(Y190>1900,Z190+1,\"\")","v":""},{"$f":"CONCATENATE(Z190,\"/\",AA190)","v":"/"},{"$f":"G283-F283","v":0},{"$f":"IF(AB190=AB189,AC190+AD189,AC190)","v":1},{"$f":"IF(AB190<>AB191,AB190,\"\")","v":""},{"$f":"IF(AE190<>\"\",AD190,\"\")","v":""},{"$f":"IF(AE190<>\"\",IF(AF190>179,1,0),0)","v":0},{"$f":"AH189+AG190","v":0},16,0]
[null,null,null,null,null,null,null,null,null,null,null,null,null,null,null,null,null,null,null,null,null,null,null,null,{"$f":"IF(MONTH(D284)<9,YEAR(D284)-1,YEAR(D284))","v":1899},"",{"$f":"IF(Y191>1900,Z191+1,\"\")","v":""},{"$f":"CONCATENATE(Z191,\"/\",AA191)","v":"/"},{"$f":"G284-F284","v":0},{"$f":"IF(AB191=AB190,AC191+AD190,AC191)","v":1},{"$f":"IF(AB191<>AB192,AB191,\"\")","v":""},{"$f":"IF(AE191<>\"\",AD191,\"\")","v":""},{"$f":"IF(AE191<>\"\",IF(AF191>179,1,0),0)","v":0},{"$f":"AH190+AG191","v":0},22,0]
[null,null,null,null,null,null,null,null,null,null,null,null,null,{"$f":"365*15","v":5475},null,null,null,null,null,null,null,null,null,null,{"$f":"IF(MONTH(D285)<9,YEAR(D285)-1,YEAR(D285))","v":1899},"",{"$f":"IF(Y192>1900,Z192+1,\"\")","v":""},{"$f":"CONCATENATE(Z192,\"/\",AA192)","v":"/"},{"$f":"G285-F285","v":0},{"$f":"IF(AB192=AB191,AC192+AD191,AC192)","v":1},{"$f":"IF(AB192<>AB193,AB192,\"\")","v":""},{"$f":"IF(AE192<>\"\",AD192,\"\")","v":""},{"$f":"IF(AE192<>\"\",IF(AF192>179,1,0),0)","v":0},{"$f":"AH191+AG192","v":0},29,0]
[null,null,null,null,null,null,null,null,null,null,null,null,null,null,null,null,null,null,null,null,null,null,null,null,{"$f":"IF(MONTH(D286)<9,YEAR(D286)-1,YEAR(D286))","v":1899},"",{"$f":"IF(Y193>1900,Z193+1,\"\")","v":""},{"$f":"CONCATENATE(Z193,\"/\",AA193)","v":"/"},{"$f":"G286-F286","v":0},{"$f":"IF(AB193=AB192,AC193+AD192,AC193)","v":1},{"$f":"IF(AB193<>AB287,AB193,\"\")","v":"/"},{"$f":"IF(AE193<>\"\",AD193,\"\")","v":1},{"$f":"IF(AE193<>\"\",IF(AF193>179,1,0),0)","v":0},{"$f":"AH192+AG193","v":0},36,0]
[]
[null,null,null,null,null,null,null,null,null,null,null,null,null,{"$f":"N189-O189+N192","v":"2188-10-09"}]
[]
[]
[null,null,null,"prima del 1996 e fino al 1990"]
[null,null,null,"dal","al",null,"tot gg",null,null,"2-3 anni",null,"4-5 anni"]
[null,null,1,{"$f":" IF(YEAR('front utente'!C27)<1996,'front utente'!C27,0)","v":"00:00:00"},{"$f":" IF(YEAR(D200)<>1900,'front utente'!D27,0)","v":"00:00:00"},null,{"$f":"IF(D200>0,E200-D200+1,0)","v":0},{"$f":"G200","v":0},null,{"$f":"IF(  AND(H200>730,D200>0),E200,100000)","v":"2173-10-14"},{"$f":"H200","v":0},{"$f":"IF(  AND(H200>1460,D200>0),E200,100000)","v":"2173-10-14"},{"$f":"H200","v":0}]
[null,null,2,{"$f":" IF(YEAR('front utente'!C28)<1996,'front utente'!C28,0)","v":"00:00:00"},{"$f":" IF(YEAR(D201)<>1900,'front utente'!D28,0)","v":"00:00:00"},null,0,0,null,"2173-10-14",0,"2173-10-14",0]
[null,null,3,{"$f":" IF(YEAR('front utente'!C29)<1996,'front utente'!C29,0)","v":"00:00:00"},{"$f":" IF(YEAR(D202)<>1900,'front utente'!D29,0)","v":"00:00:00"},null,0,0,null,"2173-10-14",0,"2173-10-14",0]
[null,null,4,{"$f":" IF(YEAR('front utente'!C30)<1996,'front utente'!C30,0)","v":"00:00:00"},{"$f":" IF(YEAR(D203)<>1900,'front utente'!D30,0)","v":"00:00:00"},null,0,0,null,"2173-10-14",0,"2173-10-14",0]
[null,null,5,{"$f":" IF(YEAR('front utente'!C31)<1996,'front utente'!C31,0)","v":"00:00:00"},{"$f":" IF(YEAR(D204)<>1900,'front utente'!D31,0)","v":"00:00:00"},null,0,0,null,"2173-10-14",0,"2173-10-14",0]
[null,null,6,{"$f":" IF(YEAR('front utente'!C32)<1996,'front utente'!C32,0)","v":"00:00:00"},{"$f":" IF(YEAR(D205)<>1900,'front utente'!D32,0)","v":"00:00:00"},null,0,0,null,"2173-10-14",0,"2173-10-14",0]
[]
[null,null,null,null,null,null,null,null,null,{"$f":"MIN(J200:J205)","v":"2173-10-14"},{"$f":"VLOOKUP(J207,J200:K205,2,0)","v":0},{"$f":"MIN(L200:L205)","v":"2173-10-14"},{"$f":"VLOOKUP(L207,L200:M205,2,0)","v":0}]
[]
[]
[]
[]
[null,null,"anni","data","Ind Funz","Stip"]
[null,null,0,{"$f":"D200","v":"00:00:00"},{"$f":"VLOOKUP(C213,'pre 1-1-1996'!$A$7:$B$13,2)","v":1416000},{"$f":"VLOOKUP(C213,'pre 1-1-1996'!$A$25:$B$31,2)","v":12924000}]
[null,null,2,{"$f":"(J207-K207)+730","v":"2175-10-14"},{"$f":"VLOOKUP(C214,'pre 1-1-1996'!$A$7:$B$13,2)","v":1416000},{"$f":"VLOOKUP(C214,'pre 1-1-1996'!$A$25:$B$31,2)","v":12924000}]
[null,null,4,{"$f":"(L207-M207)+1460","v":"2177-10-13"},{"$f":"VLOOKUP(C215,'pre 1-1-1996'!$A$7:$B$13,2)","v":1488000},{"$f":"VLOOKUP(C215,'pre 1-1-1996'!$A$25:$B$31,2)","v":13608000}]

{"sheet":"calcoloperiodi1","index":16,"n_rows":272,"n_cols":34,"rows_kept":272,"cut":false,"hidden":false,"merged":[]}
[]
[]
[]
[]
[]
[]
[]
[]
[]
["giorni da eliminare nel caso ilperiodo siai a cavall0 2013 2014","giorni da eliminare nel caso ilperiodo siai a cavall0 2012 2013",null,null,null,null,"tot periodo","tot con giorni non in comune",null,null,null,null,null,null,null,null,null,null,null,null,"dalla data","alla data:","subtotale dei giorni effettivamente lavorati alla data","anni","mesi","giormi","giorni prima del 1 1 1996","giorni da sottrarre a quelli di fianco","SE AL 01/01/96 IL RESIDUO GIORNI E PARI AD ALMENO 180GG - ALLORA SI ARROTONDA PER ECCESSO AD ANNO INTERO - SE INERIORE A 180 GG ALLORA SI ARROTONDA PER DIFETT - \n\nal 01/01/1996 - vi è un residuo di giorni",null,"anni","giorni",null,"anzianita da arrotondare al 01 01 1996 ANNI"]
[{"$f":"IF(AND(YEAR(E11)=2013,YEAR(F11)=2014,'front utente'!$I$15=\"si\" ),DATE(2013,12,31)-E11,0)","v":0},{"$f":"IF(AND(YEAR(E11)=2012,YEAR(F11)=2013,'front utente'!$I$15=\"si\"),F11-DATE(2013,1,1),0)","v":0},null,null,{"$f":"'front utente'!C27","v":"00:00:00"},{"$f":"'front utente'!D27","v":"00:00:00"},{"$f":"F11-E11+1","v":1},{"$f":"G11","v":1},null,null,null,null,null,null,null,null,null,null,null,null,{"$f":"IF(E11<>0,E11,\"\")","v":""},{"$f":"IF(F11<>0,F11,\"\")","v":""},{"$f":"IF(V11<>0,H11,\"\")","v":1},{"$f":"INT(W11/365)","v":0},{"$f":"  IF(W11<>\"\", INT((W11-X11*365)/30),\"\")","v":0},{"$f":"INT(W11-(X11*365+Y11*30))","v":1},{"$f":"IF(U11<DATE(1996,1,1),W11,0)","v":0},{"$f":"IF(   AND(V11>DATE(1996,1,1),U11<DATE(1996,1,1)                  ),V11-DATE(1996,1,1),0)","v":0},{"$f":"SUM(AA11:AA43)-(SUM(AB11:AB43))","v":0},null,{"$f":"INT(AC11/365)","v":0},{"$f":"AC11-AE11*365","v":0},{"$f":"IF(AF11<180,0,1)","v":0},{"$f":"IF( OR( LEFT('front utente'!K16,1)<>\"1\",YEAR(E11)>1995),\"NO\",               AE11+AG11)","v":0}]
[{"$f":"IF(AND(YEAR(E12)=2013,YEAR(F12)=2014,'front utente'!$I$15=\"si\" ),DATE(2013,12,31)-E12,0)","v":0},{"$f":"IF(AND(YEAR(E12)=2012,YEAR(F12)=2013,'front utente'!$I$15=\"si\"),F12-DATE(2013,1,1),0)","v":0},null,null,{"$f":"'front utente'!C28","v":"00:00:00"},{"$f":"'front utente'!D28","v":"00:00:00"},1,{"$f":"IF(MAX($F$11:F11)>=F12,0,F12-MAX($F$11:F11)-MIN(I12:U12)-B12-A12)","v":0},{"$f":"IF(E12<=F11,0,E12-F11-1)","v":0},{"$f":"IF(E12<=F10,0,E12-F10-1)","v":0},{"$f":"IF(E12<=F9,0,E12-F9-1)","v":0},{"$f":"IF(E12<=F8,0,E12-F8-1)","v":0},{"$f":"IF(E12<=F7,0,E12-F7-1)","v":0},{"$f":"IF(E12<=F6,0,E12-F6-1)","v":0},{"$f":"IF(E12<=F5,0,E12-F5-1)","v":0},{"$f":"IF(E12<=F4,0,E12-F4-1)","v":0},{"$f":"IF(E12<=F3,0,E12-F3-1)","v":0},{"$f":"IF(E12<=F2,0,E12-F2-1)","v":0},{"$f":"IF(E12<=F1,0,E12-F1-1)","v":0},null,{"$f":"IF(E12<>0,E12,\"\")","v":""},{"$f":"IF(F12<>0,F12,\"\")","v":""},{"$f":"IF(V12<>0,H12,\"\")","v":0},{"$f":"INT(W12/365)","v":0},{"$f":"  IF(W12<>\"\", INT((W12-X12*365)/30),\"\")","v":0},{"$f":"INT(W12-(X12*365+Y12*30))","v":0},{"$f":"IF(U12<DATE(1996,1,1),W12,0)","v":0},{"$f":"IF(   AND(V12>DATE(1996,1,1),U12<DATE(1996,1,1)                  ),V12-DATE(1996,1,1),0)","v":0}]
[{"$f":"IF(AND(YEAR(E13)=2013,YEAR(F13)=2014,'front utente'!$I$15=\"si\" ),DATE(2013,12,31)-E13,0)","v":0},{"$f":"IF(AND(YEAR(E13)=2012,YEAR(F13)=2013,'front utente'!$I$15=\"si\"),F13-DATE(2013,1,1),0)","v":0},null,null,{"$f":"'front utente'!C29","v":"00:00:00"},{"$f":"'front utente'!D29","v":"00:00:00"},1,{"$f":"IF(MAX($F$11:F12)>=F13,0,F13-MAX($F$11:F12)-MIN(I13:U13)-B13-A13)","v":0},0,0,0,0,0,0,0,0,0,0,0,{"$f":"IF(E13<=F1,0,E13-F1-1)","v":0},"","",0,0,0,0,{"$f":"IF(U13<DATE(1996,1,1),W13,0)","v":0},{"$f":"IF(   AND(V13>DATE(1996,1,1),U13<DATE(1996,1,1)                  ),V13-DATE(1996,1,1),0)","v":0}]
[{"$f":"IF(AND(YEAR(E14)=2013,YEAR(F14)=2014,'front utente'!$I$15=\"si\" ),DATE(2013,12,31)-E14,0)","v":0},{"$f":"IF(AND(YEAR(E14)=2012,YEAR(F14)=2013,'front utente'!$I$15=\"si\"),F14-DATE(2013,1,1),0)","v":0},null,null,{"$f":"'front utente'!C30","v":"00:00:00"},{"$f":"'front utente'!D30","v":"00:00:00"},1,{"$f":"IF(MAX($F$11:F13)>=F14,0,F14-MAX($F$11:F13)-MIN(I14:U14)-B14-A14)","v":0},0,0,0,0,0,0,0,0,0,0,0,0,"","",0,0,0,0,0,{"$f":"IF(   AND(V14>DATE(1996,1,1),U14<DATE(1996,1,1)                  ),V14-DATE(1996,1,1),0)","v":0}]
[{"$f":"IF(AND(YEAR(E15)=2013,YEAR(F15)=2014,'front utente'!$I$15=\"si\" ),DATE(2013,12,31)-E15,0)","v":0},{"$f":"IF(AND(YEAR(E15)=2012,YEAR(F15)=2013,'front utente'!$I$15=\"si\"),F15-DATE(2013,1,1),0)","v":0},null,null,{"$f":"'front utente'!C31","v":"00:00:00"},{"$f":"'front utente'!D31","v":"00:00:00"},1,{"$f":"IF(MAX($F$11:F14)>=F15,0,F15-MAX($F$11:F14)-MIN(I15:U15)-B15-A15)","v":0},0,0,0,0,0,0,0,0,0,0,0,0,"","",0,0,0,0,0,0]
[{"$f":"IF(AND(YEAR(E16)=2013,YEAR(F16)=2014,'front utente'!$I$15=\"si\" ),DATE(2013,12,31)-E16,0)","v":0},{"$f":"IF(AND(YEAR(E16)=2012,YEAR(F16)=2013,'front utente'!$I$15=\"si\"),F16-DATE(2013,1,1),0)","v":0},null,null,{"$f":"'front utente'!C32","v":"00:00:00"},{"$f":"'front utente'!D32","v":"00:00:00"},1,{"$f":"IF(MAX($F$11:F15)>=F16,0,F16-MAX($F$11:F15)-MIN(I16:U16)-B16-A16)","v":0},0,0,0,0,0,0,0,0,0,0,0,0,"","",0,0,0,0,0,0]
[{"$f":"IF(AND(YEAR(E17)=2013,YEAR(F17)=2014,'front utente'!$I$15=\"si\" ),DATE(2013,12,31)-E17,0)","v":0},{"$f":"IF(AND(YEAR(E17)=2012,YEAR(F17)=2013,'front utente'!$I$15=\"si\"),F17-DATE(2013,1,1),0)","v":0},null,null,{"$f":"'front utente'!C33","v":"00:00:00"},{"$f":"'front utente'!D33","v":"00:00:00"},1,{"$f":"IF(MAX($F$11:F16)>=F17,0,F17-MAX($F$11:F16)-MIN(I17:U17)-B17-A17)","v":0},0,0,0,0,0,0,0,0,0,0,0,0,"","",0,0,0,0,0,0]
[{"$f":"IF(AND(YEAR(E18)=2013,YEAR(F18)=2014,'front utente'!$I$15=\"si\" ),DATE(2013,12,31)-E18,0)","v":0},{"$f":"IF(AND(YEAR(E18)=2012,YEAR(F18)=2013,'front utente'!$I$15=\"si\"),F18-DATE(2013,1,1),0)","v":0},null,null,{"$f":"'front utente'!C34","v":"00:00:00"},{"$f":"'front utente'!D34","v":"00:00:00"},1,{"$f":"IF(MAX($F$11:F17)>=F18,0,F18-MAX($F$11:F17)-MIN(I18:U18)-B18-A18)","v":0},0,0,0,0,0,0,0,0,0,0,0,0,"","",0,0,0,0,0,0]
[{"$f":"IF(AND(YEAR(E19)=2013,YEAR(F19)=2014,'front utente'!$I$15=\"si\" ),DATE(2013,12,31)-E19,0)","v":0},{"$f":"IF(AND(YEAR(E19)=2012,YEAR(F19)=2013,'front utente'!$I$15=\"si\"),F19-DATE(2013,1,1),0)","v":0},null,null,{"$f":"'front utente'!C35","v":"00:00:00"},{"$f":"'front utente'!D35","v":"00:00:00"},1,{"$f":"IF(MAX($F$11:F18)>=F19,0,F19-MAX($F$11:F18)-MIN(I19:U19)-B19-A19)","v":0},0,0,0,0,0,0,0,0,0,0,0,0,"","",0,0,0,0,0,0]
[{"$f":"IF(AND(YEAR(E20)=2013,YEAR(F20)=2014,'front utente'!$I$15=\"si\" ),DATE(2013,12,31)-E20,0)","v":0},{"$f":"IF(AND(YEAR(E20)=2012,YEAR(F20)=2013,'front utente'!$I$15=\"si\"),F20-DATE(2013,1,1),0)","v":0},null,null,{"$f":"'front utente'!C36","v":"00:00:00"},{"$f":"'front utente'!D36","v":"00:00:00"},1,{"$f":"IF(MAX($F$11:F19)>=F20,0,F20-MAX($F$11:F19)-MIN(I20:U20)-B20-A20)","v":0},0,0,0,0,0,0,0,0,0,0,0,0,"","",0,0,0,0,0,0]
[{"$f":"IF(AND(YEAR(E21)=2013,YEAR(F21)=2014,'front utente'!$I$15=\"si\" ),DATE(2013,12,31)-E21,0)","v":0},{"$f":"IF(AND(YEAR(E21)=2012,YEAR(F21)=2013,'front utente'!$I$15=\"si\"),F21-DATE(2013,1,1),0)","v":0},null,null,{"$f":"'front utente'!C37","v":"00:00:00"},{"$f":"'front utente'!D37","v":"00:00:00"},1,{"$f":"IF(MAX($F$11:F20)>=F21,0,F21-MAX($F$11:F20)-MIN(I21:U21)-B21-A21)","v":0},0,0,0,0,0,0,0,0,0,0,0,0,"","",0,0,0,0,0,0]
[{"$f":"IF(AND(YEAR(E22)=2013,YEAR(F22)=2014,'front utente'!$I$15=\"si\" ),DATE(2013,12,31)-E22,0)","v":0},{"$f":"IF(AND(YEAR(E22)=2012,YEAR(F22)=2013,'front utente'!$I$15=\"si\"),F22-DATE(2013,1,1),0)","v":0},null,null,{"$f":"'front utente'!C38","v":"00:00:00"},{"$f":"'front utente'!D38","v":"00:00:00"},1,{"$f":"IF(MAX($F$11:F21)>=F22,0,F22-MAX($F$11:F21)-MIN(I22:U22)-B22-A22)","v":0},0,0,0,0,0,0,0,0,0,0,0,0,"","",0,0,0,0,0,0]
[{"$f":"IF(AND(YEAR(E23)=2013,YEAR(F23)=2014,'front utente'!$I$15=\"si\" ),DATE(2013,12,31)-E23,0)","v":0},{"$f":"IF(AND(YEAR(E23)=2012,YEAR(F23)=2013,'front utente'!$I$15=\"si\"),F23-DATE(2013,1,1),0)","v":0},null,null,{"$f":"'front utente'!C39","v":"00:00:00"},{"$f":"'front utente'!D39","v":"00:00:00"},1,{"$f":"IF(MAX($F$11:F22)>=F23,0,F23-MAX($F$11:F22)-MIN(I23:U23)-B23-A23)","v":0},0,0,0,0,0,0,0,0,0,0,0,0,"","",0,0,0,0,0,0]
[{"$f":"IF(AND(YEAR(E24)=2013,YEAR(F24)=2014,'front utente'!$I$15=\"si\" ),DATE(2013,12,31)-E24,0)","v":0},{"$f":"IF(AND(YEAR(E24)=2012,YEAR(F24)=2013,'front utente'!$I$15=\"si\"),F24-DATE(2013,1,1),0)","v":0},null,null,{"$f":"'front utente'!C40","v":"00:00:00"},{"$f":"'front utente'!D40","v":"00:00:00"},1,{"$f":"IF(MAX($F$11:F23)>=F24,0,F24-MAX($F$11:F23)-MIN(I24:U24)-B24-A24)","v":0},0,0,0,0,0,0,0,0,0,0,0,0,"","",0,0,0,0,0,0]
[{"$f":"IF(AND(YEAR(E25)=2013,YEAR(F25)=2014,'front utente'!$I$15=\"si\" ),DATE(2013,12,31)-E25,0)","v":0},{"$f":"IF(AND(YEAR(E25)=2012,YEAR(F25)=2013,'front utente'!$I$15=\"si\"),F25-DATE(2013,1,1),0)","v":0},null,null,{"$f":"'front utente'!C41","v":"00:00:00"},{"$f":"'front utente'!D41","v":"00:00:00"},1,{"$f":"IF(MAX($F$11:F24)>=F25,0,F25-MAX($F$11:F24)-MIN(I25:U25)-B25-A25)","v":0},0,0,0,0,0,0,0,0,0,0,0,0,"","",0,0,0,0,0,0]
[{"$f":"IF(AND(YEAR(E26)=2013,YEAR(F26)=2014,'front utente'!$I$15=\"si\" ),DATE(2013,12,31)-E26,0)","v":0},{"$f":"IF(AND(YEAR(E26)=2012,YEAR(F26)=2013,'front utente'!$I$15=\"si\"),F26-DATE(2013,1,1),0)","v":0},null,null,{"$f":"'front utente'!C42","v":"00:00:00"},{"$f":"'front utente'!D42","v":"00:00:00"},1,{"$f":"IF(MAX($F$11:F25)>=F26,0,F26-MAX($F$11:F25)-MIN(I26:U26)-B26-A26)","v":0},0,0,0,0,0,0,0,0,0,0,0,0,"","",0,0,0,0,0,0]
[{"$f":"IF(AND(YEAR(E27)=2013,YEAR(F27)=2014,'front utente'!$I$15=\"si\" ),DATE(2013,12,31)-E27,0)","v":0},{"$f":"IF(AND(YEAR(E27)=2012,YEAR(F27)=2013,'front utente'!$I$15=\"si\"),F27-DATE(2013,1,1),0)","v":0},null,null,{"$f":"'front utente'!C43","v":"00:00:00"},{"$f":"'front utente'!D43","v":"00:00:00"},1,{"$f":"IF(MAX($F$11:F26)>=F27,0,F27-MAX($F$11:F26)-MIN(I27:U27)-B27-A27)","v":0},0,0,0,0,0,0,0,0,0,0,0,0,"","",0,0,0,0,0,0]
[{"$f":"IF(AND(YEAR(E28)=2013,YEAR(F28)=2014,'front utente'!$I$15=\"si\" ),DATE(2013,12,31)-E28,0)","v":0},{"$f":"IF(AND(YEAR(E28)=2012,YEAR(F28)=2013,'front utente'!$I$15=\"si\"),F28-DATE(2013,1,1),0)","v":0},null,null,{"$f":"'front utente'!C44","v":"00:00:00"},{"$f":"'front utente'!D44","v":"00:00:00"},1,{"$f":"IF(MAX($F$11:F27)>=F28,0,F28-MAX($F$11:F27)-MIN(I28:U28)-B28-A28)","v":0},0,0,0,0,0,0,0,0,0,0,0,0,"","",0,0,0,0,0,0]
[{"$f":"IF(AND(YEAR(E29)=2013,YEAR(F29)=2014,'front utente'!$I$15=\"si\" ),DATE(2013,12,31)-E29,0)","v":0},{"$f":"IF(AND(YEAR(E29)=2012,YEAR(F29)=2013,'front utente'!$I$15=\"si\"),F29-DATE(2013,1,1),0)","v":0},null,null,{"$f":"'front utente'!C45","v":"00:00:00"},{"$f":"'front utente'!D45","v":"00:00:00"},1,{"$f":"IF(MAX($F$11:F28)>=F29,0,F29-MAX($F$11:F28)-MIN(I29:U29)-B29-A29)","v":0},0,0,0,0,0,0,0,0,0,0,0,0,"","",0,0,0,0,0,0]
[{"$f":"IF(AND(YEAR(E30)=2013,YEAR(F30)=2014,'front utente'!$I$15=\"si\" ),DATE(2013,12,31)-E30,0)","v":0},{"$f":"IF(AND(YEAR(E30)=2012,YEAR(F30)=2013,'front utente'!$I$15=\"si\"),F30-DATE(2013,1,1),0)","v":0},null,null,{"$f":"'front utente'!C46","v":"00:00:00"},{"$f":"'front utente'!D46","v":"00:00:00"},1,{"$f":"IF(MAX($F$11:F29)>=F30,0,F30-MAX($F$11:F29)-MIN(I30:U30)-B30-A30)","v":0},0,0,0,0,0,0,0,0,0,0,0,0,"","",0,0,0,0,0,0]
[{"$f":"IF(AND(YEAR(E31)=2013,YEAR(F31)=2014,'front utente'!$I$15=\"si\" ),DATE(2013,12,31)-E31,0)","v":0},{"$f":"IF(AND(YEAR(E31)=2012,YEAR(F31)=2013,'front utente'!$I$15=\"si\"),F31-DATE(2013,1,1),0)","v":0},null,null,{"$f":"'front utente'!C47","v":"00:00:00"},{"$f":"'front utente'!D47","v":"00:00:00"},1,{"$f":"IF(MAX($F$11:F30)>=F31,0,F31-MAX($F$11:F30)-MIN(I31:U31)-B31-A31)","v":0},0,0,0,0,0,0,0,0,0,0,0,0,"","",0,0,0,0,0,0]
[{"$f":"IF(AND(YEAR(E32)=2013,YEAR(F32)=2014,'front utente'!$I$15=\"si\" ),DATE(2013,12,31)-E32,0)","v":0},{"$f":"IF(AND(YEAR(E32)=2012,YEAR(F32)=2013,'front utente'!$I$15=\"si\"),F32-DATE(2013,1,1),0)","v":0},null,null,{"$f":"'front utente'!C48","v":"00:00:00"},{"$f":"'front utente'!D48","v":"00:00:00"},1,{"$f":"IF(MAX($F$11:F31)>=F32,0,F32-MAX($F$11:F31)-MIN(I32:U32)-B32-A32)","v":0},0,0,0,0,0,0,0,0,0,0,0,0,"","",0,0,0,0,0,0]
[{"$f":"IF(AND(YEAR(E33)=2013,YEAR(F33)=2014,'front utente'!$I$15=\"si\" ),DATE(2013,12,31)-E33,0)","v":0},{"$f":"IF(AND(YEAR(E33)=2012,YEAR(F33)=2013,'front utente'!$I$15=\"si\"),F33-DATE(2013,1,1),0)","v":0},null,null,{"$f":"'front utente'!C49","v":"00:00:00"},{"$f":"'front utente'!D49","v":"00:00:00"},1,{"$f":"IF(MAX($F$11:F32)>=F33,0,F33-MAX($F$11:F32)-MIN(I33:U33)-B33-A33)","v":0},0,0,0,0,0,0,0,0,0,0,0,0,"","",0,0,0,0,0,0]
[{"$f":"IF(AND(YEAR(E34)=2013,YEAR(F34)=2014,'front utente'!$I$15=\"si\" ),DATE(2013,12,31)-E34,0)","v":0},{"$f":"IF(AND(YEAR(E34)=2012,YEAR(F34)=2013,'front utente'!$I$15=\"si\"),F34-DATE(2013,1,1),0)","v":0},null,null,{"$f":"'front utente'!C50","v":"00:00:00"},{"$f":"'front utente'!D50","v":"00:00:00"},1,{"$f":"IF(MAX($F$11:F33)>=F34,0,F34-MAX($F$11:F33)-MIN(I34:U34)-B34-A34)","v":0},0,0,0,0,0,0,0,0,0,0,0,0,"","",0,0,0,0,0,0]
[{"$f":"IF(AND(YEAR(E35)=2013,YEAR(F35)=2014,'front utente'!$I$15=\"si\" ),DATE(2013,12,31)-E35,0)","v":0},{"$f":"IF(AND(YEAR(E35)=2012,YEAR(F35)=2013,'front utente'!$I$15=\"si\"),F35-DATE(2013,1,1),0)","v":0},null,null,{"$f":"'front utente'!C51","v":"00:00:00"},{"$f":"'front utente'!D51","v":"00:00:00"},1,{"$f":"IF(MAX($F$11:F34)>=F35,0,F35-MAX($F$11:F34)-MIN(I35:U35)-B35-A35)","v":0},0,0,0,0,0,0,0,0,0,0,0,0,"","",0,0,0,0,0,0]
[{"$f":"IF(AND(YEAR(E36)=2013,YEAR(F36)=2014,'front utente'!$I$15=\"si\" ),DATE(2013,12,31)-E36,0)","v":0},{"$f":"IF(AND(YEAR(E36)=2012,YEAR(F36)=2013,'front utente'!$I$15=\"si\"),F36-DATE(2013,1,1),0)","v":0},null,null,{"$f":"'front utente'!C52","v":"00:00:00"},{"$f":"'front utente'!D52","v":"00:00:00"},1,{"$f":"IF(MAX($F$11:F35)>=F36,0,F36-MAX($F$11:F35)-MIN(I36:U36)-B36-A36)","v":0},0,0,0,0,0,0,0,0,0,0,0,0,"","",0,0,0,0,0,0]
[{"$f":"IF(AND(YEAR(E37)=2013,YEAR(F37)=2014,'front utente'!$I$15=\"si\" ),DATE(2013,12,31)-E37,0)","v":0},{"$f":"IF(AND(YEAR(E37)=2012,YEAR(F37)=2013,'front utente'!$I$15=\"si\"),F37-DATE(2013,1,1),0)","v":0},null,null,{"$f":"'front utente'!C53","v":"00:00:00"},{"$f":"'front utente'!D53","v":"00:00:00"},1,{"$f":"IF(MAX($F$11:F36)>=F37,0,F37-MAX($F$11:F36)-MIN(I37:U37)-B37-A37)","v":0},0,0,0,0,0,0,0,0,0,0,0,0,"","",0,0,0,0,0,0]
[{"$f":"IF(AND(YEAR(E38)=2013,YEAR(F38)=2014,'front utente'!$I$15=\"si\" ),DATE(2013,12,31)-E38,0)","v":0},{"$f":"IF(AND(YEAR(E38)=2012,YEAR(F38)=2013,'front utente'!$I$15=\"si\"),F38-DATE(2013,1,1),0)","v":0},null,null,{"$f":"'front utente'!C54","v":"00:00:00"},{"$f":"'front utente'!D54","v":"00:00:00"},1,{"$f":"IF(MAX($F$11:F37)>=F38,0,F38-MAX($F$11:F37)-MIN(I38:U38)-B38-A38)","v":0},0,0,0,0,0,0,0,0,0,0,0,0,"","",0,0,0,0,0,0]
[{"$f":"IF(AND(YEAR(E39)=2013,YEAR(F39)=2014,'front utente'!$I$15=\"si\" ),DATE(2013,12,31)-E39,0)","v":0},{"$f":"IF(AND(YEAR(E39)=2012,YEAR(F39)=2013,'front utente'!$I$15=\"si\"),F39-DATE(2013,1,1),0)","v":0},null,null,{"$f":"'front utente'!C55","v":"00:00:00"},{"$f":"'front utente'!D55","v":"00:00:00"},1,{"$f":"IF(MAX($F$11:F38)>=F39,0,F39-MAX($F$11:F38)-MIN(I39:U39)-B39-A39)","v":0},0,0,0,0,0,0,0,0,0,0,0,0,"","",0,0,0,0,0,0]
[{"$f":"IF(AND(YEAR(E40)=2013,YEAR(F40)=2014,'front utente'!$I$15=\"si\" ),DATE(2013,12,31)-E40,0)","v":0},{"$f":"IF(AND(YEAR(E40)=2012,YEAR(F40)=2013,'front utente'!$I$15=\"si\"),F40-DATE(2013,1,1),0)","v":0},{"$f":"SUM(H11:H265)","v":1},null,{"$f":"'front utente'!C56","v":"00:00:00"},{"$f":"'front utente'!D56","v":"00:00:00"},1,{"$f":"IF(MAX($F$11:F39)>=F40,0,F40-MAX($F$11:F39)-MIN(I40:U40)-B40-A40)","v":0},0,0,0,0,0,0,0,0,0,0,0,0,"","",0,0,0,0,0,0]
[{"$f":"IF(AND(YEAR(E41)=2013,YEAR(F41)=2014,'front utente'!$I$15=\"si\" ),DATE(2013,12,31)-E41,0)","v":0},{"$f":"IF(AND(YEAR(E41)=2012,YEAR(F41)=2013,'front utente'!$I$15=\"si\"),F41-DATE(2013,1,1),0)","v":0},null,null,{"$f":"'front utente'!C57","v":"00:00:00"},{"$f":"'front utente'!D57","v":"00:00:00"},1,{"$f":"IF(MAX($F$11:F40)>=F41,0,F41-MAX($F$11:F40)-MIN(I41:U41)-B41-A41)","v":0},0,0,0,0,0,0,0,0,0,0,0,0,"","",0,0,0,0,0,0]
[{"$f":"IF(AND(YEAR(E42)=2013,YEAR(F42)=2014,'front utente'!$I$15=\"si\" ),DATE(2013,12,31)-E42,0)","v":0},{"$f":"IF(AND(YEAR(E42)=2012,YEAR(F42)=2013,'front utente'!$I$15=\"si\"),F42-DATE(2013,1,1),0)","v":0},null,null,{"$f":"'front utente'!C58","v":"00:00:00"},{"$f":"'front utente'!D58","v":"00:00:00"},1,{"$f":"IF(MAX($F$11:F41)>=F42,0,F42-MAX($F$11:F41)-MIN(I42:U42)-B42-A42)","v":0},0,0,0,0,0,0,0,0,0,0,0,0,"","",0,0,0,0,0,0]
[{"$f":"IF(AND(YEAR(E43)=2013,YEAR(F43)=2014,'front utente'!$I$15=\"si\" ),DATE(2013,12,31)-E43,0)","v":0},{"$f":"IF(AND(YEAR(E43)=2012,YEAR(F43)=2013,'front utente'!$I$15=\"si\"),F43-DATE(2013,1,1),0)","v":0},null,null,{"$f":"'front utente'!C59","v":"00:00:00"},{"$f":"'front utente'!D59","v":"00:00:00"},1,{"$f":"IF(MAX($F$11:F42)>=F43,0,F43-MAX($F$11:F42)-MIN(I43:U43)-B43-A43)","v":0},0,0,0,0,0,0,0,0,0,0,0,0,"","",0,0,0,0,0,0]
[{"$f":"IF(AND(YEAR(E44)=2013,YEAR(F44)=2014,'front utente'!$I$15=\"si\" ),DATE(2013,12,31)-E44,0)","v":0},{"$f":"IF(AND(YEAR(E44)=2012,YEAR(F44)=2013,'front utente'!$I$15=\"si\"),F44-DATE(2013,1,1),0)","v":0},null,null,{"$f":"'front utente'!C60","v":"00:00:00"},{"$f":"'front utente'!D60","v":"00:00:00"},1,{"$f":"IF(MAX($F$11:F43)>=F44,0,F44-MAX($F$11:F43)-MIN(I44:U44)-B44-A44)","v":0},0,0,0,0,0,0,0,0,0,0,0,0,"","",0,0,0,0]
[{"$f":"IF(AND(YEAR(E45)=2013,YEAR(F45)=2014,'front utente'!$I$15=\"si\" ),DATE(2013,12,31)-E45,0)","v":0},{"$f":"IF(AND(YEAR(E45)=2012,YEAR(F45)=2013,'front utente'!$I$15=\"si\"),F45-DATE(2013,1,1),0)","v":0},null,null,{"$f":"'front utente'!C61","v":"00:00:00"},{"$f":"'front utente'!D61","v":"00:00:00"},1,{"$f":"IF(MAX($F$11:F44)>=F45,0,F45-MAX($F$11:F44)-MIN(I45:U45)-B45-A45)","v":0},0,0,0,0,0,0,0,0,0,0,0,0,"","",0,0,0,0]
[{"$f":"IF(AND(YEAR(E46)=2013,YEAR(F46)=2014,'front utente'!$I$15=\"si\" ),DATE(2013,12,31)-E46,0)","v":0},{"$f":"IF(AND(YEAR(E46)=2012,YEAR(F46)=2013,'front utente'!$I$15=\"si\"),F46-DATE(2013,1,1),0)","v":0},null,null,{"$f":"'front utente'!C62","v":"00:00:00"},{"$f":"'front utente'!D62","v":"00:00:00"},1,{"$f":"IF(MAX($F$11:F45)>=F46,0,F46-MAX($F$11:F45)-MIN(I46:U46)-B46-A46)","v":0},0,0,0,0,0,0,0,0,0,0,0,0,"","",0,0,0,0]
[{"$f":"IF(AND(YEAR(E47)=2013,YEAR(F47)=2014,'front utente'!$I$15=\"si\" ),DATE(2013,12,31)-E47,0)","v":0},{"$f":"IF(AND(YEAR(E47)=2012,YEAR(F47)=2013,'front utente'!$I$15=\"si\"),F47-DATE(2013,1,1),0)","v":0},null,null,{"$f":"'front utente'!C63","v":"00:00:00"},{"$f":"'front utente'!D63","v":"00:00:00"},1,{"$f":"IF(MAX($F$11:F46)>=F47,0,F47-MAX($F$11:F46)-MIN(I47:U47)-B47-A47)","v":0},0,0,0,0,0,0,0,0,0,0,0,0,"","",0,0,0,0]
[{"$f":"IF(AND(YEAR(E48)=2013,YEAR(F48)=2014,'front utente'!$I$15=\"si\" ),DATE(2013,12,31)-E48,0)","v":0},{"$f":"IF(AND(YEAR(E48)=2012,YEAR(F48)=2013,'front utente'!$I$15=\"si\"),F48-DATE(2013,1,1),0)","v":0},null,null,{"$f":"'front utente'!C64","v":"00:00:00"},{"$f":"'front utente'!D64","v":"00:00:00"},1,{"$f":"IF(MAX($F$11:F47)>=F48,0,F48-MAX($F$11:F47)-MIN(I48:U48)-B48-A48)","v":0},0,0,0,0,0,0,0,0,0,0,0,0,"","",0,0,0,0]
[{"$f":"IF(AND(YEAR(E49)=2013,YEAR(F49)=2014,'front utente'!$I$15=\"si\" ),DATE(2013,12,31)-E49,0)","v":0},{"$f":"IF(AND(YEAR(E49)=2012,YEAR(F49)=2013,'front utente'!$I$15=\"si\"),F49-DATE(2013,1,1),0)","v":0},null,null,{"$f":"'front utente'!C65","v":"00:00:00"},{"$f":"'front utente'!D65","v":"00:00:00"},1,{"$f":"IF(MAX($F$11:F48)>=F49,0,F49-MAX($F$11:F48)-MIN(I49:U49)-B49-A49)","v":0},0,0,0,0,0,0,0,0,0,0,0,0,"","",0,0,0,0]
[{"$f":"IF(AND(YEAR(E50)=2013,YEAR(F50)=2014,'front utente'!$I$15=\"si\" ),DATE(2013,12,31)-E50,0)","v":0},{"$f":"IF(AND(YEAR(E50)=2012,YEAR(F50)=2013,'front utente'!$I$15=\"si\"),F50-DATE(2013,1,1),0)","v":0},null,null,{"$f":"'front utente'!C66","v":"00:00:00"},{"$f":"'front utente'!D66","v":"00:00:00"},1,{"$f":"IF(MAX($F$11:F49)>=F50,0,F50-MAX($F$11:F49)-MIN(I50:U50)-B50-A50)","v":0},0,0,0,0,0,0,0,0,0,0,0,0,"","",0,0,0,0]
[{"$f":"IF(AND(YEAR(E51)=2013,YEAR(F51)=2014,'front utente'!$I$15=\"si\" ),DATE(2013,12,31)-E51,0)","v":0},{"$f":"IF(AND(YEAR(E51)=2012,YEAR(F51)=2013,'front utente'!$I$15=\"si\"),F51-DATE(2013,1,1),0)","v":0},null,null,{"$f":"'front utente'!C67","v":"00:00:00"},{"$f":"'front utente'!D67","v":"00:00:00"},1,{"$f":"IF(MAX($F$11:F50)>=F51,0,F51-MAX($F$11:F50)-MIN(I51:U51)-B51-A51)","v":0},0,0,0,0,0,0,0,0,0,0,0,0,"","",0,0,0,0]
[{"$f":"IF(AND(YEAR(E52)=2013,YEAR(F52)=2014,'front utente'!$I$15=\"si\" ),DATE(2013,12,31)-E52,0)","v":0},{"$f":"IF(AND(YEAR(E52)=2012,YEAR(F52)=2013,'front utente'!$I$15=\"si\"),F52-DATE(2013,1,1),0)","v":0},null,null,{"$f":"'front utente'!C68","v":"00:00:00"},{"$f":"'front utente'!D68","v":"00:00:00"},1,{"$f":"IF(MAX($F$11:F51)>=F52,0,F52-MAX($F$11:F51)-MIN(I52:U52)-B52-A52)","v":0},0,0,0,0,0,0,0,0,0,0,0,0,"","",0,0,0,0]
[{"$f":"IF(AND(YEAR(E53)=2013,YEAR(F53)=2014,'front utente'!$I$15=\"si\" ),DATE(2013,12,31)-E53,0)","v":0},{"$f":"IF(AND(YEAR(E53)=2012,YEAR(F53)=2013,'front utente'!$I$15=\"si\"),F53-DATE(2013,1,1),0)","v":0},null,null,{"$f":"'front utente'!C69","v":"00:00:00"},{"$f":"'front utente'!D69","v":"00:00:00"},1,{"$f":"IF(MAX($F$11:F52)>=F53,0,F53-MAX($F$11:F52)-MIN(I53:U53)-B53-A53)","v":0},0,0,0,0,0,0,0,0,0,0,0,0,"","",0,0,0,0]
[{"$f":"IF(AND(YEAR(E54)=2013,YEAR(F54)=2014,'front utente'!$I$15=\"si\" ),DATE(2013,12,31)-E54,0)","v":0},{"$f":"IF(AND(YEAR(E54)=2012,YEAR(F54)=2013,'front utente'!$I$15=\"si\"),F54-DATE(2013,1,1),0)","v":0},null,null,{"$f":"'front utente'!C70","v":"00:00:00"},{"$f":"'front utente'!D70","v":"00:00:00"},1,{"$f":"IF(MAX($F$11:F53)>=F54,0,F54-MAX($F$11:F53)-MIN(I54:U54)-B54-A54)","v":0},0,0,0,0,0,0,0,0,0,0,0,0,"","",0,0,0,0]
[{"$f":"IF(AND(YEAR(E55)=2013,YEAR(F55)=2014,'front utente'!$I$15=\"si\" ),DATE(2013,12,31)-E55,0)","v":0},{"$f":"IF(AND(YEAR(E55)=2012,YEAR(F55)=2013,'front utente'!$I$15=\"si\"),F55-DATE(2013,1,1),0)","v":0},null,null,{"$f":"'front utente'!C71","v":"00:00:00"},{"$f":"'front utente'!D71","v":"00:00:00"},1,{"$f":"IF(MAX($F$11:F54)>=F55,0,F55-MAX($F$11:F54)-MIN(I55:U55)-B55-A55)","v":0},0,0,0,0,0,0,0,0,0,0,0,0,"","",0,0,0,0]
[{"$f":"IF(AND(YEAR(E56)=2013,YEAR(F56)=2014,'front utente'!$I$15=\"si\" ),DATE(2013,12,31)-E56,0)","v":0},{"$f":"IF(AND(YEAR(E56)=2012,YEAR(F56)=2013,'front utente'!$I$15=\"si\"),F56-DATE(2013,1,1),0)","v":0},null,null,{"$f":"'front utente'!C72","v":"00:00:00"},{"$f":"'front utente'!D72","v":"00:00:00"},1,{"$f":"IF(MAX($F$11:F55)>=F56,0,F56-MAX($F$11:F55)-MIN(I56:U56)-B56-A56)","v":0},0,0,0,0,0,0,0,0,0,0,0,0,"","",0,0,0,0]
[{"$f":"IF(AND(YEAR(E57)=2013,YEAR(F57)=2014,'front utente'!$I$15=\"si\" ),DATE(2013,12,31)-E57,0)","v":0},{"$f":"IF(AND(YEAR(E57)=2012,YEAR(F57)=2013,'front utente'!$I$15=\"si\"),F57-DATE(2013,1,1),0)","v":0},null,null,{"$f":"'front utente'!C73","v":"00:00:00"},{"$f":"'front utente'!D73","v":"00:00:00"},1,{"$f":"IF(MAX($F$11:F56)>=F57,0,F57-MAX($F$11:F56)-MIN(I57:U57)-B57-A57)","v":0},0,0,0,0,0,0,0,0,0,0,0,0,"","",0,0,0,0]
[{"$f":"IF(AND(YEAR(E58)=2013,YEAR(F58)=2014,'front utente'!$I$15=\"si\" ),DATE(2013,12,31)-E58,0)","v":0},{"$f":"IF(AND(YEAR(E58)=2012,YEAR(F58)=2013,'front utente'!$I$15=\"si\"),F58-DATE(2013,1,1),0)","v":0},null,null,{"$f":"'front utente'!C74","v":"00:00:00"},{"$f":"'front utente'!D74","v":"00:00:00"},1,{"$f":"IF(MAX($F$11:F57)>=F58,0,F58-MAX($F$11:F57)-MIN(I58:U58)-B58-A58)","v":0},0,0,0,0,0,0,0,0,0,0,0,0,"","",0,0,0,0]
[{"$f":"IF(AND(YEAR(E59)=2013,YEAR(F59)=2014,'front utente'!$I$15=\"si\" ),DATE(2013,12,31)-E59,0)","v":0},{"$f":"IF(AND(YEAR(E59)=2012,YEAR(F59)=2013,'front utente'!$I$15=\"si\"),F59-DATE(2013,1,1),0)","v":0},null,null,{"$f":"'front utente'!C75","v":"00:00:00"},{"$f":"'front utente'!D75","v":"00:00:00"},1,{"$f":"IF(MAX($F$11:F58)>=F59,0,F59-MAX($F$11:F58)-MIN(I59:U59)-B59-A59)","v":0},0,0,0,0,0,0,0,0,0,0,0,0,"","",0,0,0,0]
[{"$f":"IF(AND(YEAR(E60)=2013,YEAR(F60)=2014,'front utente'!$I$15=\"si\" ),DATE(2013,12,31)-E60,0)","v":0},{"$f":"IF(AND(YEAR(E60)=2012,YEAR(F60)=2013,'front utente'!$I$15=\"si\"),F60-DATE(2013,1,1),0)","v":0},null,null,{"$f":"'front utente'!C76","v":"00:00:00"},{"$f":"'front utente'!D76","v":"00:00:00"},1,{"$f":"IF(MAX($F$11:F59)>=F60,0,F60-MAX($F$11:F59)-MIN(I60:U60)-B60-A60)","v":0},0,0,0,0,0,0,0,0,0,0,0,0,"","",0,0,0,0]
[{"$f":"IF(AND(YEAR(E61)=2013,YEAR(F61)=2014,'front utente'!$I$15=\"si\" ),DATE(2013,12,31)-E61,0)","v":0},{"$f":"IF(AND(YEAR(E61)=2012,YEAR(F61)=2013,'front utente'!$I$15=\"si\"),F61-DATE(2013,1,1),0)","v":0},null,null,{"$f":"'front utente'!C77","v":"00:00:00"},{"$f":"'front utente'!D77","v":"00:00:00"},1,{"$f":"IF(MAX($F$11:F60)>=F61,0,F61-MAX($F$11:F60)-MIN(I61:U61)-B61-A61)","v":0},0,0,0,0,0,0,0,0,0,0,0,0,"","",0,0,0,0]
[{"$f":"IF(AND(YEAR(E62)=2013,YEAR(F62)=2014,'front utente'!$I$15=\"si\" ),DATE(2013,12,31)-E62,0)","v":0},{"$f":"IF(AND(YEAR(E62)=2012,YEAR(F62)=2013,'front utente'!$I$15=\"si\"),F62-DATE(2013,1,1),0)","v":0},null,null,{"$f":"'front utente'!C78","v":"00:00:00"},{"$f":"'front utente'!D78","v":"00:00:00"},1,{"$f":"IF(MAX($F$11:F61)>=F62,0,F62-MAX($F$11:F61)-MIN(I62:U62)-B62-A62)","v":0},0,0,0,0,0,0,0,0,0,0,0,0,"","",0,0,0,0]
[{"$f":"IF(AND(YEAR(E63)=2013,YEAR(F63)=2014,'front utente'!$I$15=\"si\" ),DATE(2013,12,31)-E63,0)","v":0},{"$f":"IF(AND(YEAR(E63)=2012,YEAR(F63)=2013,'front utente'!$I$15=\"si\"),F63-DATE(2013,1,1),0)","v":0},null,null,{"$f":"'front utente'!C79","v":"00:00:00"},{"$f":"'front utente'!D79","v":"00:00:00"},1,{"$f":"IF(MAX($F$11:F62)>=F63,0,F63-MAX($F$11:F62)-MIN(I63:U63)-B63-A63)","v":0},0,0,0,0,0,0,0,0,0,0,0,0,"","",0,0,0,0]
[{"$f":"IF(AND(YEAR(E64)=2013,YEAR(F64)=2014,'front utente'!$I$15=\"si\" ),DATE(2013,12,31)-E64,0)","v":0},{"$f":"IF(AND(YEAR(E64)=2012,YEAR(F64)=2013,'front utente'!$I$15=\"si\"),F64-DATE(2013,1,1),0)","v":0},null,null,{"$f":"'front utente'!C80","v":"00:00:00"},{"$f":"'front utente'!D80","v":"00:00:00"},1,{"$f":"IF(MAX($F$11:F63)>=F64,0,F64-MAX($F$11:F63)-MIN(I64:U64)-B64-A64)","v":0},0,0,0,0,0,0,0,0,0,0,0,0,"","",0,0,0,0]
[{"$f":"IF(AND(YEAR(E65)=2013,YEAR(F65)=2014,'front utente'!$I$15=\"si\" ),DATE(2013,12,31)-E65,0)","v":0},{"$f":"IF(AND(YEAR(E65)=2012,YEAR(F65)=2013,'front utente'!$I$15=\"si\"),F65-DATE(2013,1,1),0)","v":0},null,null,{"$f":"'front utente'!C81","v":"00:00:00"},{"$f":"'front utente'!D81","v":"00:00:00"},1,{"$f":"IF(MAX($F$11:F64)>=F65,0,F65-MAX($F$11:F64)-MIN(I65:U65)-B65-A65)","v":0},0,0,0,0,0,0,0,0,0,0,0,0,"","",0,0,0,0]
[{"$f":"IF(AND(YEAR(E66)=2013,YEAR(F66)=2014,'front utente'!$I$15=\"si\" ),DATE(2013,12,31)-E66,0)","v":0},{"$f":"IF(AND(YEAR(E66)=2012,YEAR(F66)=2013,'front utente'!$I$15=\"si\"),F66-DATE(2013,1,1),0)","v":0},null,null,{"$f":"'front utente'!C82","v":"00:00:00"},{"$f":"'front utente'!D82","v":"00:00:00"},1,{"$f":"IF(MAX($F$11:F65)>=F66,0,F66-MAX($F$11:F65)-MIN(I66:U66)-B66-A66)","v":0},0,0,0,0,0,0,0,0,0,0,0,0,"","",0,0,0,0]
[{"$f":"IF(AND(YEAR(E67)=2013,YEAR(F67)=2014,'front utente'!$I$15=\"si\" ),DATE(2013,12,31)-E67,0)","v":0},{"$f":"IF(AND(YEAR(E67)=2012,YEAR(F67)=2013,'front utente'!$I$15=\"si\"),F67-DATE(2013,1,1),0)","v":0},null,null,{"$f":"'front utente'!C83","v":"00:00:00"},{"$f":"'front utente'!D83","v":"00:00:00"},1,{"$f":"IF(MAX($F$11:F66)>=F67,0,F67-MAX($F$11:F66)-MIN(I67:U67)-B67-A67)","v":0},0,0,0,0,0,0,0,0,0,0,0,0,"","",0,0,0,0]
[{"$f":"IF(AND(YEAR(E68)=2013,YEAR(F68)=2014,'front utente'!$I$15=\"si\" ),DATE(2013,12,31)-E68,0)","v":0},{"$f":"IF(AND(YEAR(E68)=2012,YEAR(F68)=2013,'front utente'!$I$15=\"si\"),F68-DATE(2013,1,1),0)","v":0},null,null,{"$f":"'front utente'!C84","v":"00:00:00"},{"$f":"'front utente'!D84","v":"00:00:00"},1,{"$f":"IF(MAX($F$11:F67)>=F68,0,F68-MAX($F$11:F67)-MIN(I68:U68)-B68-A68)","v":0},0,0,0,0,0,0,0,0,0,0,0,0,"","",0,0,0,0]
[{"$f":"IF(AND(YEAR(E69)=2013,YEAR(F69)=2014,'front utente'!$I$15=\"si\" ),DATE(2013,12,31)-E69,0)","v":0},{"$f":"IF(AND(YEAR(E69)=2012,YEAR(F69)=2013,'front utente'!$I$15=\"si\"),F69-DATE(2013,1,1),0)","v":0},null,null,{"$f":"'front utente'!C85","v":"00:00:00"},{"$f":"'front utente'!D85","v":"00:00:00"},1,{"$f":"IF(MAX($F$11:F68)>=F69,0,F69-MAX($F$11:F68)-MIN(I69:U69)-B69-A69)","v":0},0,0,0,0,0,0,0,0,0,0,0,0,"","",0,0,0,0]
[{"$f":"IF(AND(YEAR(E70)=2013,YEAR(F70)=2014,'front utente'!$I$15=\"si\" ),DATE(2013,12,31)-E70,0)","v":0},{"$f":"IF(AND(YEAR(E70)=2012,YEAR(F70)=2013,'front utente'!$I$15=\"si\"),F70-DATE(2013,1,1),0)","v":0},null,null,{"$f":"'front utente'!C86","v":"00:00:00"},{"$f":"'front utente'!D86","v":"00:00:00"},1,{"$f":"IF(MAX($F$11:F69)>=F70,0,F70-MAX($F$11:F69)-MIN(I70:U70)-B70-A70)","v":0},0,0,0,0,0,0,0,0,0,0,0,0,"","",0,0,0,0]
[{"$f":"IF(AND(YEAR(E71)=2013,YEAR(F71)=2014,'front utente'!$I$15=\"si\" ),DATE(2013,12,31)-E71,0)","v":0},{"$f":"IF(AND(YEAR(E71)=2012,YEAR(F71)=2013,'front utente'!$I$15=\"si\"),F71-DATE(2013,1,1),0)","v":0},null,null,{"$f":"'front utente'!C87","v":"00:00:00"},{"$f":"'front utente'!D87","v":"00:00:00"},1,{"$f":"IF(MAX($F$11:F70)>=F71,0,F71-MAX($F$11:F70)-MIN(I71:U71)-B71-A71)","v":0},0,0,0,0,0,0,0,0,0,0,0,0,"","",0,0,0,0]
[{"$f":"IF(AND(YEAR(E72)=2013,YEAR(F72)=2014,'front utente'!$I$15=\"si\" ),DATE(2013,12,31)-E72,0)","v":0},{"$f":"IF(AND(YEAR(E72)=2012,YEAR(F72)=2013,'front utente'!$I$15=\"si\"),F72-DATE(2013,1,1),0)","v":0},null,null,{"$f":"'front utente'!C88","v":"00:00:00"},{"$f":"'front utente'!D88","v":"00:00:00"},1,{"$f":"IF(MAX($F$11:F71)>=F72,0,F72-MAX($F$11:F71)-MIN(I72:U72)-B72-A72)","v":0},0,0,0,0,0,0,0,0,0,0,0,0,"","",0,0,0,0]
[{"$f":"IF(AND(YEAR(E73)=2013,YEAR(F73)=2014,'front utente'!$I$15=\"si\" ),DATE(2013,12,31)-E73,0)","v":0},{"$f":"IF(AND(YEAR(E73)=2012,YEAR(F73)=2013,'front utente'!$I$15=\"si\"),F73-DATE(2013,1,1),0)","v":0},null,null,{"$f":"'front utente'!C89","v":"00:00:00"},{"$f":"'front utente'!D89","v":"00:00:00"},1,{"$f":"IF(MAX($F$11:F72)>=F73,0,F73-MAX($F$11:F72)-MIN(I73:U73)-B73-A73)","v":0},0,0,0,0,0,0,0,0,0,0,0,0,"","",0,0,0,0]
[{"$f":"IF(AND(YEAR(E74)=2013,YEAR(F74)=2014,'front utente'!$I$15=\"si\" ),DATE(2013,12,31)-E74,0)","v":0},{"$f":"IF(AND(YEAR(E74)=2012,YEAR(F74)=2013,'front utente'!$I$15=\"si\"),F74-DATE(2013,1,1),0)","v":0},null,null,{"$f":"'front utente'!C90","v":"00:00:00"},{"$f":"'front utente'!D90","v":"00:00:00"},1,{"$f":"IF(MAX($F$11:F73)>=F74,0,F74-MAX($F$11:F73)-MIN(I74:U74)-B74-A74)","v":0},0,0,0,0,0,0,0,0,0,0,0,0,"","",0,0,0,0]
[{"$f":"IF(AND(YEAR(E75)=2013,YEAR(F75)=2014,'front utente'!$I$15=\"si\" ),DATE(2013,12,31)-E75,0)","v":0},{"$f":"IF(AND(YEAR(E75)=2012,YEAR(F75)=2013,'front utente'!$I$15=\"si\"),F75-DATE(2013,1,1),0)","v":0},null,null,{"$f":"'front utente'!C91","v":"00:00:00"},{"$f":"'front utente'!D91","v":"00:00:00"},{"$f":"F75-E75+1","v":1},{"$f":"IF(MAX($F$11:F74)>=F75,0,F75-MAX($F$11:F74)-MIN(I75:U75)-B75-A75)","v":0},0,0,0,0,0,0,0,0,0,0,0,0,"","",0,0,0,0]
[{"$f":"IF(AND(YEAR(E76)=2013,YEAR(F76)=2014,'front utente'!$I$15=\"si\" ),DATE(2013,12,31)-E76,0)","v":0},{"$f":"IF(AND(YEAR(E76)=2012,YEAR(F76)=2013,'front utente'!$I$15=\"si\"),F76-DATE(2013,1,1),0)","v":0},null,null,{"$f":"'front utente'!C92","v":"00:00:00"},{"$f":"'front utente'!D92","v":"00:00:00"},1,{"$f":"IF(MAX($F$11:F75)>=F76,0,F76-MAX($F$11:F75)-MIN(I76:U76)-B76-A76)","v":0},{"$f":"IF(E76<=F75,0,E76-F75-1)","v":0},{"$f":"IF(E76<=F74,0,E76-F74-1)","v":0},{"$f":"IF(E76<=F73,0,E76-F73-1)","v":0},{"$f":"IF(E76<=F72,0,E76-F72-1)","v":0},{"$f":"IF(E76<=F71,0,E76-F71-1)","v":0},{"$f":"IF(E76<=F70,0,E76-F70-1)","v":0},{"$f":"IF(E76<=F69,0,E76-F69-1)","v":0},{"$f":"IF(E76<=F68,0,E76-F68-1)","v":0},{"$f":"IF(E76<=F67,0,E76-F67-1)","v":0},{"$f":"IF(E76<=F66,0,E76-F66-1)","v":0},{"$f":"IF(E76<=F65,0,E76-F65-1)","v":0},0,{"$f":"IF(E76<>0,E76,\"\")","v":""},{"$f":"IF(F76<>0,F76,\"\")","v":""},{"$f":"IF(V76<>0,H76,\"\")","v":0},{"$f":"INT(W76/365)","v":0},{"$f":"  IF(W76<>\"\", INT((W76-X76*365)/30),\"\")","v":0},{"$f":"INT(W76-(X76*365+Y76*30))","v":0}]
[{"$f":"IF(AND(YEAR(E77)=2013,YEAR(F77)=2014,'front utente'!$I$15=\"si\" ),DATE(2013,12,31)-E77,0)","v":0},{"$f":"IF(AND(YEAR(E77)=2012,YEAR(F77)=2013,'front utente'!$I$15=\"si\"),F77-DATE(2013,1,1),0)","v":0},null,null,{"$f":"'front utente'!C93","v":"00:00:00"},{"$f":"'front utente'!D93","v":"00:00:00"},1,{"$f":"IF(MAX($F$11:F76)>=F77,0,F77-MAX($F$11:F76)-MIN(I77:U77)-B77-A77)","v":0},0,0,0,0,0,0,0,0,0,0,0,{"$f":"IF(E77<=F65,0,E77-F65-1)","v":0},"","",{"$f":"IF(V77<>0,H77,\"\")","v":0},{"$f":"INT(W77/365)","v":0},{"$f":"  IF(W77<>\"\", INT((W77-X77*365)/30),\"\")","v":0},{"$f":"INT(W77-(X77*365+Y77*30))","v":0}]
[{"$f":"IF(AND(YEAR(E78)=2013,YEAR(F78)=2014,'front utente'!$I$15=\"si\" ),DATE(2013,12,31)-E78,0)","v":0},{"$f":"IF(AND(YEAR(E78)=2012,YEAR(F78)=2013,'front utente'!$I$15=\"si\"),F78-DATE(2013,1,1),0)","v":0},null,null,{"$f":"'front utente'!C94","v":"00:00:00"},{"$f":"'front utente'!D94","v":"00:00:00"},1,{"$f":"IF(MAX($F$11:F77)>=F78,0,F78-MAX($F$11:F77)-MIN(I78:U78)-B78-A78)","v":0},0,0,0,0,0,0,0,0,0,0,0,0,"","",{"$f":"IF(V78<>0,H78,\"\")","v":0},{"$f":"INT(W78/365)","v":0},{"$f":"  IF(W78<>\"\", INT((W78-X78*365)/30),\"\")","v":0},{"$f":"INT(W78-(X78*365+Y78*30))","v":0}]
[{"$f":"IF(AND(YEAR(E79)=2013,YEAR(F79)=2014,'front utente'!$I$15=\"si\" ),DATE(2013,12,31)-E79,0)","v":0},{"$f":"IF(AND(YEAR(E79)=2012,YEAR(F79)=2013,'front utente'!$I$15=\"si\"),F79-DATE(2013,1,1),0)","v":0},null,null,{"$f":"'front utente'!C95","v":"00:00:00"},{"$f":"'front utente'!D95","v":"00:00:00"},1,{"$f":"IF(MAX($F$11:F78)>=F79,0,F79-MAX($F$11:F78)-MIN(I79:U79)-B79-A79)","v":0},0,0,0,0,0,0,0,0,0,0,0,0,"","",{"$f":"IF(V79<>0,H79,\"\")","v":0},{"$f":"INT(W79/365)","v":0},{"$f":"  IF(W79<>\"\", INT((W79-X79*365)/30),\"\")","v":0},{"$f":"INT(W79-(X79*365+Y79*30))","v":0}]
[{"$f":"IF(AND(YEAR(E80)=2013,YEAR(F80)=2014,'front utente'!$I$15=\"si\" ),DATE(2013,12,31)-E80,0)","v":0},{"$f":"IF(AND(YEAR(E80)=2012,YEAR(F80)=2013,'front utente'!$I$15=\"si\"),F80-DATE(2013,1,1),0)","v":0},null,null,{"$f":"'front utente'!C96","v":"00:00:00"},{"$f":"'front utente'!D96","v":"00:00:00"},1,{"$f":"IF(MAX($F$11:F79)>=F80,0,F80-MAX($F$11:F79)-MIN(I80:U80)-B80-A80)","v":0},0,0,0,0,0,0,0,0,0,0,0,0,"","",{"$f":"IF(V80<>0,H80,\"\")","v":0},{"$f":"INT(W80/365)","v":0},{"$f":"  IF(W80<>\"\", INT((W80-X80*365)/30),\"\")","v":0},{"$f":"INT(W80-(X80*365+Y80*30))","v":0}]
[{"$f":"IF(AND(YEAR(E81)=2013,YEAR(F81)=2014,'front utente'!$I$15=\"si\" ),DATE(2013,12,31)-E81,0)","v":0},{"$f":"IF(AND(YEAR(E81)=2012,YEAR(F81)=2013,'front utente'!$I$15=\"si\"),F81-DATE(2013,1,1),0)","v":0},null,null,{"$f":"'front utente'!C97","v":"00:00:00"},{"$f":"'front utente'!D97","v":"00:00:00"},1,{"$f":"IF(MAX($F$11:F80)>=F81,0,F81-MAX($F$11:F80)-MIN(I81:U81)-B81-A81)","v":0},0,0,0,0,0,0,0,0,0,0,0,0,"",""]
[{"$f":"IF(AND(YEAR(E82)=2013,YEAR(F82)=2014,'front utente'!$I$15=\"si\" ),DATE(2013,12,31)-E82,0)","v":0},{"$f":"IF(AND(YEAR(E82)=2012,YEAR(F82)=2013,'front utente'!$I$15=\"si\"),F82-DATE(2013,1,1),0)","v":0},null,null,{"$f":"'front utente'!C98","v":"00:00:00"},{"$f":"'front utente'!D98","v":"00:00:00"},1,{"$f":"IF(MAX($F$11:F81)>=F82,0,F82-MAX($F$11:F81)-MIN(I82:U82)-B82-A82)","v":0},0,0,0,0,0,0,0,0,0,0,0,0,"",""]
[{"$f":"IF(AND(YEAR(E83)=2013,YEAR(F83)=2014,'front utente'!$I$15=\"si\" ),DATE(2013,12,31)-E83,0)","v":0},{"$f":"IF(AND(YEAR(E83)=2012,YEAR(F83)=2013,'front utente'!$I$15=\"si\"),F83-DATE(2013,1,1),0)","v":0},null,null,{"$f":"'front utente'!C99","v":"00:00:00"},{"$f":"'front utente'!D99","v":"00:00:00"},1,{"$f":"IF(MAX($F$11:F82)>=F83,0,F83-MAX($F$11:F82)-MIN(I83:U83)-B83-A83)","v":0},0,0,0,0,0,0,0,0,0,0,0,0,"",""]
[{"$f":"IF(AND(YEAR(E84)=2013,YEAR(F84)=2014,'front utente'!$I$15=\"si\" ),DATE(2013,12,31)-E84,0)","v":0},{"$f":"IF(AND(YEAR(E84)=2012,YEAR(F84)=2013,'front utente'!$I$15=\"si\"),F84-DATE(2013,1,1),0)","v":0},null,null,{"$f":"'front utente'!C100","v":"00:00:00"},{"$f":"'front utente'!D100","v":"00:00:00"},1,{"$f":"IF(MAX($F$11:F83)>=F84,0,F84-MAX($F$11:F83)-MIN(I84:U84)-B84-A84)","v":0},0,0,0,0,0,0,0,0,0,0,0,0,"",""]
[{"$f":"IF(AND(YEAR(E85)=2013,YEAR(F85)=2014,'front utente'!$I$15=\"si\" ),DATE(2013,12,31)-E85,0)","v":0},{"$f":"IF(AND(YEAR(E85)=2012,YEAR(F85)=2013,'front utente'!$I$15=\"si\"),F85-DATE(2013,1,1),0)","v":0},null,null,{"$f":"'front utente'!C101","v":"00:00:00"},{"$f":"'front utente'!D101","v":"00:00:00"},1,{"$f":"IF(MAX($F$11:F84)>=F85,0,F85-MAX($F$11:F84)-MIN(I85:U85)-B85-A85)","v":0},0,0,0,0,0,0,0,0,0,0,0,0,"",""]
[{"$f":"IF(AND(YEAR(E86)=2013,YEAR(F86)=2014,'front utente'!$I$15=\"si\" ),DATE(2013,12,31)-E86,0)","v":0},{"$f":"IF(AND(YEAR(E86)=2012,YEAR(F86)=2013,'front utente'!$I$15=\"si\"),F86-DATE(2013,1,1),0)","v":0},null,null,{"$f":"'front utente'!C102","v":"00:00:00"},{"$f":"'front utente'!D102","v":"00:00:00"},1,{"$f":"IF(MAX($F$11:F85)>=F86,0,F86-MAX($F$11:F85)-MIN(I86:U86)-B86-A86)","v":0},0,0,0,0,0,0,0,0,0,0,0,0,"",""]
[{"$f":"IF(AND(YEAR(E87)=2013,YEAR(F87)=2014,'front utente'!$I$15=\"si\" ),DATE(2013,12,31)-E87,0)","v":0},{"$f":"IF(AND(YEAR(E87)=2012,YEAR(F87)=2013,'front utente'!$I$15=\"si\"),F87-DATE(2013,1,1),0)","v":0},null,null,{"$f":"'front utente'!C103","v":"00:00:00"},{"$f":"'front utente'!D103","v":"00:00:00"},1,{"$f":"IF(MAX($F$11:F86)>=F87,0,F87-MAX($F$11:F86)-MIN(I87:U87)-B87-A87)","v":0},0,0,0,0,0,0,0,0,0,0,0,0,"",""]
[{"$f":"IF(AND(YEAR(E88)=2013,YEAR(F88)=2014,'front utente'!$I$15=\"si\" ),DATE(2013,12,31)-E88,0)","v":0},{"$f":"IF(AND(YEAR(E88)=2012,YEAR(F88)=2013,'front utente'!$I$15=\"si\"),F88-DATE(2013,1,1),0)","v":0},null,null,{"$f":"'front utente'!C104","v":"00:00:00"},{"$f":"'front utente'!D104","v":"00:00:00"},1,{"$f":"IF(MAX($F$11:F87)>=F88,0,F88-MAX($F$11:F87)-MIN(I88:U88)-B88-A88)","v":0},0,0,0,0,0,0,0,0,0,0,0,0,"",""]
[{"$f":"IF(AND(YEAR(E89)=2013,YEAR(F89)=2014,'front utente'!$I$15=\"si\" ),DATE(2013,12,31)-E89,0)","v":0},{"$f":"IF(AND(YEAR(E89)=2012,YEAR(F89)=2013,'front utente'!$I$15=\"si\"),F89-DATE(2013,1,1),0)","v":0},null,null,{"$f":"'front utente'!C105","v":"00:00:00"},{"$f":"'front utente'!D105","v":"00:00:00"},1,{"$f":"IF(MAX($F$11:F88)>=F89,0,F89-MAX($F$11:F88)-MIN(I89:U89)-B89-A89)","v":0},0,0,0,0,0,0,0,0,0,0,0,0,"",""]
[{"$f":"IF(AND(YEAR(E90)=2013,YEAR(F90)=2014,'front utente'!$I$15=\"si\" ),DATE(2013,12,31)-E90,0)","v":0},{"$f":"IF(AND(YEAR(E90)=2012,YEAR(F90)=2013,'front utente'!$I$15=\"si\"),F90-DATE(2013,1,1),0)","v":0},null,null,{"$f":"'front utente'!C106","v":"00:00:00"},{"$f":"'front utente'!D106","v":"00:00:00"},1,{"$f":"IF(MAX($F$11:F89)>=F90,0,F90-MAX($F$11:F89)-MIN(I90:U90)-B90-A90)","v":0},0,0,0,0,0,0,0,0,0,0,0,0,"",""]
[{"$f":"IF(AND(YEAR(E91)=2013,YEAR(F91)=2014,'front utente'!$I$15=\"si\" ),DATE(2013,12,31)-E91,0)","v":0},{"$f":"IF(AND(YEAR(E91)=2012,YEAR(F91)=2013,'front utente'!$I$15=\"si\"),F91-DATE(2013,1,1),0)","v":0},null,null,{"$f":"'front utente'!C107","v":"00:00:00"},{"$f":"'front utente'!D107","v":"00:00:00"},1,{"$f":"IF(MAX($F$11:F90)>=F91,0,F91-MAX($F$11:F90)-MIN(I91:U91)-B91-A91)","v":0},0,0,0,0,0,0,0,0,0,0,0,0,"",""]
[{"$f":"IF(AND(YEAR(E92)=2013,YEAR(F92)=2014,'front utente'!$I$15=\"si\" ),DATE(2013,12,31)-E92,0)","v":0},{"$f":"IF(AND(YEAR(E92)=2012,YEAR(F92)=2013,'front utente'!$I$15=\"si\"),F92-DATE(2013,1,1),0)","v":0},null,null,{"$f":"'front utente'!C108","v":"00:00:00"},{"$f":"'front utente'!D108","v":"00:00:00"},1,{"$f":"IF(MAX($F$11:F91)>=F92,0,F92-MAX($F$11:F91)-MIN(I92:U92)-B92-A92)","v":0},0,0,0,0,0,0,0,0,0,0,0,0,"",""]
[{"$f":"IF(AND(YEAR(E93)=2013,YEAR(F93)=2014,'front utente'!$I$15=\"si\" ),DATE(2013,12,31)-E93,0)","v":0},{"$f":"IF(AND(YEAR(E93)=2012,YEAR(F93)=2013,'front utente'!$I$15=\"si\"),F93-DATE(2013,1,1),0)","v":0},null,null,{"$f":"'front utente'!C109","v":"00:00:00"},{"$f":"'front utente'!D109","v":"00:00:00"},1,{"$f":"IF(MAX($F$11:F92)>=F93,0,F93-MAX($F$11:F92)-MIN(I93:U93)-B93-A93)","v":0},0,0,0,0,0,0,0,0,0,0,0,0,"",""]
[{"$f":"IF(AND(YEAR(E94)=2013,YEAR(F94)=2014,'front utente'!$I$15=\"si\" ),DATE(2013,12,31)-E94,0)","v":0},{"$f":"IF(AND(YEAR(E94)=2012,YEAR(F94)=2013,'front utente'!$I$15=\"si\"),F94-DATE(2013,1,1),0)","v":0},null,null,{"$f":"'front utente'!C110","v":"00:00:00"},{"$f":"'front utente'!D110","v":"00:00:00"},1,{"$f":"IF(MAX($F$11:F93)>=F94,0,F94-MAX($F$11:F93)-MIN(I94:U94)-B94-A94)","v":0},0,0,0,0,0,0,0,0,0,0,0,0,"",""]
[{"$f":"IF(AND(YEAR(E95)=2013,YEAR(F95)=2014,'front utente'!$I$15=\"si\" ),DATE(2013,12,31)-E95,0)","v":0},{"$f":"IF(AND(YEAR(E95)=2012,YEAR(F95)=2013,'front utente'!$I$15=\"si\"),F95-DATE(2013,1,1),0)","v":0},null,null,{"$f":"'front utente'!C111","v":"00:00:00"},{"$f":"'front utente'!D111","v":"00:00:00"},1,{"$f":"IF(MAX($F$11:F94)>=F95,0,F95-MAX($F$11:F94)-MIN(I95:U95)-B95-A95)","v":0},0,0,0,0,0,0,0,0,0,0,0,0,"",""]
[{"$f":"IF(AND(YEAR(E96)=2013,YEAR(F96)=2014,'front utente'!$I$15=\"si\" ),DATE(2013,12,31)-E96,0)","v":0},{"$f":"IF(AND(YEAR(E96)=2012,YEAR(F96)=2013,'front utente'!$I$15=\"si\"),F96-DATE(2013,1,1),0)","v":0},null,null,{"$f":"'front utente'!C112","v":"00:00:00"},{"$f":"'front utente'!D112","v":"00:00:00"},1,{"$f":"IF(MAX($F$11:F95)>=F96,0,F96-MAX($F$11:F95)-MIN(I96:U96)-B96-A96)","v":0},0,0,0,0,0,0,0,0,0,0,0,0,"",""]
[{"$f":"IF(AND(YEAR(E97)=2013,YEAR(F97)=2014,'front utente'!$I$15=\"si\" ),DATE(2013,12,31)-E97,0)","v":0},{"$f":"IF(AND(YEAR(E97)=2012,YEAR(F97)=2013,'front utente'!$I$15=\"si\"),F97-DATE(2013,1,1),0)","v":0},null,null,{"$f":"'front utente'!C113","v":"00:00:00"},{"$f":"'front utente'!D113","v":"00:00:00"},1,{"$f":"IF(MAX($F$11:F96)>=F97,0,F97-MAX($F$11:F96)-MIN(I97:U97)-B97-A97)","v":0},0,0,0,0,0,0,0,0,0,0,0,0,"",""]
[{"$f":"IF(AND(YEAR(E98)=2013,YEAR(F98)=2014,'front utente'!$I$15=\"si\" ),DATE(2013,12,31)-E98,0)","v":0},{"$f":"IF(AND(YEAR(E98)=2012,YEAR(F98)=2013,'front utente'!$I$15=\"si\"),F98-DATE(2013,1,1),0)","v":0},null,null,{"$f":"'front utente'!C114","v":"00:00:00"},{"$f":"'front utente'!D114","v":"00:00:00"},1,{"$f":"IF(MAX($F$11:F97)>=F98,0,F98-MAX($F$11:F97)-MIN(I98:U98)-B98-A98)","v":0},0,0,0,0,0,0,0,0,0,0,0,0,"",""]
[{"$f":"IF(AND(YEAR(E99)=2013,YEAR(F99)=2014,'front utente'!$I$15=\"si\" ),DATE(2013,12,31)-E99,0)","v":0},{"$f":"IF(AND(YEAR(E99)=2012,YEAR(F99)=2013,'front utente'!$I$15=\"si\"),F99-DATE(2013,1,1),0)","v":0},null,null,{"$f":"'front utente'!C115","v":"00:00:00"},{"$f":"'front utente'!D115","v":"00:00:00"},1,{"$f":"IF(MAX($F$11:F98)>=F99,0,F99-MAX($F$11:F98)-MIN(I99:U99)-B99-A99)","v":0},0,0,0,0,0,0,0,0,0,0,0,0,"",""]
[{"$f":"IF(AND(YEAR(E100)=2013,YEAR(F100)=2014,'front utente'!$I$15=\"si\" ),DATE(2013,12,31)-E100,0)","v":0},{"$f":"IF(AND(YEAR(E100)=2012,YEAR(F100)=2013,'front utente'!$I$15=\"si\"),F100-DATE(2013,1,1),0)","v":0},null,null,{"$f":"'front utente'!C116","v":"00:00:00"},{"$f":"'front utente'!D116","v":"00:00:00"},1,{"$f":"IF(MAX($F$11:F99)>=F100,0,F100-MAX($F$11:F99)-MIN(I100:U100)-B100-A100)","v":0},0,0,0,0,0,0,0,0,0,0,0,0,"",""]
[{"$f":"IF(AND(YEAR(E101)=2013,YEAR(F101)=2014,'front utente'!$I$15=\"si\" ),DATE(2013,12,31)-E101,0)","v":0},{"$f":"IF(AND(YEAR(E101)=2012,YEAR(F101)=2013,'front utente'!$I$15=\"si\"),F101-DATE(2013,1,1),0)","v":0},null,null,{"$f":"'front utente'!C117","v":"00:00:00"},{"$f":"'front utente'!D117","v":"00:00:00"},1,{"$f":"IF(MAX($F$11:F100)>=F101,0,F101-MAX($F$11:F100)-MIN(I101:U101)-B101-A101)","v":0},0,0,0,0,0,0,0,0,0,0,0,0,"",""]
[{"$f":"IF(AND(YEAR(E102)=2013,YEAR(F102)=2014,'front utente'!$I$15=\"si\" ),DATE(2013,12,31)-E102,0)","v":0},{"$f":"IF(AND(YEAR(E102)=2012,YEAR(F102)=2013,'front utente'!$I$15=\"si\"),F102-DATE(2013,1,1),0)","v":0},null,null,{"$f":"'front utente'!C118","v":"00:00:00"},{"$f":"'front utente'!D118","v":"00:00:00"},1,{"$f":"IF(MAX($F$11:F101)>=F102,0,F102-MAX($F$11:F101)-MIN(I102:U102)-B102-A102)","v":0},0,0,0,0,0,0,0,0,0,0,0,0]
[{"$f":"IF(AND(YEAR(E103)=2013,YEAR(F103)=2014,'front utente'!$I$15=\"si\" ),DATE(2013,12,31)-E103,0)","v":0},{"$f":"IF(AND(YEAR(E103)=2012,YEAR(F103)=2013,'front utente'!$I$15=\"si\"),F103-DATE(2013,1,1),0)","v":0},null,null,{"$f":"'front utente'!C119","v":"00:00:00"},{"$f":"'front utente'!D119","v":"00:00:00"},1,{"$f":"IF(MAX($F$11:F102)>=F103,0,F103-MAX($F$11:F102)-MIN(I103:U103)-B103-A103)","v":0},0,0,0,0,0,0,0,0,0,0,0,0]
[{"$f":"IF(AND(YEAR(E104)=2013,YEAR(F104)=2014,'front utente'!$I$15=\"si\" ),DATE(2013,12,31)-E104,0)","v":0},{"$f":"IF(AND(YEAR(E104)=2012,YEAR(F104)=2013,'front utente'!$I$15=\"si\"),F104-DATE(2013,1,1),0)","v":0},null,null,{"$f":"'front utente'!C120","v":"00:00:00"},{"$f":"'front utente'!D120","v":"00:00:00"},1,{"$f":"IF(MAX($F$11:F103)>=F104,0,F104-MAX($F$11:F103)-MIN(I104:U104)-B104-A104)","v":0},0,0,0,0,0,0,0,0,0,0,0,0]
[{"$f":"IF(AND(YEAR(E105)=2013,YEAR(F105)=2014,'front utente'!$I$15=\"si\" ),DATE(2013,12,31)-E105,0)","v":0},{"$f":"IF(AND(YEAR(E105)=2012,YEAR(F105)=2013,'front utente'!$I$15=\"si\"),F105-DATE(2013,1,1),0)","v":0},null,null,{"$f":"'front utente'!C121","v":"00:00:00"},{"$f":"'front utente'!D121","v":"00:00:00"},1,{"$f":"IF(MAX($F$11:F104)>=F105,0,F105-MAX($F$11:F104)-MIN(I105:U105)-B105-A105)","v":0},0,0,0,0,0,0,0,0,0,0,0,0]
[{"$f":"IF(AND(YEAR(E106)=2013,YEAR(F106)=2014,'front utente'!$I$15=\"si\" ),DATE(2013,12,31)-E106,0)","v":0},{"$f":"IF(AND(YEAR(E106)=2012,YEAR(F106)=2013,'front utente'!$I$15=\"si\"),F106-DATE(2013,1,1),0)","v":0},null,null,{"$f":"'front utente'!C122","v":"00:00:00"},{"$f":"'front utente'!D122","v":"00:00:00"},1,{"$f":"IF(MAX($F$11:F105)>=F106,0,F106-MAX($F$11:F105)-MIN(I106:U106)-B106-A106)","v":0},0,0,0,0,0,0,0,0,0,0,0,0]
[{"$f":"IF(AND(YEAR(E107)=2013,YEAR(F107)=2014,'front utente'!$I$15=\"si\" ),DATE(2013,12,31)-E107,0)","v":0},{"$f":"IF(AND(YEAR(E107)=2012,YEAR(F107)=2013,'front utente'!$I$15=\"si\"),F107-DATE(2013,1,1),0)","v":0},null,null,{"$f":"'front utente'!C123","v":"00:00:00"},{"$f":"'front utente'!D123","v":"00:00:00"},1,{"$f":"IF(MAX($F$11:F106)>=F107,0,F107-MAX($F$11:F106)-MIN(I107:U107)-B107-A107)","v":0},0,0,0,0,0,0,0,0,0,0,0,0]
[{"$f":"IF(AND(YEAR(E108)=2013,YEAR(F108)=2014,'front utente'!$I$15=\"si\" ),DATE(2013,12,31)-E108,0)","v":0},{"$f":"IF(AND(YEAR(E108)=2012,YEAR(F108)=2013,'front utente'!$I$15=\"si\"),F108-DATE(2013,1,1),0)","v":0},null,null,{"$f":"'front utente'!C124","v":"00:00:00"},{"$f":"'front utente'!D124","v":"00:00:00"},1,{"$f":"IF(MAX($F$11:F107)>=F108,0,F108-MAX($F$11:F107)-MIN(I108:U108)-B108-A108)","v":0},0,0,0,0,0,0,0,0,0,0,0,0]
[{"$f":"IF(AND(YEAR(E109)=2013,YEAR(F109)=2014,'front utente'!$I$15=\"si\" ),DATE(2013,12,31)-E109,0)","v":0},{"$f":"IF(AND(YEAR(E109)=2012,YEAR(F109)=2013,'front utente'!$I$15=\"si\"),F109-DATE(2013,1,1),0)","v":0},null,null,{"$f":"'front utente'!C125","v":"00:00:00"},{"$f":"'front utente'!D125","v":"00:00:00"},1,{"$f":"IF(MAX($F$11:F108)>=F109,0,F109-MAX($F$11:F108)-MIN(I109:U109)-B109-A109)","v":0},0,0,0,0,0,0,0,0,0,0,0,0]
[{"$f":"IF(AND(YEAR(E110)=2013,YEAR(F110)=2014,'front utente'!$I$15=\"si\" ),DATE(2013,12,31)-E110,0)","v":0},{"$f":"IF(AND(YEAR(E110)=2012,YEAR(F110)=2013,'front utente'!$I$15=\"si\"),F110-DATE(2013,1,1),0)","v":0},null,null,{"$f":"'front utente'!C126","v":"00:00:00"},{"$f":"'front utente'!D126","v":"00:00:00"},1,{"$f":"IF(MAX($F$11:F109)>=F110,0,F110-MAX($F$11:F109)-MIN(I110:U110)-B110-A110)","v":0},0,0,0,0,0,0,0,0,0,0,0,0]
[{"$f":"IF(AND(YEAR(E111)=2013,YEAR(F111)=2014,'front utente'!$I$15=\"si\" ),DATE(2013,12,31)-E111,0)","v":0},{"$f":"IF(AND(YEAR(E111)=2012,YEAR(F111)=2013,'front utente'!$I$15=\"si\"),F111-DATE(2013,1,1),0)","v":0},null,null,{"$f":"'front utente'!C127","v":"00:00:00"},{"$f":"'front utente'!D127","v":"00:00:00"},1,{"$f":"IF(MAX($F$11:F110)>=F111,0,F111-MAX($F$11:F110)-MIN(I111:U111)-B111-A111)","v":0},0,0,0,0,0,0,0,0,0,0,0,0]
[{"$f":"IF(AND(YEAR(E112)=2013,YEAR(F112)=2014,'front utente'!$I$15=\"si\" ),DATE(2013,12,31)-E112,0)","v":0},{"$f":"IF(AND(YEAR(E112)=2012,YEAR(F112)=2013,'front utente'!$I$15=\"si\"),F112-DATE(2013,1,1),0)","v":0},null,null,{"$f":"'front utente'!C128","v":"00:00:00"},{"$f":"'front utente'!D128","v":"00:00:00"},1,{"$f":"IF(MAX($F$11:F111)>=F112,0,F112-MAX($F$11:F111)-MIN(I112:U112)-B112-A112)","v":0},0,0,0,0,0,0,0,0,0,0,0,0]
[{"$f":"IF(AND(YEAR(E113)=2013,YEAR(F113)=2014,'front utente'!$I$15=\"si\" ),DATE(2013,12,31)-E113,0)","v":0},{"$f":"IF(AND(YEAR(E113)=2012,YEAR(F113)=2013,'front utente'!$I$15=\"si\"),F113-DATE(2013,1,1),0)","v":0},null,null,{"$f":"'front utente'!C129","v":"00:00:00"},{"$f":"'front utente'!D129","v":"00:00:00"},1,{"$f":"IF(MAX($F$11:F112)>=F113,0,F113-MAX($F$11:F112)-MIN(I113:U113)-B113-A113)","v":0},0,0,0,0,0,0,0,0,0,0,0,0]
[{"$f":"IF(AND(YEAR(E114)=2013,YEAR(F114)=2014,'front utente'!$I$15=\"si\" ),DATE(2013,12,31)-E114,0)","v":0},{"$f":"IF(AND(YEAR(E114)=2012,YEAR(F114)=2013,'front utente'!$I$15=\"si\"),F114-DATE(2013,1,1),0)","v":0},null,null,{"$f":"'front utente'!C130","v":"00:00:00"},{"$f":"'front utente'!D130","v":"00:00:00"},{"$f":"F114-E114+1","v":1},{"$f":"IF(MAX($F$11:F113)>=F114,0,F114-MAX($F$11:F113)-MIN(I114:U114)-B114-A114)","v":0},{"$f":"IF(E114<=F113,0,E114-F113-1)","v":0},{"$f":"IF(E114<=F112,0,E114-F112-1)","v":0},{"$f":"IF(E114<=F111,0,E114-F111-1)","v":0},{"$f":"IF(E114<=F110,0,E114-F110-1)","v":0},{"$f":"IF(E114<=F109,0,E114-F109-1)","v":0},{"$f":"IF(E114<=F108,0,E114-F108-1)","v":0},{"$f":"IF(E114<=F107,0,E114-F107-1)","v":0},{"$f":"IF(E114<=F106,0,E114-F106-1)","v":0},{"$f":"IF(E114<=F105,0,E114-F105-1)","v":0},{"$f":"IF(E114<=F104,0,E114-F104-1)","v":0},{"$f":"IF(E114<=F103,0,E114-F103-1)","v":0},{"$f":"IF(E114<=F102,0,E114-F102-1)","v":0}]
[{"$f":"IF(AND(YEAR(E115)=2013,YEAR(F115)=2014,'front utente'!$I$15=\"si\" ),DATE(2013,12,31)-E115,0)","v":0},{"$f":"IF(AND(YEAR(E115)=2012,YEAR(F115)=2013,'front utente'!$I$15=\"si\"),F115-DATE(2013,1,1),0)","v":0},null,null,{"$f":"'front utente'!C131","v":"00:00:00"},{"$f":"'front utente'!D131","v":"00:00:00"},1,{"$f":"IF(MAX($F$11:F114)>=F115,0,F115-MAX($F$11:F114)-MIN(I115:U115)-B115-A115)","v":0},0,0,0,0,0,0,0,0,0,0,0,0]
[{"$f":"IF(AND(YEAR(E116)=2013,YEAR(F116)=2014,'front utente'!$I$15=\"si\" ),DATE(2013,12,31)-E116,0)","v":0},{"$f":"IF(AND(YEAR(E116)=2012,YEAR(F116)=2013,'front utente'!$I$15=\"si\"),F116-DATE(2013,1,1),0)","v":0},null,null,{"$f":"'front utente'!C132","v":"00:00:00"},{"$f":"'front utente'!D132","v":"00:00:00"},1,{"$f":"IF(MAX($F$11:F115)>=F116,0,F116-MAX($F$11:F115)-MIN(I116:U116)-B116-A116)","v":0},0,0,0,0,0,0,0,0,0,0,0,0]
[{"$f":"IF(AND(YEAR(E117)=2013,YEAR(F117)=2014,'front utente'!$I$15=\"si\" ),DATE(2013,12,31)-E117,0)","v":0},{"$f":"IF(AND(YEAR(E117)=2012,YEAR(F117)=2013,'front utente'!$I$15=\"si\"),F117-DATE(2013,1,1),0)","v":0},null,null,{"$f":"'front utente'!C133","v":"00:00:00"},{"$f":"'front utente'!D133","v":"00:00:00"},1,{"$f":"IF(MAX($F$11:F116)>=F117,0,F117-MAX($F$11:F116)-MIN(I117:U117)-B117-A117)","v":0},0,0,0,0,0,0,0,0,0,0,0,0]
[{"$f":"IF(AND(YEAR(E118)=2013,YEAR(F118)=2014,'front utente'!$I$15=\"si\" ),DATE(2013,12,31)-E118,0)","v":0},{"$f":"IF(AND(YEAR(E118)=2012,YEAR(F118)=2013,'front utente'!$I$15=\"si\"),F118-DATE(2013,1,1),0)","v":0},null,null,{"$f":"'front utente'!C134","v":"00:00:00"},{"$f":"'front utente'!D134","v":"00:00:00"},1,{"$f":"IF(MAX($F$11:F117)>=F118,0,F118-MAX($F$11:F117)-MIN(I118:U118)-B118-A118)","v":0},0,0,0,0,0,0,0,0,0,0,0,0]
[{"$f":"IF(AND(YEAR(E119)=2013,YEAR(F119)=2014,'front utente'!$I$15=\"si\" ),DATE(2013,12,31)-E119,0)","v":0},{"$f":"IF(AND(YEAR(E119)=2012,YEAR(F119)=2013,'front utente'!$I$15=\"si\"),F119-DATE(2013,1,1),0)","v":0},null,null,{"$f":"'front utente'!C135","v":"00:00:00"},{"$f":"'front utente'!D135","v":"00:00:00"},1,{"$f":"IF(MAX($F$11:F118)>=F119,0,F119-MAX($F$11:F118)-MIN(I119:U119)-B119-A119)","v":0},0,0,0,0,0,0,0,0,0,0,0,0]
[{"$f":"IF(AND(YEAR(E120)=2013,YEAR(F120)=2014,'front utente'!$I$15=\"si\" ),DATE(2013,12,31)-E120,0)","v":0},{"$f":"IF(AND(YEAR(E120)=2012,YEAR(F120)=2013,'front utente'!$I$15=\"si\"),F120-DATE(2013,1,1),0)","v":0},null,null,{"$f":"'front utente'!C136","v":"00:00:00"},{"$f":"'front utente'!D136","v":"00:00:00"},1,{"$f":"IF(MAX($F$11:F119)>=F120,0,F120-MAX($F$11:F119)-MIN(I120:U120)-B120-A120)","v":0},0,0,0,0,0,0,0,0,0,0,0,0]
[{"$f":"IF(AND(YEAR(E121)=2013,YEAR(F121)=2014,'front utente'!$I$15=\"si\" ),DATE(2013,12,31)-E121,0)","v":0},{"$f":"IF(AND(YEAR(E121)=2012,YEAR(F121)=2013,'front utente'!$I$15=\"si\"),F121-DATE(2013,1,1),0)","v":0},null,null,{"$f":"'front utente'!C137","v":"00:00:00"},{"$f":"'front utente'!D137","v":"00:00:00"},1,{"$f":"IF(MAX($F$11:F120)>=F121,0,F121-MAX($F$11:F120)-MIN(I121:U121)-B121-A121)","v":0},0,0,0,0,0,0,0,0,0,0,0,0]
[{"$f":"IF(AND(YEAR(E122)=2013,YEAR(F122)=2014,'front utente'!$I$15=\"si\" ),DATE(2013,12,31)-E122,0)","v":0},{"$f":"IF(AND(YEAR(E122)=2012,YEAR(F122)=2013,'front utente'!$I$15=\"si\"),F122-DATE(2013,1,1),0)","v":0},null,null,{"$f":"'front utente'!C138","v":"00:00:00"},{"$f":"'front utente'!D138","v":"00:00:00"},1,{"$f":"IF(MAX($F$11:F121)>=F122,0,F122-MAX($F$11:F121)-MIN(I122:U122)-B122-A122)","v":0},0,0,0,0,0,0,0,0,0,0,0,0]
[{"$f":"IF(AND(YEAR(E123)=2013,YEAR(F123)=2014,'front utente'!$I$15=\"si\" ),DATE(2013,12,31)-E123,0)","v":0},{"$f":"IF(AND(YEAR(E123)=2012,YEAR(F123)=2013,'front utente'!$I$15=\"si\"),F123-DATE(2013,1,1),0)","v":0},null,null,{"$f":"'front utente'!C139","v":"00:00:00"},{"$f":"'front utente'!D139","v":"00:00:00"},1,{"$f":"IF(MAX($F$11:F122)>=F123,0,F123-MAX($F$11:F122)-MIN(I123:U123)-B123-A123)","v":0},0,0,0,0,0,0,0,0,0,0,0,0]
[{"$f":"IF(AND(YEAR(E124)=2013,YEAR(F124)=2014,'front utente'!$I$15=\"si\" ),DATE(2013,12,31)-E124,0)","v":0},{"$f":"IF(AND(YEAR(E124)=2012,YEAR(F124)=2013,'front utente'!$I$15=\"si\"),F124-DATE(2013,1,1),0)","v":0},null,null,{"$f":"'front utente'!C140","v":"00:00:00"},{"$f":"'front utente'!D140","v":"00:00:00"},1,{"$f":"IF(MAX($F$11:F123)>=F124,0,F124-MAX($F$11:F123)-MIN(I124:U124)-B124-A124)","v":0},0,0,0,0,0,0,0,0,0,0,0,0]
[{"$f":"IF(AND(YEAR(E125)=2013,YEAR(F125)=2014,'front utente'!$I$15=\"si\" ),DATE(2013,12,31)-E125,0)","v":0},{"$f":"IF(AND(YEAR(E125)=2012,YEAR(F125)=2013,'front utente'!$I$15=\"si\"),F125-DATE(2013,1,1),0)","v":0},null,null,{"$f":"'front utente'!C141","v":"00:00:00"},{"$f":"'front utente'!D141","v":"00:00:00"},1,{"$f":"IF(MAX($F$11:F124)>=F125,0,F125-MAX($F$11:F124)-MIN(I125:U125)-B125-A125)","v":0},0,0,0,0,0,0,0,0,0,0,0,0]
[{"$f":"IF(AND(YEAR(E126)=2013,YEAR(F126)=2014,'front utente'!$I$15=\"si\" ),DATE(2013,12,31)-E126,0)","v":0},{"$f":"IF(AND(YEAR(E126)=2012,YEAR(F126)=2013,'front utente'!$I$15=\"si\"),F126-DATE(2013,1,1),0)","v":0},null,null,{"$f":"'front utente'!C142","v":"00:00:00"},{"$f":"'front utente'!D142","v":"00:00:00"},1,{"$f":"IF(MAX($F$11:F125)>=F126,0,F126-MAX($F$11:F125)-MIN(I126:U126)-B126-A126)","v":0},0,0,0,0,0,0,0,0,0,0,0,0]
[{"$f":"IF(AND(YEAR(E127)=2013,YEAR(F127)=2014,'front utente'!$I$15=\"si\" ),DATE(2013,12,31)-E127,0)","v":0},{"$f":"IF(AND(YEAR(E127)=2012,YEAR(F127)=2013,'front utente'!$I$15=\"si\"),F127-DATE(2013,1,1),0)","v":0},null,null,{"$f":"'front utente'!C143","v":"00:00:00"},{"$f":"'front utente'!D143","v":"00:00:00"},1,{"$f":"IF(MAX($F$11:F126)>=F127,0,F127-MAX($F$11:F126)-MIN(I127:U127)-B127-A127)","v":0},0,0,0,0,0,0,0,0,0,0,0,0]
[{"$f":"IF(AND(YEAR(E128)=2013,YEAR(F128)=2014,'front utente'!$I$15=\"si\" ),DATE(2013,12,31)-E128,0)","v":0},{"$f":"IF(AND(YEAR(E128)=2012,YEAR(F128)=2013,'front utente'!$I$15=\"si\"),F128-DATE(2013,1,1),0)","v":0},null,null,{"$f":"'front utente'!C144","v":"00:00:00"},{"$f":"'front utente'!D144","v":"00:00:00"},1,{"$f":"IF(MAX($F$11:F127)>=F128,0,F128-MAX($F$11:F127)-MIN(I128:U128)-B128-A128)","v":0},0,0,0,0,0,0,0,0,0,0,0,0]
[{"$f":"IF(AND(YEAR(E129)=2013,YEAR(F129)=2014,'front utente'!$I$15=\"si\" ),DATE(2013,12,31)-E129,0)","v":0},{"$f":"IF(AND(YEAR(E129)=2012,YEAR(F129)=2013,'front utente'!$I$15=\"si\"),F129-DATE(2013,1,1),0)","v":0},null,null,{"$f":"'front utente'!C145","v":"00:00:00"},{"$f":"'front utente'!D145","v":"00:00:00"},1,{"$f":"IF(MAX($F$11:F128)>=F129,0,F129-MAX($F$11:F128)-MIN(I129:U129)-B129-A129)","v":0},0,0,0,0,0,0,0,0,0,0,0,0]
[{"$f":"IF(AND(YEAR(E130)=2013,YEAR(F130)=2014,'front utente'!$I$15=\"si\" ),DATE(2013,12,31)-E130,0)","v":0},{"$f":"IF(AND(YEAR(E130)=2012,YEAR(F130)=2013,'front utente'!$I$15=\"si\"),F130-DATE(2013,1,1),0)","v":0},null,null,{"$f":"'front utente'!C146","v":"00:00:00"},{"$f":"'front utente'!D146","v":"00:00:00"},1,{"$f":"IF(MAX($F$11:F129)>=F130,0,F130-MAX($F$11:F129)-MIN(I130:U130)-B130-A130)","v":0},0,0,0,0,0,0,0,0,0,0,0,0]
[{"$f":"IF(AND(YEAR(E131)=2013,YEAR(F131)=2014,'front utente'!$I$15=\"si\" ),DATE(2013,12,31)-E131,0)","v":0},{"$f":"IF(AND(YEAR(E131)=2012,YEAR(F131)=2013,'front utente'!$I$15=\"si\"),F131-DATE(2013,1,1),0)","v":0},null,null,{"$f":"'front utente'!C147","v":"00:00:00"},{"$f":"'front utente'!D147","v":"00:00:00"},1,{"$f":"IF(MAX($F$11:F130)>=F131,0,F131-MAX($F$11:F130)-MIN(I131:U131)-B131-A131)","v":0},0,0,0,0,0,0,0,0,0,0,0,0]
[{"$f":"IF(AND(YEAR(E132)=2013,YEAR(F132)=2014,'front utente'!$I$15=\"si\" ),DATE(2013,12,31)-E132,0)","v":0},{"$f":"IF(AND(YEAR(E132)=2012,YEAR(F132)=2013,'front utente'!$I$15=\"si\"),F132-DATE(2013,1,1),0)","v":0},null,null,{"$f":"'front utente'!C148","v":"00:00:00"},{"$f":"'front utente'!D148","v":"00:00:00"},1,{"$f":"IF(MAX($F$11:F131)>=F132,0,F132-MAX($F$11:F131)-MIN(I132:U132)-B132-A132)","v":0},0,0,0,0,0,0,0,0,0,0,0,0]
[{"$f":"IF(AND(YEAR(E133)=2013,YEAR(F133)=2014,'front utente'!$I$15=\"si\" ),DATE(2013,12,31)-E133,0)","v":0},{"$f":"IF(AND(YEAR(E133)=2012,YEAR(F133)=2013,'front utente'!$I$15=\"si\"),F133-DATE(2013,1,1),0)","v":0},null,null,{"$f":"'front utente'!C149","v":"00:00:00"},{"$f":"'front utente'!D149","v":"00:00:00"},1,{"$f":"IF(MAX($F$11:F132)>=F133,0,F133-MAX($F$11:F132)-MIN(I133:U133)-B133-A133)","v":0},0,0,0,0,0,0,0,0,0,0,0,0]
[{"$f":"IF(AND(YEAR(E134)=2013,YEAR(F134)=2014,'front utente'!$I$15=\"si\" ),DATE(2013,12,31)-E134,0)","v":0},{"$f":"IF(AND(YEAR(E134)=2012,YEAR(F134)=2013,'front utente'!$I$15=\"si\"),F134-DATE(2013,1,1),0)","v":0},null,null,{"$f":"'front utente'!C150","v":"00:00:00"},{"$f":"'front utente'!D150","v":"00:00:00"},1,{"$f":"IF(MAX($F$11:F133)>=F134,0,F134-MAX($F$11:F133)-MIN(I134:U134)-B134-A134)","v":0},0,0,0,0,0,0,0,0,0,0,0,0]
[{"$f":"IF(AND(YEAR(E135)=2013,YEAR(F135)=2014,'front utente'!$I$15=\"si\" ),DATE(2013,12,31)-E135,0)","v":0},{"$f":"IF(AND(YEAR(E135)=2012,YEAR(F135)=2013,'front utente'!$I$15=\"si\"),F135-DATE(2013,1,1),0)","v":0},null,null,{"$f":"'front utente'!C151","v":"00:00:00"},{"$f":"'front utente'!D151","v":"00:00:00"},1,{"$f":"IF(MAX($F$11:F134)>=F135,0,F135-MAX($F$11:F134)-MIN(I135:U135)-B135-A135)","v":0},0,0,0,0,0,0,0,0,0,0,0,0]
[{"$f":"IF(AND(YEAR(E136)=2013,YEAR(F136)=2014,'front utente'!$I$15=\"si\" ),DATE(2013,12,31)-E136,0)","v":0},{"$f":"IF(AND(YEAR(E136)=2012,YEAR(F136)=2013,'front utente'!$I$15=\"si\"),F136-DATE(2013,1,1),0)","v":0},null,null,{"$f":"'front utente'!C152","v":"00:00:00"},{"$f":"'front utente'!D152","v":"00:00:00"},1,{"$f":"IF(MAX($F$11:F135)>=F136,0,F136-MAX($F$11:F135)-MIN(I136:U136)-B136-A136)","v":0},0,0,0,0,0,0,0,0,0,0,0,0]
[{"$f":"IF(AND(YEAR(E137)=2013,YEAR(F137)=2014,'front utente'!$I$15=\"si\" ),DATE(2013,12,31)-E137,0)","v":0},{"$f":"IF(AND(YEAR(E137)=2012,YEAR(F137)=2013,'front utente'!$I$15=\"si\"),F137-DATE(2013,1,1),0)","v":0},null,null,{"$f":"'front utente'!C153","v":"00:00:00"},{"$f":"'front utente'!D153","v":"00:00:00"},1,{"$f":"IF(MAX($F$11:F136)>=F137,0,F137-MAX($F$11:F136)-MIN(I137:U137)-B137-A137)","v":0},0,0,0,0,0,0,0,0,0,0,0,0]
[{"$f":"IF(AND(YEAR(E138)=2013,YEAR(F138)=2014,'front utente'!$I$15=\"si\" ),DATE(2013,12,31)-E138,0)","v":0},{"$f":"IF(AND(YEAR(E138)=2012,YEAR(F138)=2013,'front utente'!$I$15=\"si\"),F138-DATE(2013,1,1),0)","v":0},null,null,{"$f":"'front utente'!C154","v":"00:00:00"},{"$f":"'front utente'!D154","v":"00:00:00"},1,{"$f":"IF(MAX($F$11:F137)>=F138,0,F138-MAX($F$11:F137)-MIN(I138:U138)-B138-A138)","v":0},0,0,0,0,0,0,0,0,0,0,0,0]
[{"$f":"IF(AND(YEAR(E139)=2013,YEAR(F139)=2014,'front utente'!$I$15=\"si\" ),DATE(2013,12,31)-E139,0)","v":0},{"$f":"IF(AND(YEAR(E139)=2012,YEAR(F139)=2013,'front utente'!$I$15=\"si\"),F139-DATE(2013,1,1),0)","v":0},null,null,{"$f":"'front utente'!C155","v":"00:00:00"},{"$f":"'front utente'!D155","v":"00:00:00"},1,{"$f":"IF(MAX($F$11:F138)>=F139,0,F139-MAX($F$11:F138)-MIN(I139:U139)-B139-A139)","v":0},0,0,0,0,0,0,0,0,0,0,0,0]
[{"$f":"IF(AND(YEAR(E140)=2013,YEAR(F140)=2014,'front utente'!$I$15=\"si\" ),DATE(2013,12,31)-E140,0)","v":0},{"$f":"IF(AND(YEAR(E140)=2012,YEAR(F140)=2013,'front utente'!$I$15=\"si\"),F140-DATE(2013,1,1),0)","v":0},null,null,{"$f":"'front utente'!C156","v":"00:00:00"},{"$f":"'front utente'!D156","v":"00:00:00"},1,{"$f":"IF(MAX($F$11:F139)>=F140,0,F140-MAX($F$11:F139)-MIN(I140:U140)-B140-A140)","v":0},0,0,0,0,0,0,0,0,0,0,0,0]
[{"$f":"IF(AND(YEAR(E141)=2013,YEAR(F141)=2014,'front utente'!$I$15=\"si\" ),DATE(2013,12,31)-E141,0)","v":0},{"$f":"IF(AND(YEAR(E141)=2012,YEAR(F141)=2013,'front utente'!$I$15=\"si\"),F141-DATE(2013,1,1),0)","v":0},null,null,{"$f":"'front utente'!C157","v":"00:00:00"},{"$f":"'front utente'!D157","v":"00:00:00"},1,{"$f":"IF(MAX($F$11:F140)>=F141,0,F141-MAX($F$11:F140)-MIN(I141:U141)-B141-A141)","v":0},0,0,0,0,0,0,0,0,0,0,0,0]
[{"$f":"IF(AND(YEAR(E142)=2013,YEAR(F142)=2014,'front utente'!$I$15=\"si\" ),DATE(2013,12,31)-E142,0)","v":0},{"$f":"IF(AND(YEAR(E142)=2012,YEAR(F142)=2013,'front utente'!$I$15=\"si\"),F142-DATE(2013,1,1),0)","v":0},null,null,{"$f":"'front utente'!C158","v":"00:00:00"},{"$f":"'front utente'!D158","v":"00:00:00"},1,{"$f":"IF(MAX($F$11:F141)>=F142,0,F142-MAX($F$11:F141)-MIN(I142:U142)-B142-A142)","v":0},0,0,0,0,0,0,0,0,0,0,0,0]
[{"$f":"IF(AND(YEAR(E143)=2013,YEAR(F143)=2014,'front utente'!$I$15=\"si\" ),DATE(2013,12,31)-E143,0)","v":0},{"$f":"IF(AND(YEAR(E143)=2012,YEAR(F143)=2013,'front utente'!$I$15=\"si\"),F143-DATE(2013,1,1),0)","v":0},null,null,{"$f":"'front utente'!C159","v":"00:00:00"},{"$f":"'front utente'!D159","v":"00:00:00"},1,{"$f":"IF(MAX($F$11:F142)>=F143,0,F143-MAX($F$11:F142)-MIN(I143:U143)-B143-A143)","v":0},0,0,0,0,0,0,0,0,0,0,0,0]
[{"$f":"IF(AND(YEAR(E144)=2013,YEAR(F144)=2014,'front utente'!$I$15=\"si\" ),DATE(2013,12,31)-E144,0)","v":0},{"$f":"IF(AND(YEAR(E144)=2012,YEAR(F144)=2013,'front utente'!$I$15=\"si\"),F144-DATE(2013,1,1),0)","v":0},null,null,{"$f":"'front utente'!C160","v":"00:00:00"},{"$f":"'front utente'!D160","v":"00:00:00"},1,{"$f":"IF(MAX($F$11:F143)>=F144,0,F144-MAX($F$11:F143)-MIN(I144:U144)-B144-A144)","v":0},0,0,0,0,0,0,0,0,0,0,0,0]
[{"$f":"IF(AND(YEAR(E145)=2013,YEAR(F145)=2014,'front utente'!$I$15=\"si\" ),DATE(2013,12,31)-E145,0)","v":0},{"$f":"IF(AND(YEAR(E145)=2012,YEAR(F145)=2013,'front utente'!$I$15=\"si\"),F145-DATE(2013,1,1),0)","v":0},null,null,{"$f":"'front utente'!C161","v":"00:00:00"},{"$f":"'front utente'!D161","v":"00:00:00"},1,{"$f":"IF(MAX($F$11:F144)>=F145,0,F145-MAX($F$11:F144)-MIN(I145:U145)-B145-A145)","v":0},0,0,0,0,0,0,0,0,0,0,0,0]
[{"$f":"IF(AND(YEAR(E146)=2013,YEAR(F146)=2014,'front utente'!$I$15=\"si\" ),DATE(2013,12,31)-E146,0)","v":0},{"$f":"IF(AND(YEAR(E146)=2012,YEAR(F146)=2013,'front utente'!$I$15=\"si\"),F146-DATE(2013,1,1),0)","v":0},null,null,{"$f":"'front utente'!C162","v":"00:00:00"},{"$f":"'front utente'!D162","v":"00:00:00"},1,{"$f":"IF(MAX($F$11:F145)>=F146,0,F146-MAX($F$11:F145)-MIN(I146:U146)-B146-A146)","v":0},0,0,0,0,0,0,0,0,0,0,0,0]
[{"$f":"IF(AND(YEAR(E147)=2013,YEAR(F147)=2014,'front utente'!$I$15=\"si\" ),DATE(2013,12,31)-E147,0)","v":0},{"$f":"IF(AND(YEAR(E147)=2012,YEAR(F147)=2013,'front utente'!$I$15=\"si\"),F147-DATE(2013,1,1),0)","v":0},null,null,{"$f":"'front utente'!C163","v":"00:00:00"},{"$f":"'front utente'!D163","v":"00:00:00"},1,{"$f":"IF(MAX($F$11:F146)>=F147,0,F147-MAX($F$11:F146)-MIN(I147:U147)-B147-A147)","v":0},0,0,0,0,0,0,0,0,0,0,0,0]
[{"$f":"IF(AND(YEAR(E148)=2013,YEAR(F148)=2014,'front utente'!$I$15=\"si\" ),DATE(2013,12,31)-E148,0)","v":0},{"$f":"IF(AND(YEAR(E148)=2012,YEAR(F148)=2013,'front utente'!$I$15=\"si\"),F148-DATE(2013,1,1),0)","v":0},null,null,{"$f":"'front utente'!C164","v":"00:00:00"},{"$f":"'front utente'!D164","v":"00:00:00"},1,{"$f":"IF(MAX($F$11:F147)>=F148,0,F148-MAX($F$11:F147)-MIN(I148:U148)-B148-A148)","v":0},0,0,0,0,0,0,0,0,0,0,0,0]
[{"$f":"IF(AND(YEAR(E149)=2013,YEAR(F149)=2014,'front utente'!$I$15=\"si\" ),DATE(2013,12,31)-E149,0)","v":0},{"$f":"IF(AND(YEAR(E149)=2012,YEAR(F149)=2013,'front utente'!$I$15=\"si\"),F149-DATE(2013,1,1),0)","v":0},null,null,{"$f":"'front utente'!C165","v":"00:00:00"},{"$f":"'front utente'!D165","v":"00:00:00"},1,{"$f":"IF(MAX($F$11:F148)>=F149,0,F149-MAX($F$11:F148)-MIN(I149:U149)-B149-A149)","v":0},0,0,0,0,0,0,0,0,0,0,0,0]
[{"$f":"IF(AND(YEAR(E150)=2013,YEAR(F150)=2014,'front utente'!$I$15=\"si\" ),DATE(2013,12,31)-E150,0)","v":0},{"$f":"IF(AND(YEAR(E150)=2012,YEAR(F150)=2013,'front utente'!$I$15=\"si\"),F150-DATE(2013,1,1),0)","v":0},null,null,{"$f":"'front utente'!C166","v":"00:00:00"},{"$f":"'front utente'!D166","v":"00:00:00"},1,{"$f":"IF(MAX($F$11:F149)>=F150,0,F150-MAX($F$11:F149)-MIN(I150:U150)-B150-A150)","v":0},0,0,0,0,0,0,0,0,0,0,0,0]
[{"$f":"IF(AND(YEAR(E151)=2013,YEAR(F151)=2014,'front utente'!$I$15=\"si\" ),DATE(2013,12,31)-E151,0)","v":0},{"$f":"IF(AND(YEAR(E151)=2012,YEAR(F151)=2013,'front utente'!$I$15=\"si\"),F151-DATE(2013,1,1),0)","v":0},null,null,{"$f":"'front utente'!C167","v":"00:00:00"},{"$f":"'front utente'!D167","v":"00:00:00"},1,{"$f":"IF(MAX($F$11:F150)>=F151,0,F151-MAX($F$11:F150)-MIN(I151:U151)-B151-A151)","v":0},0,0,0,0,0,0,0,0,0,0,0,0]
[{"$f":"IF(AND(YEAR(E152)=2013,YEAR(F152)=2014,'front utente'!$I$15=\"si\" ),DATE(2013,12,31)-E152,0)","v":0},{"$f":"IF(AND(YEAR(E152)=2012,YEAR(F152)=2013,'front utente'!$I$15=\"si\"),F152-DATE(2013,1,1),0)","v":0},null,null,{"$f":"'front utente'!C168","v":"00:00:00"},{"$f":"'front utente'!D168","v":"00:00:00"},1,{"$f":"IF(MAX($F$11:F151)>=F152,0,F152-MAX($F$11:F151)-MIN(I152:U152)-B152-A152)","v":0},0,0,0,0,0,0,0,0,0,0,0,0]
[{"$f":"IF(AND(YEAR(E153)=2013,YEAR(F153)=2014,'front utente'!$I$15=\"si\" ),DATE(2013,12,31)-E153,0)","v":0},{"$f":"IF(AND(YEAR(E153)=2012,YEAR(F153)=2013,'front utente'!$I$15=\"si\"),F153-DATE(2013,1,1),0)","v":0},null,null,{"$f":"'front utente'!C169","v":"00:00:00"},{"$f":"'front utente'!D169","v":"00:00:00"},1,{"$f":"IF(MAX($F$11:F152)>=F153,0,F153-MAX($F$11:F152)-MIN(I153:U153)-B153-A153)","v":0},0,0,0,0,0,0,0,0,0,0,0,0]
[{"$f":"IF(AND(YEAR(E154)=2013,YEAR(F154)=2014,'front utente'!$I$15=\"si\" ),DATE(2013,12,31)-E154,0)","v":0},{"$f":"IF(AND(YEAR(E154)=2012,YEAR(F154)=2013,'front utente'!$I$15=\"si\"),F154-DATE(2013,1,1),0)","v":0},null,null,{"$f":"'front utente'!C170","v":"00:00:00"},{"$f":"'front utente'!D170","v":"00:00:00"},1,{"$f":"IF(MAX($F$11:F153)>=F154,0,F154-MAX($F$11:F153)-MIN(I154:U154)-B154-A154)","v":0},0,0,0,0,0,0,0,0,0,0,0,0]
[{"$f":"IF(AND(YEAR(E155)=2013,YEAR(F155)=2014,'front utente'!$I$15=\"si\" ),DATE(2013,12,31)-E155,0)","v":0},{"$f":"IF(AND(YEAR(E155)=2012,YEAR(F155)=2013,'front utente'!$I$15=\"si\"),F155-DATE(2013,1,1),0)","v":0},null,null,{"$f":"'front utente'!C171","v":"00:00:00"},{"$f":"'front utente'!D171","v":"00:00:00"},1,{"$f":"IF(MAX($F$11:F154)>=F155,0,F155-MAX($F$11:F154)-MIN(I155:U155)-B155-A155)","v":0},0,0,0,0,0,0,0,0,0,0,0,0]
[{"$f":"IF(AND(YEAR(E156)=2013,YEAR(F156)=2014,'front utente'!$I$15=\"si\" ),DATE(2013,12,31)-E156,0)","v":0},{"$f":"IF(AND(YEAR(E156)=2012,YEAR(F156)=2013,'front utente'!$I$15=\"si\"),F156-DATE(2013,1,1),0)","v":0},null,null,{"$f":"'front utente'!C172","v":"00:00:00"},{"$f":"'front utente'!D172","v":"00:00:00"},1,{"$f":"IF(MAX($F$11:F155)>=F156,0,F156-MAX($F$11:F155)-MIN(I156:U156)-B156-A156)","v":0},0,0,0,0,0,0,0,0,0,0,0,0]
[{"$f":"IF(AND(YEAR(E157)=2013,YEAR(F157)=2014,'front utente'!$I$15=\"si\" ),DATE(2013,12,31)-E157,0)","v":0},{"$f":"IF(AND(YEAR(E157)=2012,YEAR(F157)=2013,'front utente'!$I$15=\"si\"),F157-DATE(2013,1,1),0)","v":0},null,null,{"$f":"'front utente'!C173","v":"00:00:00"},{"$f":"'front utente'!D173","v":"00:00:00"},1,{"$f":"IF(MAX($F$11:F156)>=F157,0,F157-MAX($F$11:F156)-MIN(I157:U157)-B157-A157)","v":0},0,0,0,0,0,0,0,0,0,0,0,0]
[{"$f":"IF(AND(YEAR(E158)=2013,YEAR(F158)=2014,'front utente'!$I$15=\"si\" ),DATE(2013,12,31)-E158,0)","v":0},{"$f":"IF(AND(YEAR(E158)=2012,YEAR(F158)=2013,'front utente'!$I$15=\"si\"),F158-DATE(2013,1,1),0)","v":0},null,null,{"$f":"'front utente'!C174","v":"00:00:00"},{"$f":"'front utente'!D174","v":"00:00:00"},1,{"$f":"IF(MAX($F$11:F157)>=F158,0,F158-MAX($F$11:F157)-MIN(I158:U158)-B158-A158)","v":0},0,0,0,0,0,0,0,0,0,0,0,0]
[{"$f":"IF(AND(YEAR(E159)=2013,YEAR(F159)=2014,'front utente'!$I$15=\"si\" ),DATE(2013,12,31)-E159,0)","v":0},{"$f":"IF(AND(YEAR(E159)=2012,YEAR(F159)=2013,'front utente'!$I$15=\"si\"),F159-DATE(2013,1,1),0)","v":0},null,null,{"$f":"'front utente'!C175","v":"00:00:00"},{"$f":"'front utente'!D175","v":"00:00:00"},1,{"$f":"IF(MAX($F$11:F158)>=F159,0,F159-MAX($F$11:F158)-MIN(I159:U159)-B159-A159)","v":0},0,0,0,0,0,0,0,0,0,0,0,0]
[{"$f":"IF(AND(YEAR(E160)=2013,YEAR(F160)=2014,'front utente'!$I$15=\"si\" ),DATE(2013,12,31)-E160,0)","v":0},{"$f":"IF(AND(YEAR(E160)=2012,YEAR(F160)=2013,'front utente'!$I$15=\"si\"),F160-DATE(2013,1,1),0)","v":0},null,null,{"$f":"'front utente'!C176","v":"00:00:00"},{"$f":"'front utente'!D176","v":"00:00:00"},1,{"$f":"IF(MAX($F$11:F159)>=F160,0,F160-MAX($F$11:F159)-MIN(I160:U160)-B160-A160)","v":0},0,0,0,0,0,0,0,0,0,0,0,0]
[{"$f":"IF(AND(YEAR(E161)=2013,YEAR(F161)=2014,'front utente'!$I$15=\"si\" ),DATE(2013,12,31)-E161,0)","v":0},{"$f":"IF(AND(YEAR(E161)=2012,YEAR(F161)=2013,'front utente'!$I$15=\"si\"),F161-DATE(2013,1,1),0)","v":0},null,null,{"$f":"'front utente'!C177","v":"00:00:00"},{"$f":"'front utente'!D177","v":"00:00:00"},1,{"$f":"IF(MAX($F$11:F160)>=F161,0,F161-MAX($F$11:F160)-MIN(I161:U161)-B161-A161)","v":0},0,0,0,0,0,0,0,0,0,0,0,0]
[{"$f":"IF(AND(YEAR(E162)=2013,YEAR(F162)=2014,'front utente'!$I$15=\"si\" ),DATE(2013,12,31)-E162,0)","v":0},{"$f":"IF(AND(YEAR(E162)=2012,YEAR(F162)=2013,'front utente'!$I$15=\"si\"),F162-DATE(2013,1,1),0)","v":0},null,null,{"$f":"'front utente'!C178","v":"00:00:00"},{"$f":"'front utente'!D178","v":"00:00:00"},1,{"$f":"IF(MAX($F$11:F161)>=F162,0,F162-MAX($F$11:F161)-MIN(I162:U162)-B162-A162)","v":0},0,0,0,0,0,0,0,0,0,0,0,0]
[{"$f":"IF(AND(YEAR(E163)=2013,YEAR(F163)=2014,'front utente'!$I$15=\"si\" ),DATE(2013,12,31)-E163,0)","v":0},{"$f":"IF(AND(YEAR(E163)=2012,YEAR(F163)=2013,'front utente'!$I$15=\"si\"),F163-DATE(2013,1,1),0)","v":0},null,null,{"$f":"'front utente'!C179","v":"00:00:00"},{"$f":"'front utente'!D179","v":"00:00:00"},1,{"$f":"IF(MAX($F$11:F162)>=F163,0,F163-MAX($F$11:F162)-MIN(I163:U163)-B163-A163)","v":0},0,0,0,0,0,0,0,0,0,0,0,0]
[{"$f":"IF(AND(YEAR(E164)=2013,YEAR(F164)=2014,'front utente'!$I$15=\"si\" ),DATE(2013,12,31)-E164,0)","v":0},{"$f":"IF(AND(YEAR(E164)=2012,YEAR(F164)=2013,'front utente'!$I$15=\"si\"),F164-DATE(2013,1,1),0)","v":0},null,null,{"$f":"'front utente'!C180","v":"00:00:00"},{"$f":"'front utente'!D180","v":"00:00:00"},1,{"$f":"IF(MAX($F$11:F163)>=F164,0,F164-MAX($F$11:F163)-MIN(I164:U164)-B164-A164)","v":0},0,0,0,0,0,0,0,0,0,0,0,0]
[{"$f":"IF(AND(YEAR(E165)=2013,YEAR(F165)=2014,'front utente'!$I$15=\"si\" ),DATE(2013,12,31)-E165,0)","v":0},{"$f":"IF(AND(YEAR(E165)=2012,YEAR(F165)=2013,'front utente'!$I$15=\"si\"),F165-DATE(2013,1,1),0)","v":0},null,null,{"$f":"'front utente'!C181","v":"00:00:00"},{"$f":"'front utente'!D181","v":"00:00:00"},1,{"$f":"IF(MAX($F$11:F164)>=F165,0,F165-MAX($F$11:F164)-MIN(I165:U165)-B165-A165)","v":0},0,0,0,0,0,0,0,0,0,0,0,0]
[{"$f":"IF(AND(YEAR(E166)=2013,YEAR(F166)=2014,'front utente'!$I$15=\"si\" ),DATE(2013,12,31)-E166,0)","v":0},{"$f":"IF(AND(YEAR(E166)=2012,YEAR(F166)=2013,'front utente'!$I$15=\"si\"),F166-DATE(2013,1,1),0)","v":0},null,null,{"$f":"'front utente'!C182","v":"00:00:00"},{"$f":"'front utente'!D182","v":"00:00:00"},1,{"$f":"IF(MAX($F$11:F165)>=F166,0,F166-MAX($F$11:F165)-MIN(I166:U166)-B166-A166)","v":0},0,0,0,0,0,0,0,0,0,0,0,0]
[{"$f":"IF(AND(YEAR(E167)=2013,YEAR(F167)=2014,'front utente'!$I$15=\"si\" ),DATE(2013,12,31)-E167,0)","v":0},{"$f":"IF(AND(YEAR(E167)=2012,YEAR(F167)=2013,'front utente'!$I$15=\"si\"),F167-DATE(2013,1,1),0)","v":0},null,null,{"$f":"'front utente'!C183","v":"00:00:00"},{"$f":"'front utente'!D183","v":"00:00:00"},1,{"$f":"IF(MAX($F$11:F166)>=F167,0,F167-MAX($F$11:F166)-MIN(I167:U167)-B167-A167)","v":0},0,0,0,0,0,0,0,0,0,0,0,0]
[{"$f":"IF(AND(YEAR(E168)=2013,YEAR(F168)=2014,'front utente'!$I$15=\"si\" ),DATE(2013,12,31)-E168,0)","v":0},{"$f":"IF(AND(YEAR(E168)=2012,YEAR(F168)=2013,'front utente'!$I$15=\"si\"),F168-DATE(2013,1,1),0)","v":0},null,null,{"$f":"'front utente'!C184","v":"00:00:00"},{"$f":"'front utente'!D184","v":"00:00:00"},1,{"$f":"IF(MAX($F$11:F167)>=F168,0,F168-MAX($F$11:F167)-MIN(I168:U168)-B168-A168)","v":0},0,0,0,0,0,0,0,0,0,0,0,0]
[{"$f":"IF(AND(YEAR(E169)=2013,YEAR(F169)=2014,'front utente'!$I$15=\"si\" ),DATE(2013,12,31)-E169,0)","v":0},{"$f":"IF(AND(YEAR(E169)=2012,YEAR(F169)=2013,'front utente'!$I$15=\"si\"),F169-DATE(2013,1,1),0)","v":0},null,null,{"$f":"'front utente'!C185","v":"00:00:00"},{"$f":"'front utente'!D185","v":"00:00:00"},1,{"$f":"IF(MAX($F$11:F168)>=F169,0,F169-MAX($F$11:F168)-MIN(I169:U169)-B169-A169)","v":0},0,0,0,0,0,0,0,0,0,0,0,0]
[{"$f":"IF(AND(YEAR(E170)=2013,YEAR(F170)=2014,'front utente'!$I$15=\"si\" ),DATE(2013,12,31)-E170,0)","v":0},{"$f":"IF(AND(YEAR(E170)=2012,YEAR(F170)=2013,'front utente'!$I$15=\"si\"),F170-DATE(2013,1,1),0)","v":0},null,null,{"$f":"'front utente'!C186","v":"00:00:00"},{"$f":"'front utente'!D186","v":"00:00:00"},1,{"$f":"IF(MAX($F$11:F169)>=F170,0,F170-MAX($F$11:F169)-MIN(I170:U170)-B170-A170)","v":0},0,0,0,0,0,0,0,0,0,0,0,0]
[{"$f":"IF(AND(YEAR(E171)=2013,YEAR(F171)=2014,'front utente'!$I$15=\"si\" ),DATE(2013,12,31)-E171,0)","v":0},{"$f":"IF(AND(YEAR(E171)=2012,YEAR(F171)=2013,'front utente'!$I$15=\"si\"),F171-DATE(2013,1,1),0)","v":0},null,null,{"$f":"'front utente'!C187","v":"00:00:00"},{"$f":"'front utente'!D187","v":"00:00:00"},1,{"$f":"IF(MAX($F$11:F170)>=F171,0,F171-MAX($F$11:F170)-MIN(I171:U171)-B171-A171)","v":0},0,0,0,0,0,0,0,0,0,0,0,0]
[{"$f":"IF(AND(YEAR(E172)=2013,YEAR(F172)=2014,'front utente'!$I$15=\"si\" ),DATE(2013,12,31)-E172,0)","v":0},{"$f":"IF(AND(YEAR(E172)=2012,YEAR(F172)=2013,'front utente'!$I$15=\"si\"),F172-DATE(2013,1,1),0)","v":0},null,null,{"$f":"'front utente'!C188","v":"00:00:00"},{"$f":"'front utente'!D188","v":"00:00:00"},1,{"$f":"IF(MAX($F$11:F171)>=F172,0,F172-MAX($F$11:F171)-MIN(I172:U172)-B172-A172)","v":0},0,0,0,0,0,0,0,0,0,0,0,0]
[{"$f":"IF(AND(YEAR(E173)=2013,YEAR(F173)=2014,'front utente'!$I$15=\"si\" ),DATE(2013,12,31)-E173,0)","v":0},{"$f":"IF(AND(YEAR(E173)=2012,YEAR(F173)=2013,'front utente'!$I$15=\"si\"),F173-DATE(2013,1,1),0)","v":0},null,null,{"$f":"'front utente'!C189","v":"00:00:00"},{"$f":"'front utente'!D189","v":"00:00:00"},1,{"$f":"IF(MAX($F$11:F172)>=F173,0,F173-MAX($F$11:F172)-MIN(I173:U173)-B173-A173)","v":0},0,0,0,0,0,0,0,0,0,0,0,0]
[{"$f":"IF(AND(YEAR(E174)=2013,YEAR(F174)=2014,'front utente'!$I$15=\"si\" ),DATE(2013,12,31)-E174,0)","v":0},{"$f":"IF(AND(YEAR(E174)=2012,YEAR(F174)=2013,'front utente'!$I$15=\"si\"),F174-DATE(2013,1,1),0)","v":0},null,null,{"$f":"'front utente'!C190","v":"00:00:00"},{"$f":"'front utente'!D190","v":"00:00:00"},1,{"$f":"IF(MAX($F$11:F173)>=F174,0,F174-MAX($F$11:F173)-MIN(I174:U174)-B174-A174)","v":0},0,0,0,0,0,0,0,0,0,0,0,0]
[{"$f":"IF(AND(YEAR(E175)=2013,YEAR(F175)=2014,'front utente'!$I$15=\"si\" ),DATE(2013,12,31)-E175,0)","v":0},{"$f":"IF(AND(YEAR(E175)=2012,YEAR(F175)=2013,'front utente'!$I$15=\"si\"),F175-DATE(2013,1,1),0)","v":0},null,null,{"$f":"'front utente'!C191","v":"00:00:00"},{"$f":"'front utente'!D191","v":"00:00:00"},1,{"$f":"IF(MAX($F$11:F174)>=F175,0,F175-MAX($F$11:F174)-MIN(I175:U175)-B175-A175)","v":0},0,0,0,0,0,0,0,0,0,0,0,0]
[{"$f":"IF(AND(YEAR(E176)=2013,YEAR(F176)=2014,'front utente'!$I$15=\"si\" ),DATE(2013,12,31)-E176,0)","v":0},{"$f":"IF(AND(YEAR(E176)=2012,YEAR(F176)=2013,'front utente'!$I$15=\"si\"),F176-DATE(2013,1,1),0)","v":0},null,null,{"$f":"'front utente'!C192","v":"00:00:00"},{"$f":"'front utente'!D192","v":"00:00:00"},1,{"$f":"IF(MAX($F$11:F175)>=F176,0,F176-MAX($F$11:F175)-MIN(I176:U176)-B176-A176)","v":0},0,0,0,0,0,0,0,0,0,0,0,0]
[{"$f":"IF(AND(YEAR(E177)=2013,YEAR(F177)=2014,'front utente'!$I$15=\"si\" ),DATE(2013,12,31)-E177,0)","v":0},{"$f":"IF(AND(YEAR(E177)=2012,YEAR(F177)=2013,'front utente'!$I$15=\"si\"),F177-DATE(2013,1,1),0)","v":0},null,null,{"$f":"'front utente'!C193","v":"00:00:00"},{"$f":"'front utente'!D193","v":"00:00:00"},1,{"$f":"IF(MAX($F$11:F176)>=F177,0,F177-MAX($F$11:F176)-MIN(I177:U177)-B177-A177)","v":0},0,0,0,0,0,0,0,0,0,0,0,0]
[{"$f":"IF(AND(YEAR(E178)=2013,YEAR(F178)=2014,'front utente'!$I$15=\"si\" ),DATE(2013,12,31)-E178,0)","v":0},{"$f":"IF(AND(YEAR(E178)=2012,YEAR(F178)=2013,'front utente'!$I$15=\"si\"),F178-DATE(2013,1,1),0)","v":0},null,null,{"$f":"'front utente'!C194","v":"00:00:00"},{"$f":"'front utente'!D194","v":"00:00:00"},{"$f":"F178-E178+1","v":1},{"$f":"IF(MAX($F$11:F177)>=F178,0,F178-MAX($F$11:F177)-MIN(I178:U178)-B178-A178)","v":0},{"$f":"IF(E178<=F177,0,E178-F177-1)","v":0},{"$f":"IF(E178<=F176,0,E178-F176-1)","v":0},{"$f":"IF(E178<=F175,0,E178-F175-1)","v":0},{"$f":"IF(E178<=F174,0,E178-F174-1)","v":0},{"$f":"IF(E178<=F173,0,E178-F173-1)","v":0},{"$f":"IF(E178<=F172,0,E178-F172-1)","v":0},{"$f":"IF(E178<=F171,0,E178-F171-1)","v":0},{"$f":"IF(E178<=F170,0,E178-F170-1)","v":0},{"$f":"IF(E178<=F169,0,E178-F169-1)","v":0},{"$f":"IF(E178<=F168,0,E178-F168-1)","v":0},{"$f":"IF(E178<=F167,0,E178-F167-1)","v":0},{"$f":"IF(E178<=F166,0,E178-F166-1)","v":0}]
[{"$f":"IF(AND(YEAR(E179)=2013,YEAR(F179)=2014,'front utente'!$I$15=\"si\" ),DATE(2013,12,31)-E179,0)","v":0},{"$f":"IF(AND(YEAR(E179)=2012,YEAR(F179)=2013,'front utente'!$I$15=\"si\"),F179-DATE(2013,1,1),0)","v":0},null,null,{"$f":"'front utente'!C195","v":"00:00:00"},{"$f":"'front utente'!D195","v":"00:00:00"},1,{"$f":"IF(MAX($F$11:F178)>=F179,0,F179-MAX($F$11:F178)-MIN(I179:U179)-B179-A179)","v":0},0,0,0,0,0,0,0,0,0,0,0,0]
[{"$f":"IF(AND(YEAR(E180)=2013,YEAR(F180)=2014,'front utente'!$I$15=\"si\" ),DATE(2013,12,31)-E180,0)","v":0},{"$f":"IF(AND(YEAR(E180)=2012,YEAR(F180)=2013,'front utente'!$I$15=\"si\"),F180-DATE(2013,1,1),0)","v":0},null,null,{"$f":"'front utente'!C196","v":"00:00:00"},{"$f":"'front utente'!D196","v":"00:00:00"},1,{"$f":"IF(MAX($F$11:F179)>=F180,0,F180-MAX($F$11:F179)-MIN(I180:U180)-B180-A180)","v":0},0,0,0,0,0,0,0,0,0,0,0,0]
[{"$f":"IF(AND(YEAR(E181)=2013,YEAR(F181)=2014,'front utente'!$I$15=\"si\" ),DATE(2013,12,31)-E181,0)","v":0},{"$f":"IF(AND(YEAR(E181)=2012,YEAR(F181)=2013,'front utente'!$I$15=\"si\"),F181-DATE(2013,1,1),0)","v":0},null,null,{"$f":"'front utente'!C197","v":"00:00:00"},{"$f":"'front utente'!D197","v":"00:00:00"},1,{"$f":"IF(MAX($F$11:F180)>=F181,0,F181-MAX($F$11:F180)-MIN(I181:U181)-B181-A181)","v":0},0,0,0,0,0,0,0,0,0,0,0,0]
[{"$f":"IF(AND(YEAR(E182)=2013,YEAR(F182)=2014,'front utente'!$I$15=\"si\" ),DATE(2013,12,31)-E182,0)","v":0},{"$f":"IF(AND(YEAR(E182)=2012,YEAR(F182)=2013,'front utente'!$I$15=\"si\"),F182-DATE(2013,1,1),0)","v":0},null,null,{"$f":"'front utente'!C198","v":"00:00:00"},{"$f":"'front utente'!D198","v":"00:00:00"},1,{"$f":"IF(MAX($F$11:F181)>=F182,0,F182-MAX($F$11:F181)-MIN(I182:U182)-B182-A182)","v":0},0,0,0,0,0,0,0,0,0,0,0,0]
[{"$f":"IF(AND(YEAR(E183)=2013,YEAR(F183)=2014,'front utente'!$I$15=\"si\" ),DATE(2013,12,31)-E183,0)","v":0},{"$f":"IF(AND(YEAR(E183)=2012,YEAR(F183)=2013,'front utente'!$I$15=\"si\"),F183-DATE(2013,1,1),0)","v":0},null,null,{"$f":"'front utente'!C199","v":"00:00:00"},{"$f":"'front utente'!D199","v":"00:00:00"},1,{"$f":"IF(MAX($F$11:F182)>=F183,0,F183-MAX($F$11:F182)-MIN(I183:U183)-B183-A183)","v":0},0,0,0,0,0,0,0,0,0,0,0,0]
[{"$f":"IF(AND(YEAR(E184)=2013,YEAR(F184)=2014,'front utente'!$I$15=\"si\" ),DATE(2013,12,31)-E184,0)","v":0},{"$f":"IF(AND(YEAR(E184)=2012,YEAR(F184)=2013,'front utente'!$I$15=\"si\"),F184-DATE(2013,1,1),0)","v":0},null,null,{"$f":"'front utente'!C200","v":"00:00:00"},{"$f":"'front utente'!D200","v":"00:00:00"},1,{"$f":"IF(MAX($F$11:F183)>=F184,0,F184-MAX($F$11:F183)-MIN(I184:U184)-B184-A184)","v":0},0,0,0,0,0,0,0,0,0,0,0,0]
[{"$f":"IF(AND(YEAR(E185)=2013,YEAR(F185)=2014,'front utente'!$I$15=\"si\" ),DATE(2013,12,31)-E185,0)","v":0},{"$f":"IF(AND(YEAR(E185)=2012,YEAR(F185)=2013,'front utente'!$I$15=\"si\"),F185-DATE(2013,1,1),0)","v":0},null,null,{"$f":"'front utente'!C201","v":"00:00:00"},{"$f":"'front utente'!D201","v":"00:00:00"},1,{"$f":"IF(MAX($F$11:F184)>=F185,0,F185-MAX($F$11:F184)-MIN(I185:U185)-B185-A185)","v":0},0,0,0,0,0,0,0,0,0,0,0,0]
[{"$f":"IF(AND(YEAR(E186)=2013,YEAR(F186)=2014,'front utente'!$I$15=\"si\" ),DATE(2013,12,31)-E186,0)","v":0},{"$f":"IF(AND(YEAR(E186)=2012,YEAR(F186)=2013,'front utente'!$I$15=\"si\"),F186-DATE(2013,1,1),0)","v":0},null,null,{"$f":"'front utente'!C202","v":"00:00:00"},{"$f":"'front utente'!D202","v":"00:00:00"},1,{"$f":"IF(MAX($F$11:F185)>=F186,0,F186-MAX($F$11:F185)-MIN(I186:U186)-B186-A186)","v":0},0,0,0,0,0,0,0,0,0,0,0,0]
[{"$f":"IF(AND(YEAR(E187)=2013,YEAR(F187)=2014,'front utente'!$I$15=\"si\" ),DATE(2013,12,31)-E187,0)","v":0},{"$f":"IF(AND(YEAR(E187)=2012,YEAR(F187)=2013,'front utente'!$I$15=\"si\"),F187-DATE(2013,1,1),0)","v":0},null,null,{"$f":"'front utente'!C203","v":"00:00:00"},{"$f":"'front utente'!D203","v":"00:00:00"},1,{"$f":"IF(MAX($F$11:F186)>=F187,0,F187-MAX($F$11:F186)-MIN(I187:U187)-B187-A187)","v":0},0,0,0,0,0,0,0,0,0,0,0,0]
[{"$f":"IF(AND(YEAR(E188)=2013,YEAR(F188)=2014,'front utente'!$I$15=\"si\" ),DATE(2013,12,31)-E188,0)","v":0},{"$f":"IF(AND(YEAR(E188)=2012,YEAR(F188)=2013,'front utente'!$I$15=\"si\"),F188-DATE(2013,1,1),0)","v":0},null,null,{"$f":"'front utente'!C204","v":"00:00:00"},{"$f":"'front utente'!D204","v":"00:00:00"},1,{"$f":"IF(MAX($F$11:F187)>=F188,0,F188-MAX($F$11:F187)-MIN(I188:U188)-B188-A188)","v":0},0,0,0,0,0,0,0,0,0,0,0,0]
[{"$f":"IF(AND(YEAR(E189)=2013,YEAR(F189)=2014,'front utente'!$I$15=\"si\" ),DATE(2013,12,31)-E189,0)","v":0},{"$f":"IF(AND(YEAR(E189)=2012,YEAR(F189)=2013,'front utente'!$I$15=\"si\"),F189-DATE(2013,1,1),0)","v":0},null,null,{"$f":"'front utente'!C205","v":"00:00:00"},{"$f":"'front utente'!D205","v":"00:00:00"},1,{"$f":"IF(MAX($F$11:F188)>=F189,0,F189-MAX($F$11:F188)-MIN(I189:U189)-B189-A189)","v":0},0,0,0,0,0,0,0,0,0,0,0,0]
[{"$f":"IF(AND(YEAR(E190)=2013,YEAR(F190)=2014,'front utente'!$I$15=\"si\" ),DATE(2013,12,31)-E190,0)","v":0},{"$f":"IF(AND(YEAR(E190)=2012,YEAR(F190)=2013,'front utente'!$I$15=\"si\"),F190-DATE(2013,1,1),0)","v":0},null,null,{"$f":"'front utente'!C206","v":"00:00:00"},{"$f":"'front utente'!D206","v":"00:00:00"},1,{"$f":"IF(MAX($F$11:F189)>=F190,0,F190-MAX($F$11:F189)-MIN(I190:U190)-B190-A190)","v":0},0,0,0,0,0,0,0,0,0,0,0,0]
[{"$f":"IF(AND(YEAR(E191)=2013,YEAR(F191)=2014,'front utente'!$I$15=\"si\" ),DATE(2013,12,31)-E191,0)","v":0},{"$f":"IF(AND(YEAR(E191)=2012,YEAR(F191)=2013,'front utente'!$I$15=\"si\"),F191-DATE(2013,1,1),0)","v":0},null,null,{"$f":"'front utente'!C207","v":"00:00:00"},{"$f":"'front utente'!D207","v":"00:00:00"},1,{"$f":"IF(MAX($F$11:F190)>=F191,0,F191-MAX($F$11:F190)-MIN(I191:U191)-B191-A191)","v":0},0,0,0,0,0,0,0,0,0,0,0,0]
[{"$f":"IF(AND(YEAR(E192)=2013,YEAR(F192)=2014,'front utente'!$I$15=\"si\" ),DATE(2013,12,31)-E192,0)","v":0},{"$f":"IF(AND(YEAR(E192)=2012,YEAR(F192)=2013,'front utente'!$I$15=\"si\"),F192-DATE(2013,1,1),0)","v":0},null,null,{"$f":"'front utente'!C208","v":"00:00:00"},{"$f":"'front utente'!D208","v":"00:00:00"},1,{"$f":"IF(MAX($F$11:F191)>=F192,0,F192-MAX($F$11:F191)-MIN(I192:U192)-B192-A192)","v":0},0,0,0,0,0,0,0,0,0,0,0,0]
[{"$f":"IF(AND(YEAR(E193)=2013,YEAR(F193)=2014,'front utente'!$I$15=\"si\" ),DATE(2013,12,31)-E193,0)","v":0},{"$f":"IF(AND(YEAR(E193)=2012,YEAR(F193)=2013,'front utente'!$I$15=\"si\"),F193-DATE(2013,1,1),0)","v":0},null,null,{"$f":"'front utente'!C209","v":"00:00:00"},{"$f":"'front utente'!D209","v":"00:00:00"},1,{"$f":"IF(MAX($F$11:F192)>=F193,0,F193-MAX($F$11:F192)-MIN(I193:U193)-B193-A193)","v":0},0,0,0,0,0,0,0,0,0,0,0,0]
[{"$f":"IF(AND(YEAR(E194)=2013,YEAR(F194)=2014,'front utente'!$I$15=\"si\" ),DATE(2013,12,31)-E194,0)","v":0},{"$f":"IF(AND(YEAR(E194)=2012,YEAR(F194)=2013,'front utente'!$I$15=\"si\"),F194-DATE(2013,1,1),0)","v":0},null,null,{"$f":"'front utente'!C210","v":"00:00:00"},{"$f":"'front utente'!D210","v":"00:00:00"},1,{"$f":"IF(MAX($F$11:F193)>=F194,0,F194-MAX($F$11:F193)-MIN(I194:U194)-B194-A194)","v":0},0,0,0,0,0,0,0,0,0,0,0,0]
[{"$f":"IF(AND(YEAR(E195)=2013,YEAR(F195)=2014,'front utente'!$I$15=\"si\" ),DATE(2013,12,31)-E195,0)","v":0},{"$f":"IF(AND(YEAR(E195)=2012,YEAR(F195)=2013,'front utente'!$I$15=\"si\"),F195-DATE(2013,1,1),0)","v":0},null,null,{"$f":"'front utente'!C211","v":"00:00:00"},{"$f":"'front utente'!D211","v":"00:00:00"},1,{"$f":"IF(MAX($F$11:F194)>=F195,0,F195-MAX($F$11:F194)-MIN(I195:U195)-B195-A195)","v":0},0,0,0,0,0,0,0,0,0,0,0,0]
[{"$f":"IF(AND(YEAR(E196)=2013,YEAR(F196)=2014,'front utente'!$I$15=\"si\" ),DATE(2013,12,31)-E196,0)","v":0},{"$f":"IF(AND(YEAR(E196)=2012,YEAR(F196)=2013,'front utente'!$I$15=\"si\"),F196-DATE(2013,1,1),0)","v":0},null,null,{"$f":"'front utente'!C212","v":"00:00:00"},{"$f":"'front utente'!D212","v":"00:00:00"},1,{"$f":"IF(MAX($F$11:F195)>=F196,0,F196-MAX($F$11:F195)-MIN(I196:U196)-B196-A196)","v":0},0,0,0,0,0,0,0,0,0,0,0,0]
[{"$f":"IF(AND(YEAR(E197)=2013,YEAR(F197)=2014,'front utente'!$I$15=\"si\" ),DATE(2013,12,31)-E197,0)","v":0},{"$f":"IF(AND(YEAR(E197)=2012,YEAR(F197)=2013,'front utente'!$I$15=\"si\"),F197-DATE(2013,1,1),0)","v":0},null,null,{"$f":"'front utente'!C213","v":"00:00:00"},{"$f":"'front utente'!D213","v":"00:00:00"},1,{"$f":"IF(MAX($F$11:F196)>=F197,0,F197-MAX($F$11:F196)-MIN(I197:U197)-B197-A197)","v":0},0,0,0,0,0,0,0,0,0,0,0,0]
[{"$f":"IF(AND(YEAR(E198)=2013,YEAR(F198)=2014,'front utente'!$I$15=\"si\" ),DATE(2013,12,31)-E198,0)","v":0},{"$f":"IF(AND(YEAR(E198)=2012,YEAR(F198)=2013,'front utente'!$I$15=\"si\"),F198-DATE(2013,1,1),0)","v":0},null,null,{"$f":"'front utente'!C214","v":"00:00:00"},{"$f":"'front utente'!D214","v":"00:00:00"},1,{"$f":"IF(MAX($F$11:F197)>=F198,0,F198-MAX($F$11:F197)-MIN(I198:U198)-B198-A198)","v":0},0,0,0,0,0,0,0,0,0,0,0,0]
[{"$f":"IF(AND(YEAR(E199)=2013,YEAR(F199)=2014,'front utente'!$I$15=\"si\" ),DATE(2013,12,31)-E199,0)","v":0},{"$f":"IF(AND(YEAR(E199)=2012,YEAR(F199)=2013,'front utente'!$I$15=\"si\"),F199-DATE(2013,1,1),0)","v":0},null,null,{"$f":"'front utente'!C215","v":"00:00:00"},{"$f":"'front utente'!D215","v":"00:00:00"},1,{"$f":"IF(MAX($F$11:F198)>=F199,0,F199-MAX($F$11:F198)-MIN(I199:U199)-B199-A199)","v":0},0,0,0,0,0,0,0,0,0,0,0,0]
[{"$f":"IF(AND(YEAR(E200)=2013,YEAR(F200)=2014,'front utente'!$I$15=\"si\" ),DATE(2013,12,31)-E200,0)","v":0},{"$f":"IF(AND(YEAR(E200)=2012,YEAR(F200)=2013,'front utente'!$I$15=\"si\"),F200-DATE(2013,1,1),0)","v":0},null,null,{"$f":"'front utente'!C216","v":"00:00:00"},{"$f":"'front utente'!D216","v":"00:00:00"},1,{"$f":"IF(MAX($F$11:F199)>=F200,0,F200-MAX($F$11:F199)-MIN(I200:U200)-B200-A200)","v":0},0,0,0,0,0,0,0,0,0,0,0,0]
[{"$f":"IF(AND(YEAR(E201)=2013,YEAR(F201)=2014,'front utente'!$I$15=\"si\" ),DATE(2013,12,31)-E201,0)","v":0},{"$f":"IF(AND(YEAR(E201)=2012,YEAR(F201)=2013,'front utente'!$I$15=\"si\"),F201-DATE(2013,1,1),0)","v":0},null,null,{"$f":"'front utente'!C217","v":"00:00:00"},{"$f":"'front utente'!D217","v":"00:00:00"},1,{"$f":"IF(MAX($F$11:F200)>=F201,0,F201-MAX($F$11:F200)-MIN(I201:U201)-B201-A201)","v":0},0,0,0,0,0,0,0,0,0,0,0,0]
[{"$f":"IF(AND(YEAR(E202)=2013,YEAR(F202)=2014,'front utente'!$I$15=\"si\" ),DATE(2013,12,31)-E202,0)","v":0},{"$f":"IF(AND(YEAR(E202)=2012,YEAR(F202)=2013,'front utente'!$I$15=\"si\"),F202-DATE(2013,1,1),0)","v":0},null,null,{"$f":"'front utente'!C218","v":"00:00:00"},{"$f":"'front utente'!D218","v":"00:00:00"},1,{"$f":"IF(MAX($F$11:F201)>=F202,0,F202-MAX($F$11:F201)-MIN(I202:U202)-B202-A202)","v":0},0,0,0,0,0,0,0,0,0,0,0,0]
[{"$f":"IF(AND(YEAR(E203)=2013,YEAR(F203)=2014,'front utente'!$I$15=\"si\" ),DATE(2013,12,31)-E203,0)","v":0},{"$f":"IF(AND(YEAR(E203)=2012,YEAR(F203)=2013,'front utente'!$I$15=\"si\"),F203-DATE(2013,1,1),0)","v":0},null,null,{"$f":"'front utente'!C219","v":"00:00:00"},{"$f":"'front utente'!D219","v":"00:00:00"},1,{"$f":"IF(MAX($F$11:F202)>=F203,0,F203-MAX($F$11:F202)-MIN(I203:U203)-B203-A203)","v":0},0,0,0,0,0,0,0,0,0,0,0,0]
[{"$f":"IF(AND(YEAR(E204)=2013,YEAR(F204)=2014,'front utente'!$I$15=\"si\" ),DATE(2013,12,31)-E204,0)","v":0},{"$f":"IF(AND(YEAR(E204)=2012,YEAR(F204)=2013,'front utente'!$I$15=\"si\"),F204-DATE(2013,1,1),0)","v":0},null,null,{"$f":"'front utente'!C220","v":"00:00:00"},{"$f":"'front utente'!D220","v":"00:00:00"},1,{"$f":"IF(MAX($F$11:F203)>=F204,0,F204-MAX($F$11:F203)-MIN(I204:U204)-B204-A204)","v":0},0,0,0,0,0,0,0,0,0,0,0,0]
[{"$f":"IF(AND(YEAR(E205)=2013,YEAR(F205)=2014,'front utente'!$I$15=\"si\" ),DATE(2013,12,31)-E205,0)","v":0},{"$f":"IF(AND(YEAR(E205)=2012,YEAR(F205)=2013,'front utente'!$I$15=\"si\"),F205-DATE(2013,1,1),0)","v":0},null,null,{"$f":"'front utente'!C221","v":"00:00:00"},{"$f":"'front utente'!D221","v":"00:00:00"},1,{"$f":"IF(MAX($F$11:F204)>=F205,0,F205-MAX($F$11:F204)-MIN(I205:U205)-B205-A205)","v":0},0,0,0,0,0,0,0,0,0,0,0,0]
[{"$f":"IF(AND(YEAR(E206)=2013,YEAR(F206)=2014,'front utente'!$I$15=\"si\" ),DATE(2013,12,31)-E206,0)","v":0},{"$f":"IF(AND(YEAR(E206)=2012,YEAR(F206)=2013,'front utente'!$I$15=\"si\"),F206-DATE(2013,1,1),0)","v":0},null,null,{"$f":"'front utente'!C222","v":"00:00:00"},{"$f":"'front utente'!D222","v":"00:00:00"},1,{"$f":"IF(MAX($F$11:F205)>=F206,0,F206-MAX($F$11:F205)-MIN(I206:U206)-B206-A206)","v":0},0,0,0,0,0,0,0,0,0,0,0,0]
[{"$f":"IF(AND(YEAR(E207)=2013,YEAR(F207)=2014,'front utente'!$I$15=\"si\" ),DATE(2013,12,31)-E207,0)","v":0},{"$f":"IF(AND(YEAR(E207)=2012,YEAR(F207)=2013,'front utente'!$I$15=\"si\"),F207-DATE(2013,1,1),0)","v":0},null,null,{"$f":"'front utente'!C223","v":"00:00:00"},{"$f":"'front utente'!D223","v":"00:00:00"},1,{"$f":"IF(MAX($F$11:F206)>=F207,0,F207-MAX($F$11:F206)-MIN(I207:U207)-B207-A207)","v":0},0,0,0,0,0,0,0,0,0,0,0,0]
[{"$f":"IF(AND(YEAR(E208)=2013,YEAR(F208)=2014,'front utente'!$I$15=\"si\" ),DATE(2013,12,31)-E208,0)","v":0},{"$f":"IF(AND(YEAR(E208)=2012,YEAR(F208)=2013,'front utente'!$I$15=\"si\"),F208-DATE(2013,1,1),0)","v":0},null,null,{"$f":"'front utente'!C224","v":"00:00:00"},{"$f":"'front utente'!D224","v":"00:00:00"},1,{"$f":"IF(MAX($F$11:F207)>=F208,0,F208-MAX($F$11:F207)-MIN(I208:U208)-B208-A208)","v":0},0,0,0,0,0,0,0,0,0,0,0,0]
[{"$f":"IF(AND(YEAR(E209)=2013,YEAR(F209)=2014,'front utente'!$I$15=\"si\" ),DATE(2013,12,31)-E209,0)","v":0},{"$f":"IF(AND(YEAR(E209)=2012,YEAR(F209)=2013,'front utente'!$I$15=\"si\"),F209-DATE(2013,1,1),0)","v":0},null,null,{"$f":"'front utente'!C225","v":"00:00:00"},{"$f":"'front utente'!D225","v":"00:00:00"},1,{"$f":"IF(MAX($F$11:F208)>=F209,0,F209-MAX($F$11:F208)-MIN(I209:U209)-B209-A209)","v":0},0,0,0,0,0,0,0,0,0,0,0,0]
[{"$f":"IF(AND(YEAR(E210)=2013,YEAR(F210)=2014,'front utente'!$I$15=\"si\" ),DATE(2013,12,31)-E210,0)","v":0},{"$f":"IF(AND(YEAR(E210)=2012,YEAR(F210)=2013,'front utente'!$I$15=\"si\"),F210-DATE(2013,1,1),0)","v":0},null,null,{"$f":"'front utente'!C226","v":"00:00:00"},{"$f":"'front utente'!D226","v":"00:00:00"},1,{"$f":"IF(MAX($F$11:F209)>=F210,0,F210-MAX($F$11:F209)-MIN(I210:U210)-B210-A210)","v":0},0,0,0,0,0,0,0,0,0,0,0,0]
[{"$f":"IF(AND(YEAR(E211)=2013,YEAR(F211)=2014,'front utente'!$I$15=\"si\" ),DATE(2013,12,31)-E211,0)","v":0},{"$f":"IF(AND(YEAR(E211)=2012,YEAR(F211)=2013,'front utente'!$I$15=\"si\"),F211-DATE(2013,1,1),0)","v":0},null,null,{"$f":"'front utente'!C227","v":"00:00:00"},{"$f":"'front utente'!D227","v":"00:00:00"},1,{"$f":"IF(MAX($F$11:F210)>=F211,0,F211-MAX($F$11:F210)-MIN(I211:U211)-B211-A211)","v":0},0,0,0,0,0,0,0,0,0,0,0,0]
[{"$f":"IF(AND(YEAR(E212)=2013,YEAR(F212)=2014,'front utente'!$I$15=\"si\" ),DATE(2013,12,31)-E212,0)","v":0},{"$f":"IF(AND(YEAR(E212)=2012,YEAR(F212)=2013,'front utente'!$I$15=\"si\"),F212-DATE(2013,1,1),0)","v":0},null,null,{"$f":"'front utente'!C228","v":"00:00:00"},{"$f":"'front utente'!D228","v":"00:00:00"},1,{"$f":"IF(MAX($F$11:F211)>=F212,0,F212-MAX($F$11:F211)-MIN(I212:U212)-B212-A212)","v":0},0,0,0,0,0,0,0,0,0,0,0,0]
[{"$f":"IF(AND(YEAR(E213)=2013,YEAR(F213)=2014,'front utente'!$I$15=\"si\" ),DATE(2013,12,31)-E213,0)","v":0},{"$f":"IF(AND(YEAR(E213)=2012,YEAR(F213)=2013,'front utente'!$I$15=\"si\"),F213-DATE(2013,1,1),0)","v":0},null,null,{"$f":"'front utente'!C229","v":"00:00:00"},{"$f":"'front utente'!D229","v":"00:00:00"},1,{"$f":"IF(MAX($F$11:F212)>=F213,0,F213-MAX($F$11:F212)-MIN(I213:U213)-B213-A213)","v":0},0,0,0,0,0,0,0,0,0,0,0,0]
[{"$f":"IF(AND(YEAR(E214)=2013,YEAR(F214)=2014,'front utente'!$I$15=\"si\" ),DATE(2013,12,31)-E214,0)","v":0},{"$f":"IF(AND(YEAR(E214)=2012,YEAR(F214)=2013,'front utente'!$I$15=\"si\"),F214-DATE(2013,1,1),0)","v":0},null,null,{"$f":"'front utente'!C230","v":"00:00:00"},{"$f":"'front utente'!D230","v":"00:00:00"},1,{"$f":"IF(MAX($F$11:F213)>=F214,0,F214-MAX($F$11:F213)-MIN(I214:U214)-B214-A214)","v":0},0,0,0,0,0,0,0,0,0,0,0,0]
[{"$f":"IF(AND(YEAR(E215)=2013,YEAR(F215)=2014,'front utente'!$I$15=\"si\" ),DATE(2013,12,31)-E215,0)","v":0},{"$f":"IF(AND(YEAR(E215)=2012,YEAR(F215)=2013,'front utente'!$I$15=\"si\"),F215-DATE(2013,1,1),0)","v":0},null,null,{"$f":"'front utente'!C231","v":"00:00:00"},{"$f":"'front utente'!D231","v":"00:00:00"},1,{"$f":"IF(MAX($F$11:F214)>=F215,0,F215-MAX($F$11:F214)-MIN(I215:U215)-B215-A215)","v":0},0,0,0,0,0,0,0,0,0,0,0,0]
[{"$f":"IF(AND(YEAR(E216)=2013,YEAR(F216)=2014,'front utente'!$I$15=\"si\" ),DATE(2013,12,31)-E216,0)","v":0},{"$f":"IF(AND(YEAR(E216)=2012,YEAR(F216)=2013,'front utente'!$I$15=\"si\"),F216-DATE(2013,1,1),0)","v":0},null,null,{"$f":"'front utente'!C232","v":"00:00:00"},{"$f":"'front utente'!D232","v":"00:00:00"},1,{"$f":"IF(MAX($F$11:F215)>=F216,0,F216-MAX($F$11:F215)-MIN(I216:U216)-B216-A216)","v":0},0,0,0,0,0,0,0,0,0,0,0,0]
[{"$f":"IF(AND(YEAR(E217)=2013,YEAR(F217)=2014,'front utente'!$I$15=\"si\" ),DATE(2013,12,31)-E217,0)","v":0},{"$f":"IF(AND(YEAR(E217)=2012,YEAR(F217)=2013,'front utente'!$I$15=\"si\"),F217-DATE(2013,1,1),0)","v":0},null,null,{"$f":"'front utente'!C233","v":"00:00:00"},{"$f":"'front utente'!D233","v":"00:00:00"},1,{"$f":"IF(MAX($F$11:F216)>=F217,0,F217-MAX($F$11:F216)-MIN(I217:U217)-B217-A217)","v":0},0,0,0,0,0,0,0,0,0,0,0,0]
[{"$f":"IF(AND(YEAR(E218)=2013,YEAR(F218)=2014,'front utente'!$I$15=\"si\" ),DATE(2013,12,31)-E218,0)","v":0},{"$f":"IF(AND(YEAR(E218)=2012,YEAR(F218)=2013,'front utente'!$I$15=\"si\"),F218-DATE(2013,1,1),0)","v":0},null,null,{"$f":"'front utente'!C234","v":"00:00:00"},{"$f":"'front utente'!D234","v":"00:00:00"},1,{"$f":"IF(MAX($F$11:F217)>=F218,0,F218-MAX($F$11:F217)-MIN(I218:U218)-B218-A218)","v":0},0,0,0,0,0,0,0,0,0,0,0,0]
[{"$f":"IF(AND(YEAR(E219)=2013,YEAR(F219)=2014,'front utente'!$I$15=\"si\" ),DATE(2013,12,31)-E219,0)","v":0},{"$f":"IF(AND(YEAR(E219)=2012,YEAR(F219)=2013,'front utente'!$I$15=\"si\"),F219-DATE(2013,1,1),0)","v":0},null,null,{"$f":"'front utente'!C235","v":"00:00:00"},{"$f":"'front utente'!D235","v":"00:00:00"},1,{"$f":"IF(MAX($F$11:F218)>=F219,0,F219-MAX($F$11:F218)-MIN(I219:U219)-B219-A219)","v":0},0,0,0,0,0,0,0,0,0,0,0,0]
[{"$f":"IF(AND(YEAR(E220)=2013,YEAR(F220)=2014,'front utente'!$I$15=\"si\" ),DATE(2013,12,31)-E220,0)","v":0},{"$f":"IF(AND(YEAR(E220)=2012,YEAR(F220)=2013,'front utente'!$I$15=\"si\"),F220-DATE(2013,1,1),0)","v":0},null,null,{"$f":"'front utente'!C236","v":"00:00:00"},{"$f":"'front utente'!D236","v":"00:00:00"},1,{"$f":"IF(MAX($F$11:F219)>=F220,0,F220-MAX($F$11:F219)-MIN(I220:U220)-B220-A220)","v":0},0,0,0,0,0,0,0,0,0,0,0,0]
[{"$f":"IF(AND(YEAR(E221)=2013,YEAR(F221)=2014,'front utente'!$I$15=\"si\" ),DATE(2013,12,31)-E221,0)","v":0},{"$f":"IF(AND(YEAR(E221)=2012,YEAR(F221)=2013,'front utente'!$I$15=\"si\"),F221-DATE(2013,1,1),0)","v":0},null,null,{"$f":"'front utente'!C237","v":"00:00:00"},{"$f":"'front utente'!D237","v":"00:00:00"},1,{"$f":"IF(MAX($F$11:F220)>=F221,0,F221-MAX($F$11:F220)-MIN(I221:U221)-B221-A221)","v":0},0,0,0,0,0,0,0,0,0,0,0,0]
[{"$f":"IF(AND(YEAR(E222)=2013,YEAR(F222)=2014,'front utente'!$I$15=\"si\" ),DATE(2013,12,31)-E222,0)","v":0},{"$f":"IF(AND(YEAR(E222)=2012,YEAR(F222)=2013,'front utente'!$I$15=\"si\"),F222-DATE(2013,1,1),0)","v":0},null,null,{"$f":"'front utente'!C238","v":"00:00:00"},{"$f":"'front utente'!D238","v":"00:00:00"},1,{"$f":"IF(MAX($F$11:F221)>=F222,0,F222-MAX($F$11:F221)-MIN(I222:U222)-B222-A222)","v":0},0,0,0,0,0,0,0,0,0,0,0,0]
[{"$f":"IF(AND(YEAR(E223)=2013,YEAR(F223)=2014,'front utente'!$I$15=\"si\" ),DATE(2013,12,31)-E223,0)","v":0},{"$f":"IF(AND(YEAR(E223)=2012,YEAR(F223)=2013,'front utente'!$I$15=\"si\"),F223-DATE(2013,1,1),0)","v":0},null,null,{"$f":"'front utente'!C239","v":"00:00:00"},{"$f":"'front utente'!D239","v":"00:00:00"},1,{"$f":"IF(MAX($F$11:F222)>=F223,0,F223-MAX($F$11:F222)-MIN(I223:U223)-B223-A223)","v":0},0,0,0,0,0,0,0,0,0,0,0,0]
[{"$f":"IF(AND(YEAR(E224)=2013,YEAR(F224)=2014,'front utente'!$I$15=\"si\" ),DATE(2013,12,31)-E224,0)","v":0},{"$f":"IF(AND(YEAR(E224)=2012,YEAR(F224)=2013,'front utente'!$I$15=\"si\"),F224-DATE(2013,1,1),0)","v":0},null,null,{"$f":"'front utente'!C240","v":"00:00:00"},{"$f":"'front utente'!D240","v":"00:00:00"},1,{"$f":"IF(MAX($F$11:F223)>=F224,0,F224-MAX($F$11:F223)-MIN(I224:U224)-B224-A224)","v":0},0,0,0,0,0,0,0,0,0,0,0,0]
[{"$f":"IF(AND(YEAR(E225)=2013,YEAR(F225)=2014,'front utente'!$I$15=\"si\" ),DATE(2013,12,31)-E225,0)","v":0},{"$f":"IF(AND(YEAR(E225)=2012,YEAR(F225)=2013,'front utente'!$I$15=\"si\"),F225-DATE(2013,1,1),0)","v":0},null,null,{"$f":"'front utente'!C241","v":"00:00:00"},{"$f":"'front utente'!D241","v":"00:00:00"},1,{"$f":"IF(MAX($F$11:F224)>=F225,0,F225-MAX($F$11:F224)-MIN(I225:U225)-B225-A225)","v":0},0,0,0,0,0,0,0,0,0,0,0,0]
[{"$f":"IF(AND(YEAR(E226)=2013,YEAR(F226)=2014,'front utente'!$I$15=\"si\" ),DATE(2013,12,31)-E226,0)","v":0},{"$f":"IF(AND(YEAR(E226)=2012,YEAR(F226)=2013,'front utente'!$I$15=\"si\"),F226-DATE(2013,1,1),0)","v":0},null,null,{"$f":"'front utente'!C242","v":"00:00:00"},{"$f":"'front utente'!D242","v":"00:00:00"},1,{"$f":"IF(MAX($F$11:F225)>=F226,0,F226-MAX($F$11:F225)-MIN(I226:U226)-B226-A226)","v":0},0,0,0,0,0,0,0,0,0,0,0,0]
[{"$f":"IF(AND(YEAR(E227)=2013,YEAR(F227)=2014,'front utente'!$I$15=\"si\" ),DATE(2013,12,31)-E227,0)","v":0},{"$f":"IF(AND(YEAR(E227)=2012,YEAR(F227)=2013,'front utente'!$I$15=\"si\"),F227-DATE(2013,1,1),0)","v":0},null,null,{"$f":"'front utente'!C243","v":"00:00:00"},{"$f":"'front utente'!D243","v":"00:00:00"},1,{"$f":"IF(MAX($F$11:F226)>=F227,0,F227-MAX($F$11:F226)-MIN(I227:U227)-B227-A227)","v":0},0,0,0,0,0,0,0,0,0,0,0,0]
[{"$f":"IF(AND(YEAR(E228)=2013,YEAR(F228)=2014,'front utente'!$I$15=\"si\" ),DATE(2013,12,31)-E228,0)","v":0},{"$f":"IF(AND(YEAR(E228)=2012,YEAR(F228)=2013,'front utente'!$I$15=\"si\"),F228-DATE(2013,1,1),0)","v":0},null,null,{"$f":"'front utente'!C244","v":"00:00:00"},{"$f":"'front utente'!D244","v":"00:00:00"},1,{"$f":"IF(MAX($F$11:F227)>=F228,0,F228-MAX($F$11:F227)-MIN(I228:U228)-B228-A228)","v":0},0,0,0,0,0,0,0,0,0,0,0,0]
[{"$f":"IF(AND(YEAR(E229)=2013,YEAR(F229)=2014,'front utente'!$I$15=\"si\" ),DATE(2013,12,31)-E229,0)","v":0},{"$f":"IF(AND(YEAR(E229)=2012,YEAR(F229)=2013,'front utente'!$I$15=\"si\"),F229-DATE(2013,1,1),0)","v":0},null,null,{"$f":"'front utente'!C245","v":"00:00:00"},{"$f":"'front utente'!D245","v":"00:00:00"},1,{"$f":"IF(MAX($F$11:F228)>=F229,0,F229-MAX($F$11:F228)-MIN(I229:U229)-B229-A229)","v":0},0,0,0,0,0,0,0,0,0,0,0,0]
[{"$f":"IF(AND(YEAR(E230)=2013,YEAR(F230)=2014,'front utente'!$I$15=\"si\" ),DATE(2013,12,31)-E230,0)","v":0},{"$f":"IF(AND(YEAR(E230)=2012,YEAR(F230)=2013,'front utente'!$I$15=\"si\"),F230-DATE(2013,1,1),0)","v":0},null,null,{"$f":"'front utente'!C246","v":"00:00:00"},{"$f":"'front utente'!D246","v":"00:00:00"},1,{"$f":"IF(MAX($F$11:F229)>=F230,0,F230-MAX($F$11:F229)-MIN(I230:U230)-B230-A230)","v":0},0,0,0,0,0,0,0,0,0,0,0,0]
[{"$f":"IF(AND(YEAR(E231)=2013,YEAR(F231)=2014,'front utente'!$I$15=\"si\" ),DATE(2013,12,31)-E231,0)","v":0},{"$f":"IF(AND(YEAR(E231)=2012,YEAR(F231)=2013,'front utente'!$I$15=\"si\"),F231-DATE(2013,1,1),0)","v":0},null,null,{"$f":"'front utente'!C247","v":"00:00:00"},{"$f":"'front utente'!D247","v":"00:00:00"},1,{"$f":"IF(MAX($F$11:F230)>=F231,0,F231-MAX($F$11:F230)-MIN(I231:U231)-B231-A231)","v":0},0,0,0,0,0,0,0,0,0,0,0,0]
[{"$f":"IF(AND(YEAR(E232)=2013,YEAR(F232)=2014,'front utente'!$I$15=\"si\" ),DATE(2013,12,31)-E232,0)","v":0},{"$f":"IF(AND(YEAR(E232)=2012,YEAR(F232)=2013,'front utente'!$I$15=\"si\"),F232-DATE(2013,1,1),0)","v":0},null,null,{"$f":"'front utente'!C248","v":"00:00:00"},{"$f":"'front utente'!D248","v":"00:00:00"},1,{"$f":"IF(MAX($F$11:F231)>=F232,0,F232-MAX($F$11:F231)-MIN(I232:U232)-B232-A232)","v":0},0,0,0,0,0,0,0,0,0,0,0,0]
[{"$f":"IF(AND(YEAR(E233)=2013,YEAR(F233)=2014,'front utente'!$I$15=\"si\" ),DATE(2013,12,31)-E233,0)","v":0},{"$f":"IF(AND(YEAR(E233)=2012,YEAR(F233)=2013,'front utente'!$I$15=\"si\"),F233-DATE(2013,1,1),0)","v":0},null,null,{"$f":"'front utente'!C249","v":"00:00:00"},{"$f":"'front utente'!D249","v":"00:00:00"},1,{"$f":"IF(MAX($F$11:F232)>=F233,0,F233-MAX($F$11:F232)-MIN(I233:U233)-B233-A233)","v":0},0,0,0,0,0,0,0,0,0,0,0,0]
[{"$f":"IF(AND(YEAR(E234)=2013,YEAR(F234)=2014,'front utente'!$I$15=\"si\" ),DATE(2013,12,31)-E234,0)","v":0},{"$f":"IF(AND(YEAR(E234)=2012,YEAR(F234)=2013,'front utente'!$I$15=\"si\"),F234-DATE(2013,1,1),0)","v":0},null,null,{"$f":"'front utente'!C250","v":"00:00:00"},{"$f":"'front utente'!D250","v":"00:00:00"},1,{"$f":"IF(MAX($F$11:F233)>=F234,0,F234-MAX($F$11:F233)-MIN(I234:U234)-B234-A234)","v":0},0,0,0,0,0,0,0,0,0,0,0,0]
[{"$f":"IF(AND(YEAR(E235)=2013,YEAR(F235)=2014,'front utente'!$I$15=\"si\" ),DATE(2013,12,31)-E235,0)","v":0},{"$f":"IF(AND(YEAR(E235)=2012,YEAR(F235)=2013,'front utente'!$I$15=\"si\"),F235-DATE(2013,1,1),0)","v":0},null,null,{"$f":"'front utente'!C251","v":"00:00:00"},{"$f":"'front utente'!D251","v":"00:00:00"},1,{"$f":"IF(MAX($F$11:F234)>=F235,0,F235-MAX($F$11:F234)-MIN(I235:U235)-B235-A235)","v":0},0,0,0,0,0,0,0,0,0,0,0,0]
[{"$f":"IF(AND(YEAR(E236)=2013,YEAR(F236)=2014,'front utente'!$I$15=\"si\" ),DATE(2013,12,31)-E236,0)","v":0},{"$f":"IF(AND(YEAR(E236)=2012,YEAR(F236)=2013,'front utente'!$I$15=\"si\"),F236-DATE(2013,1,1),0)","v":0},null,null,{"$f":"'front utente'!C252","v":"00:00:00"},{"$f":"'front utente'!D252","v":"00:00:00"},1,{"$f":"IF(MAX($F$11:F235)>=F236,0,F236-MAX($F$11:F235)-MIN(I236:U236)-B236-A236)","v":0},0,0,0,0,0,0,0,0,0,0,0,0]
[{"$f":"IF(AND(YEAR(E237)=2013,YEAR(F237)=2014,'front utente'!$I$15=\"si\" ),DATE(2013,12,31)-E237,0)","v":0},{"$f":"IF(AND(YEAR(E237)=2012,YEAR(F237)=2013,'front utente'!$I$15=\"si\"),F237-DATE(2013,1,1),0)","v":0},null,null,{"$f":"'front utente'!C253","v":"00:00:00"},{"$f":"'front utente'!D253","v":"00:00:00"},1,{"$f":"IF(MAX($F$11:F236)>=F237,0,F237-MAX($F$11:F236)-MIN(I237:U237)-B237-A237)","v":0},0,0,0,0,0,0,0,0,0,0,0,0]
[{"$f":"IF(AND(YEAR(E238)=2013,YEAR(F238)=2014,'front utente'!$I$15=\"si\" ),DATE(2013,12,31)-E238,0)","v":0},{"$f":"IF(AND(YEAR(E238)=2012,YEAR(F238)=2013,'front utente'!$I$15=\"si\"),F238-DATE(2013,1,1),0)","v":0},null,null,{"$f":"'front utente'!C254","v":"00:00:00"},{"$f":"'front utente'!D254","v":"00:00:00"},1,{"$f":"IF(MAX($F$11:F237)>=F238,0,F238-MAX($F$11:F237)-MIN(I238:U238)-B238-A238)","v":0},0,0,0,0,0,0,0,0,0,0,0,0]
[{"$f":"IF(AND(YEAR(E239)=2013,YEAR(F239)=2014,'front utente'!$I$15=\"si\" ),DATE(2013,12,31)-E239,0)","v":0},{"$f":"IF(AND(YEAR(E239)=2012,YEAR(F239)=2013,'front utente'!$I$15=\"si\"),F239-DATE(2013,1,1),0)","v":0},null,null,{"$f":"'front utente'!C255","v":"00:00:00"},{"$f":"'front utente'!D255","v":"00:00:00"},1,{"$f":"IF(MAX($F$11:F238)>=F239,0,F239-MAX($F$11:F238)-MIN(I239:U239)-B239-A239)","v":0},0,0,0,0,0,0,0,0,0,0,0,0]
[{"$f":"IF(AND(YEAR(E240)=2013,YEAR(F240)=2014,'front utente'!$I$15=\"si\" ),DATE(2013,12,31)-E240,0)","v":0},{"$f":"IF(AND(YEAR(E240)=2012,YEAR(F240)=2013,'front utente'!$I$15=\"si\"),F240-DATE(2013,1,1),0)","v":0},null,null,{"$f":"'front utente'!C256","v":"00:00:00"},{"$f":"'front utente'!D256","v":"00:00:00"},1,{"$f":"IF(MAX($F$11:F239)>=F240,0,F240-MAX($F$11:F239)-MIN(I240:U240)-B240-A240)","v":0},0,0,0,0,0,0,0,0,0,0,0,0]
[{"$f":"IF(AND(YEAR(E241)=2013,YEAR(F241)=2014,'front utente'!$I$15=\"si\" ),DATE(2013,12,31)-E241,0)","v":0},{"$f":"IF(AND(YEAR(E241)=2012,YEAR(F241)=2013,'front utente'!$I$15=\"si\"),F241-DATE(2013,1,1),0)","v":0},null,null,{"$f":"'front utente'!C257","v":"00:00:00"},{"$f":"'front utente'!D257","v":"00:00:00"},1,{"$f":"IF(MAX($F$11:F240)>=F241,0,F241-MAX($F$11:F240)-MIN(I241:U241)-B241-A241)","v":0},0,0,0,0,0,0,0,0,0,0,0,0]
[{"$f":"IF(AND(YEAR(E242)=2013,YEAR(F242)=2014,'front utente'!$I$15=\"si\" ),DATE(2013,12,31)-E242,0)","v":0},{"$f":"IF(AND(YEAR(E242)=2012,YEAR(F242)=2013,'front utente'!$I$15=\"si\"),F242-DATE(2013,1,1),0)","v":0},null,null,{"$f":"'front utente'!C258","v":"00:00:00"},{"$f":"'front utente'!D258","v":"00:00:00"},{"$f":"F242-E242+1","v":1},{"$f":"IF(MAX($F$11:F241)>=F242,0,F242-MAX($F$11:F241)-MIN(I242:U242)-B242-A242)","v":0},{"$f":"IF(E242<=F241,0,E242-F241-1)","v":0},{"$f":"IF(E242<=F240,0,E242-F240-1)","v":0},{"$f":"IF(E242<=F239,0,E242-F239-1)","v":0},{"$f":"IF(E242<=F238,0,E242-F238-1)","v":0},{"$f":"IF(E242<=F237,0,E242-F237-1)","v":0},{"$f":"IF(E242<=F236,0,E242-F236-1)","v":0},{"$f":"IF(E242<=F235,0,E242-F235-1)","v":0},{"$f":"IF(E242<=F234,0,E242-F234-1)","v":0},{"$f":"IF(E242<=F233,0,E242-F233-1)","v":0},{"$f":"IF(E242<=F232,0,E242-F232-1)","v":0},{"$f":"IF(E242<=F231,0,E242-F231-1)","v":0},{"$f":"IF(E242<=F230,0,E242-F230-1)","v":0}]
[{"$f":"IF(AND(YEAR(E243)=2013,YEAR(F243)=2014,'front utente'!$I$15=\"si\" ),DATE(2013,12,31)-E243,0)","v":0},{"$f":"IF(AND(YEAR(E243)=2012,YEAR(F243)=2013,'front utente'!$I$15=\"si\"),F243-DATE(2013,1,1),0)","v":0},null,null,{"$f":"'front utente'!C259","v":"00:00:00"},{"$f":"'front utente'!D259","v":"00:00:00"},1,{"$f":"IF(MAX($F$11:F242)>=F243,0,F243-MAX($F$11:F242)-MIN(I243:U243)-B243-A243)","v":0},0,0,0,0,0,0,0,0,0,0,0,0]
[{"$f":"IF(AND(YEAR(E244)=2013,YEAR(F244)=2014,'front utente'!$I$15=\"si\" ),DATE(2013,12,31)-E244,0)","v":0},{"$f":"IF(AND(YEAR(E244)=2012,YEAR(F244)=2013,'front utente'!$I$15=\"si\"),F244-DATE(2013,1,1),0)","v":0},null,null,{"$f":"'front utente'!C260","v":"00:00:00"},{"$f":"'front utente'!D260","v":"00:00:00"},1,{"$f":"IF(MAX($F$11:F243)>=F244,0,F244-MAX($F$11:F243)-MIN(I244:U244)-B244-A244)","v":0},0,0,0,0,0,0,0,0,0,0,0,0]
[{"$f":"IF(AND(YEAR(E245)=2013,YEAR(F245)=2014,'front utente'!$I$15=\"si\" ),DATE(2013,12,31)-E245,0)","v":0},{"$f":"IF(AND(YEAR(E245)=2012,YEAR(F245)=2013,'front utente'!$I$15=\"si\"),F245-DATE(2013,1,1),0)","v":0},null,null,{"$f":"'front utente'!C261","v":"00:00:00"},{"$f":"'front utente'!D261","v":"00:00:00"},1,{"$f":"IF(MAX($F$11:F244)>=F245,0,F245-MAX($F$11:F244)-MIN(I245:U245)-B245-A245)","v":0},0,0,0,0,0,0,0,0,0,0,0,0]
[{"$f":"IF(AND(YEAR(E246)=2013,YEAR(F246)=2014,'front utente'!$I$15=\"si\" ),DATE(2013,12,31)-E246,0)","v":0},{"$f":"IF(AND(YEAR(E246)=2012,YEAR(F246)=2013,'front utente'!$I$15=\"si\"),F246-DATE(2013,1,1),0)","v":0},null,null,{"$f":"'front utente'!C262","v":"00:00:00"},{"$f":"'front utente'!D262","v":"00:00:00"},1,{"$f":"IF(MAX($F$11:F245)>=F246,0,F246-MAX($F$11:F245)-MIN(I246:U246)-B246-A246)","v":0},0,0,0,0,0,0,0,0,0,0,0,0]
[{"$f":"IF(AND(YEAR(E247)=2013,YEAR(F247)=2014,'front utente'!$I$15=\"si\" ),DATE(2013,12,31)-E247,0)","v":0},{"$f":"IF(AND(YEAR(E247)=2012,YEAR(F247)=2013,'front utente'!$I$15=\"si\"),F247-DATE(2013,1,1),0)","v":0},null,null,{"$f":"'front utente'!C263","v":"00:00:00"},{"$f":"'front utente'!D263","v":"00:00:00"},1,{"$f":"IF(MAX($F$11:F246)>=F247,0,F247-MAX($F$11:F246)-MIN(I247:U247)-B247-A247)","v":0},0,0,0,0,0,0,0,0,0,0,0,0]
[{"$f":"IF(AND(YEAR(E248)=2013,YEAR(F248)=2014,'front utente'!$I$15=\"si\" ),DATE(2013,12,31)-E248,0)","v":0},{"$f":"IF(AND(YEAR(E248)=2012,YEAR(F248)=2013,'front utente'!$I$15=\"si\"),F248-DATE(2013,1,1),0)","v":0},null,null,{"$f":"'front utente'!C264","v":"00:00:00"},{"$f":"'front utente'!D264","v":"00:00:00"},1,{"$f":"IF(MAX($F$11:F247)>=F248,0,F248-MAX($F$11:F247)-MIN(I248:U248)-B248-A248)","v":0},0,0,0,0,0,0,0,0,0,0,0,0]
[{"$f":"IF(AND(YEAR(E249)=2013,YEAR(F249)=2014,'front utente'!$I$15=\"si\" ),DATE(2013,12,31)-E249,0)","v":0},{"$f":"IF(AND(YEAR(E249)=2012,YEAR(F249)=2013,'front utente'!$I$15=\"si\"),F249-DATE(2013,1,1),0)","v":0},null,null,{"$f":"'front utente'!C265","v":"00:00:00"},{"$f":"'front utente'!D265","v":"00:00:00"},1,{"$f":"IF(MAX($F$11:F248)>=F249,0,F249-MAX($F$11:F248)-MIN(I249:U249)-B249-A249)","v":0},0,0,0,0,0,0,0,0,0,0,0,0]
[{"$f":"IF(AND(YEAR(E250)=2013,YEAR(F250)=2014,'front utente'!$I$15=\"si\" ),DATE(2013,12,31)-E250,0)","v":0},{"$f":"IF(AND(YEAR(E250)=2012,YEAR(F250)=2013,'front utente'!$I$15=\"si\"),F250-DATE(2013,1,1),0)","v":0},null,null,{"$f":"'front utente'!C266","v":"00:00:00"},{"$f":"'front utente'!D266","v":"00:00:00"},1,{"$f":"IF(MAX($F$11:F249)>=F250,0,F250-MAX($F$11:F249)-MIN(I250:U250)-B250-A250)","v":0},0,0,0,0,0,0,0,0,0,0,0,0]
[{"$f":"IF(AND(YEAR(E251)=2013,YEAR(F251)=2014,'front utente'!$I$15=\"si\" ),DATE(2013,12,31)-E251,0)","v":0},{"$f":"IF(AND(YEAR(E251)=2012,YEAR(F251)=2013,'front utente'!$I$15=\"si\"),F251-DATE(2013,1,1),0)","v":0},null,null,{"$f":"'front utente'!C267","v":"00:00:00"},{"$f":"'front utente'!D267","v":"00:00:00"},1,{"$f":"IF(MAX($F$11:F250)>=F251,0,F251-MAX($F$11:F250)-MIN(I251:U251)-B251-A251)","v":0},0,0,0,0,0,0,0,0,0,0,0,0]
[{"$f":"IF(AND(YEAR(E252)=2013,YEAR(F252)=2014,'front utente'!$I$15=\"si\" ),DATE(2013,12,31)-E252,0)","v":0},{"$f":"IF(AND(YEAR(E252)=2012,YEAR(F252)=2013,'front utente'!$I$15=\"si\"),F252-DATE(2013,1,1),0)","v":0},null,null,{"$f":"'front utente'!C268","v":"00:00:00"},{"$f":"'front utente'!D268","v":"00:00:00"},1,{"$f":"IF(MAX($F$11:F251)>=F252,0,F252-MAX($F$11:F251)-MIN(I252:U252)-B252-A252)","v":0},0,0,0,0,0,0,0,0,0,0,0,0]
[{"$f":"IF(AND(YEAR(E253)=2013,YEAR(F253)=2014,'front utente'!$I$15=\"si\" ),DATE(2013,12,31)-E253,0)","v":0},{"$f":"IF(AND(YEAR(E253)=2012,YEAR(F253)=2013,'front utente'!$I$15=\"si\"),F253-DATE(2013,1,1),0)","v":0},null,null,{"$f":"'front utente'!C269","v":"00:00:00"},{"$f":"'front utente'!D269","v":"00:00:00"},1,{"$f":"IF(MAX($F$11:F252)>=F253,0,F253-MAX($F$11:F252)-MIN(I253:U253)-B253-A253)","v":0},0,0,0,0,0,0,0,0,0,0,0,0]
[{"$f":"IF(AND(YEAR(E254)=2013,YEAR(F254)=2014,'front utente'!$I$15=\"si\" ),DATE(2013,12,31)-E254,0)","v":0},{"$f":"IF(AND(YEAR(E254)=2012,YEAR(F254)=2013,'front utente'!$I$15=\"si\"),F254-DATE(2013,1,1),0)","v":0},null,null,{"$f":"'front utente'!C270","v":"00:00:00"},{"$f":"'front utente'!D270","v":"00:00:00"},1,{"$f":"IF(MAX($F$11:F253)>=F254,0,F254-MAX($F$11:F253)-MIN(I254:U254)-B254-A254)","v":0},0,0,0,0,0,0,0,0,0,0,0,0]
[{"$f":"IF(AND(YEAR(E255)=2013,YEAR(F255)=2014,'front utente'!$I$15=\"si\" ),DATE(2013,12,31)-E255,0)","v":0},{"$f":"IF(AND(YEAR(E255)=2012,YEAR(F255)=2013,'front utente'!$I$15=\"si\"),F255-DATE(2013,1,1),0)","v":0},null,null,{"$f":"'front utente'!C271","v":"00:00:00"},{"$f":"'front utente'!D271","v":"00:00:00"},1,{"$f":"IF(MAX($F$11:F254)>=F255,0,F255-MAX($F$11:F254)-MIN(I255:U255)-B255-A255)","v":0},0,0,0,0,0,0,0,0,0,0,0,0]
[{"$f":"IF(AND(YEAR(E256)=2013,YEAR(F256)=2014,'front utente'!$I$15=\"si\" ),DATE(2013,12,31)-E256,0)","v":0},{"$f":"IF(AND(YEAR(E256)=2012,YEAR(F256)=2013,'front utente'!$I$15=\"si\"),F256-DATE(2013,1,1),0)","v":0},null,null,{"$f":"'front utente'!C272","v":"00:00:00"},{"$f":"'front utente'!D272","v":"00:00:00"},1,{"$f":"IF(MAX($F$11:F255)>=F256,0,F256-MAX($F$11:F255)-MIN(I256:U256)-B256-A256)","v":0},0,0,0,0,0,0,0,0,0,0,0,0]
[{"$f":"IF(AND(YEAR(E257)=2013,YEAR(F257)=2014,'front utente'!$I$15=\"si\" ),DATE(2013,12,31)-E257,0)","v":0},{"$f":"IF(AND(YEAR(E257)=2012,YEAR(F257)=2013,'front utente'!$I$15=\"si\"),F257-DATE(2013,1,1),0)","v":0},null,null,{"$f":"'front utente'!C273","v":"00:00:00"},{"$f":"'front utente'!D273","v":"00:00:00"},1,{"$f":"IF(MAX($F$11:F256)>=F257,0,F257-MAX($F$11:F256)-MIN(I257:U257)-B257-A257)","v":0},0,0,0,0,0,0,0,0,0,0,0,0]
[{"$f":"IF(AND(YEAR(E258)=2013,YEAR(F258)=2014,'front utente'!$I$15=\"si\" ),DATE(2013,12,31)-E258,0)","v":0},{"$f":"IF(AND(YEAR(E258)=2012,YEAR(F258)=2013,'front utente'!$I$15=\"si\"),F258-DATE(2013,1,1),0)","v":0},null,null,{"$f":"'front utente'!C274","v":"00:00:00"},{"$f":"'front utente'!D274","v":"00:00:00"},1,{"$f":"IF(MAX($F$11:F257)>=F258,0,F258-MAX($F$11:F257)-MIN(I258:U258)-B258-A258)","v":0},0,0,0,0,0,0,0,0,0,0,0,0]
[{"$f":"IF(AND(YEAR(E259)=2013,YEAR(F259)=2014,'front utente'!$I$15=\"si\" ),DATE(2013,12,31)-E259,0)","v":0},{"$f":"IF(AND(YEAR(E259)=2012,YEAR(F259)=2013,'front utente'!$I$15=\"si\"),F259-DATE(2013,1,1),0)","v":0},null,null,{"$f":"'front utente'!C275","v":"00:00:00"},{"$f":"'front utente'!D275","v":"00:00:00"},1,{"$f":"IF(MAX($F$11:F258)>=F259,0,F259-MAX($F$11:F258)-MIN(I259:U259)-B259-A259)","v":0},0,0,0,0,0,0,0,0,0,0,0,0]
[{"$f":"IF(AND(YEAR(E260)=2013,YEAR(F260)=2014,'front utente'!$I$15=\"si\" ),DATE(2013,12,31)-E260,0)","v":0},{"$f":"IF(AND(YEAR(E260)=2012,YEAR(F260)=2013,'front utente'!$I$15=\"si\"),F260-DATE(2013,1,1),0)","v":0},null,null,{"$f":"'front utente'!C276","v":"00:00:00"},{"$f":"'front utente'!D276","v":"00:00:00"},1,{"$f":"IF(MAX($F$11:F259)>=F260,0,F260-MAX($F$11:F259)-MIN(I260:U260)-B260-A260)","v":0},0,0,0,0,0,0,0,0,0,0,0,0]
[{"$f":"IF(AND(YEAR(E261)=2013,YEAR(F261)=2014,'front utente'!$I$15=\"si\" ),DATE(2013,12,31)-E261,0)","v":0},{"$f":"IF(AND(YEAR(E261)=2012,YEAR(F261)=2013,'front utente'!$I$15=\"si\"),F261-DATE(2013,1,1),0)","v":0},null,null,{"$f":"'front utente'!C277","v":"00:00:00"},{"$f":"'front utente'!D277","v":"00:00:00"},1,{"$f":"IF(MAX($F$11:F260)>=F261,0,F261-MAX($F$11:F260)-MIN(I261:U261)-B261-A261)","v":0},0,0,0,0,0,0,0,0,0,0,0,0]
[{"$f":"IF(AND(YEAR(E262)=2013,YEAR(F262)=2014,'front utente'!$I$15=\"si\" ),DATE(2013,12,31)-E262,0)","v":0},{"$f":"IF(AND(YEAR(E262)=2012,YEAR(F262)=2013,'front utente'!$I$15=\"si\"),F262-DATE(2013,1,1),0)","v":0},null,null,{"$f":"'front utente'!C278","v":"00:00:00"},{"$f":"'front utente'!D278","v":"00:00:00"},1,{"$f":"IF(MAX($F$11:F261)>=F262,0,F262-MAX($F$11:F261)-MIN(I262:U262)-B262-A262)","v":0},0,0,0,0,0,0,0,0,0,0,0,0]
[{"$f":"IF(AND(YEAR(E263)=2013,YEAR(F263)=2014,'front utente'!$I$15=\"si\" ),DATE(2013,12,31)-E263,0)","v":0},{"$f":"IF(AND(YEAR(E263)=2012,YEAR(F263)=2013,'front utente'!$I$15=\"si\"),F263-DATE(2013,1,1),0)","v":0},null,null,{"$f":"'front utente'!C279","v":"00:00:00"},{"$f":"'front utente'!D279","v":"00:00:00"},1,{"$f":"IF(MAX($F$11:F262)>=F263,0,F263-MAX($F$11:F262)-MIN(I263:U263)-B263-A263)","v":0},0,0,0,0,0,0,0,0,0,0,0,0]
[{"$f":"IF(AND(YEAR(E264)=2013,YEAR(F264)=2014,'front utente'!$I$15=\"si\" ),DATE(2013,12,31)-E264,0)","v":0},{"$f":"IF(AND(YEAR(E264)=2012,YEAR(F264)=2013,'front utente'!$I$15=\"si\"),F264-DATE(2013,1,1),0)","v":0},null,null,{"$f":"'front utente'!C280","v":"00:00:00"},{"$f":"'front utente'!D280","v":"00:00:00"},1,{"$f":"IF(MAX($F$11:F263)>=F264,0,F264-MAX($F$11:F263)-MIN(I264:U264)-B264-A264)","v":0},0,0,0,0,0,0,0,0,0,0,0,0]
[{"$f":"IF(AND(YEAR(E265)=2013,YEAR(F265)=2014,'front utente'!$I$15=\"si\" ),DATE(2013,12,31)-E265,0)","v":0},{"$f":"IF(AND(YEAR(E265)=2012,YEAR(F265)=2013,'front utente'!$I$15=\"si\"),F265-DATE(2013,1,1),0)","v":0},null,null,{"$f":"'front utente'!C281","v":"00:00:00"},{"$f":"'front utente'!D281","v":"00:00:00"},1,{"$f":"IF(MAX($F$11:F264)>=F265,0,F265-MAX($F$11:F264)-MIN(I265:U265)-B265-A265)","v":0},0,0,0,0,0,0,0,0,0,0,0,0]
[]
[]
[]
[]
[]
[]
[null,null,null,null,null,{"$f":"MAX(F11:F265)","v":"00:00:00"}]

{"sheet":"calcoloperiodi","index":17,"n_rows":110,"n_cols":18,"rows_kept":110,"cut":false,"hidden":false,"merged":[]}
[]
[null,null,null,null,"durata singolo periodo","durata totale con periodo precedente",null,null,null,null,null,null,null,null,null,null,"giorni in comune"]
[null,{"$f":"'front utente'!C27","v":"00:00:00"},{"$f":"'front utente'!D27","v":"00:00:00"},null,{"$f":"IF(B3>0,C3-B3+1,0)","v":0},{"$f":"E3","v":0},null,null,null,null,null,null,null,null,null,null,{"$f":"IF( AND(O3=1,C3>0),E3, IF(R3>0,R3, P3)+M3+L3+K3+J3+I3+H3)","v":0}]
[null,{"$f":"'front utente'!C28","v":"00:00:00"},{"$f":"'front utente'!D28","v":"00:00:00"},null,{"$f":"IF(B4>0,C4-B4+1,0)","v":0},{"$f":"IF(B4>0,E4+F3,0)","v":0},{"$f":"IF(AND(B4>=B3,C4<=C3),E4,0)","v":0},null,null,null,null,null,null,{"$f":"IF(AND(B4<=C3,B4>0,C4>0),C3-B4+1,0)","v":0},{"$f":"IF( AND(B4<=MAX(C3:C3),C4<=MAX(C3:C3)),1,0)","v":1},{"$f":"IF(G4>0,G4,N4)","v":0},0]
[null,{"$f":"'front utente'!C29","v":"00:00:00"},{"$f":"'front utente'!D29","v":"00:00:00"},null,0,{"$f":"IF(B5>0,E5+F4,0)","v":0},{"$f":"IF(AND(B5>=B4,C5<=C4),E5,0)","v":0},null,null,null,null,null,null,{"$f":"IF(   AND(B5<=C4,B5>0,C5>0),C4-B5+1,0)","v":0},{"$f":"IF( AND(B5<=MAX(C3:C4),C5<=MAX(C3:C4)),1,0)","v":1},{"$f":"IF(G5>0,G5,N5)","v":0},0,{"$f":"IF(B5>0,MAX(C2:C4)-B5,0)","v":0}]
[null,{"$f":"'front utente'!C30","v":"00:00:00"},{"$f":"'front utente'!D30","v":"00:00:00"},null,0,0,{"$f":"IF(AND(B6>=B5,C6<=C5),E6,0)","v":0},null,null,null,null,null,null,{"$f":"IF(AND(B6<=C5,B6>0,C6>0),C5-B6+1,0)","v":0},{"$f":"IF( AND(B6<=MAX(C3:C5),C6<=MAX(C3:C5)),1,0)","v":1},0,0,{"$f":"IF(B6>0,MAX(C3:C5)-B6,0)","v":0}]
[null,{"$f":"'front utente'!C31","v":"00:00:00"},{"$f":"'front utente'!D31","v":"00:00:00"},null,0,0,0,null,null,null,null,null,null,0,{"$f":"IF( AND(B7<=MAX(C3:C6),C7<=MAX(C3:C6)),1,0)","v":1},0,0,{"$f":"IF(B7>0,MAX(C4:C6)-B7,0)","v":0}]
[null,{"$f":"'front utente'!C32","v":"00:00:00"},{"$f":"'front utente'!D32","v":"00:00:00"},null,0,0,0,null,null,null,null,null,null,0,{"$f":"IF( AND(B8<=MAX(C3:C7),C8<=MAX(C3:C7)),1,0)","v":1},0,0,0]
[null,{"$f":"'front utente'!C33","v":"00:00:00"},{"$f":"'front utente'!D33","v":"00:00:00"},null,0,0,0,{"$f":"IF(AND(B9<=C2,B9>0,C9>0),C2-B9+1,0)","v":0},{"$f":"IF(AND(B9<=C3,B9>0,C9>0),C3-B9+1,0)","v":0},{"$f":"IF(AND(B9<=C4,B9>0,C9>0),C4-B9+1,0)","v":0},{"$f":"IF(AND(B9<=C5,B9>0,C9>0),C5-B9+1,0)","v":0},{"$f":"IF(AND(B9<=C6,B9>0,C9>0),C6-B9+1,0)","v":0},{"$f":"IF(AND(B9<=C7,B9>0,C9>0),C7-B9+1,0)","v":0},0,{"$f":"IF( AND(B9<=MAX(C3:C8),C9<=MAX(C3:C8)),1,0)","v":1},0,0,0]
[null,{"$f":"'front utente'!C34","v":"00:00:00"},{"$f":"'front utente'!D34","v":"00:00:00"},null,0,0,0,{"$f":"IF(AND(B10<=C3,B10>0,C10>0),C3-B10+1,0)","v":0},{"$f":"IF(AND(B10<=C4,B10>0,C10>0),C4-B10+1,0)","v":0},{"$f":"IF(AND(B10<=C5,B10>0,C10>0),C5-B10+1,0)","v":0},{"$f":"IF(AND(B10<=C6,B10>0,C10>0),C6-B10+1,0)","v":0},{"$f":"IF(AND(B10<=C7,B10>0,C10>0),C7-B10+1,0)","v":0},{"$f":"IF(AND(B10<=C8,B10>0,C10>0),C8-B10+1,0)","v":0},0,{"$f":"IF( AND(B10<=MAX(C3:C9),C10<=MAX(C3:C9)),1,0)","v":1},0,{"$f":"IF( AND(O10=1,C10>0),E10, IF(R10>0,R10, P10)+M10+L10+K10+J10+I10+H10)","v":0},0]
[null,{"$f":"'front utente'!C35","v":"00:00:00"},{"$f":"'front utente'!D35","v":"00:00:00"},null,0,0,0,0,0,0,0,0,0,0,{"$f":"IF( AND(B11<=MAX(C3:C10),C11<=MAX(C3:C10)),1,0)","v":1},0,0,0]
[null,{"$f":"'front utente'!C36","v":"00:00:00"},{"$f":"'front utente'!D36","v":"00:00:00"},null,0,0,0,0,0,0,0,0,0,0,{"$f":"IF( AND(B12<=MAX(C3:C11),C12<=MAX(C3:C11)),1,0)","v":1},0,0,0]
[null,{"$f":"'front utente'!C37","v":"00:00:00"},{"$f":"'front utente'!D37","v":"00:00:00"},null,0,0,0,0,0,0,0,0,0,0,{"$f":"IF( AND(B13<=MAX(C3:C12),C13<=MAX(C3:C12)),1,0)","v":1},0,0,0]
[null,{"$f":"'front utente'!C38","v":"00:00:00"},{"$f":"'front utente'!D38","v":"00:00:00"},null,0,0,0,0,0,0,0,0,0,0,{"$f":"IF( AND(B14<=MAX(C4:C13),C14<=MAX(C4:C13)),1,0)","v":1},0,0,0]
[null,{"$f":"'front utente'!C39","v":"00:00:00"},{"$f":"'front utente'!D39","v":"00:00:00"},null,0,0,0,0,0,0,0,0,0,0,1,0,0,0]
[null,{"$f":"'front utente'!C40","v":"00:00:00"},{"$f":"'front utente'!D40","v":"00:00:00"},null,0,0,0,0,0,0,0,0,0,0,1,0,0,0]
[null,{"$f":"'front utente'!C41","v":"00:00:00"},{"$f":"'front utente'!D41","v":"00:00:00"},null,0,0,0,0,0,0,0,0,0,0,1,0,0,0]
[null,{"$f":"'front utente'!C42","v":"00:00:00"},{"$f":"'front utente'!D42","v":"00:00:00"},null,0,0,0,0,0,0,0,0,0,0,1,0,0,0]
[null,{"$f":"'front utente'!C43","v":"00:00:00"},{"$f":"'front utente'!D43","v":"00:00:00"},null,0,0,0,0,0,0,0,0,0,0,1,0,0,0]
[null,{"$f":"'front utente'!C44","v":"00:00:00"},{"$f":"'front utente'!D44","v":"00:00:00"},null,0,0,0,0,0,0,0,0,0,0,1,0,0,0]
[null,{"$f":"'front utente'!C45","v":"00:00:00"},{"$f":"'front utente'!D45","v":"00:00:00"},null,0,0,0,0,0,0,0,0,0,0,1,0,0,0]
[null,{"$f":"'front utente'!C46","v":"00:00:00"},{"$f":"'front utente'!D46","v":"00:00:00"},null,0,0,0,0,0,0,0,0,0,0,1,0,0,0]
[null,{"$f":"'front utente'!C47","v":"00:00:00"},{"$f":"'front utente'!D47","v":"00:00:00"},null,0,0,0,0,0,0,0,0,0,0,1,0,0,0]
[null,{"$f":"'front utente'!C48","v":"00:00:00"},{"$f":"'front utente'!D48","v":"00:00:00"},null,0,0,0,0,0,0,0,0,0,0,1,0,0,0]
[null,{"$f":"'front utente'!C49","v":"00:00:00"},{"$f":"'front utente'!D49","v":"00:00:00"},null,0,0,0,0,0,0,0,0,0,0,1,0,0,0]
[null,{"$f":"'front utente'!C50","v":"00:00:00"},{"$f":"'front utente'!D50","v":"00:00:00"},null,0,0,0,0,0,0,0,0,0,0,1,0,0,0]
[null,{"$f":"'front utente'!C51","v":"00:00:00"},{"$f":"'front utente'!D51","v":"00:00:00"},null,0,0,0,0,0,0,0,0,0,0,1,0,0,0]
[null,{"$f":"'front utente'!C52","v":"00:00:00"},{"$f":"'front utente'!D52","v":"00:00:00"},null,{"$f":"IF(B28>0,C28-B28+1,0)","v":0},{"$f":"IF(B28>0,E28+F27,0)","v":0},0,0,0,0,0,0,0,0,1,0,0,0]
[null,{"$f":"'front utente'!C53","v":"00:00:00"},{"$f":"'front utente'!D53","v":"00:00:00"},null,0,0,0,0,0,0,0,0,0,0,1,0,0,0]
[null,{"$f":"'front utente'!C54","v":"00:00:00"},{"$f":"'front utente'!D54","v":"00:00:00"},null,0,0,0,0,0,0,0,0,0,0,1,0,0,0]
[null,{"$f":"'front utente'!C55","v":"00:00:00"},{"$f":"'front utente'!D55","v":"00:00:00"},null,0,0,0,0,0,0,0,0,0,0,1,0,0,0]
[null,{"$f":"'front utente'!C56","v":"00:00:00"},{"$f":"'front utente'!D56","v":"00:00:00"},null,0,0,0,0,0,0,0,0,0,0,1,0,0,0]
[null,{"$f":"'front utente'!C57","v":"00:00:00"},{"$f":"'front utente'!D57","v":"00:00:00"},null,0,0,0,0,0,0,0,0,0,0,1,0,0,0]
[null,{"$f":"'front utente'!C58","v":"00:00:00"},{"$f":"'front utente'!D58","v":"00:00:00"},null,0,0,0,0,0,0,0,0,0,0,1,0,0,0]
[null,{"$f":"'front utente'!C59","v":"00:00:00"},{"$f":"'front utente'!D59","v":"00:00:00"},null,0,0,0,0,0,0,0,0,0,0,1,0,0,0]
[null,{"$f":"'front utente'!C60","v":"00:00:00"},{"$f":"'front utente'!D60","v":"00:00:00"},null,0,0,0,0,0,0,0,0,0,0,1,0,0,0]
[null,{"$f":"'front utente'!C61","v":"00:00:00"},{"$f":"'front utente'!D61","v":"00:00:00"},null,0,0,0,0,0,0,0,0,0,0,1,0,0,0]
[null,{"$f":"'front utente'!C62","v":"00:00:00"},{"$f":"'front utente'!D62","v":"00:00:00"},null,0,0,0,0,0,0,0,0,0,0,1,0,0,0]
[null,{"$f":"'front utente'!C63","v":"00:00:00"},{"$f":"'front utente'!D63","v":"00:00:00"},null,0,0,0,0,0,0,0,0,0,0,1,0,0,0]
[null,{"$f":"'front utente'!C64","v":"00:00:00"},{"$f":"'front utente'!D64","v":"00:00:00"},null,0,0,0,0,0,0,0,0,0,0,1,0,0,0]
[null,{"$f":"'front utente'!C65","v":"00:00:00"},{"$f":"'front utente'!D65","v":"00:00:00"},null,0,0,0,0,0,0,0,0,0,0,1,0,0,0]
[null,{"$f":"'front utente'!C66","v":"00:00:00"},{"$f":"'front utente'!D66","v":"00:00:00"},null,0,0,0,0,0,0,0,0,0,0,1,0,0,0]
[null,{"$f":"'front utente'!C67","v":"00:00:00"},{"$f":"'front utente'!D67","v":"00:00:00"},null,{"$f":"IF(B43>0,C43-B43+1,0)","v":0},{"$f":"IF(B43>0,E43+F42,0)","v":0},{"$f":"IF(AND(B43>=B42,C43<=C42),E43,0)","v":0},0,0,0,0,0,0,{"$f":"IF(AND(B43<=C42,B43>0,C43>0),C42-B43+1,0)","v":0},1,{"$f":"IF(G43>0,G43,N43)","v":0},0,{"$f":"IF(B43>0,MAX(C40:C42)-B43,0)","v":0}]
[null,{"$f":"'front utente'!C68","v":"00:00:00"},{"$f":"'front utente'!D68","v":"00:00:00"},null,0,0,0,0,0,0,0,0,0,0,1,0,0,0]
[null,{"$f":"'front utente'!C69","v":"00:00:00"},{"$f":"'front utente'!D69","v":"00:00:00"},null,0,0,0,0,0,0,0,0,0,0,1,0,0,0]
[null,{"$f":"'front utente'!C70","v":"00:00:00"},{"$f":"'front utente'!D70","v":"00:00:00"},null,0,0,0,0,0,0,0,0,0,0,1,0,0,0]
[null,{"$f":"'front utente'!C71","v":"00:00:00"},{"$f":"'front utente'!D71","v":"00:00:00"},null,0,0,0,0,0,0,0,0,0,0,1,0,0,0]
[null,{"$f":"'front utente'!C72","v":"00:00:00"},{"$f":"'front utente'!D72","v":"00:00:00"},null,0,0,0,0,0,0,0,0,0,0,1,0,0,0]
[null,{"$f":"'front utente'!C73","v":"00:00:00"},{"$f":"'front utente'!D73","v":"00:00:00"},null,0,0,0,0,0,0,0,0,0,0,1,0,0,0]
[null,{"$f":"'front utente'!C74","v":"00:00:00"},{"$f":"'front utente'!D74","v":"00:00:00"},null,0,0,0,0,0,0,0,0,0,0,1,0,0,0]
[null,{"$f":"'front utente'!C75","v":"00:00:00"},{"$f":"'front utente'!D75","v":"00:00:00"},null,0,0,0,0,0,0,0,0,0,0,1,0,0,0]
[null,{"$f":"'front utente'!C76","v":"00:00:00"},{"$f":"'front utente'!D76","v":"00:00:00"},null,0,0,0,0,0,0,0,0,0,0,1,0,0,0]
[null,{"$f":"'front utente'!C77","v":"00:00:00"},{"$f":"'front utente'!D77","v":"00:00:00"},null,0,0,0,0,0,0,0,0,0,0,1,0,0,0]
[null,{"$f":"'front utente'!C78","v":"00:00:00"},{"$f":"'front utente'!D78","v":"00:00:00"},null,0,0,0,0,0,0,0,0,0,0,1,0,0,0]
[null,{"$f":"'front utente'!C79","v":"00:00:00"},{"$f":"'front utente'!D79","v":"00:00:00"},null,0,0,0,0,0,0,0,0,0,0,1,0,0,0]
[null,{"$f":"'front utente'!C80","v":"00:00:00"},{"$f":"'front utente'!D80","v":"00:00:00"},null,0,0,0,0,0,0,0,0,0,0,1,0,0,0]
[null,{"$f":"'front utente'!C81","v":"00:00:00"},{"$f":"'front utente'!D81","v":"00:00:00"},null,0,0,0,0,0,0,0,0,0,0,1,0,0,0]
[null,{"$f":"'front utente'!C82","v":"00:00:00"},{"$f":"'front utente'!D82","v":"00:00:00"},null,0,0,0,0,0,0,0,0,0,0,1,0,0,0]
[null,{"$f":"'front utente'!C83","v":"00:00:00"},{"$f":"'front utente'!D83","v":"00:00:00"},null,0,0,0,0,0,0,0,0,0,0,1,0,0,0]
[null,{"$f":"'front utente'!C84","v":"00:00:00"},{"$f":"'front utente'!D84","v":"00:00:00"},null,0,0,0,0,0,0,0,0,0,0,1,0,0,0]
[null,{"$f":"'front utente'!C85","v":"00:00:00"},{"$f":"'front utente'!D85","v":"00:00:00"},null,0,0,0,0,0,0,0,0,0,0,1,0,0,0]
[null,{"$f":"'front utente'!C86","v":"00:00:00"},{"$f":"'front utente'!D86","v":"00:00:00"},null,0,0,0,0,0,0,0,0,0,0,1,0,0,0]
[null,{"$f":"'front utente'!C87","v":"00:00:00"},{"$f":"'front utente'!D87","v":"00:00:00"},null,0,0,0,0,0,0,0,0,0,0,1,0,0,0]
[null,{"$f":"'front utente'!C88","v":"00:00:00"},{"$f":"'front utente'!D88","v":"00:00:00"},null,0,0,0,0,0,0,0,0,0,0,1,0,0,0]
[null,{"$f":"'front utente'!C89","v":"00:00:00"},{"$f":"'front utente'!D89","v":"00:00:00"},null,0,0,0,0,0,0,0,0,0,0,1,0,0,0]
[null,{"$f":"'front utente'!C90","v":"00:00:00"},{"$f":"'front utente'!D90","v":"00:00:00"},null,0,0,0,0,0,0,0,0,0,0,1,0,0,0]
[null,{"$f":"'front utente'!C91","v":"00:00:00"},{"$f":"'front utente'!D91","v":"00:00:00"},null,0,0,0,0,0,0,0,0,0,0,1,0,0,0]
[null,{"$f":"'front utente'!C92","v":"00:00:00"},{"$f":"'front utente'!D92","v":"00:00:00"},null,0,0,0,0,0,0,0,0,0,0,1,0,0,0]
[null,{"$f":"'front utente'!C93","v":"00:00:00"},{"$f":"'front utente'!D93","v":"00:00:00"},null,0,0,0,0,0,0,0,0,0,0,1,0,0,0]
[null,{"$f":"'front utente'!C94","v":"00:00:00"},{"$f":"'front utente'!D94","v":"00:00:00"},null,0,0,0,0,0,0,0,0,0,0,1,0,0,0]
[null,{"$f":"'front utente'!C95","v":"00:00:00"},{"$f":"'front utente'!D95","v":"00:00:00"},null,0,0,0,0,0,0,0,0,0,0,1,0,0,0]
[null,{"$f":"'front utente'!C96","v":"00:00:00"},{"$f":"'front utente'!D96","v":"00:00:00"},null,0,0,0,0,0,0,0,0,0,0,1,0,0,0]
[null,{"$f":"'front utente'!C97","v":"00:00:00"},{"$f":"'front utente'!D97","v":"00:00:00"},null,0,0,0,0,0,0,0,0,0,0,1,0,0,0]
[null,{"$f":"'front utente'!C98","v":"00:00:00"},{"$f":"'front utente'!D98","v":"00:00:00"},null,0,0,0,{"$f":"IF(AND(B74<=C67,B74>0,C74>0),C67-B74+1,0)","v":0},{"$f":"IF(AND(B74<=C68,B74>0,C74>0),C68-B74+1,0)","v":0},{"$f":"IF(AND(B74<=C69,B74>0,C74>0),C69-B74+1,0)","v":0},{"$f":"IF(AND(B74<=C70,B74>0,C74>0),C70-B74+1,0)","v":0},{"$f":"IF(AND(B74<=C71,B74>0,C74>0),C71-B74+1,0)","v":0},{"$f":"IF(AND(B74<=C72,B74>0,C74>0),C72-B74+1,0)","v":0},0,1,0,{"$f":"IF( AND(O74=1,C74>0),E74, IF(R74>0,R74, P74)+M74+L74+K74+J74+I74+H74)","v":0},0]
[null,{"$f":"'front utente'!C99","v":"00:00:00"},{"$f":"'front utente'!D99","v":"00:00:00"},null,0,0,0,0,0,0,0,0,0,0,1,0,0,0]
[null,{"$f":"'front utente'!C100","v":"00:00:00"},{"$f":"'front utente'!D100","v":"00:00:00"},null,0,0,0,0,0,0,0,0,0,0,1,0,0,0]
[null,{"$f":"'front utente'!C101","v":"00:00:00"},{"$f":"'front utente'!D101","v":"00:00:00"},null,0,0,0,0,0,0,0,0,0,0,1,0,0,0]
[null,{"$f":"'front utente'!C102","v":"00:00:00"},{"$f":"'front utente'!D102","v":"00:00:00"},null,0,0,0,0,0,0,0,0,0,0,{"$f":"IF( AND(B78<=MAX(C68:C77),C78<=MAX(C68:C77)),1,0)","v":1},0,0,0]
[null,{"$f":"'front utente'!C103","v":"00:00:00"},{"$f":"'front utente'!D103","v":"00:00:00"},null,0,0,0,0,0,0,0,0,0,0,1,0,0,0]
[null,{"$f":"'front utente'!C104","v":"00:00:00"},{"$f":"'front utente'!D104","v":"00:00:00"},null,0,0,0,0,0,0,0,0,0,0,1,0,0,0]
[null,{"$f":"'front utente'!C105","v":"00:00:00"},{"$f":"'front utente'!D105","v":"00:00:00"},null,0,0,0,0,0,0,0,0,0,0,1,0,0,0]
[null,{"$f":"'front utente'!C106","v":"00:00:00"},{"$f":"'front utente'!D106","v":"00:00:00"},null,0,0,0,0,0,0,0,0,0,0,1,0,0,0]
[null,{"$f":"'front utente'!C107","v":"00:00:00"},{"$f":"'front utente'!D107","v":"00:00:00"},null,0,0,0,0,0,0,0,0,0,0,1,0,0,0]
[null,{"$f":"'front utente'!C108","v":"00:00:00"},{"$f":"'front utente'!D108","v":"00:00:00"},null,0,0,0,0,0,0,0,0,0,0,1,0,0,0]
[null,{"$f":"'front utente'!C109","v":"00:00:00"},{"$f":"'front utente'!D109","v":"00:00:00"},null,0,0,0,0,0,0,0,0,0,0,1,0,0,0]
[null,{"$f":"'front utente'!C110","v":"00:00:00"},{"$f":"'front utente'!D110","v":"00:00:00"},null,0,0,0,0,0,0,0,0,0,0,1,0,0,0]
[null,{"$f":"'front utente'!C111","v":"00:00:00"},{"$f":"'front utente'!D111","v":"00:00:00"},null,0,0,0,0,0,0,0,0,0,0,1,0,0,0]
[null,{"$f":"'front utente'!C112","v":"00:00:00"},{"$f":"'front utente'!D112","v":"00:00:00"},null,0,0,0,0,0,0,0,0,0,0,1,0,0,0]
[null,{"$f":"'front utente'!C113","v":"00:00:00"},{"$f":"'front utente'!D113","v":"00:00:00"},null,0,0,0,0,0,0,0,0,0,0,1,0,0,0]
[null,{"$f":"'front utente'!C114","v":"00:00:00"},{"$f":"'front utente'!D114","v":"00:00:00"},null,0,0,0,0,0,0,0,0,0,0,1,0,0,0]
[null,{"$f":"'front utente'!C115","v":"00:00:00"},{"$f":"'front utente'!D115","v":"00:00:00"},null,0,0,0,0,0,0,0,0,0,0,1,0,0,0]
[null,{"$f":"'front utente'!C116","v":"00:00:00"},{"$f":"'front utente'!D116","v":"00:00:00"},null,0,0,0,0,0,0,0,0,0,0,1,0,0,0]
[null,{"$f":"'front utente'!C117","v":"00:00:00"},{"$f":"'front utente'!D117","v":"00:00:00"},null,0,0,0,0,0,0,0,0,0,0,1,0,0,0]
[null,{"$f":"'front utente'!C118","v":"00:00:00"},{"$f":"'front utente'!D118","v":"00:00:00"},null,0,0,0,0,0,0,0,0,0,0,1,0,0,0]
[null,{"$f":"'front utente'!C119","v":"00:00:00"},{"$f":"'front utente'!D119","v":"00:00:00"},null,0,0,0,0,0,0,0,0,0,0,1,0,0,0]
[null,{"$f":"'front utente'!C120","v":"00:00:00"},{"$f":"'front utente'!D120","v":"00:00:00"},null,0,0,0,0,0,0,0,0,0,0,1,0,0,0]
[null,{"$f":"'front utente'!C121","v":"00:00:00"},{"$f":"'front utente'!D121","v":"00:00:00"},null,0,0,0,0,0,0,0,0,0,0,1,0,0,0]
[null,{"$f":"'front utente'!C122","v":"00:00:00"},{"$f":"'front utente'!D122","v":"00:00:00"},null,0,0,0,0,0,0,0,0,0,0,1,0,0,0]
[null,{"$f":"'front utente'!C123","v":"00:00:00"},{"$f":"'front utente'!D123","v":"00:00:00"},null,0,0,0,0,0,0,0,0,0,0,1,0,0,0]
[null,{"$f":"'front utente'!C124","v":"00:00:00"},{"$f":"'front utente'!D124","v":"00:00:00"},null,0,0,0,0,0,0,0,0,0,0,1,0,0,0]
[null,{"$f":"'front utente'!C125","v":"00:00:00"},{"$f":"'front utente'!D125","v":"00:00:00"},null,0,0,0,0,0,0,0,0,0,0,1,0,0,0]
[null,{"$f":"'front utente'!C126","v":"00:00:00"},{"$f":"'front utente'!D126","v":"00:00:00"},null,0,0,0,0,0,0,0,0,0,0,1,0,0,0]
[null,{"$f":"'front utente'!C127","v":"00:00:00"},{"$f":"'front utente'!D127","v":"00:00:00"},null,0,0,0,0,0,0,0,0,0,0,1,0,0,0]
[null,null,null,null,null,{"$f":"MAX(F3:F103)","v":0},null,null,null,null,null,null,null,null,null,{"$f":"SUM(P4:P103)","v":0},{"$f":"SUM(Q4:Q103)","v":0}]
[]
[]
[]
[]
[]
[null,null,{"$f":"MAX(C3:C103)+1","v":"1900-01-01"}]

{"sheet":"Foglio5","index":18,"n_rows":169,"n_cols":4,"rows_kept":169,"cut":false,"hidden":false,"merged":[[4,1,4,8],[168,3,168,5],[0,1,0,9],[1,1,1,9],[2,1,2,9],[3,1,3,9]]}
[null,"PREMESSA\nLa direttiva europea (di rango superiore alle norme nazionali)  sancisce il principio di \"non discirminazione\"  per i lavoratori dello stesso comparto,  e quindi per loro di percepire la stessa retribuzione dei loro colleghi di pari livello..\nIn buona sostanza e con riferimento ai casi specifici nella scuola pubblica, un dipendente scolastico (docente o ata) che ha effettuato per esempio 10 anni di supplenze, NON può percepire lo stesso stipendio del pari collega che ha effettuato 10 anni con contratto a tempo indeterminato.\nDifatti nel primo caso il supplente avrà sempre lo stipendio iniziale previsto anche dopo 10 anni - mentre chi è stato immesso in ruolo percepirà  lo stipendio adeguato alla sua anzianità di servizio."]
[null,"Detto ciò, il software CARRIERA LEX in ottemperanza alle sentenze dei tribunali, calcola la ricostruzione di carriera prevista per tali casi.\nNello specifico il programma effettua la progressione di carriera di questi supplenti calcolandone lo stipendio come se il loro servizio fosse stato di ruolo. \nInoltre il programma quantifica le differenze spettanti a tali supplenti, tra quanto hanno percepito effettivamente (in base al loro stipendio da supplenti) e tra quanto avrebbero dovuto percepire se il loro stipendio fosse stato identico ai pari colleghi di ruolo. "]
[null,"CONSIDERAZIONI: nella maggior parte dei casi le sentenza NON vanno a modificare l'eventuale ricostruzione al sidi dovuta all'immissione in ruolo dell'interessato.\nIl giudice nella sentenza riconosce un quantum risarcitorio da corrispondere al ricorrente in base ai periodi di supplenza effettuati.\nIn effetti la sentenza tocca solo l'aspetto risarcitorio e non quello giuridico del ricorrente.\nQuindi l'anzianità maturata normalmente e riconosciuta al sidi all'atto dell'immissione in ruolo,  non dovrà essere modificata.\nCiò vale nella maggior parte dei casi, a meno che nella sentenza non si faccia esplicito riferimento anche alla modifica dell'aspetto giuridico del ricorrente. In tal caso la posizione al sidi dovrà essere rivista e modificata attraverso un nuovo inquadramento ed una nuova ricostruzione di carriera.\n"]
[null,"PERIODI DA INSERIRE: nel software dovranno essere inseriti i periodi di supplenza / a tempo determinato, oggetto della sentenza.\nIl ricorrente all'atto della presentazione del ricorso, allegherà tutti i periodi svolti a tempo determinato - quindi dal primo giorno fino all'ultimo giorno di contratto a tempo determinato PRIMA della presentazione del ricorso.\nE di solito i periodi di servizio da inserire nel software, sono i periodi a tempo determinato svolti fino alla presentazione del ricorso.\n\nQuindi ribadendo, quando sarà pubblicata la sentenza (che di solito avviene qualche anno dopo la data del ricorso) BISOGNERA' prendere in considerazione i periodi a tempo determinato, che il ricorrente aveva svolto sino alla presentazione del ricorso - tralasciando i successivi  anni eventualmente svolti. \nOvviamente il giudice in qualche caso,  potrà decidere che dovranno essere presi in considerazione anche periodi futuri o magari fino all'immissione in ruolo."]
[null,"Istruzioni per l'inserimento dei dati nel software"]
[]
[null,"Ovviamente i dati da inserire nel software devono essere dedotti dalla lettura della sentenza."]
[null,"In particolare il PQM della sentenza (la parte finale) riporta nella maggior parte dei casi"]
[null,"le modalità di calcolo che devono essere utilizzate per la quantificazione di quanto"]
[null,"spettante al ricorrente."]
[null,"Vediamo qualche esempio di sentenze effettivamente emesse dai tribunali."]
[null,"Nello stralcio di sentenza sotto riprodotta, il tribunale analizza il ricorso di un dipendente"]
[null,"scolastico assunto a tempo determinato con varie supplenze annuali."]
[null,"Il ricorrente chiede che il periodo svolto a tempo determinato, gli sia interamente riconosciuto"]
[null,"con la stessa progressione di carriera del personale di ruolo, e quindi con la stessa retribuzione."]
[null,"Il giudice ha riconosciuto la progressione solo da una certa data: 29/09/2001 - ed inoltre"]
[null,"ha riconosciuto le differenze retributive all'interessato, solo dal 17/01/2006 in poi (per via della "]
[null,"prescrizione quinquennale riconosciuta dalla sentenza)"]
[null,"Ecco lo stralcio della sentenza utile alla ricostruzione:"]
[]
[]
[]
[]
[]
[]
[]
[]
[]
[]
[]
[]
[]
[]
[]
[]
[]
[]
[]
[]
[]
[]
[]
[]
[]
[]
[]
[]
[]
[]
[]
[]
[]
[]
[]
[]
[]
[]
[]
[]
[]
[]
[]
[]
[]
[]
[]
[]
[]
[]
[]
[]
[]
[]
[]
[]
[]
[]
[]
[]
[]
[]
[]
[]
[]
[]
[]
[]
[]
[]
[]
[]
[]
[]
[]
[]
[]
[]
[]
[]
[]
[]
[]
[]
[]
[]
[]
[]
[]
[]
[]
[]
[]
[]
[]
[]
[]
[]
[]
[]
[]
[]
[]
[]
[]
[]
[]
[]
[]
[null,null,null,"Relativamente all'esempio di cui sopra, ecco come operare con il software:"]
[]
[]
[]
[]
[]
[]
[]
[]
[]
[]
[]
[]
[]
[]
[]
[]
[]
[]
[]
[]
[]
[]
[]
[]
[]
[]
[]
[]
[]
[]
[]
[]
[]
[]
[]
[]
[]
[]
[]
[null,null,null,"TORNA"]

{"sheet":"Foglio2","index":19,"n_rows":460,"n_cols":46,"rows_kept":460,"cut":false,"hidden":false,"merged":[[12,11,15,12],[18,11,18,12],[16,11,17,12],[22,12,23,14],[19,11,19,12],[28,3,28,4],[20,11,20,13],[26,6,26,7],[27,7,27,9],[20,9,20,10],[43,1,45,12],[42,1,42,12],[18,5,18,9],[23,9,24,11],[27,0,27,1],[20,1,20,3],[20,4,20,7],[24,3,24,5],[28,7,28,8],[20,0,23,0],[83,0,83,1],[84,0,84,1],[85,0,85,1],[89,0,89,2],[87,2,87,7],[34,2,34,3],[35,2,35,3],[36,2,36,3],[80,0,80,7],[81,4,81,6],[103,0,103,1],[101,5,101,8],[110,0,110,3],[114,7,114,8],[112,0,112,3],[115,0,115,3],[111,0,111,3],[113,0,113,3],[245,1,255,1],[234,2,234,8],[227,8,233,8],[227,4,227,5],[116,0,116,3],[117,0,117,3],[233,4,233,5],[232,4,232,5],[231,4,231,5],[230,4,230,5],[226,6,226,8],[226,4,226,5],[179,9,179,10],[198,22,198,23],[143,11,143,13],[143,14,144,14],[176,15,177,21],[286,1,286,2],[273,2,278,2],[229,4,229,5],[228,4,228,5],[280,1,280,2],[144,44,145,44],[141,43,141,44],[201,7,202,7],[225,2,225,8],[122,0,122,3],[173,0,178,0],[201,2,202,2],[145,1,145,6],[201,3,201,5],[199,2,199,5],[109,0,109,3],[106,0,106,3],[102,0,102,1],[107,0,107,3],[144,45,145,45],[123,26,124,31],[124,15,124,21],[145,25,145,29],[144,42,145,42],[144,43,145,43],[106,11,106,14],[99,14,99,15],[92,11,92,13],[47,12,59,15],[173,35,173,38],[118,0,118,3],[119,0,119,3],[120,0,120,3],[121,0,121,3],[108,0,108,3],[30,2,30,9],[91,11,91,13],[99,9,99,10],[93,11,93,13],[88,5,88,9],[93,5,93,8],[31,2,31,9],[91,2,91,4],[83,5,83,6],[33,2,33,3]]}
[1,{"$f":"Foglio1!N1","v":"Coll.Sc. "},null,null,null,null,null,{"$f":"IF(qualifica=B1,1,0)","v":0},{"$f":"IF(H1>0,A1,0)","v":0}]
[2,{"$f":"Foglio1!N2","v":"C.S. Istr."},null,null,null,null,null,{"$f":"IF(qualifica=B2,2,0)","v":0},{"$f":"IF(H2>0,A2,0)","v":0}]
[3,{"$f":"Foglio1!N3","v":"Ass.A.T."},null,null,null,null,null,{"$f":"IF(qualifica=B3,3,0)","v":0},0]
[4,{"$f":"Foglio1!N4","v":"Coord. A/T"},null,null,null,null,null,{"$f":"IF(qualifica=B4,4,0)","v":0},0]
[5,null,null,null,null,null,null,{"$f":"IF(qualifica=B5,5,0)","v":0},0]
[6,{"$f":"Foglio1!N6","v":"Doc. materna elem."},null,null,null,null,null,{"$f":"IF(qualifica=B6,6,0)","v":0},0]
[7,{"$f":"Foglio1!N7","v":"Doc.Dipl."},null,null,null,null,null,{"$f":"IF(qualifica=B7,7,0)","v":0},0]
[8,{"$f":"Foglio1!N8","v":"Doc. laureato 1° Grado"},null,null,null,null,null,{"$f":"IF(qualifica=B8,8,0)","v":8},8]
[9,{"$f":"Foglio1!N9","v":"Doc. laureato 2° Grado"},null,null,null,null,null,{"$f":"IF(qualifica=B9,9,0)","v":0},0]
[10,"Doc. Religione Media e Sup. incaricato annuale",null,null,null,"numero qualfica",{"$f":"SUM(H1:H13)","v":8},{"$f":"IF(qualifica=B10,9,0)","v":0},0,null,null,"aa","mm","gg"]
[11,"Doc. Religione Materna Elementare incaricato annuale",null,null,null,null,null,{"$f":"IF(qualifica=B11,6,0)","v":0},0]
[12,"Docente Religione Media e sup. di ruolo",null,null,null,null,null,{"$f":"IF(qualifica=B12,9,0)","v":0},0]
[13,"Docente Religione Materna elementare di ruolo",null,null,null,null,null,{"$f":"IF(qualifica=B13,6,0)","v":0},0,null,null,{"$f":"IF(AND((RIGHT(Foglio8!G6,5)=\"/2010\"),coef=1),\"VERSIONE INTEGRALE\",\" Versione Demo - Inserire estremi fattura - clicca qui\")","v":"VERSIONE INTEGRALE"}]
[]
[]
[]
[]
[]
[null,null,null,null,null,"Ver. 2015"]
[null,"sono da compilare solo i campi a sfondo bianco"]
["rigqual= il n° della riga delle qualifica","Nominativo:",null,null,null,null,null,null,null,"Codice Fiscale:"]
[]
[null,"Premere CTRL+F4 per chiudere il programma",null,null,null,null,null,null,null,null,null,null,"se non si hanno particolari esigenze, rimanere le date intatte."]
[null,null,null,null,null,null,null,null,null,"Il decreto sarà visualizzato solo per il periodo che va - Dal:"]
[{"$f":"SUM(I1:I13)","v":8},null,"Qualifica",{"$f":"'front utente'!R25","v":"Doc. laureato 1° Grado"},null,null,{"$f":"QUAL","v":8},{"$f":"A31","v":"Decorrenza giuridica ruolo (gg/mm/aa)"},{"$f":"'front utente'!G13-365","v":-365},null,null,null,"1986-09-01","Al:",{"$f":"principale!E190","v":"00:00:00"}]
[null,"DOC REL.",{"$f":"IF(OR(qualifica=B10,qualifica=B11),\"X\",\"\")","v":""},null,null,null,null,null,"1990-09-01"]
[null,null,null,null,null,null,{"$f":"IF(OR(A25=10,A25=11),\"Decorrenza della ricostruzione / maturazione del beneficio\",\"Decorrenza  economica ruolo (gg/mm/aa)\")","v":"Decorrenza  economica ruolo (gg/mm/aa)"},null,{"$f":"decor","v":-365},null,"Differenza tra d.ec e dec. G.",null,{"$f":"YEAR(dececon)-YEAR(decor)","v":{"$error":"#NUM!"}},null,{"$f":"M27","v":{"$error":"#NUM!"}}]
["Il tetto di anzianità previsto per la qualifica scelta è di anni:",null,{"$f":"IF(OR(G25=1,G25=2,G25=3,G25=4),20,IF(OR(G25=6,G25=7),18,16))","v":16},"?",null,null,null,{"$f":"IF(OR(A25=10,A25=11),\"\",E106)","v":{"$error":"#NUM!"}}]
["Blocco di anni:",0,"a partire dalla data:  gg/mm/aaaa","2013-01-01",null,"?"]
[]
["Decorrenza giuridica ruolo (gg/mm/aa)",null,"Inserimento quadriennio "]
["Decorrenza della ricostruzione (gg/mm/aa)",null,"Per i docenti di religione non di ruolo - incaricati annuali, affinchè venga riconosciuta la Ricostruzione di Carriera, è necessario che abbiano effettuato un quadriennio di servizio,  anche discontinuo, precedente all'orario di cattedra.  Il quadriennio NON deve essere inserito anche nel pre ruolo, in quanto sarà calcolato automaticamente.  La Ricostruzione dovrà decorrere dall'anno avuto con orario di cattedra."]
[]
[null,null,"Anno Scolastico:",null,"1991/1992","dal:","1992-01-21","al:","1992-08-31"]
[null,null,"Anno Scolastico:",null,"2010/2011","dal:","2010-09-13","al:","2011-06-06"]
[null,null,"Anno Scolastico:",null,"2011/2012","dal:","2011-04-02","al:","2012-02-29"]
[null,null,"Anno Scolastico:",null,"2012/2013","dal:","2012-09-01","al:","2013-08-31"]
[]
[]
[]
[]
[]
[null,"Servizi pre ruolo da riconoscere"]
[null,"I servizi prestati prima della decorrenza giuridica / economica del ruolo, sono detti servizi pre ruolo, e vanno inseriti nelle righe bianche sottostanti. Per il personale docente i servizi pre ruolo da riconoscere sono quelli superiori a 180 gg. o svolti dal 1 Febbraio fino al termine delle lezioni: 31/08. Tali periodi saranno poi considerati come anno intero. Per il personale ATA invece, il servizio pre ruolo è quello effettivamente svolto. Inserire i periodi pre ruolo nella tabella sottostante. \nIl preruolo sarà poi riconosciuto in: 4 anni per intero + 2/3 come anzianità giuridica ed economica, ed 1/3 come anzianità solo economica.\nSe si vuole inserire un periodo di preruolo da riconoscere per INTERO all'atto della conferma in ruolo - inserire tale periodo nella tabella riservata al periodo da aggiungere per intero. "]
[]
[]
[]
[null,null,null,null,"DAL","AL",null,"GIORNI tot","ANNI","MESI","GIORNI"]
[null,null,null,null,null,null,{"$f":"DAY(F49)","v":0},{"$f":"IF(G49=0,0,IF(G49<31,DAYS360(E49,F49+1),DAYS360(E49,F49)))","v":0},{"$f":"INT(H49/360)","v":0},{"$f":"INT(INT(H49-(I49*360))/30)","v":0},{"$f":"H49-(I49*360)-(J49*30)","v":0}]
[null,null,null,null,null,null,0,0,0,{"$f":"INT(INT(H50-(I50*360))/30)","v":0},{"$f":"H50-(I50*360)-(J50*30)","v":0}]
[null,null,null,null,null,null,0,0,0,0,0]
[null,null,null,null,null,null,0,0,0,0,0]
[null,null,null,null,null,null,0,0,0,0,0]
[null,null,null,null,null,null,0,{"$f":"IF(G54=0,0,IF(G54<31,DAYS360(E54,F54+1),DAYS360(E54,F54)))","v":0},0,{"$f":"INT(INT(H54-(I54*360))/30)","v":0},{"$f":"H54-(I54*360)-(J54*30)","v":0}]
[null,null,null,null,null,null,0,0,0,0,0]
[null,null,null,null,null,null,0,0,0,0,0]
[null,null,null,null,null,null,0,0,0,0,0]
[null,null,null,null,null,null,0,0,0,0,0]
[null,null,null,null,null,null,0,0,0,0,0]
[null,null,null,null,null,null,0,{"$f":"IF(G60=0,0,IF(G60<31,DAYS360(E60,F60+1),DAYS360(E60,F60)))","v":0},0,0,0]
[null,null,null,null,null,null,0,0,0,0,0]
[null,null,null,null,null,null,0,0,0,0,0]
[null,null,null,null,null,null,0,0,0,0,0]
[null,null,null,null,null,null,0,0,0,0,0]
[null,null,null,null,null,null,0,0,0,0,0]
[null,null,null,null,null,null,0,0,0,0,0]
[null,null,null,null,null,null,0,0,0,0,0]
[null,null,null,null,null,null,0,0,0,0,0]
[null,null,null,null,null,null,0,0,0,0,0]
[null,null,null,null,null,null,0,0,0,0,0]
[null,null,null,null,null,null,0,0,0,0,0]
[null,null,null,null,null,null,0,0,0,0,0]
[null,null,null,null,null,null,0,0,0,0,0]
[null,null,null,null,null,null,0,0,0,0,0]
[null,null,null,null,null,null,0,0,0,0,0]
[null,null,null,null,null,null,0,0,0,0,0]
[null,null,null,null,null,null,0,0,0,0,0]
[null,null,null,null,null,null,null,{"$f":"SUM(H49:H77)","v":0},{"$f":"SUM(I49:I77)+I81","v":-1},{"$f":"SUM(J49:J77)+J81","v":0},{"$f":"SUM(K49:K77)+K81","v":0}]
[null,null,null,null,null,null,null,{"$f":"K78+J78*30+I78*360","v":-360},null,{"$f":"INT(INT(J78+K79)/12)","v":0},{"$f":"INT(K78/30)","v":0}]
[null,null,null,null,null,null,null,null,"anni","mesi","giorni"]
["Inserire il totale del servizio pre ruolo complessivo:",null,null,null,null,null,null,null,{"$f":"'front utente'!H18-1","v":-1},{"$f":"'front utente'!J18","v":0},{"$f":"'front utente'!L18","v":0}]
[null,null,null,null,null,null,null,null,"anni","mesi","giorni"]
[null,null,null,null,null,null,null,null,null,{"$f":"J78+K79","v":0}]
["aggiunge automaticamente in c84",null,{"$f":"IF(LEFT(qualifica,6)=\"Doc. R\",4,0)","v":0},null,null,"pre ruolo x ata",null,{"$f":"H79","v":-360},{"$f":"I78+J79+C84","v":-1},{"$f":"MOD(J83,12)","v":0},{"$f":"MOD(K78,30)","v":0}]
["4 anni se la qualifica",null,null,null,null,null,"preruolo per docenti:",null,{"$f":"C84+Foglio9!F168+Foglio2!I81","v":-1},{"$f":"J81","v":0},{"$f":"K81","v":0}]
["e doc.religione"]
[]
[null,null,"Eventuale periodo da aggiungere per INTERO al pre ruolo:",null,null,null,null,null,0,0,0,"?"]
[]
[{"$f":"IF(OR(rigqual=12,rigqual=13),\"N.B. Se il docente ha avuto una precedente ricostruzione come INCARICATO ANNUALE, clicca qui ->\",\"\")","v":""},null,null,{"$f":"IF(OR(rigqual=12,rigqual=13),\"?\",\"\")","v":""}]
[null,null,null,null,null,"anni","mesi","giorni"]
[null,null,"Servizio pre ruolo complessivo:",null,null,{"$f":"IF(QUAL<6,I84,I85)","v":-1},{"$f":"IF(QUAL<6,J84,J85)","v":0},{"$f":"IF(QUAL<6,K84,K85)","v":0},null,null,"By:","Editoriale Pagano s.n.c."]
[null,null,null,null,null,null,null,null,null,null,null,"Via Consalvo 99/h"]
[null,null,null,null,null,"Calcola il preruolo in 4 anni per intero + 2/3 anzianità giuridica ed economica ed 1/3 solo anzianità economica - (opzione consigliata)",null,null,null,null,null,"80125 Napoli - tel 081 5930413"]
[]
[]
[null,null,null,null,null,null,null,null,null,null,null,null,null,null,null,null,{"$f":"QUAL","v":8}]
[]
[]
[null,null,{"$f":"DAY(decor)","v":{"$error":"#NUM!"}},{"$f":"MONTH(decor)","v":{"$error":"#NUM!"}},{"$f":"YEAR(decor)+1+M27","v":{"$error":"#NUM!"}},{"$f":"CONCATENATE(C100,\"/\",D100,\"/\",E100)","v":{"$error":"#NUM!"}},null,{"$f":"DATEVALUE(F100)","v":{"$error":"#NUM!"}},"CONFERMA RUOLO",{"$f":"H100","v":{"$error":"#NUM!"}},null,{"$f":"360*Q100","v":{"$error":"#NUM!"}},{"$f":"30*R100","v":0},{"$f":"S100","v":0},"ANZIANTA RICONOSCIUTA ALLA CONFERMA IN RUOLO",null,{"$f":"C103+1","v":{"$error":"#NUM!"}},{"$f":"D103","v":0},{"$f":"E103","v":0}]
[null,null,null,null,null,null,null,"uguale giorni ec",{"$f":"IF(J180>CONF,ROUND((C104*360)+(D104*30)+E104,0),0)","v":{"$error":"#NUM!"}},null,"uguale giorni g+e:",{"$f":"ROUND(L100+M100+N100,0)","v":{"$error":"#NUM!"}}]
[null,null,"anni","mesi","giorni",{"$f":"IF(C103>=C28,\"Siccome è stato raggiunto il tetto di anzianità previsto dal DPR 399/88 c. 3 art.4, utilizzare l'opzione: CALCOLA L'ANZIANITA' PER INTERO\",\"\")","v":{"$error":"#NUM!"}}]
["Anzianità riconosciuta giuridica ed economica",null,{"$f":"IF(F94=H106,F92,'399'!E41+O27)+I88","v":{"$error":"#NUM!"}},{"$f":"IF(F94=H106,G92,'399'!F41)+J88","v":0},{"$f":"IF(F94=H106,K81,'399'!G41)+K88","v":0},null,null,null,null,"scelta del calcolo della progressione in riferimento alla sentenza",null,null,null,null,null,"3) Calcola la progressione di carriera considerando solo gli anni scolastici superiori a 180 gg. e calcolandoli come intero anno",null,null,null,null,null,null,null,{"$f":"principale!AN9","v":"1900-09-01"}]
["Anzianità riconosciuta solo economica",null,{"$f":"IF(F94=H106,0,'399'!E42)","v":0},{"$f":"IF(F94=H106,0,'399'!F42)","v":0},{"$f":"IF(F94=H106,0,'399'!G42)","v":0},null,null,null,"opzione scelta",{"$f":"'front utente'!K16","v":"1) Calcola la progressione di carriera considerando soli i giorni effettivamente lavorati"},null,null,null,null,null,null,null,null,null,null,null,null,null,{"$f":"principale!AN10","v":"1900-09-01"}]
[null,null,null,null,null,null,null,"Calcola il preruolo in 4 anni per intero + 2/3 anzianità giuridica ed economica ed 1/3 solo anzianità economica - (opzione consigliata)",null,{"$f":"'front utente'!AD22","v":"1) Calcola la progressione di carriera considerando soli i giorni effettivamente lavorati"},null,null,null,null,null,null,null,null,null,null,null,null,null,{"$f":"principale!AN11","v":"5000-09-01"}]
[null,"Anno di prova? 0=no  1=si",0,null,{"$f":"IF(C106=1,CONCATENATE(\"conferma in ruolo il: \",DAY(dececon),\"/\",MONTH(dececon),\"/\",YEAR(dececon)+1),CONCATENATE(\"conferma in ruolo il: \",DAY(dececon),\"/\",MONTH(dececon),\"/\",YEAR(dececon)))","v":{"$error":"#NUM!"}},null,null,"Mantieni il preruolo così come inserito - (calcola l'intera anzianità)",null,{"$f":"'front utente'!AD23","v":"2) Calcola la progressione di carriera considerando agli anni effettivamente trascorsi anche se non lavorati"},null,null,null,null,null,null,null,null,null,null,null,null,null,{"$f":"principale!AN12","v":"5000-09-01"}]
["passaggio al gradone successivo - senza tenere conto dell'eventuale arrotondamento all 1/1/96",null,null,null,null,"gg",null,"calcolo","data (non precisa perche su base di 360 gg)",null,"calcolo gg per aggiustare la data","valore della data corretta ed effettiva per il passagio di gradone",null,null,null,"data ri corretta in base al raggiungimento del tetto di anzionita di 16 o 18 anni","anzianità espressa in giorni da restituire al raggiungimento del tetto di anzianita:",{"$f":"(C104*12*30)+(D104*30)+E104+C104*5","v":0},null,null,null,null,null,{"$f":"principale!AN13","v":"5000-09-01"}]
[null,null,null,null,"3-8",{"$f":"365*3","v":1095},null,{"$f":"F108-anz","v":{"$error":"#NUM!"}},{"$f":"IF(H108>0,principale!J189,0)","v":{"$error":"#NUM!"}},{"$f":"principale!K189","v":1},{"$f":"I108-J108+F108+1","v":{"$error":"#NUM!"}},{"$f":"K108","v":{"$error":"#NUM!"}},{"$f":"K108","v":{"$error":"#NUM!"}},{"$f":"H108-DAYS360(CONF,L108)","v":{"$error":"#NUM!"}},{"$f":"'front utente'!$G$13+Foglio2!H108","v":{"$error":"#NUM!"}},{"$f":"IF($J$104=$J$105,L108, IF( $J$104=$J$106,O108+365*Q108,X103))","v":{"$error":"#NUM!"}},{"$f":"IF(YEAR(O108)>2012,1,0)","v":{"$error":"#NUM!"}},null,null,null,null,null,null,{"$f":"principale!AN14","v":"5000-09-01"}]
[null,null,null,null,"9-14",{"$f":"365*9","v":3285},null,{"$error":"#NUM!"},{"$f":"IF(H109>0,principale!L189,0)","v":{"$error":"#NUM!"}},{"$f":"principale!M189","v":1},{"$error":"#NUM!"},{"$error":"#NUM!"},{"$error":"#NUM!"},{"$error":"#NUM!"},{"$f":"'front utente'!$G$13+Foglio2!H109+2","v":{"$error":"#NUM!"}},{"$f":"IF($J$104=$J$105,L109, IF( $J$104=$J$106,O109+365*Q109,X104))","v":{"$error":"#NUM!"}},{"$error":"#NUM!"}]
[null,null,null,null,"15 - 20",{"$f":"365*15","v":5475},null,{"$error":"#NUM!"},{"$f":"IF(H110>0,principale!N189,0)","v":{"$error":"#NUM!"}},{"$f":"principale!O189","v":1},{"$error":"#NUM!"},{"$error":"#NUM!"},{"$error":"#NUM!"},{"$error":"#NUM!"},{"$f":"'front utente'!$G$13+Foglio2!H110+3","v":{"$error":"#NUM!"}},{"$error":"#NUM!"},{"$error":"#NUM!"}]
[null,null,null,null,"21-27",{"$f":"365*21","v":7665},null,{"$error":"#NUM!"},{"$f":"IF(H111>0,principale!P189,0)","v":{"$error":"#NUM!"}},{"$f":"principale!Q189","v":1},{"$error":"#NUM!"},{"$error":"#NUM!"},{"$error":"#NUM!"},{"$error":"#NUM!"},{"$f":"'front utente'!$G$13+Foglio2!H111+4","v":{"$error":"#NUM!"}},{"$error":"#NUM!"},{"$error":"#NUM!"}]
[null,null,null,null,"28-34",{"$f":"365*28","v":10220},null,{"$error":"#NUM!"},{"$f":"IF(H112>0,principale!R189,0)","v":{"$error":"#NUM!"}},{"$f":"principale!S189","v":1},{"$error":"#NUM!"},{"$error":"#NUM!"},{"$error":"#NUM!"},{"$error":"#NUM!"},{"$f":"'front utente'!$G$13+Foglio2!H112+5","v":{"$error":"#NUM!"}},{"$error":"#NUM!"},{"$error":"#NUM!"}]
[null,null,null,null,"oltre 35",{"$f":"365*35","v":12775},null,{"$error":"#NUM!"},{"$f":"IF(H112>0,principale!T189,0)","v":{"$error":"#NUM!"}},{"$f":"principale!U189","v":1},{"$error":"#NUM!"},{"$error":"#NUM!"},{"$error":"#NUM!"},{"$error":"#NUM!"},{"$f":"'front utente'!$G$13+Foglio2!H113+6","v":{"$error":"#NUM!"}},{"$error":"#NUM!"},{"$error":"#NUM!"}]
["decorrenza del tetto di anzianità: 16 o 18 anni",null,null,null,{"$f":"C28","v":16},{"$f":"365*E114","v":5840},null,{"$error":"#NUM!"},{"$f":"IF(H114>0,CONF+H114,0)","v":{"$error":"#NUM!"}},null,{"$f":"I114-(J114-H114)","v":{"$error":"#NUM!"}},{"$error":"#NUM!"},{"$error":"#NUM!"},{"$f":"H114-DAYS360(CONF,L114)","v":{"$error":"#NUM!"}},{"$f":"'front utente'!$G$13+Foglio2!H114","v":{"$error":"#NUM!"}},{"$error":"#NUM!"},{"$error":"#NUM!"}]
[null,null,null,null,null,null,null,"aggiusta la data del raggiungimento del tetto dpr 399/88 procratsinado di anni 3 in base del blocco dei 3 anni",null,{"$f":"IF(L114>0,L114+N114+1,0)","v":{"$error":"#NUM!"}}]
["passaggi ai successivi gradoni stipendiali",null,null,null,null,null,null,null,"anni da ritardare:",{"$f":"IF(J115>=annoblocco,numanni,0)","v":{"$error":"#NUM!"}}]
[null,null,null,null,null,null,null,null,"Nuovo tetto di anzianità in base al blocco:",{"$f":"J115+J116*365+1","v":{"$error":"#NUM!"}}]
[null,null,null,null,"3-8",{"$f":"P108","v":{"$error":"#NUM!"}}]
[null,null,null,null,"9-14",{"$error":"#NUM!"}]
[null,null,null,null,"15 - 20",{"$error":"#NUM!"}]
[null,null,null,null,"21-27",{"$error":"#NUM!"}]
[null,null,null,null,"28-34",{"$error":"#NUM!"}]
[null,null,null,null,"oltre 35",{"$error":"#NUM!"}]
[null,null,null,null,null,null,null,null,null,null,null,null,null,null,null,null,null,null,null,null,null,null,null,null,null,null,"trova solo lo stipendio - inserendo nelle caselle, data e anzianità, si avrà la stipendio corrispondente"]
[null,null,null,null,null,null,null,null,null,null,null,null,null,null,null,"stipendi tabellari relativi alla data"]
[null,null,null,null,"anz solo ec all 1/1/96 utile per arrot all 1 1 96","gg. passati dalla decorrenza","gg. di anzianita riconosciuta","TOTALE ANZIANITA' ALLA DATA","anni","mesi","giorni",null,"data","gradone",null,"da 0-2","da 3 - 8","da 9 - 14","da 15 - 20","da 21 - 27","da 28 - 34","oltre 35",null,"data","stipendio corrispondente",null,{"$f":"CONF","v":{"$error":"#NUM!"}},{"$f":"Q100","v":{"$error":"#NUM!"}},{"$f":"IF(anni1>=35,7,IF(anni1>=28,6,IF(anni1>=21,5,IF(anni1>=15,4,IF(anni1>=9,3,IF(anni1>=3,2,1))))))","v":{"$error":"#NUM!"}}]
[]
[]
[]
[null,null,null,null,null,null,null,null,null,null,null,null,null,null,null,null,null,null,null,null,null,null,null,null,null,null,"Retribuzione spettante alla conferma in ruolo",null,null,null,null,null,1,"0-2 anni"]
[null,null,null,null,null,null,null,null,null,null,null,null,null,null,null,null,null,null,null,null,null,null,null,null,null,null,{"$f":"VLOOKUP(data1,O153:V172,fasc+1)","v":{"$error":"#NUM!"}},null,null,{"$f":"fasc","v":{"$error":"#NUM!"}},null,null,2,"fascia di anzianità 3-8 anni"]
[null,null,null,null,null,null,null,null,null,null,null,null,null,null,null,null,null,null,null,null,null,null,null,null,null,null,{"$f":"VLOOKUP(AD131,AG130:AH136,2)","v":{"$error":"#NUM!"}},null,null,{"$f":"IF(YEAR(data1)>2008,1,0)","v":{"$error":"#NUM!"}},null,null,3,"fascia di anzianità 9-14 anni"]
[null,null,null,null,null,null,null,null,null,null,null,null,null,null,null,null,null,null,null,null,null,null,null,null,null,null,null,null,null,null,null,null,4,"fascia di anzianità 15-20 anni"]
[null,null,null,null,null,null,null,null,null,null,null,null,null,null,null,null,null,null,null,null,null,null,null,null,null,null,null,null,null,null,null,null,5,"fascia di anzianità 21-28 anni"]
[null,null,null,null,null,null,null,null,null,null,null,null,null,null,null,null,null,null,null,null,null,null,null,null,null,null,null,{"$f":"fasc","v":{"$error":"#NUM!"}},null,null,null,null,6,"fascia di anzianità 29-34 anni"]
[null,null,null,null,null,null,null,null,null,null,null,null,null,null,null,null,null,null,null,null,null,null,null,null,null,null,null,null,null,null,null,null,7,"fascia di anzianità oltre 35 anni"]
[]
[]
[]
[]
[null,null,null,null,null,null,null,null,null,null,null,null,null,null,null,null,null,null,null,null,null,null,null,null,null,null,null,null,null,null,null,null,null,null,null,null,null,null,null,"calcolo della rpd - la rpd va in vigore dal 1/07/1999"]
[null,null,null,null,null,null,null,null,null,null,null,null,null,null,null,null,null,null,null,null,null,null,null,null,null,null,null,null,null,null,"2003-01-01",null,null,null,null,null,null,null,null,null,null,null,null,"Valore qual:"]
[null,null,null,null,null,null,null,null,null,null,null,null,null,null,null,null,null,null,null,null,null,null,null,null,null,null,null,null,null,null,null,null,null,null,null,null,null,null,null,"Se qual e maggiore di 5 allora e docente",null,null,null,{"$f":"QUAL","v":8}]
[null,null,null,null,null,null,null,null,null,null,null,"Se ilblocco della carriera termina il 31/12/2012 - ed uno viene confermato in ruolo il 31/12/2011 - il blocco varrà per un solo anno e non per tre anni. Quindi vi deve essere la restituzione di un tot. Numero di giorni",null,null,"giorni di differenza da non conteggiare nel blocco"]
[null,null,null,null,null,null,null,null,null,null,null,"decorrenza ruolo","scadenza blocco",null,null,null,null,null,null,null,null,null,null,null,null,null,"1996-01-01",null,null,null,null,null,null,null,null,null,null,null,null,"R.p.D. dal","1999-07-01",null,"Anz. Rpd","Data Rpd","Valore rpd","Gradone"]
[null,"calcolo del blocco degli anni a partire da una data certa",null,null,null,null,null,null,"num. Giorni da non conteggiare nel blocco degli anni",{"$f":"IF(O146>0,O146,0)*K146","v":0},{"$f":"IF(numanni=0,0,1)","v":0},{"$f":"dececon","v":-365},{"$f":"annoblocco+numanni*365","v":"2013-01-01"},null,{"$f":"numanni*365-(M146-L146)","v":-41640},null,null,null,null,null,null,null,null,null,null,"MOTIVAZIONI"]
["3-8",{"$f":"P108","v":{"$error":"#NUM!"}},null,{"$f":"IF(CONF<=B147,B147+365*F147+G146-J146,\"\")","v":{"$error":"#NUM!"}},{"$f":"IF(CONF<=B147,B147,0)","v":{"$error":"#NUM!"}},{"$f":"IF(E147>=annoblocco,numanni,0)","v":{"$error":"#NUM!"}},{"$f":"IF(numanni>0,1,0)","v":0},{"$f":"3*365","v":1095},{"$f":"IF(CONF>J163,INT(H147/360),B164)","v":{"$error":"#NUM!"}},null,null,{"$f":"IF(H147<>\"\",1,0)","v":1},{"$f":"IF(L147>0,D147,\"\")","v":{"$error":"#NUM!"}},{"$f":"IF(H147>=sei,7,IF(H147>=cinque,6,IF(H147>=quattro,5,IF(H147>=tre,4,IF(H147>=due,3,IF(H147>=uno,2,IF(H147>=0,1,)))))))*L147","v":2},null,null,null,null,null,null,null,null,null,{"$f":"IF(M147<AA145,AA145,M147)","v":{"$error":"#NUM!"}},{"$f":"  VLOOKUP(X147,P180:W198,N147+1)","v":{"$error":"#NUM!"}},{"$f":"IF(M147<AA145,\"fascia anzianità anni 3 \",HLOOKUP(N147,P174:W179,2))","v":{"$error":"#NUM!"}},null,null,null,null,{"$f":"IF(X147>=AE142,\" - inclusa l'i.i.s. - Annuo lordo \",\" - annuo lordo \")","v":{"$error":"#NUM!"}},null,null,null,null,null,null,null,null,{"$f":"IF(QUAL>5,IF(AND(X147>=AO147,X147<>\"\"),\"si\",\"no\"),\"no\")","v":{"$error":"#NUM!"}},"1999-07-01",null,{"$f":"IF(AN147=\"si\",I147,\"\")","v":{"$error":"#NUM!"}},{"$f":"IF(AN147=\"si\",X147,\"\")","v":{"$error":"#NUM!"}},{"$f":"IF(AR147>0,HLOOKUP(AR147,tabrpd,Foglio2!AT147+1),\"\")","v":{"$error":"#NUM!"}},{"$f":"IF(AQ147>27,3,IF(Foglio2!AQ147>14,2,1))","v":{"$error":"#NUM!"}}]
["9-14",{"$f":"IF(YEAR(_sc3)>1995,_sc3,0)","v":{"$error":"#NUM!"}},null,{"$f":"IF(CONF<=B148,B148+365*F148+G147-J146,\"\")","v":{"$error":"#NUM!"}},{"$error":"#NUM!"},{"$error":"#NUM!"},0,{"$f":"9*365","v":3285},{"$f":"IF(CONF>J164,INT(H148/360),B165)","v":{"$error":"#NUM!"}},null,null,{"$f":"IF(H148<>\"\",1,0)","v":1},{"$f":"IF(L148>0,D148,\"\")","v":{"$error":"#NUM!"}},3,null,null,null,null,null,null,null,null,null,{"$f":"M148","v":{"$error":"#NUM!"}},{"$f":"VLOOKUP(M148,P180:W198,N148+1)","v":{"$error":"#NUM!"}},{"$f":"HLOOKUP(N148,P174:W179,2)","v":"per passaggio, in questa data, al gradone 9-14 anni"},null,null,null,null,{"$f":"IF(X148>=AE142,\" - inclusa l'i.i.s. - Annuo lordo \",\" - annuo lordo \")","v":{"$error":"#NUM!"}},null,null,null,null,null,null,null,null,{"$f":"IF(QUAL>5,IF(AND(X148>=AO148,X148<>\"\"),\"si\",\"no\"),\"no\")","v":{"$error":"#NUM!"}},"1999-07-01",null,{"$f":"IF(AN148=\"si\",I148,\"\")","v":{"$error":"#NUM!"}},{"$f":"IF(AN148=\"si\",X148,\"\")","v":{"$error":"#NUM!"}},{"$f":"IF(AR148>0,HLOOKUP(AR148,tabrpd,Foglio2!AT148+1),\"\")","v":{"$error":"#NUM!"}},{"$f":"IF(AQ148>27,3,IF(Foglio2!AQ148>14,2,1))","v":{"$error":"#NUM!"}}]
["15-20",{"$f":"IF(YEAR(_sc4)>1995,_sc4,0)","v":{"$error":"#NUM!"}},null,{"$f":"IF(CONF<=B149,B149+365*F149+G148-J146,\"\")","v":{"$error":"#NUM!"}},{"$error":"#NUM!"},{"$error":"#NUM!"},0,{"$f":"15*365","v":5475},{"$f":"IF(CONF>J165,INT(H149/360),B166)","v":{"$error":"#NUM!"}},null,null,{"$f":"IF(H149<>\"\",1,0)","v":1},{"$f":"IF(L149>0,D149,\"\")","v":{"$error":"#NUM!"}},4,null,null,null,null,null,null,null,null,null,{"$error":"#NUM!"},{"$f":"VLOOKUP(M149,P180:W198,N149+1)","v":{"$error":"#NUM!"}},{"$f":"HLOOKUP(N149,P174:W179,2)","v":"per passaggio, in questa data, al gradone 15-20 anni"},null,null,null,null,{"$f":"IF(X149>=AE142,\" - inclusa l'i.i.s. - Annuo lordo \",\" - annuo lordo \")","v":{"$error":"#NUM!"}},null,null,null,null,null,null,null,null,{"$f":"IF(QUAL>5,IF(AND(X149>=AO149,X149<>\"\"),\"si\",\"no\"),\"no\")","v":{"$error":"#NUM!"}},"1999-07-01",null,{"$f":"IF(AN149=\"si\",I149,\"\")","v":{"$error":"#NUM!"}},{"$f":"IF(AN149=\"si\",X149,\"\")","v":{"$error":"#NUM!"}},{"$f":"IF(AR149>0,HLOOKUP(AR149,tabrpd,Foglio2!AT149+1),\"\")","v":{"$error":"#NUM!"}},{"$f":"IF(AQ149>27,3,IF(Foglio2!AQ149>14,2,1))","v":{"$error":"#NUM!"}}]
["21-27",{"$f":"IF(YEAR(_sc5)>1995,_sc5,0)","v":{"$error":"#NUM!"}},null,{"$f":"IF(CONF<=B150,B150+365*F150+G149-J146,\"\")","v":{"$error":"#NUM!"}},{"$error":"#NUM!"},{"$error":"#NUM!"},0,{"$f":"21*365","v":7665},{"$f":"IF(CONF>J166,INT(H150/360),B167)","v":{"$error":"#NUM!"}},null,null,1,{"$error":"#NUM!"},5,null,null,null,null,null,null,null,null,null,{"$error":"#NUM!"},{"$f":"VLOOKUP(M150,P180:W198,N150+1)","v":{"$error":"#NUM!"}},{"$f":"HLOOKUP(N150,P174:W179,2)","v":"per passaggio, in questa data, al gradone 21-27 anni"},null,null,null,null,{"$f":"IF(X150>=AE142,\" - inclusa l'i.i.s. - Annuo lordo \",\" - annuo lordo \")","v":{"$error":"#NUM!"}},null,null,null,null,null,null,null,null,{"$error":"#NUM!"},"1999-07-01",null,{"$error":"#NUM!"},{"$error":"#NUM!"},{"$f":"IF(AR150>0,HLOOKUP(AR150,tabrpd,Foglio2!AT150+1),\"\")","v":{"$error":"#NUM!"}},{"$f":"IF(AQ150>27,3,IF(Foglio2!AQ150>14,2,1))","v":{"$error":"#NUM!"}}]
["28-34",{"$f":"IF(YEAR(_sc6)>1995,_sc6,0)","v":{"$error":"#NUM!"}},null,{"$f":"IF(CONF<=B151,B151+365*F151+G150-J146,\"\")","v":{"$error":"#NUM!"}},{"$error":"#NUM!"},{"$error":"#NUM!"},0,{"$f":"28*365","v":10220},{"$f":"IF(CONF>J167,INT(H151/360),B174)","v":{"$error":"#NUM!"}},null,null,1,{"$error":"#NUM!"},6,null,null,null,null,null,null,null,null,null,{"$error":"#NUM!"},{"$f":"VLOOKUP(M151,P180:W198,N151+1)","v":{"$error":"#NUM!"}},{"$f":"HLOOKUP(N151,P174:W179,2)","v":"per passaggio, in questa data, al gradone 28-34 anni"},null,null,null,null,{"$f":"IF(X151>=AE142,\" - inclusa l'i.i.s. - Annuo lordo \",\" - annuo lordo \")","v":{"$error":"#NUM!"}},null,null,null,null,null,null,null,null,{"$error":"#NUM!"},"1999-07-01",null,{"$error":"#NUM!"},{"$error":"#NUM!"},{"$f":"IF(AR151>0,HLOOKUP(AR151,tabrpd,Foglio2!AT151+1),\"\")","v":{"$error":"#NUM!"}},{"$f":"IF(AQ151>27,3,IF(Foglio2!AQ151>14,2,1))","v":{"$error":"#NUM!"}}]
["35 in poi",{"$f":"IF(YEAR(_sc7)>1995,_sc7,0)","v":{"$error":"#NUM!"}},null,{"$f":"IF(CONF<=B152,B152+365*F152+G151-J146,\"\")","v":{"$error":"#NUM!"}},{"$error":"#NUM!"},{"$error":"#NUM!"},0,{"$f":"35*365","v":12775},{"$f":"IF(CONF>J174,INT(H152/360),B180)","v":{"$error":"#NUM!"}},null,null,1,{"$error":"#NUM!"},7,null,null,null,null,null,null,null,null,null,{"$error":"#NUM!"},{"$f":"VLOOKUP(M152,P180:W198,N152+1)","v":{"$error":"#NUM!"}},{"$f":"HLOOKUP(N152,P174:W179,2)","v":"per passaggio, in questa data, al gradone da 35 anni in poi"},null,null,null,null,{"$f":"IF(X152>=AE142,\" - inclusa l'i.i.s. - Annuo lordo \",\" - annuo lordo \")","v":{"$error":"#NUM!"}},null,null,null,null,null,null,null,null,{"$error":"#NUM!"},"1999-07-01",null,{"$error":"#NUM!"},{"$error":"#NUM!"},{"$f":"IF(AR152>0,HLOOKUP(AR152,tabrpd,Foglio2!AT152+1),\"\")","v":{"$error":"#NUM!"}},{"$f":"IF(AQ152>27,3,IF(Foglio2!AQ152>14,2,1))","v":{"$error":"#NUM!"}}]
[null,{"$f":"Foglio1!C251","v":"1996-01-01"},{"$f":"IF(B153>=datatetto,giorniecon,0)","v":{"$error":"#NUM!"}},{"$f":"IF(CONF<=B153,B153,\"\")","v":{"$error":"#NUM!"}},{"$f":"_anz1","v":{"$error":"#NUM!"}},{"$f":"IF(D153<>\"\",DAYS360(CONF,D153),\"\")","v":{"$error":"#NUM!"}},{"$f":"IF(D153<>\"\",anz,\"\")","v":{"$error":"#NUM!"}},{"$f":"(IF(F153<>\"\",C153+E153+F153+G153,0))","v":{"$error":"#NUM!"}},{"$f":"IF(CONF>J180,INT(H153/360),B181)","v":{"$error":"#NUM!"}},{"$f":"IF(CONF>J180,INT((H153-I153*360)/30),0)","v":{"$error":"#NUM!"}},{"$f":"IF(CONF>J180,H153-(I153*360)-(J153*30),0)","v":{"$error":"#NUM!"}},{"$error":"#NUM!"},{"$error":"#NUM!"},{"$f":"IF( O153<$M$147,1, VLOOKUP(M153,$M$147:$N$152,2))","v":{"$error":"#NUM!"}},{"$f":"W153","v":"1996-01-01"},{"$f":"Foglio1!A260*Foglio2!L153","v":{"$error":"#NUM!"}},{"$f":"Foglio1!A261*Foglio2!L153","v":{"$error":"#NUM!"}},{"$f":"Foglio1!A262*Foglio2!L153","v":{"$error":"#NUM!"}},{"$f":"Foglio1!A263*Foglio2!L153","v":{"$error":"#NUM!"}},{"$f":"Foglio1!A264*Foglio2!L153","v":{"$error":"#NUM!"}},{"$f":"Foglio1!A265*Foglio2!L153","v":{"$error":"#NUM!"}},{"$f":"Foglio1!A266*Foglio2!L153","v":{"$error":"#NUM!"}},{"$f":"B153","v":"1996-01-01"},{"$error":"#NUM!"},{"$f":"IF(N153=1,P153,IF(N153=2,Q153,IF(N153=3,R153,IF(N153=4,S153,IF(N153=5,T153,IF(N153=6,U153,IF(N153=7,V153,0)))))))","v":{"$error":"#NUM!"}},{"$f":"HLOOKUP(N153,P174:W179,6)","v":{"$error":"#NUM!"}},null,null,null,null,"C.C.N.L. del 01/08/1996 - Annuo lordo",null,null,null,null,null,null,null,null,{"$error":"#NUM!"},"1999-07-01",null,{"$error":"#NUM!"},{"$error":"#NUM!"},{"$f":"IF(AR153>0,HLOOKUP(AR153,tabrpd,Foglio2!AT153+1),\"\")","v":{"$error":"#NUM!"}},{"$f":"IF(AQ153>27,3,IF(Foglio2!AQ153>14,2,1))","v":{"$error":"#NUM!"}}]
[null,{"$f":"Foglio1!C301","v":"1998-11-01"},{"$error":"#NUM!"},{"$error":"#NUM!"},{"$error":"#NUM!"},{"$error":"#NUM!"},{"$error":"#NUM!"},{"$f":"(IF(F154<>\"\",C154+E154+F154+G154+ARR,0))","v":{"$error":"#NUM!"}},{"$f":"INT(H154/360)","v":{"$error":"#NUM!"}},{"$f":"INT((H154-I154*360)/30)","v":{"$error":"#NUM!"}},{"$f":"H154-(I154*360)-(J154*30)","v":{"$error":"#NUM!"}},{"$error":"#NUM!"},{"$error":"#NUM!"},{"$f":"IF( M154<$M$147,1, VLOOKUP(M154,$M$147:$N$152,2))","v":{"$error":"#NUM!"}},{"$f":"W154","v":"1998-11-01"},{"$f":"Foglio1!A310*Foglio2!L154","v":{"$error":"#NUM!"}},{"$f":"Foglio1!A311*Foglio2!L154","v":{"$error":"#NUM!"}},{"$f":"Foglio1!A312*Foglio2!L154","v":{"$error":"#NUM!"}},{"$f":"Foglio1!A313*Foglio2!L154","v":{"$error":"#NUM!"}},{"$f":"Foglio1!A314*Foglio2!L154","v":{"$error":"#NUM!"}},{"$f":"Foglio1!A315*Foglio2!L154","v":{"$error":"#NUM!"}},{"$f":"Foglio1!A316*Foglio2!L154","v":{"$error":"#NUM!"}},"1998-11-01",{"$error":"#NUM!"},{"$error":"#NUM!"},{"$f":"HLOOKUP(N154,P174:W179,6)","v":{"$error":"#NUM!"}},null,null,null,null,"C.C.N.L. del 01/08/1996 - incluso incremento stipendiale dal 1/11/1996  - Annuo lordo",null,null,null,null,null,null,null,null,{"$error":"#NUM!"},"1999-07-01",null,{"$error":"#NUM!"},{"$error":"#NUM!"},{"$f":"IF(AR154>0,HLOOKUP(AR154,tabrpd,Foglio2!AT154+1),\"\")","v":{"$error":"#NUM!"}},{"$f":"IF(AQ154>27,3,IF(Foglio2!AQ154>14,2,1))","v":{"$error":"#NUM!"}}]
[null,{"$f":"Foglio1!C351","v":"1999-06-01"},{"$error":"#NUM!"},{"$error":"#NUM!"},{"$error":"#NUM!"},{"$error":"#NUM!"},{"$error":"#NUM!"},{"$error":"#NUM!"},{"$error":"#NUM!"},{"$error":"#NUM!"},{"$error":"#NUM!"},{"$error":"#NUM!"},{"$error":"#NUM!"},{"$f":"IF( M155<$M$147,1, VLOOKUP(M155,$M$147:$N$152,2))","v":{"$error":"#NUM!"}},"1999-06-01",{"$f":"Foglio1!A360*Foglio2!L155","v":{"$error":"#NUM!"}},{"$f":"Foglio1!A361*Foglio2!L155","v":{"$error":"#NUM!"}},{"$f":"Foglio1!A362*Foglio2!L155","v":{"$error":"#NUM!"}},{"$f":"Foglio1!A363*Foglio2!L155","v":{"$error":"#NUM!"}},{"$f":"Foglio1!A364*Foglio2!L155","v":{"$error":"#NUM!"}},{"$f":"Foglio1!A365*Foglio2!L155","v":{"$error":"#NUM!"}},{"$f":"Foglio1!A366*Foglio2!L155","v":{"$error":"#NUM!"}},"1999-06-01",{"$error":"#NUM!"},{"$error":"#NUM!"},{"$f":"HLOOKUP(N155,P174:W179,6)","v":{"$error":"#NUM!"}},null,null,null,null,"C.C.N.L. del 01/08/1996 - incluso incremento stipendiale dal 1/07/1997 - Annuo lordo",null,null,null,null,null,null,null,null,{"$error":"#NUM!"},"1999-07-01",null,{"$error":"#NUM!"},{"$error":"#NUM!"},{"$f":"IF(AR155>0,HLOOKUP(AR155,tabrpd,Foglio2!AT155+1),\"\")","v":{"$error":"#NUM!"}},{"$f":"IF(AQ155>27,3,IF(Foglio2!AQ155>14,2,1))","v":{"$error":"#NUM!"}}]
[null,{"$f":"Foglio1!C401","v":"2000-07-01"},{"$error":"#NUM!"},{"$error":"#NUM!"},{"$error":"#NUM!"},{"$error":"#NUM!"},{"$error":"#NUM!"},{"$error":"#NUM!"},{"$error":"#NUM!"},{"$error":"#NUM!"},{"$error":"#NUM!"},{"$error":"#NUM!"},{"$error":"#NUM!"},{"$error":"#NUM!"},"2000-07-01",{"$f":"Foglio1!A410*Foglio2!L156","v":{"$error":"#NUM!"}},{"$f":"Foglio1!A411*Foglio2!L156","v":{"$error":"#NUM!"}},{"$f":"Foglio1!A412*Foglio2!L156","v":{"$error":"#NUM!"}},{"$f":"Foglio1!A413*Foglio2!L156","v":{"$error":"#NUM!"}},{"$f":"Foglio1!A414*Foglio2!L156","v":{"$error":"#NUM!"}},{"$f":"Foglio1!A415*Foglio2!L156","v":{"$error":"#NUM!"}},{"$f":"Foglio1!A416*Foglio2!L156","v":{"$error":"#NUM!"}},"2000-07-01",{"$error":"#NUM!"},{"$error":"#NUM!"},{"$f":"HLOOKUP(N156,P174:W179,6)","v":{"$error":"#NUM!"}},null,null,null,null,"C.C.N.L. del 26/05/1999 incluso incremento stipendiale dal 01/11/1998 - Annuo lordo",null,null,null,null,null,null,null,null,{"$error":"#NUM!"},"1999-07-01",null,{"$error":"#NUM!"},{"$error":"#NUM!"},{"$f":"IF(AR156>0,HLOOKUP(AR156,tabrpd,Foglio2!AT156+1),\"\")","v":{"$error":"#NUM!"}},{"$f":"IF(AQ156>27,3,IF(Foglio2!AQ156>14,2,1))","v":{"$error":"#NUM!"}}]
[null,{"$f":"Foglio1!C451","v":"2001-01-01"},{"$error":"#NUM!"},{"$error":"#NUM!"},{"$error":"#NUM!"},{"$error":"#NUM!"},{"$error":"#NUM!"},{"$error":"#NUM!"},{"$error":"#NUM!"},{"$error":"#NUM!"},{"$error":"#NUM!"},{"$error":"#NUM!"},{"$error":"#NUM!"},{"$error":"#NUM!"},"2001-01-01",{"$f":"Foglio1!A460*Foglio2!L157","v":{"$error":"#NUM!"}},{"$f":"Foglio1!A461*Foglio2!L157","v":{"$error":"#NUM!"}},{"$f":"Foglio1!A462*Foglio2!L157","v":{"$error":"#NUM!"}},{"$f":"Foglio1!A463*Foglio2!L157","v":{"$error":"#NUM!"}},{"$f":"Foglio1!A464*Foglio2!L157","v":{"$error":"#NUM!"}},{"$f":"Foglio1!A465*Foglio2!L157","v":{"$error":"#NUM!"}},{"$f":"Foglio1!A466*Foglio2!L157","v":{"$error":"#NUM!"}},"2001-01-01",{"$error":"#NUM!"},{"$error":"#NUM!"},{"$f":"HLOOKUP(N157,P174:W179,6)","v":{"$error":"#NUM!"}},null,null,null,null,"C.C.N.L. del 26/05/1999 - incluso incremento stipendiale dal 01/06/1999 - Annuo lordo",null,null,null,null,null,null,null,null,{"$error":"#NUM!"},"1999-07-01",null,{"$error":"#NUM!"},{"$error":"#NUM!"},{"$f":"IF(AR157>0,HLOOKUP(AR157,tabrpd,Foglio2!AT157+1),\"\")","v":{"$error":"#NUM!"}},{"$f":"IF(AQ157>27,3,IF(Foglio2!AQ157>14,2,1))","v":{"$error":"#NUM!"}}]
[null,{"$f":"Foglio1!C501","v":"2002-01-01"},{"$error":"#NUM!"},{"$error":"#NUM!"},{"$error":"#NUM!"},{"$error":"#NUM!"},{"$error":"#NUM!"},{"$error":"#NUM!"},{"$error":"#NUM!"},{"$error":"#NUM!"},{"$error":"#NUM!"},{"$error":"#NUM!"},{"$error":"#NUM!"},{"$error":"#NUM!"},"2002-01-01",{"$f":"Foglio1!A510*Foglio2!L158","v":{"$error":"#NUM!"}},{"$f":"Foglio1!A511*Foglio2!L158","v":{"$error":"#NUM!"}},{"$f":"Foglio1!A512*Foglio2!L158","v":{"$error":"#NUM!"}},{"$f":"Foglio1!A513*Foglio2!L158","v":{"$error":"#NUM!"}},{"$f":"Foglio1!A514*Foglio2!L158","v":{"$error":"#NUM!"}},{"$f":"Foglio1!A515*Foglio2!L158","v":{"$error":"#NUM!"}},{"$f":"Foglio1!A516*Foglio2!L158","v":{"$error":"#NUM!"}},"2002-01-01",{"$error":"#NUM!"},{"$error":"#NUM!"},{"$f":"HLOOKUP(N158,P174:W179,6)","v":{"$error":"#NUM!"}},null,null,null,null,"C.C.N.L. del 15/03/2001 - Annuo lordo",null,null,null,null,null,null,null,null,{"$error":"#NUM!"},"1999-07-01",null,{"$error":"#NUM!"},{"$error":"#NUM!"},{"$f":"IF(AR158>0,HLOOKUP(AR158,tabrpd,Foglio2!AT158+1),\"\")","v":{"$error":"#NUM!"}},{"$f":"IF(AQ158>27,3,IF(Foglio2!AQ158>14,2,1))","v":{"$error":"#NUM!"}}]
[null,{"$f":"Foglio1!C551","v":"2003-01-01"},{"$error":"#NUM!"},{"$error":"#NUM!"},{"$error":"#NUM!"},{"$error":"#NUM!"},{"$error":"#NUM!"},{"$error":"#NUM!"},{"$error":"#NUM!"},{"$error":"#NUM!"},{"$error":"#NUM!"},{"$error":"#NUM!"},{"$error":"#NUM!"},{"$error":"#NUM!"},"2003-01-01",{"$f":"Foglio1!A560*Foglio2!L159","v":{"$error":"#NUM!"}},{"$f":"Foglio1!A561*Foglio2!L159","v":{"$error":"#NUM!"}},{"$f":"Foglio1!A562*Foglio2!L159","v":{"$error":"#NUM!"}},{"$f":"Foglio1!A563*Foglio2!L159","v":{"$error":"#NUM!"}},{"$f":"Foglio1!A564*Foglio2!L159","v":{"$error":"#NUM!"}},{"$f":"Foglio1!A565*Foglio2!L159","v":{"$error":"#NUM!"}},{"$f":"Foglio1!A566*Foglio2!L159","v":{"$error":"#NUM!"}},"2003-01-01",{"$error":"#NUM!"},{"$error":"#NUM!"},{"$f":"HLOOKUP(N159,P174:W179,6)","v":{"$error":"#NUM!"}},null,null,null,null,"C.C.N.L. del 15/03/2001 - incluso incrementi stipendiali dal 01/01/2001 - Annuo lordo",null,null,null,null,null,null,null,null,{"$error":"#NUM!"},"1999-07-01",null,{"$error":"#NUM!"},{"$error":"#NUM!"},{"$f":"IF(AR159>0,HLOOKUP(AR159,tabrpd,Foglio2!AT159+1),\"\")","v":{"$error":"#NUM!"}},{"$f":"IF(AQ159>27,3,IF(Foglio2!AQ159>14,2,1))","v":{"$error":"#NUM!"}}]
[{"$f":"IF(B160>=annoblocco,G179,0)","v":0},{"$f":"Foglio1!C601","v":"2004-01-01"},{"$error":"#NUM!"},{"$error":"#NUM!"},{"$error":"#NUM!"},{"$error":"#NUM!"},{"$error":"#NUM!"},{"$f":"(IF(F160<>\"\",IF(A160>0,A160,C160+E160+F160+G160+ARR),0))","v":{"$error":"#NUM!"}},{"$f":"INT(H160/360)","v":{"$error":"#NUM!"}},{"$f":"INT((H160-I160*360)/30)","v":{"$error":"#NUM!"}},{"$f":"H160-(I160*360)-(J160*30)","v":{"$error":"#NUM!"}},{"$error":"#NUM!"},{"$error":"#NUM!"},{"$error":"#NUM!"},"2004-01-01",{"$f":"Foglio1!A610*Foglio2!L160","v":{"$error":"#NUM!"}},{"$f":"Foglio1!A611*Foglio2!L160","v":{"$error":"#NUM!"}},{"$f":"Foglio1!A612*Foglio2!L160","v":{"$error":"#NUM!"}},{"$f":"Foglio1!A613*Foglio2!L160","v":{"$error":"#NUM!"}},{"$f":"Foglio1!A614*Foglio2!L160","v":{"$error":"#NUM!"}},{"$f":"Foglio1!A615*Foglio2!L160","v":{"$error":"#NUM!"}},{"$f":"Foglio1!A616*Foglio2!L160","v":{"$error":"#NUM!"}},"2004-01-01",{"$error":"#NUM!"},{"$error":"#NUM!"},{"$f":"HLOOKUP(N160,P174:W179,6)","v":{"$error":"#NUM!"}},null,null,null,null,"C.C.N.L. del 24/07/2003 - Annuo lordo",null,null,null,null,null,null,null,null,{"$error":"#NUM!"},"1999-07-01",null,{"$error":"#NUM!"},{"$error":"#NUM!"},{"$f":"IF(AR160>0,HLOOKUP(AR160,tabrpd,Foglio2!AT160+1),\"\")","v":{"$error":"#NUM!"}},{"$f":"IF(AQ160>27,3,IF(Foglio2!AQ160>14,2,1))","v":{"$error":"#NUM!"}}]
[{"$f":"IF(B161>=annoblocco,G179,0)","v":0},{"$f":"Foglio1!C651","v":"2005-02-01"},{"$error":"#NUM!"},{"$error":"#NUM!"},{"$error":"#NUM!"},{"$error":"#NUM!"},{"$error":"#NUM!"},{"$f":"(IF(F161<>\"\",IF(A161>0,A161,C161+E161+F161+G161+ARR),0))","v":{"$error":"#NUM!"}},{"$error":"#NUM!"},{"$f":"INT((H161-I161*360)/30)","v":{"$error":"#NUM!"}},{"$f":"H161-(I161*360)-(J161*30)","v":{"$error":"#NUM!"}},{"$error":"#NUM!"},{"$error":"#NUM!"},{"$error":"#NUM!"},"2005-02-01",{"$f":"Foglio1!A660*Foglio2!L161","v":{"$error":"#NUM!"}},{"$f":"Foglio1!A661*Foglio2!L161","v":{"$error":"#NUM!"}},{"$f":"Foglio1!A662*Foglio2!L161","v":{"$error":"#NUM!"}},{"$f":"Foglio1!A663*Foglio2!L161","v":{"$error":"#NUM!"}},{"$f":"Foglio1!A664*Foglio2!L161","v":{"$error":"#NUM!"}},{"$f":"Foglio1!A665*Foglio2!L161","v":{"$error":"#NUM!"}},{"$f":"Foglio1!A666*Foglio2!L161","v":{"$error":"#NUM!"}},"2005-02-01",{"$error":"#NUM!"},{"$error":"#NUM!"},{"$f":"HLOOKUP(N161,P174:W179,6)","v":{"$error":"#NUM!"}},null,null,null,null,"C.C.N.L. del 24/07/2003 - incluso incrementi stipendiali dal 01/01/2003 - inclusa l' i.i.s. - Annuo lordo",null,null,null,null,null,null,null,null,{"$error":"#NUM!"},"1999-07-01",null,{"$error":"#NUM!"},{"$error":"#NUM!"},{"$f":"IF(AR161>0,HLOOKUP(AR161,tabrpd,Foglio2!AT161+1),\"\")","v":{"$error":"#NUM!"}},{"$f":"IF(AQ161>27,3,IF(Foglio2!AQ161>14,2,1))","v":{"$error":"#NUM!"}}]
[{"$f":"IF(B162>=annoblocco,G179,0)","v":0},{"$f":"Foglio1!C701","v":"2006-01-01"},{"$error":"#NUM!"},{"$error":"#NUM!"},{"$error":"#NUM!"},{"$error":"#NUM!"},{"$error":"#NUM!"},{"$f":"(IF(F162<>\"\",IF(A162>0,A162+G162,C162+E162+F162+G162+ARR),0))","v":{"$error":"#NUM!"}},{"$error":"#NUM!"},{"$error":"#NUM!"},{"$error":"#NUM!"},{"$error":"#NUM!"},{"$error":"#NUM!"},{"$error":"#NUM!"},"2006-01-01",{"$f":"Foglio1!A710*Foglio2!L162","v":{"$error":"#NUM!"}},{"$f":"Foglio1!A711*Foglio2!L162","v":{"$error":"#NUM!"}},{"$f":"Foglio1!A712*Foglio2!L162","v":{"$error":"#NUM!"}},{"$f":"Foglio1!A713*Foglio2!L162","v":{"$error":"#NUM!"}},{"$f":"Foglio1!A714*Foglio2!L162","v":{"$error":"#NUM!"}},{"$f":"Foglio1!A715*Foglio2!L162","v":{"$error":"#NUM!"}},{"$f":"Foglio1!A716*Foglio2!L162","v":{"$error":"#NUM!"}},"2006-01-01",{"$error":"#NUM!"},{"$error":"#NUM!"},{"$f":"HLOOKUP(N162,P174:W179,6)","v":{"$error":"#NUM!"}},null,null,null,null,"C.C.N.L. del 07/12/2005 - incluso incremento stipendiale dal 01/01/2004 - inclusa l'i.i.s. - Annuo lordo",null,null,null,null,null,null,null,null,{"$error":"#NUM!"},"1999-07-01",null,{"$error":"#NUM!"},{"$error":"#NUM!"},{"$f":"IF(AR162>0,HLOOKUP(AR162,tabrpd,Foglio2!AT162+1),\"\")","v":{"$error":"#NUM!"}},{"$f":"IF(AQ162>27,3,IF(Foglio2!AQ162>14,2,1))","v":{"$error":"#NUM!"}}]
[{"$f":"IF(B163>=annoblocco,G179,0)","v":0},{"$f":"Foglio1!C751","v":"2007-01-01"},{"$error":"#NUM!"},{"$error":"#NUM!"},{"$error":"#NUM!"},{"$error":"#NUM!"},{"$error":"#NUM!"},{"$error":"#NUM!"},{"$error":"#NUM!"},{"$error":"#NUM!"},{"$error":"#NUM!"},{"$error":"#NUM!"},{"$error":"#NUM!"},{"$error":"#NUM!"},"2007-01-01",{"$f":"Foglio1!A760*Foglio2!L163","v":{"$error":"#NUM!"}},{"$f":"Foglio1!A761*Foglio2!L163","v":{"$error":"#NUM!"}},{"$f":"Foglio1!A762*Foglio2!L163","v":{"$error":"#NUM!"}},{"$f":"Foglio1!A763*Foglio2!L163","v":{"$error":"#NUM!"}},{"$f":"Foglio1!A764*Foglio2!L163","v":{"$error":"#NUM!"}},{"$f":"Foglio1!A765*Foglio2!L163","v":{"$error":"#NUM!"}},{"$f":"Foglio1!A766*Foglio2!L163","v":{"$error":"#NUM!"}},"2007-01-01",{"$error":"#NUM!"},{"$error":"#NUM!"},{"$f":"HLOOKUP(N163,P174:W179,6)","v":{"$error":"#NUM!"}},null,null,null,null,"C.C.N.L. del 07/12/2005 - incluso incremento stipendiale dal 01/02/2005 - inclusa l'i.i.s. - Annuo lordo",null,null,null,null,null,null,null,null,{"$error":"#NUM!"},"1999-07-01",null,{"$error":"#NUM!"},{"$error":"#NUM!"},{"$f":"IF(AR163>0,HLOOKUP(AR163,tabrpd,Foglio2!AT163+1),\"\")","v":{"$error":"#NUM!"}},{"$f":"IF(AQ163>27,3,IF(Foglio2!AQ163>14,2,1))","v":{"$error":"#NUM!"}}]
[{"$f":"IF(B164>=annoblocco,G179,0)","v":0},{"$f":"Foglio1!C801","v":"2007-02-01"},{"$error":"#NUM!"},{"$error":"#NUM!"},{"$error":"#NUM!"},{"$error":"#NUM!"},{"$error":"#NUM!"},{"$error":"#NUM!"},{"$error":"#NUM!"},{"$error":"#NUM!"},{"$error":"#NUM!"},{"$error":"#NUM!"},{"$error":"#NUM!"},{"$error":"#NUM!"},"2007-02-01",{"$f":"Foglio1!A810*Foglio2!L164","v":{"$error":"#NUM!"}},{"$f":"Foglio1!A811*Foglio2!L164","v":{"$error":"#NUM!"}},{"$f":"Foglio1!A812*Foglio2!L164","v":{"$error":"#NUM!"}},{"$f":"Foglio1!A813*Foglio2!L164","v":{"$error":"#NUM!"}},{"$f":"Foglio1!A814*Foglio2!L164","v":{"$error":"#NUM!"}},{"$f":"Foglio1!A815*Foglio2!L164","v":{"$error":"#NUM!"}},{"$f":"Foglio1!A816*Foglio2!L164","v":{"$error":"#NUM!"}},"2007-02-01",{"$error":"#NUM!"},{"$error":"#NUM!"},{"$f":"HLOOKUP(N164,P174:W179,6)","v":{"$error":"#NUM!"}},null,null,null,null,"C.C.N.L. del 29/11/2007 - inclusa l'i.i.s. - Annuo lordo",null,null,null,null,null,null,null,null,{"$error":"#NUM!"},"1999-07-01",null,{"$error":"#NUM!"},{"$error":"#NUM!"},{"$f":"IF(AR164>0,HLOOKUP(AR164,tabrpd,Foglio2!AT164+1),\"\")","v":{"$error":"#NUM!"}},{"$f":"IF(AQ164>27,3,IF(Foglio2!AQ164>14,2,1))","v":{"$error":"#NUM!"}}]
[{"$f":"IF(B165>=annoblocco,G179,0)","v":0},{"$f":"Foglio1!C851","v":"2008-01-01"},{"$error":"#NUM!"},{"$error":"#NUM!"},{"$error":"#NUM!"},{"$error":"#NUM!"},{"$error":"#NUM!"},{"$error":"#NUM!"},{"$error":"#NUM!"},{"$error":"#NUM!"},{"$error":"#NUM!"},{"$error":"#NUM!"},{"$error":"#NUM!"},{"$error":"#NUM!"},"2008-01-01",{"$f":"Foglio1!A860*Foglio2!L165","v":{"$error":"#NUM!"}},{"$f":"Foglio1!A861*Foglio2!L165","v":{"$error":"#NUM!"}},{"$f":"Foglio1!A862*Foglio2!L165","v":{"$error":"#NUM!"}},{"$f":"Foglio1!A863*Foglio2!L165","v":{"$error":"#NUM!"}},{"$f":"Foglio1!A864*Foglio2!L165","v":{"$error":"#NUM!"}},{"$f":"Foglio1!A865*Foglio2!L165","v":{"$error":"#NUM!"}},{"$f":"Foglio1!A866*Foglio2!L165","v":{"$error":"#NUM!"}},{"$f":"B165","v":"2008-01-01"},{"$error":"#NUM!"},{"$error":"#NUM!"},{"$f":"HLOOKUP(N165,P174:W179,6)","v":{"$error":"#NUM!"}},null,null,null,null,"C.C.N.L. del 29/11/2007 - incluso incremento stipendiale dal 01/01/2007 - inclusa l'i.i.s. - Annuo lordo",null,null,null,null,null,null,null,null,{"$error":"#NUM!"},"1999-07-01",null,{"$error":"#NUM!"},{"$error":"#NUM!"},{"$f":"IF(AR165>0,HLOOKUP(AR165,tabrpd,Foglio2!AT165+1),\"\")","v":{"$error":"#NUM!"}},{"$f":"IF(AQ165>27,3,IF(Foglio2!AQ165>14,2,1))","v":{"$error":"#NUM!"}}]
[{"$f":"IF(B166>=annoblocco,G179,0)","v":0},{"$f":"IF(QUAL>5,Foglio1!C901,0)","v":"2008-04-01"},{"$error":"#NUM!"},{"$error":"#NUM!"},{"$error":"#NUM!"},{"$error":"#NUM!"},{"$error":"#NUM!"},{"$error":"#NUM!"},{"$error":"#NUM!"},{"$error":"#NUM!"},{"$error":"#NUM!"},{"$error":"#NUM!"},{"$error":"#NUM!"},{"$error":"#NUM!"},"2008-04-01",{"$f":"Foglio1!A910*Foglio2!L166","v":{"$error":"#NUM!"}},{"$f":"Foglio1!A911*Foglio2!L166","v":{"$error":"#NUM!"}},{"$f":"Foglio1!A912*Foglio2!L166","v":{"$error":"#NUM!"}},{"$f":"Foglio1!A913*Foglio2!L166","v":{"$error":"#NUM!"}},{"$f":"Foglio1!A914*Foglio2!L166","v":{"$error":"#NUM!"}},{"$f":"Foglio1!A915*Foglio2!L166","v":{"$error":"#NUM!"}},{"$f":"Foglio1!A916*Foglio2!L166","v":{"$error":"#NUM!"}},"2008-04-01",{"$f":"M166","v":{"$error":"#NUM!"}},{"$error":"#NUM!"},{"$f":"HLOOKUP(N166,P174:W179,6)","v":{"$error":"#NUM!"}},null,null,null,null,{"$f":"IF(QUAL>5,\"Sequenza Contrattuale del 14/02/2008  - inclusa l'i.i.s. - Annuo lordo\",\"\")","v":"Sequenza Contrattuale del 14/02/2008  - inclusa l'i.i.s. - Annuo lordo"},null,null,null,null,null,null,null,null,{"$error":"#NUM!"},"1999-07-01",null,{"$error":"#NUM!"},{"$error":"#NUM!"},{"$f":"IF(AR166>0,HLOOKUP(AR166,tabrpd,Foglio2!AT166+1),\"\")","v":{"$error":"#NUM!"}},{"$f":"IF(AQ166>27,3,IF(Foglio2!AQ166>14,2,1))","v":{"$error":"#NUM!"}}]
[{"$f":"IF(B167>=annoblocco,G179,0)","v":0},{"$f":"Foglio1!C951","v":"2008-07-01"},{"$error":"#NUM!"},{"$f":"IF(CONF<=B167,B167,\"\")","v":{"$error":"#NUM!"}},{"$error":"#NUM!"},{"$error":"#NUM!"},{"$f":"IF(D167<>\"\",anz,\"\")","v":{"$error":"#NUM!"}},{"$error":"#NUM!"},{"$error":"#NUM!"},{"$f":"INT((H167-I167*360)/30)","v":{"$error":"#NUM!"}},{"$f":"H167-(I167*360)-(J167*30)","v":{"$error":"#NUM!"}},{"$f":"IF(H167<>\"\",1,0)","v":{"$error":"#NUM!"}},{"$f":"IF(L167>0,D167,\"\")","v":{"$error":"#NUM!"}},{"$error":"#NUM!"},{"$f":"W167","v":"2008-07-01"},{"$f":"Foglio1!A960*Foglio2!L167","v":{"$error":"#NUM!"}},{"$f":"Foglio1!A961*Foglio2!L167","v":{"$error":"#NUM!"}},{"$f":"Foglio1!A962*Foglio2!L167","v":{"$error":"#NUM!"}},{"$f":"Foglio1!A963*Foglio2!L167","v":{"$error":"#NUM!"}},{"$f":"Foglio1!A964*Foglio2!L167","v":{"$error":"#NUM!"}},{"$f":"Foglio1!A965*Foglio2!L167","v":{"$error":"#NUM!"}},{"$f":"Foglio1!A966*Foglio2!L167","v":{"$error":"#NUM!"}},"2008-07-01",{"$error":"#NUM!"},{"$f":"IF(N167=1,P167,IF(N167=2,Q167,IF(N167=3,R167,IF(N167=4,S167,IF(N167=5,T167,IF(N167=6,U167,IF(N167=7,V167,0)))))))","v":{"$error":"#NUM!"}},{"$f":"HLOOKUP(N167,P174:W179,6)","v":{"$error":"#NUM!"}},null,null,null,null,{"$f":"IF(QUAL>5,\"Sequenza Contrattuale del 14/02/2008 - inclusa l'i.i.s. - Annuo lordo\",\"C.C.N.L. del 29/11/2007 - incluso incremento stipendiale dal 01/01/2007 - inclusa l'i.i.s. - Annuo lordo\")","v":"Sequenza Contrattuale del 14/02/2008 - inclusa l'i.i.s. - Annuo lordo"},null,null,null,null,null,null,null,null,{"$f":"IF(QUAL>5,IF(AND(X167>=AO167,X167<>\"\"),\"si\",\"no\"),\"no\")","v":{"$error":"#NUM!"}},"1999-07-01",null,{"$f":"IF(AN167=\"si\",I167,\"\")","v":{"$error":"#NUM!"}},{"$f":"IF(AN167=\"si\",X167,\"\")","v":{"$error":"#NUM!"}},{"$f":"IF(AR167>0,HLOOKUP(AR167,tabrpd,Foglio2!AT167+1),\"\")","v":{"$error":"#NUM!"}},{"$f":"IF(AQ167>27,3,IF(Foglio2!AQ167>14,2,1))","v":{"$error":"#NUM!"}}]
[{"$f":"IF(B168>=annoblocco,G179,0)","v":0},{"$f":"Foglio1!C1001","v":"2009-01-01"},{"$error":"#NUM!"},{"$error":"#NUM!"},{"$error":"#NUM!"},{"$error":"#NUM!"},{"$error":"#NUM!"},{"$error":"#NUM!"},{"$error":"#NUM!"},{"$error":"#NUM!"},{"$error":"#NUM!"},{"$error":"#NUM!"},{"$error":"#NUM!"},{"$error":"#NUM!"},"2009-01-01",{"$f":"Foglio1!A1010*Foglio2!L168","v":{"$error":"#NUM!"}},{"$f":"Foglio1!A1011*Foglio2!L168","v":{"$error":"#NUM!"}},{"$f":"Foglio1!A1012*Foglio2!L168","v":{"$error":"#NUM!"}},{"$f":"Foglio1!A1013*Foglio2!L168","v":{"$error":"#NUM!"}},{"$f":"Foglio1!A1014*Foglio2!L168","v":{"$error":"#NUM!"}},{"$f":"Foglio1!A1015*Foglio2!L168","v":{"$error":"#NUM!"}},{"$f":"Foglio1!A1016*Foglio2!L168","v":{"$error":"#NUM!"}},"2009-01-01",{"$error":"#NUM!"},{"$error":"#NUM!"},{"$f":"HLOOKUP(N168,P174:W179,6)","v":{"$error":"#NUM!"}},null,null,null,null,"  Indennità di vacanza contrattuale - (Art. 33  Decreto Legge  N. 185 del 29 novembre 2008) - Annuo lordo inclusa l'iis -",null,null,null,null,null,null,null,null,{"$error":"#NUM!"},"1999-07-01",null,{"$error":"#NUM!"},{"$error":"#NUM!"},{"$f":"IF(AR168>0,HLOOKUP(AR168,tabrpd,Foglio2!AT168+1),\"\")","v":{"$error":"#NUM!"}},{"$f":"IF(AQ168>27,3,IF(Foglio2!AQ168>14,2,1))","v":{"$error":"#NUM!"}}]
[{"$f":"IF(B169>=annoblocco,G179,0)","v":0},{"$f":"Foglio1!C1051","v":"2010-04-01"},{"$error":"#NUM!"},{"$error":"#NUM!"},{"$error":"#NUM!"},{"$error":"#NUM!"},{"$error":"#NUM!"},{"$f":"(IF(F169<>\"\",IF(A169>0,A169,C169+E169+F169+G169+ARR),0))","v":{"$error":"#NUM!"}},{"$error":"#NUM!"},{"$error":"#NUM!"},{"$error":"#NUM!"},{"$error":"#NUM!"},{"$error":"#NUM!"},{"$error":"#NUM!"},"2010-04-01",{"$f":"Foglio1!A1060*Foglio2!L169","v":{"$error":"#NUM!"}},{"$f":"Foglio1!A1061*Foglio2!L169","v":{"$error":"#NUM!"}},{"$f":"Foglio1!A1062*Foglio2!L169","v":{"$error":"#NUM!"}},{"$f":"Foglio1!A1063*Foglio2!L169","v":{"$error":"#NUM!"}},{"$f":"Foglio1!A1064*Foglio2!L169","v":{"$error":"#NUM!"}},{"$f":"Foglio1!A1065*Foglio2!L169","v":{"$error":"#NUM!"}},{"$f":"Foglio1!A1066*Foglio2!L169","v":{"$error":"#NUM!"}},"2010-04-01",{"$error":"#NUM!"},{"$error":"#NUM!"},{"$f":"HLOOKUP(N169,P174:W179,6)","v":{"$error":"#NUM!"}},null,null,null,null,"  Indennità di vacanza contrattuale - (Art. 33  Decreto Legge  N. 185 del 29 novembre 2008) - Annuo lordo inclusa l'iis -",null,null,null,null,null,null,null,null,{"$error":"#NUM!"},"1999-07-01",null,{"$error":"#NUM!"},{"$error":"#NUM!"},{"$f":"IF(AR169>0,HLOOKUP(AR169,tabrpd,Foglio2!AT169+1),\"\")","v":{"$error":"#NUM!"}},{"$f":"IF(AQ169>27,3,IF(Foglio2!AQ169>14,2,1))","v":{"$error":"#NUM!"}}]
[{"$f":"IF(B170>=annoblocco,G179,0)","v":0},{"$f":"Foglio1!C1101","v":"2010-07-01"},{"$error":"#NUM!"},{"$error":"#NUM!"},{"$error":"#NUM!"},{"$error":"#NUM!"},{"$error":"#NUM!"},{"$f":"(IF(F170<>\"\",IF(A170>0,A170,C170+E170+F170+G170+ARR),0))","v":{"$error":"#NUM!"}},{"$error":"#NUM!"},{"$error":"#NUM!"},{"$error":"#NUM!"},{"$error":"#NUM!"},{"$error":"#NUM!"},{"$error":"#NUM!"},"2010-07-01",{"$f":"Foglio1!A1110*Foglio2!L170","v":{"$error":"#NUM!"}},{"$f":"Foglio1!A1111*Foglio2!L170","v":{"$error":"#NUM!"}},{"$f":"Foglio1!A1112*Foglio2!L170","v":{"$error":"#NUM!"}},{"$f":"Foglio1!A1113*Foglio2!L170","v":{"$error":"#NUM!"}},{"$f":"Foglio1!A1114*Foglio2!L170","v":{"$error":"#NUM!"}},{"$f":"Foglio1!A1115*Foglio2!L170","v":{"$error":"#NUM!"}},{"$f":"Foglio1!A1116*Foglio2!L170","v":{"$error":"#NUM!"}},"2010-07-01",{"$error":"#NUM!"},{"$error":"#NUM!"},{"$f":"HLOOKUP(N170,P174:W179,6)","v":{"$error":"#NUM!"}},null,null,null,null,"C.C.N.L. 2007 - BIENNIO ECONOMICO 2008/2009 - Annuo lordo inclusa l'iis",null,null,null,null,null,null,null,null,{"$error":"#NUM!"},"1999-07-01",null,{"$error":"#NUM!"},{"$error":"#NUM!"},{"$f":"IF(AR170>0,HLOOKUP(AR170,tabrpd,Foglio2!AT170+1),\"\")","v":{"$error":"#NUM!"}},{"$f":"IF(AQ170>27,3,IF(Foglio2!AQ170>14,2,1))","v":{"$error":"#NUM!"}}]
[{"$f":"IF(B171>=annoblocco,G179,0)","v":0},{"$f":"Foglio1!C1151","v":"2010-09-01"},{"$error":"#NUM!"},{"$error":"#NUM!"},{"$error":"#NUM!"},{"$error":"#NUM!"},{"$error":"#NUM!"},{"$f":"(IF(F171<>\"\",IF(A171>0,A171,C171+E171+F171+G171+ARR),0))","v":{"$error":"#NUM!"}},{"$error":"#NUM!"},{"$error":"#NUM!"},{"$error":"#NUM!"},{"$error":"#NUM!"},{"$error":"#NUM!"},{"$error":"#NUM!"},"2010-09-01",{"$f":"Foglio1!A1159*Foglio2!L171","v":{"$error":"#NUM!"}},{"$f":"Foglio1!A1159*Foglio2!L171","v":{"$error":"#NUM!"}},{"$f":"Foglio1!A1160*Foglio2!L171","v":{"$error":"#NUM!"}},{"$f":"Foglio1!A1161*Foglio2!L171","v":{"$error":"#NUM!"}},{"$f":"Foglio1!A1162*Foglio2!L171","v":{"$error":"#NUM!"}},{"$f":"Foglio1!A1163*Foglio2!L171","v":{"$error":"#NUM!"}},{"$f":"Foglio1!A1164*Foglio2!L171","v":{"$error":"#NUM!"}},"2010-09-01",{"$error":"#NUM!"},{"$error":"#NUM!"},{"$f":"HLOOKUP(N171,P174:W179,6)","v":{"$error":"#NUM!"}},null,null,null,null,"C.C.N.L. 04/ agosto 2011",null,null,null,null,null,null,null,null,{"$error":"#NUM!"},"1999-07-01",null,{"$error":"#NUM!"},{"$error":"#NUM!"},{"$f":"IF(AR171>0,HLOOKUP(AR171,tabrpd,Foglio2!AT171+1),\"\")","v":{"$error":"#NUM!"}},{"$f":"IF(AQ171>27,3,IF(Foglio2!AQ171>14,2,1))","v":{"$error":"#NUM!"}}]
[{"$f":"IF(B172>=annoblocco,G179,0)","v":0},"2011-09-01",{"$error":"#NUM!"},{"$error":"#NUM!"},{"$error":"#NUM!"},{"$error":"#NUM!"},{"$error":"#NUM!"},{"$f":"(IF(F172<>\"\",IF(A172>0,A172,C172+E172+F172+G172+ARR),0))","v":{"$error":"#NUM!"}},{"$error":"#NUM!"},{"$error":"#NUM!"},{"$error":"#NUM!"},{"$error":"#NUM!"},{"$error":"#NUM!"},{"$error":"#NUM!"},"2011-09-01",{"$f":"P171","v":{"$error":"#NUM!"}},{"$f":"Q171","v":{"$error":"#NUM!"}},{"$error":"#NUM!"},{"$error":"#NUM!"},{"$error":"#NUM!"},{"$error":"#NUM!"},{"$error":"#NUM!"},"2011-09-01",{"$error":"#NUM!"},{"$error":"#NUM!"},{"$f":"HLOOKUP(N172,P174:W179,6)","v":{"$error":"#NUM!"}},null,null,null,null,"C.C.N.L.  4/ agosto 2011",null,null,null,null,null,null,null,null,{"$error":"#NUM!"},"1999-07-01",null,{"$error":"#NUM!"},{"$error":"#NUM!"},{"$f":"IF(AR172>0,HLOOKUP(AR172,tabrpd,Foglio2!AT172+1),\"\")","v":{"$error":"#NUM!"}},{"$f":"IF(AQ172>27,3,IF(Foglio2!AQ172>14,2,1))","v":{"$error":"#NUM!"}}]
[]
[null,null,null,"giorni di anz. Da bloccare nel caso che la conf. In ruolo sia antecedente alla data del blocco",null,null,null,"anzianità di partenza inserita nel preruolo - anni=",{"$f":"F92","v":-1},null,null,null,null,null,null,null,1,2,3,4,5,6,7,null,null,null,null,null,null,null,null,null,null,null,null,"rigo per la conferma in ruolo ->",null,null,null,{"$f":"AN167","v":{"$error":"#NUM!"}},{"$f":"AO167","v":"1999-07-01"},null,{"$f":"IF(AN174=\"si\",I174,\"\")","v":{"$error":"#NUM!"}},{"$f":"CONF","v":{"$error":"#NUM!"}},{"$f":"IF(AR174>AO174,HLOOKUP(AR174,tabrpd,Foglio2!AT174+1),\"\")","v":{"$error":"#NUM!"}},1]
[null,{"$f":"IF(CONF<=C178,CONF,0)","v":{"$error":"#NUM!"}},{"$f":"IF(B175>0,anz,0)","v":{"$error":"#NUM!"}},{"$f":"IF(CONF<=C178,C178-CONF+C175,0)","v":{"$error":"#NUM!"}},null,null,null,null,null,null,null,null,null,null,null,null,"per passaggio, in questa data, al gradone 0-2 anni","per passaggio, in questa data, al gradone 3-8 anni","per passaggio, in questa data, al gradone 9-14 anni","per passaggio, in questa data, al gradone 15-20 anni","per passaggio, in questa data, al gradone 21-27 anni","per passaggio, in questa data, al gradone 28-34 anni","per passaggio, in questa data, al gradone da 35 anni in poi"]
[null,"Calcolo anzianità all'inizio del blocco degli anni - questo calcolo va ad aggiustare i periodi  che si trovano nelle righe 169,170,171,172,173"]
[null,"L'anzianità va congelata in data 01/01/2010 - per un periodo di tre anni, e poi va ripresa dopo l' 1/1/2013",null,null,null,null,null,null,null,null,null,null,null,null,null,"tabella stipendiale relativa al profilo del dipendente"]
[null,"data inizio blocco",{"$f":"annoblocco","v":"2013-01-01"},"data fine blocco",{"$f":"M146","v":"2013-01-01"},null,{"$f":"VLOOKUP(C178,B160:K172,7,1)","v":{"$error":"#NUM!"}},{"$f":"C178-VLOOKUP(C178,B160:K172,1)","v":488}]
[null,"alla data del:",{"$f":"C178","v":"2013-01-01"},"l'anzianità bloccata è pari a giorni:",null,null,{"$f":"IF(D175=0,  G178+H178,D175)","v":{"$error":"#NUM!"}},"e sarà congelata fino al:",null,{"$f":"E178","v":"2013-01-01"},null,null,null,null,null,null,{"$f":"Foglio1!B1203","v":"fascia di anzianità da 0-2 anni"},{"$f":"Foglio1!C1203","v":"fascia di anzianità da 3-8 anni"},{"$f":"Foglio1!D1203","v":"fascia di anzianità da 9-14 anni"},{"$f":"Foglio1!E1203","v":"fascia di anzianità da 15-20 anni"},{"$f":"Foglio1!F1203","v":"fascia di anzianità da 21-27 anni"},{"$f":"Foglio1!G1203","v":"fascia di anzianità da 28-34 anni"},{"$f":"Foglio1!H1203","v":"fascia di anzianità da 35 anni in poi"}]
[null,"per le decorrenze prima del' 1 /1/96 , vanno arrotondate per eccesso o difetto, le anzianità acquisite all' 1-1-96.",null,null,null,null,null,null,null,"1990-01-01",null,null,null,null,null,{"$f":"Foglio1!A1204","v":"1996-01-01"},{"$f":"Foglio1!B1204","v":8741.0330170895595},{"$f":"Foglio1!C1204","v":9161.4289329484018},{"$f":"Foglio1!D1204","v":10525.391603443735},{"$f":"Foglio1!E1204","v":12100.068688767578},{"$f":"Foglio1!F1204","v":13634.978592861533},{"$f":"Foglio1!G1204","v":15136.83525541376},{"$f":"Foglio1!H1204","v":16259.096097135214}]
["arr. al 1/1/ 96",{"$f":"IF(CONF<J180,ROUND(H153/360,0),0)","v":{"$error":"#NUM!"}},{"$f":"360*B181","v":{"$error":"#NUM!"}},{"$f":"IF(CONF<J180,H153,0)","v":{"$error":"#NUM!"}},{"$f":"C181-D181","v":{"$error":"#NUM!"}},"COEFF. ARR",null,null,null,null,null,null,null,null,null,{"$f":"Foglio1!A1205","v":"1998-11-01"},{"$f":"Foglio1!B1205","v":10011.516988849695},{"$f":"Foglio1!C1205","v":10462.900318653907},{"$f":"Foglio1!D1205","v":11944.615162141643},{"$f":"Foglio1!E1205","v":13649.439386036038},{"$f":"Foglio1!F1205","v":15314.496428700542},{"$f":"Foglio1!G1205","v":16946.500229823319},{"$f":"Foglio1!H1205","v":18155.525830591807}]
[null,null,null,null,null,null,null,null,null,null,null,null,null,null,null,{"$f":"Foglio1!A1206","v":"1999-06-01"},{"$f":"Foglio1!B1206","v":10253.218817623576},{"$f":"Foglio1!C1206","v":10710.799630216861},{"$f":"Foglio1!D1206","v":12217.304404860892},{"$f":"Foglio1!E1206","v":13946.918559911583},{"$f":"Foglio1!F1206","v":15636.765533732383},{"$f":"Foglio1!G1206","v":17293.559266011456},{"$f":"Foglio1!H1206","v":18521.177315147164}]
[null,null,null,null,null,null,null,null,null,null,null,null,null,null,null,{"$f":"Foglio1!A1207","v":"2000-07-01"},{"$f":"Foglio1!B1207","v":10451.538266873938},{"$f":"Foglio1!C1207","v":10915.316562256297},{"$f":"Foglio1!D1207","v":12440.41378526755},{"$f":"Foglio1!E1207","v":14194.817871474535},{"$f":"Foglio1!F1207","v":15903.257293662558},{"$f":"Foglio1!G1207","v":17578.64347430885},{"$f":"Foglio1!H1207","v":18818.656489022709}]
[null,null,null,null,null,null,null,null,null,null,null,null,null,null,null,{"$f":"Foglio1!A1208","v":"2001-01-01"},{"$f":"Foglio1!B1208","v":10786.202337483925},{"$f":"Foglio1!C1208","v":11262.375598444432},{"$f":"Foglio1!D1208","v":12818.460235401055},{"$f":"Foglio1!E1208","v":14610.049218342483},{"$f":"Foglio1!F1208","v":16349.476054475874},{"$f":"Foglio1!G1208","v":18055.849649067539},{"$f":"Foglio1!H1208","v":19320.652594937688}]
[null,null,null,null,null,null,null,null,null,null,null,null,"1986-09-01",null,null,{"$f":"Foglio1!A1209","v":"2002-01-01"},{"$f":"Foglio1!B1209","v":11221.802337483925},{"$f":"Foglio1!C1209","v":11709.975598444433},{"$f":"Foglio1!D1209","v":13305.420235401054},{"$f":"Foglio1!E1209","v":15142.249218342484},{"$f":"Foglio1!F1209","v":16925.596054475875},{"$f":"Foglio1!G1209","v":18675.04964906754},{"$f":"Foglio1!H1209","v":19971.772594937687}]
[null,null,null,null,null,null,null,null,null,null,null,null,"1987-09-01",null,null,{"$f":"Foglio1!A1210","v":"2003-01-01"},{"$f":"Foglio1!B1210","v":18128.79},{"$f":"Foglio1!C1210","v":18629.330000000002},{"$f":"Foglio1!D1210","v":20265.09},{"$f":"Foglio1!E1210","v":22148.36},{"$f":"Foglio1!F1210","v":23976.83},{"$f":"Foglio1!G1210","v":25770.560000000001},{"$f":"Foglio1!H1210","v":27100.16}]
[null,null,null,null,null,null,null,null,null,null,null,null,"1988-09-01",null,null,{"$f":"Foglio1!A1211","v":"2004-01-01"},{"$f":"Foglio1!B1211","v":18566.91},{"$f":"Foglio1!C1211","v":19079.57},{"$f":"Foglio1!D1211","v":20754.93},{"$f":"Foglio1!E1211","v":22683.68},{"$f":"Foglio1!F1211","v":24556.31},{"$f":"Foglio1!G1211","v":26393.48},{"$f":"Foglio1!H1211","v":27755.119999999999}]
[null,null,null,null,null,null,null,null,null,null,null,null,"1989-09-01",null,null,{"$f":"Foglio1!A1212","v":"2005-02-01"},{"$f":"Foglio1!B1212","v":19082.5},{"$f":"Foglio1!C1212","v":19609.37},{"$f":"Foglio1!D1212","v":21331.19},{"$f":"Foglio1!E1212","v":23313.53},{"$f":"Foglio1!F1212","v":25238.19},{"$f":"Foglio1!G1212","v":27126.29},{"$f":"Foglio1!H1212","v":28525.83}]
[null,null,null,null,null,null,null,null,null,null,null,null,"1990-09-01",null,null,{"$f":"Foglio1!A1213","v":"2006-01-01"},{"$f":"Foglio1!B1213","v":19170.939999999999},{"$f":"Foglio1!C1213","v":19700.21},{"$f":"Foglio1!D1213","v":21429.95},{"$f":"Foglio1!E1213","v":23421.53},{"$f":"Foglio1!F1213","v":25355.07},{"$f":"Foglio1!G1213","v":27251.93},{"$f":"Foglio1!H1213","v":28657.95}]
[null,null,null,null,null,null,null,null,null,null,null,null,"1991-09-01",null,null,{"$f":"Foglio1!A1214","v":"2007-01-01"},{"$f":"Foglio1!B1214","v":19535.740000000002},{"$f":"Foglio1!C1214","v":20075.21},{"$f":"Foglio1!D1214","v":21837.83},{"$f":"Foglio1!E1214","v":23867.33},{"$f":"Foglio1!F1214","v":25837.71},{"$f":"Foglio1!G1214","v":27770.69},{"$f":"Foglio1!H1214","v":29203.47}]
[null,null,null,null,null,null,null,null,null,null,null,null,"1992-09-01",null,null,{"$f":"Foglio1!A1215","v":"2007-02-01"},{"$f":"Foglio1!B1215","v":20068.419999999998},{"$f":"Foglio1!C1215","v":20622.41},{"$f":"Foglio1!D1215","v":22433.27},{"$f":"Foglio1!E1215","v":24517.97},{"$f":"Foglio1!F1215","v":26542.11},{"$f":"Foglio1!G1215","v":28527.77},{"$f":"Foglio1!H1215","v":29999.55}]
[null,null,null,null,null,null,null,null,null,null,null,null,"1993-09-01",null,null,{"$f":"Foglio1!A1216","v":"2008-01-01"},{"$f":"Foglio1!B1216","v":20197.18},{"$f":"Foglio1!C1216","v":20754.77},{"$f":"Foglio1!D1216","v":22577.27},{"$f":"Foglio1!E1216","v":24675.29},{"$f":"Foglio1!F1216","v":26712.51},{"$f":"Foglio1!G1216","v":28710.89},{"$f":"Foglio1!H1216","v":30192.03}]
[null,null,null,null,null,null,null,null,null,null,null,null,"1994-09-01",null,null,{"$f":"Foglio1!A1217","v":"2008-04-01"},{"$f":"Foglio1!B1217","v":20300.14},{"$f":"Foglio1!C1217","v":20857.73},{"$f":"Foglio1!D1217","v":22680.23},{"$f":"Foglio1!E1217","v":24778.25},{"$f":"Foglio1!F1217","v":26815.47},{"$f":"Foglio1!G1217","v":28813.85},{"$f":"Foglio1!H1217","v":30294.99}]
[null,null,null,null,null,null,null,null,null,null,null,null,"1995-09-01",null,null,{"$f":"Foglio1!A1218","v":"2008-07-01"},{"$f":"Foglio1!B1218","v":20368.900000000001},{"$f":"Foglio1!C1218","v":20926.490000000002},{"$f":"Foglio1!D1218","v":22748.99},{"$f":"Foglio1!E1218","v":24847.01},{"$f":"Foglio1!F1218","v":26884.23},{"$f":"Foglio1!G1218","v":28882.61},{"$f":"Foglio1!H1218","v":30363.75}]
[null,null,null,null,null,null,null,null,null,null,null,null,"1996-09-01",null,null,{"$f":"Foglio1!A1219","v":"2009-01-01"},{"$f":"Foglio1!B1219","v":20973.22},{"$f":"Foglio1!C1219","v":21552.17},{"$f":"Foglio1!D1219","v":23444.75},{"$f":"Foglio1!E1219","v":25623.29},{"$f":"Foglio1!F1219","v":27738.87},{"$f":"Foglio1!G1219","v":29814.05},{"$f":"Foglio1!H1219","v":31352.07}]
[null,null,null,null,null,null,null,null,null,null,null,null,"1997-09-01",null,null,{"$f":"Foglio1!A1220","v":"2010-04-01"},{"$f":"Foglio1!B1220","v":21067.54},{"$f":"Foglio1!C1220","v":21646.49},{"$f":"Foglio1!D1220","v":23539.07},{"$f":"Foglio1!E1220","v":25717.61},{"$f":"Foglio1!F1220","v":27833.19},{"$f":"Foglio1!G1220","v":29908.37},{"$f":"Foglio1!H1220","v":31446.39}]
[null,null,null,null,null,null,null,null,null,null,null,null,"1998-09-01",null,null,{"$f":"Foglio1!A1221","v":"2010-07-01"},{"$f":"Foglio1!B1221","v":21130.54},{"$f":"Foglio1!C1221","v":21709.49},{"$f":"Foglio1!D1221","v":23602.07},{"$f":"Foglio1!E1221","v":25780.61},{"$f":"Foglio1!F1221","v":27896.19},{"$f":"Foglio1!G1221","v":29971.37},{"$f":"Foglio1!H1221","v":31509.39}]
[null,null,null,null,null,null,null,null,null,null,null,null,"1999-09-01",null,null,{"$f":"Foglio1!A1224","v":"2010-09-01"},{"$f":"Foglio1!B1224","v":21130.54},{"$f":"Foglio1!B1224","v":21130.54},{"$f":"Foglio1!C1224","v":23602.07},{"$f":"Foglio1!D1224","v":25780.61},{"$f":"Foglio1!E1224","v":27896.19},{"$f":"Foglio1!F1224","v":29971.37},{"$f":"Foglio1!G1224","v":31509.39}]
[null,null,null,null,null,null,null,null,null,null,null,null,"2000-09-01",null,null,null,null,null,null,null,null,null,"anzianita",null,"gg. relativi"]
[null,null,"progressione stipendiale",null,null,null,{"$f":"qualifica","v":"Doc. laureato 1° Grado"},null,null,null,null,null,"2000-09-01",null,null,null,null,null,null,null,null,null,null,"da 0 a 2 gg",{"$f":"360*3","v":1080}]
[null,null,null,null,null,null,null,null,null,null,null,null,"2001-09-01",null,null,null,null,null,null,null,null,null,null,"da 3 a 8 gg",{"$f":"360*9","v":3240}]
[null,null,"data","anzianità",null,null,null,"retribuzione spettante",null,null,null,null,"2002-09-01",null,null,null,null,null,null,null,null,null,null,"da 9 a 14 gg",{"$f":"360*15","v":5400}]
[null,null,null,"anni","mesi","giorni",null,null,null,null,null,null,"2003-09-01",null,null,null,null,null,null,null,null,null,null,"da 15 a 20 gg",{"$f":"360*21","v":7560}]
[null,null,{"$f":"D148","v":{"$error":"#NUM!"}},{"$f":"IF(L148>0,I148,\"\")","v":{"$error":"#NUM!"}},{"$f":"IF(L148>0,J148,\"\")","v":0},{"$f":"IF(L148>0,K148,\"\")","v":0},null,{"$f":"IF(L148>0,Y148,\"\")","v":{"$error":"#NUM!"}},null,null,null,null,"2004-09-01",null,null,null,null,null,null,null,null,null,null,"da 21 a 27 gg",{"$f":"360*28","v":10080}]
[null,1,{"$error":"#NUM!"},{"$error":"#NUM!"},0,0,null,{"$error":"#NUM!"},null,null,null,null,"2005-09-01",null,null,null,null,null,null,null,null,null,null,"da 28 a 34 gg",{"$f":"360*35","v":12600}]
[null,2,{"$error":"#NUM!"},{"$error":"#NUM!"},0,0,null,{"$error":"#NUM!"},null,null,null,null,"2006-09-01",null,null,null,null,null,null,null,null,null,null,"oltre 35 gg"]
[null,3,{"$error":"#NUM!"},{"$error":"#NUM!"},0,0,null,{"$error":"#NUM!"},null,null,null,null,"2007-09-01"]
[null,4,{"$error":"#NUM!"},{"$error":"#NUM!"},0,0,null,{"$error":"#NUM!"},null,null,null,null,"2008-09-01"]
[null,5,{"$error":"#NUM!"},{"$error":"#NUM!"},{"$error":"#NUM!"},{"$error":"#NUM!"},null,{"$error":"#NUM!"}]
[null,6,{"$error":"#NUM!"},{"$error":"#NUM!"},{"$error":"#NUM!"},{"$error":"#NUM!"},null,{"$error":"#NUM!"}]
[null,7,{"$error":"#NUM!"},{"$error":"#NUM!"},{"$error":"#NUM!"},{"$error":"#NUM!"},null,{"$error":"#NUM!"}]
[null,8,{"$error":"#NUM!"},{"$error":"#NUM!"},{"$error":"#NUM!"},{"$error":"#NUM!"},null,{"$error":"#NUM!"}]
[null,9,{"$error":"#NUM!"},{"$error":"#NUM!"},{"$error":"#NUM!"},{"$error":"#NUM!"},null,{"$error":"#NUM!"}]
[null,18,{"$error":"#NUM!"},{"$error":"#NUM!"},{"$error":"#NUM!"},{"$error":"#NUM!"},null,{"$error":"#NUM!"}]
[null,17,{"$error":"#NUM!"},{"$error":"#NUM!"},{"$error":"#NUM!"},{"$error":"#NUM!"},null,{"$error":"#NUM!"}]
[null,16,{"$error":"#NUM!"},{"$error":"#NUM!"},{"$error":"#NUM!"},{"$error":"#NUM!"},null,{"$error":"#NUM!"}]
[null,15,{"$error":"#NUM!"},{"$error":"#NUM!"},{"$error":"#NUM!"},{"$error":"#NUM!"},null,{"$error":"#NUM!"}]
[null,14,{"$error":"#NUM!"},{"$error":"#NUM!"},{"$error":"#NUM!"},{"$error":"#NUM!"},null,{"$error":"#NUM!"}]
[null,13,{"$error":"#NUM!"},{"$error":"#NUM!"},{"$error":"#NUM!"},{"$error":"#NUM!"},null,{"$error":"#NUM!"}]
[null,12,{"$error":"#NUM!"},{"$error":"#NUM!"},{"$error":"#NUM!"},{"$error":"#NUM!"},null,{"$error":"#NUM!"}]
[null,11,{"$error":"#NUM!"},{"$error":"#NUM!"},{"$error":"#NUM!"},{"$error":"#NUM!"},null,{"$error":"#NUM!"}]
[null,10,{"$error":"#NUM!"},{"$error":"#NUM!"},{"$error":"#NUM!"},{"$error":"#NUM!"},null,{"$error":"#NUM!"}]
[null,null,{"$error":"#NUM!"},{"$error":"#NUM!"},{"$error":"#NUM!"},{"$error":"#NUM!"},null,{"$error":"#NUM!"}]
[null,null,{"$f":"D183","v":"00:00:00"},{"$f":"IF(L183>0,I183,\"\")","v":""},{"$f":"IF(L183>0,J183,\"\")","v":""},{"$f":"IF(L183>0,K183,\"\")","v":""},null,{"$f":"IF(L183>0,Y183,\"\")","v":""}]
[]
[null,null,"scatti di gradone "]
[null,null,"data","anni"]
[null,null,{"$f":"decor","v":-365},{"$f":"C103","v":{"$error":"#NUM!"}},"decor ruolo"]
[null,null,{"$f":"IF(K108>0,F118,0)","v":{"$error":"#NUM!"}},"3","gradone da 3 a 8 anni"]
[null,null,{"$error":"#NUM!"},"9","gradone da 9 a 14 anni"]
[null,null,{"$error":"#NUM!"},"15","gradone da 15 a 20 anni"]
[null,null,{"$error":"#NUM!"},"21","gradone da 21 a 27 anni"]
[null,null,{"$error":"#NUM!"},"28","gradone da 28 a 35 anni"]
[null,null,{"$error":"#NUM!"},"35","gradone oltrei 35 anni",null,null,null,null,null,""]
[null,null,{"$f":"IF(K123>0,N123,\"\")","v":""},null,null,null,null,null,null,null,""]
[]
[]
[]
[null,null,null,null,null,null,null,null,null,null,"Art 7 lire 240.000 - periodo di riferimento delle 240000"]
[null,null,null,null,null,null,null,null,null,null,"dal:",{"$f":"'pre 1-1-1996'!E144","v":{"$error":"#N/A"}},"al",{"$f":"'pre 1-1-1996'!F144","v":{"$error":"#N/A"}}]
[]
[]
[]
[null,null,null,"DATA",null,"Posizione / Anni ","Trattamento economico in godimento - Annuo lordo",{"$f":"'pre 1-1-1996'!F81","v":"STIPENDIO"},{"$f":"'pre 1-1-1996'!G81","v":"A/B STIP"},{"$f":"'pre 1-1-1996'!H81","v":"I.F."},{"$f":"'pre 1-1-1996'!I81","v":"A/B IF"},{"$f":"'pre 1-1-1996'!J81","v":"TOTALE"},"R.p.D.",{"$f":"'pre 1-1-1996'!L81","v":" +£ 240.000"}]
[null,null,null,{"$f":"IF(CONF<data96,'pre 1-1-1996'!M82,\"\")","v":{"$error":"#NUM!"}},null,{"$f":"IF(CONF<data96,CONCATENATE(F244,'pre 1-1-1996'!D82,\" - Trattamento economico come da DPR 399/88 - Annuo lordo \"),\"\")","v":{"$error":"#NUM!"}},null,{"$f":"IF(CONF<data96,'pre 1-1-1996'!F82/1936.27,\"\")","v":{"$error":"#NUM!"}},{"$f":"IF(CONF<data96,'pre 1-1-1996'!G82/1936.27,\"\")","v":{"$error":"#NUM!"}},{"$f":"IF(CONF<data96,'pre 1-1-1996'!H82/1936.27,\"\")","v":{"$error":"#NUM!"}},{"$f":"IF(CONF<data96,'pre 1-1-1996'!I82/1936.27,\"\")","v":{"$error":"#NUM!"}},{"$f":"IF(CONF<data96,'pre 1-1-1996'!J82/1936.27,\"\")","v":{"$error":"#NUM!"}},null,{"$f":"IF(D245>=L240,IF(D245<=N240,123.95,0),0)","v":{"$error":"#NUM!"}}]
[null,"dove c'e lo 0 la riga e stata annullata (data=0) perche uguale alla riga superiore",null,{"$f":"IF(CONF<data96,'pre 1-1-1996'!M83,\"\")","v":{"$error":"#NUM!"}},null,{"$f":"IF(CONF<data96,CONCATENATE(F244,'pre 1-1-1996'!D83,\" - Trattamento economico come da DPR 399/88 - Annuo lordo \"),\"\")","v":{"$error":"#NUM!"}},null,{"$f":"IF(CONF<data96,'pre 1-1-1996'!F83/1936.27,\"\")","v":{"$error":"#NUM!"}},{"$f":"IF(CONF<data96,'pre 1-1-1996'!G83/1936.27,\"\")","v":{"$error":"#NUM!"}},{"$f":"IF(CONF<data96,'pre 1-1-1996'!H83/1936.27,\"\")","v":{"$error":"#NUM!"}},{"$f":"IF(CONF<data96,'pre 1-1-1996'!I83/1936.27,\"\")","v":{"$error":"#NUM!"}},{"$f":"IF(CONF<data96,'pre 1-1-1996'!J83/1936.27,\"\")","v":{"$error":"#NUM!"}},null,{"$f":"IF(D246>=L240,IF(D246<=N240,123.95,0),0)","v":{"$error":"#NUM!"}}]
[null,null,{"$f":"IF('pre 1-1-1996'!M84='pre 1-1-1996'!M83,0,1)","v":{"$error":"#N/A"}},{"$f":"IF(CONF<data96,'pre 1-1-1996'!M84,\"\")*C247","v":{"$error":"#NUM!"}},null,{"$f":"IF(CONF<data96,CONCATENATE(F244,'pre 1-1-1996'!D84,\" - Trattamento economico come da DPR 399/88 - Annuo lordo \"),\"\")","v":{"$error":"#NUM!"}},null,{"$f":"IF(CONF<data96,'pre 1-1-1996'!F84/1936.27,\"\")*C247","v":{"$error":"#NUM!"}},{"$f":"IF(CONF<data96,'pre 1-1-1996'!G84/1936.27,\"\")*C247","v":{"$error":"#NUM!"}},{"$f":"IF(CONF<data96,'pre 1-1-1996'!H84/1936.27,\"\")*C247","v":{"$error":"#NUM!"}},{"$f":"IF(CONF<data96,'pre 1-1-1996'!I84/1936.27,\"\")*C247","v":{"$error":"#NUM!"}},{"$f":"IF(CONF<data96,'pre 1-1-1996'!J84/1936.27,\"\")*C247","v":{"$error":"#NUM!"}},null,{"$f":"IF(D247>=L240,IF(D247<=N240,123.95,0),0)","v":{"$error":"#NUM!"}}]
[null,null,{"$f":"IF('pre 1-1-1996'!M85='pre 1-1-1996'!M84,0,1)","v":1},{"$f":"IF(CONF<data96,'pre 1-1-1996'!M85,\"\")*C248","v":{"$error":"#NUM!"}},null,{"$f":"IF(CONF<data96,CONCATENATE(F244,'pre 1-1-1996'!D85,\" - Trattamento economico come da DPR 399/88 - Annuo lordo \"),\"\")","v":{"$error":"#NUM!"}},null,{"$f":"IF(CONF<data96,'pre 1-1-1996'!F85/1936.27,\"\")","v":{"$error":"#NUM!"}},{"$f":"IF(CONF<data96,'pre 1-1-1996'!G85/1936.27,\"\")","v":{"$error":"#NUM!"}},{"$f":"IF(CONF<data96,'pre 1-1-1996'!H85/1936.27,\"\")","v":{"$error":"#NUM!"}},{"$f":"IF(CONF<data96,'pre 1-1-1996'!I85/1936.27,\"\")","v":{"$error":"#NUM!"}},{"$f":"IF(CONF<data96,'pre 1-1-1996'!J85/1936.27,\"\")","v":{"$error":"#NUM!"}},null,{"$f":"IF(D248>=L240,IF(D248<=N240,123.95,0),0)","v":{"$error":"#NUM!"}}]
[null,null,{"$f":"IF('pre 1-1-1996'!M86='pre 1-1-1996'!M85,0,1)","v":1},{"$f":"IF(CONF<data96,'pre 1-1-1996'!M86,\"\")*C249","v":{"$error":"#NUM!"}},null,{"$f":"IF(CONF<data96,CONCATENATE(F244,'pre 1-1-1996'!D86,\" - Trattamento economico come da DPR 399/88 - Annuo lordo \"),\"\")","v":{"$error":"#NUM!"}},null,{"$f":"IF(CONF<data96,'pre 1-1-1996'!F86/1936.27,\"\")*C249","v":{"$error":"#NUM!"}},{"$f":"IF(CONF<data96,'pre 1-1-1996'!G86/1936.27,\"\")*C249","v":{"$error":"#NUM!"}},{"$f":"IF(CONF<data96,'pre 1-1-1996'!H86/1936.27,\"\")*C249","v":{"$error":"#NUM!"}},{"$f":"IF(CONF<data96,'pre 1-1-1996'!I86/1936.27,\"\")*C249","v":{"$error":"#NUM!"}},{"$f":"IF(CONF<data96,'pre 1-1-1996'!J86/1936.27,\"\")*C249","v":{"$error":"#NUM!"}},null,{"$f":"IF(D249>=L240,IF(D249<=N240,123.95,0),0)","v":{"$error":"#NUM!"}}]
[null,null,{"$f":"IF('pre 1-1-1996'!M87='pre 1-1-1996'!M86,0,1)","v":0},{"$f":"IF(CONF<data96,'pre 1-1-1996'!M87,\"\")*C250","v":{"$error":"#NUM!"}},null,{"$f":"IF(CONF<data96,CONCATENATE(F244,'pre 1-1-1996'!D87,\" - Trattamento economico come da DPR 399/88 - Annuo lordo \"),\"\")","v":{"$error":"#NUM!"}},null,{"$f":"IF(CONF<data96,'pre 1-1-1996'!F87/1936.27,\"\")*C250","v":{"$error":"#NUM!"}},{"$f":"IF(CONF<data96,'pre 1-1-1996'!G87/1936.27,\"\")*C250","v":{"$error":"#NUM!"}},{"$f":"IF(CONF<data96,'pre 1-1-1996'!H87/1936.27,\"\")*C250","v":{"$error":"#NUM!"}},{"$f":"IF(CONF<data96,'pre 1-1-1996'!I87/1936.27,\"\")*C250","v":{"$error":"#NUM!"}},{"$f":"IF(CONF<data96,'pre 1-1-1996'!J87/1936.27,\"\")*C250","v":{"$error":"#NUM!"}},null,{"$f":"IF(D250>=L240,IF(D250<=N240,123.95,0),0)","v":{"$error":"#NUM!"}}]
[null,null,{"$f":"IF('pre 1-1-1996'!M88='pre 1-1-1996'!M87,0,1)","v":0},{"$f":"IF(CONF<data96,'pre 1-1-1996'!M88,\"\")*C251","v":{"$error":"#NUM!"}},null,{"$f":"IF(CONF<data96,CONCATENATE(F244,'pre 1-1-1996'!D88,\" - Trattamento economico come da DPR 399/88 - Annuo lordo \"),\"\")","v":{"$error":"#NUM!"}},null,{"$f":"IF(CONF<data96,'pre 1-1-1996'!F88/1936.27+H253,\"\")*C251","v":{"$error":"#NUM!"}},{"$f":"IF(CONF<data96,'pre 1-1-1996'!G88/1936.27,\"\")*C251","v":{"$error":"#NUM!"}},{"$f":"IF(CONF<data96,'pre 1-1-1996'!H88/1936.27,\"\")*C251","v":{"$error":"#NUM!"}},{"$f":"IF(CONF<data96,'pre 1-1-1996'!I88/1936.27,\"\")*C251","v":{"$error":"#NUM!"}},{"$f":"IF(CONF<data96,'pre 1-1-1996'!J88/1936.27,\"\")*C251","v":{"$error":"#NUM!"}},null,{"$f":"IF(D251>=L240,IF(D251<=N240,123.95,0),0)","v":{"$error":"#NUM!"}}]
[null,null,{"$f":"IF('pre 1-1-1996'!M89='pre 1-1-1996'!M88,0,1)","v":0},{"$f":"IF(CONF<data96,'pre 1-1-1996'!M89,\"\")*C252","v":{"$error":"#NUM!"}},null,{"$f":"IF(CONF<data96,CONCATENATE(F244,'pre 1-1-1996'!D89,\" - Trattamento economico come da DPR 399/88 - Annuo lordo \"),\"\")","v":{"$error":"#NUM!"}},null,{"$f":"IF(CONF<data96,'pre 1-1-1996'!F89/1936.27,\"\")*C252","v":{"$error":"#NUM!"}},{"$f":"IF(CONF<data96,'pre 1-1-1996'!G89/1936.27,\"\")*C252","v":{"$error":"#NUM!"}},{"$f":"IF(CONF<data96,'pre 1-1-1996'!H89/1936.27,\"\")*C252","v":{"$error":"#NUM!"}},{"$f":"IF(CONF<data96,'pre 1-1-1996'!I89/1936.27,\"\")*C252","v":{"$error":"#NUM!"}},{"$f":"IF(CONF<data96,'pre 1-1-1996'!J89/1936.27,\"\")*C252","v":{"$error":"#NUM!"}},{"$f":"IF(CONF<data96,'pre 1-1-1996'!K89,\"\")","v":{"$error":"#NUM!"}},{"$f":"IF(D252>=L240,IF(D252<=N240,123.95,0),0)","v":{"$error":"#NUM!"}}]
[null,null,null,{"$f":"IF(CONF<data96,IF('pre 1-1-1996'!E128>0,'pre 1-1-1996'!F110,0),0)","v":{"$error":"#NUM!"}},null,{"$f":"IF(D253>0,CONCATENATE('pre 1-1-1996'!A128,TEXT(H253,\"###,##\"),\" - Nuovo trattamento economico:\"),\"\"\"\")","v":{"$error":"#NUM!"}},{"$f":"IF(AND(D253>=D252,D252>0),H252,IF(AND(D253>=D251,D251>0),H251,IF(AND(D253>=D250,D250>0),H250,IF(AND(D253>=D249,D249>0),H249,IF(AND(D253>=D248,D248>0),H248,IF(AND(D253>=D247,D247>0),H247,IF(AND(D253>=D246,D246>0),H246,H245)))))))","v":{"$error":"#NUM!"}},{"$f":"IF(D253>0,'pre 1-1-1996'!E128,0)","v":{"$error":"#NUM!"}},{"$f":"IF(AND(D253>=D252,D252>0),I252,IF(AND(D253>=D251,D251>0),I251,IF(AND(D253>=D250,D250>0),I250,IF(AND(D253>=D249,D249>0),I249,IF(AND(D253>=D248,D248>0),I248,IF(AND(D253>=D247,D247>0),I247,IF(AND(D253>=D246,D246>0),I246,I245)))))))","v":{"$error":"#NUM!"}},{"$f":"IF(AND(D253>=D252,D252>0),J252,IF(AND(D253>=D251,D251>0),J251,IF(AND(D253>=D250,D250>0),J250,IF(AND(D253>=D249,D249>0),J249,IF(AND(D253>=D248,D248>0),J248,IF(AND(D253>=D247,D247>0),J247,IF(AND(D253>=D246,D246>0),J246,J245)))))))","v":{"$error":"#NUM!"}},{"$f":"IF(AND(D253>=D252,D252>0),K252,IF(AND(D253>=D251,D251>0),K251,IF(AND(D253>=D250,D250>0),K250,IF(AND(D253>=D249,D249>0),K249,IF(AND(D253>=D248,D248>0),K248,IF(AND(D253>=D247,D247>0),K247,IF(AND(D253>=D246,D246>0),K246,K245)))))))","v":{"$error":"#NUM!"}},{"$f":"IF(AND(D253>=D252,D252>0),L252,IF(AND(D253>=D251,D251>0),L251,IF(AND(D253>=D250,D250>0),L250,IF(AND(D253>=D249,D249>0),L249,IF(AND(D253>=D248,D248>0),L248,IF(AND(D253>=D247,D247>0),L247,IF(AND(D253>=D246,D246>0),L246,L245)))))))","v":{"$error":"#NUM!"}},{"$f":"IF(CONF<data96,'pre 1-1-1996'!K90,\"\")","v":{"$error":"#NUM!"}},{"$f":"IF(D253>=L240,IF(D253<=N240,123.95,0),0)","v":{"$error":"#NUM!"}}]
[null,null,null,{"$f":"IF(CONF<data96,IF('pre 1-1-1996'!E129>0,'pre 1-1-1996'!G110,0),0)","v":{"$error":"#NUM!"}},null,{"$f":"IF(D254>0,CONCATENATE('pre 1-1-1996'!A129,TEXT(H254,\"###,##\"),\" - Nuovo trattamento economico:\"),\"\"\"\")","v":{"$error":"#NUM!"}},{"$f":"IF(AND(D254>=D252,D252>0),H252,IF(AND(D254>=D251,D251>0),H251,IF(AND(D254>=D250,D250>0),H250,IF(AND(D254>=D249,D249>0),H249,IF(AND(D254>=D248,D248>0),H248,IF(AND(D254>=D247,D247>0),H247,IF(AND(D254>=D246,D246>0),H246,H245)))))))","v":{"$error":"#NUM!"}},{"$f":"IF(D254>0,'pre 1-1-1996'!E129,0)","v":{"$error":"#NUM!"}},{"$f":"IF(AND(D254>=D252,D252>0),I252,IF(AND(D254>=D251,D251>0),I251,IF(AND(D254>=D250,D250>0),I250,IF(AND(D254>=D249,D249>0),I249,IF(AND(D254>=D248,D248>0),I248,IF(AND(D254>=D247,D247>0),I247,IF(AND(D254>=D246,D246>0),I246,I245)))))))","v":{"$error":"#NUM!"}},{"$f":"IF(AND(D254>=D252,D252>0),J252,IF(AND(D254>=D251,D251>0),J251,IF(AND(D254>=D250,D250>0),J250,IF(AND(D254>=D249,D249>0),J249,IF(AND(D254>=D248,D248>0),J248,IF(AND(D254>=D247,D247>0),J247,IF(AND(D254>=D246,D246>0),J246,J245)))))))","v":{"$error":"#NUM!"}},{"$f":"IF(AND(D254>=D252,D252>0),K252,IF(AND(D254>=D251,D251>0),K251,IF(AND(D254>=D250,D250>0),K250,IF(AND(D254>=D249,D249>0),K249,IF(AND(D254>=D248,D248>0),K248,IF(AND(D254>=D247,D247>0),K247,IF(AND(D254>=D246,D246>0),K246,K245)))))))","v":{"$error":"#NUM!"}},{"$f":"IF(AND(D254>=D252,D252>0),L252,IF(AND(D254>=D251,D251>0),L251,IF(AND(D254>=D250,D250>0),L250,IF(AND(D254>=D249,D249>0),L249,IF(AND(D254>=D248,D248>0),L248,IF(AND(D254>=D247,D247>0),L247,IF(AND(D254>=D246,D246>0),L246,L245)))))))","v":{"$error":"#NUM!"}},{"$f":"IF(CONF<data96,'pre 1-1-1996'!K91,\"\")","v":{"$error":"#NUM!"}},{"$f":"IF(D254>=L240,IF(D254<=N240,123.95,0),0)","v":{"$error":"#NUM!"}}]
[null,null,null,{"$f":"X148","v":{"$error":"#NUM!"}},null,{"$f":"CONCATENATE(Z148,\"  \",AE148)","v":{"$error":"#NUM!"}},null,{"$f":"Y148","v":{"$error":"#NUM!"}},null,null,null,{"$f":"H255","v":{"$error":"#NUM!"}},{"$f":"IF(AR148<>\"\",AS148,\"\")","v":{"$error":"#NUM!"}},{"$f":"IF(D255>=L240,IF(D255<=N240,123.95,0),0)","v":{"$error":"#NUM!"}}]
[null,null,null,{"$error":"#NUM!"},null,{"$f":"CONCATENATE(Z149,\"  \",AE149)","v":{"$error":"#NUM!"}},null,{"$error":"#NUM!"},null,null,null,{"$error":"#NUM!"},{"$f":"IF(AR149<>\"\",AS149,\"\")","v":{"$error":"#NUM!"}}]
[null,null,null,{"$error":"#NUM!"},null,{"$error":"#NUM!"},null,{"$error":"#NUM!"},null,null,null,{"$error":"#NUM!"},{"$error":"#NUM!"}]
[null,null,null,{"$error":"#NUM!"},null,{"$error":"#NUM!"},null,{"$error":"#NUM!"},null,null,null,{"$error":"#NUM!"},{"$error":"#NUM!"}]
[null,null,null,{"$error":"#NUM!"},null,{"$error":"#NUM!"},null,{"$error":"#NUM!"},null,null,null,{"$error":"#NUM!"},{"$error":"#NUM!"}]
[null,null,null,{"$error":"#NUM!"},null,{"$error":"#NUM!"},null,{"$error":"#NUM!"},null,null,null,{"$error":"#NUM!"},{"$error":"#NUM!"}]
[null,null,null,{"$error":"#NUM!"},null,{"$error":"#NUM!"},null,{"$error":"#NUM!"},null,null,null,{"$error":"#NUM!"},{"$error":"#NUM!"}]
[null,null,null,{"$error":"#NUM!"},null,{"$error":"#NUM!"},null,{"$error":"#NUM!"},null,null,null,{"$error":"#NUM!"},{"$error":"#NUM!"}]
[null,null,null,{"$error":"#NUM!"},null,{"$error":"#NUM!"},null,{"$error":"#NUM!"},null,null,null,{"$error":"#NUM!"},{"$error":"#NUM!"}]
[null,null,null,{"$error":"#NUM!"},null,{"$error":"#NUM!"},null,{"$error":"#NUM!"},null,null,null,{"$error":"#NUM!"},{"$error":"#NUM!"}]
[null,null,null,{"$error":"#NUM!"},null,{"$error":"#NUM!"},null,{"$error":"#NUM!"},null,null,null,{"$error":"#NUM!"},{"$error":"#NUM!"}]
[null,null,null,{"$error":"#NUM!"},null,{"$error":"#NUM!"},null,{"$error":"#NUM!"},null,null,null,{"$error":"#NUM!"},{"$error":"#NUM!"}]
[null,null,null,{"$error":"#NUM!"},null,{"$error":"#NUM!"},null,{"$error":"#NUM!"},null,null,null,{"$error":"#NUM!"},{"$error":"#NUM!"}]
[null,null,null,{"$error":"#NUM!"},null,{"$error":"#NUM!"},null,{"$error":"#NUM!"},null,null,null,{"$error":"#NUM!"},{"$error":"#NUM!"}]
[null,null,null,{"$error":"#NUM!"},null,{"$error":"#NUM!"},null,{"$error":"#NUM!"},null,null,null,{"$error":"#NUM!"},{"$error":"#NUM!"}]
[null,null,null,{"$error":"#NUM!"},null,{"$error":"#NUM!"},null,{"$error":"#NUM!"},null,null,null,{"$error":"#NUM!"},{"$error":"#NUM!"}]
[null,null,null,{"$error":"#NUM!"},null,{"$error":"#NUM!"},null,{"$error":"#NUM!"},null,null,null,{"$error":"#NUM!"},{"$error":"#NUM!"}]
[null,null,null,{"$error":"#NUM!"},null,{"$error":"#NUM!"},null,{"$error":"#NUM!"},null,null,null,{"$error":"#NUM!"},{"$error":"#NUM!"}]
[null,null,null,{"$error":"#NUM!"},null,{"$f":"CONCATENATE(Z166,\"  \",AE166)","v":{"$error":"#NUM!"}},null,{"$error":"#NUM!"},null,null,null,{"$error":"#NUM!"},{"$f":"IF(AR166<>\"\",AS166,\"\")","v":{"$error":"#NUM!"}}]
[null,null,"ulteriori spazi riservati per i successivi stipendi",{"$f":"X167","v":{"$error":"#NUM!"}},null,{"$error":"#NUM!"},null,{"$f":"Y167","v":{"$error":"#NUM!"}},null,null,null,{"$f":"H274","v":{"$error":"#NUM!"}},{"$error":"#NUM!"}]
[null,null,null,{"$error":"#NUM!"},null,{"$error":"#NUM!"},null,{"$f":"Y168","v":{"$error":"#NUM!"}},null,null,null,{"$f":"H275","v":{"$error":"#NUM!"}},{"$error":"#NUM!"}]
[null,null,null,{"$error":"#NUM!"},null,{"$error":"#NUM!"},null,{"$f":"Y169","v":{"$error":"#NUM!"}},null,null,null,{"$f":"H276","v":{"$error":"#NUM!"}},{"$error":"#NUM!"}]
[null,null,null,{"$error":"#NUM!"},null,{"$error":"#NUM!"},null,{"$f":"Y170","v":{"$error":"#NUM!"}},null,null,null,{"$f":"H277","v":{"$error":"#NUM!"}},{"$error":"#NUM!"}]
[null,null,null,{"$error":"#NUM!"},null,{"$error":"#NUM!"},null,{"$f":"Y171","v":{"$error":"#NUM!"}},null,null,null,{"$f":"H278","v":{"$error":"#NUM!"}},{"$error":"#NUM!"}]
[]
[null,null,null,"00:00:00",null,{"$f":"IF(AND(CONF<data96,'pre 1-1-1996'!E100>0),\"ASSEGNO AD PERSONAM - L'ASSEGNO AD PERSONAM VERRA' RIASSORBITO AL PROSSIMO PASSAGGIO DI GRADONE - DA CORRISPONDERE PER  L'INTERA PERMANENZA NELLA FASCIA DI ANZIANITA' - TOTALE ANNUO LORDO:\",0)","v":{"$error":"#NUM!"}},null,{"$f":"IF(AND(CONF<data96,'pre 1-1-1996'!E100>0),'pre 1-1-1996'!E100,0)","v":{"$error":"#NUM!"}},null,null,null,{"$error":"#NUM!"}]
[">","Riservato a conferma in ruolo",null,{"$f":"IF(YEAR(CONF)>1995,CONF,0)","v":{"$error":"#NUM!"}},null,{"$f":"IF(D281>0,\"Decorrenza della Ricostruzione di Carriera \",\"\")","v":{"$error":"#NUM!"}},null,{"$f":"AA131","v":{"$error":"#NUM!"}},null,null,null,{"$error":"#NUM!"},{"$f":"IF(AR174<>\"\",AS174,\"\")","v":{"$error":"#NUM!"}}]
[null,null,null,{"$f":"IF(CONF<data96,'pre 1-1-1996'!M92,\"\")","v":{"$error":"#NUM!"}},null,{"$f":"IF(D282=0,\"\",\"ART. 67 -RATEO SPETTANTE PER IL MANCATO PASSAGGIO DI GRADONE NELL'ANNO 96 / 97 - TOT. ANNUO:\")","v":{"$error":"#NUM!"}},{"$f":"VLOOKUP(D282,D245:H275,5)","v":{"$error":"#NUM!"}},{"$f":"'pre 1-1-1996'!J92/1936.27*12","v":325.36784642637645},null,null,null,null,{"$f":"IF(AR175<>\"\",AS175,\"\")","v":""}]
[null,null,null,{"$f":"IF(CONF<data96,'pre 1-1-1996'!M93,\"\")","v":{"$error":"#NUM!"}},null,{"$f":"IF(D283=0,\"\",\"ART. 67 -RATEO SPETTANTE PER IL MANCATO PASSAGGIO DI GRADONE NELL'ANNO 96 / 97 - IL RATEO VERRA' RIASSORBITO AL PROSSIMO PASSAGGIO DI GRADONE - DA CORRISPONDERE PER  L'INTERA PERMANENZA NELLA FASCIA DI ANZIANITA' - TOTALE ANNUO LORDO: \")","v":{"$error":"#NUM!"}},{"$f":"VLOOKUP(D283,D245:H275,5)","v":{"$error":"#NUM!"}},{"$f":"'pre 1-1-1996'!J93/1936.27*12","v":0},0,0,0,0]
[null,null,null,{"$f":"IF(CONF<data96,'pre 1-1-1996'!B136,0)","v":{"$error":"#NUM!"}},null,{"$f":"IF(D284>0,'pre 1-1-1996'!C136,\"\")","v":{"$error":"#NUM!"}},null,{"$f":"IF(D284>0,'pre 1-1-1996'!F136/1936.27,0)","v":{"$error":"#NUM!"}},167.33203530499361,700.31555516534365,18.592448367221515,7257.2523460054645]
[null,null,null,{"$f":"IF(CONF<data96,'pre 1-1-1996'!B137,0)","v":{"$error":"#NUM!"}},null,{"$f":"IF(D285>0,'pre 1-1-1996'!C137,\"\")","v":{"$error":"#NUM!"}},null,{"$f":"IF(D285>0,'pre 1-1-1996'!F137/1936.27,0)","v":{"$error":"#NUM!"}},0,731.30296911071287,0,7405.991932943236]
[null,null,null,null,null,"Posizione / Anni 7 - Trattamento economico come da DPR 399/88 - Annuo lordo ",null,6674.6889638325238,167.33203530499361,731.30296911071287,18.592448367221515,7591.9164166154515]
[null,"Riservato al primo passaggio di gradone",null,{"$f":"X147","v":{"$error":"#NUM!"}},null,{"$f":"CONCATENATE(Z147,\"  \",AE147)","v":{"$error":"#NUM!"}},null,{"$f":"Y147","v":{"$error":"#NUM!"}},0,768.48786584515585,0,{"$f":"H287","v":{"$error":"#NUM!"}},{"$f":"IF(AR147<>\"\",AS147,\"\")","v":{"$error":"#NUM!"}}]
[null,null,null,{"$f":"X173","v":"00:00:00"},null,{"$f":"CONCATENATE(Z173,\"  \",AE173)","v":"  "},null,{"$f":"Y173","v":0},0,768.48786584515585,0,{"$f":"H288","v":0},{"$f":"IF(AR173<>\"\",AS173,\"\")","v":""}]
[null,null,null,"00:00:00",null,"  ",null,0,0,768.48786584515585,0,0,""]
[null,null,null,"2000-01-01",null,"Decorrenza della Ricostruzione di Carriera ",null,0,null,null,null,10253.218817623576,594.96]
[null,null,null,"2000-07-01",null,"fascia di anzianità da 0-2 anni  C.C.N.L. del 26/05/1999 incluso incremento stipendiale dal 01/11/1998 - Annuo lordo",null,10451.538266873938,null,null,null,10451.538266873938,594.96]
[null,null,null,null,null,null,null,null,null,null,"Art 7 lire 240.000 - periodo di riferimento delle 240000"]
[null,null,null,null,null,null,null,null,null,null,"dal:",0,"al",0]
[]
[]
[]
[null,null,null,"DATA",null,"Posizione / Anni ","Trattamento economico in godimento - Annuo lordo","STIPENDIO","A/B STIP","I.F.","A/B IF","TOTALE","R.p.D."," +£ 240.000"]
[null,null,null,"",null,"",null,"","","","","",null,0]
[null,null,null,"",null,"",null,"","","","","",null,0]
[null,null,null,{"$error":"#VALUE!"},null,"",null,{"$error":"#VALUE!"},{"$error":"#VALUE!"},{"$error":"#VALUE!"},{"$error":"#VALUE!"},{"$error":"#VALUE!"},null,{"$error":"#VALUE!"}]
[null,null,null,{"$error":"#VALUE!"},null,"",null,"","","","","",null,{"$error":"#VALUE!"}]
[null,null,null,{"$error":"#VALUE!"},null,"",null,{"$error":"#VALUE!"},{"$error":"#VALUE!"},{"$error":"#VALUE!"},{"$error":"#VALUE!"},{"$error":"#VALUE!"},null,{"$error":"#VALUE!"}]
[null,null,null,{"$error":"#VALUE!"},null,"",null,{"$error":"#VALUE!"},{"$error":"#VALUE!"},{"$error":"#VALUE!"},{"$error":"#VALUE!"},{"$error":"#VALUE!"},null,{"$error":"#VALUE!"}]
[null,null,null,{"$error":"#VALUE!"},null,"",null,{"$error":"#VALUE!"},{"$error":"#VALUE!"},{"$error":"#VALUE!"},{"$error":"#VALUE!"},{"$error":"#VALUE!"},null,{"$error":"#VALUE!"}]
[null,null,null,{"$error":"#VALUE!"},null,"",null,{"$error":"#VALUE!"},{"$error":"#VALUE!"},{"$error":"#VALUE!"},{"$error":"#VALUE!"},{"$error":"#VALUE!"},"",{"$error":"#VALUE!"}]
[null,null,null,"00:00:00",null,"\"",{"$error":"#VALUE!"},0,{"$error":"#VALUE!"},{"$error":"#VALUE!"},{"$error":"#VALUE!"},{"$error":"#VALUE!"},"",123.95]
[null,null,null,"00:00:00",null,"\"",{"$error":"#VALUE!"},0,{"$error":"#VALUE!"},{"$error":"#VALUE!"},{"$error":"#VALUE!"},{"$error":"#VALUE!"},"",123.95]
[null,null,null,"2001-01-01",null,"fascia di anzianità da 0-2 anni  C.C.N.L. del 26/05/1999 - incluso incremento stipendiale dal 01/06/1999 - Annuo lordo",null,10786.202337483925,null,null,null,10786.202337483925,1338.6562824399489]
[null,null,null,"2002-01-01",null,"fascia di anzianità da 0-2 anni  C.C.N.L. del 15/03/2001 - Annuo lordo",null,11221.802337483925,null,null,null,11221.802337483925,1578.6562824399489]
[null,null,null,"2003-01-01",null,"fascia di anzianità da 0-2 anni  C.C.N.L. del 15/03/2001 - incluso incrementi stipendiali dal 01/01/2001 - Annuo lordo",null,18128.79,null,null,null,18128.79,1710.6]
[null,null,null,37987,null,"fascia di anzianità da 0-2 anni  C.C.N.L. del 24/07/2003 - Annuo lordo",null,18566.91,null,null,null,18566.91,1857.84]
[null,null,null,"2005-02-01",null,"fascia di anzianità da 0-2 anni  C.C.N.L. del 24/07/2003 - incluso incrementi stipendiali dal 01/01/2003 - inclusa l' i.i.s. - Annuo lordo",null,19082.5,null,null,null,19082.5,1857.84]
[null,null,null,"",null,"fascia di anzianità da 0-2 anni  C.C.N.L. del 01/08/1996 - Annuo lordo",null,8741.0330170895595,null,null,null,8741.0330170895595,""]
[null,null,null,"",null,{"$error":"#N/A"},null,{"$error":"#N/A"},null,null,null,{"$error":"#N/A"},""]
[null,null,null,"",null,{"$error":"#N/A"},null,{"$error":"#N/A"},null,null,null,{"$error":"#N/A"},""]
[null,null,null,38718,null,"fascia di anzianità da 0-2 anni  C.C.N.L. del 07/12/2005 - incluso incremento stipendiale dal 01/01/2004 - inclusa l'i.i.s. - Annuo lordo",null,19170.939999999999,null,null,null,19170.939999999999,1968]
[null,null,null,"2007-01-01",null,"fascia di anzianità da 0-2 anni  C.C.N.L. del 07/12/2005 - incluso incremento stipendiale dal 01/02/2005 - inclusa l'i.i.s. - Annuo lordo",null,19535.740000000002,null,null,null,19535.740000000002,1968]
[null,null,null,"2007-02-01",null,"fascia di anzianità da 0-2 anni  C.C.N.L. del 29/11/2007 - inclusa l'i.i.s. - Annuo lordo",null,20068.419999999998,null,null,null,20068.419999999998,1968]
[null,null,null,"2008-01-01",null,"fascia di anzianità da 0-2 anni  C.C.N.L. del 29/11/2007 - incluso incremento stipendiale dal 01/01/2007 - inclusa l'i.i.s. - Annuo lordo",null,20197.18,null,null,null,20197.18,1968]
[null,null,null,"2008-04-01",null,"fascia di anzianità da 0-2 anni  Sequenza Contrattuale del 14/02/2008  - inclusa l'i.i.s. - Annuo lordo",null,20300.14,null,null,null,20300.14,1968]
[null,null,null,"2008-07-01",null,"fascia di anzianità da 0-2 anni  Sequenza Contrattuale del 14/02/2008 - inclusa l'i.i.s. - Annuo lordo",null,20368.900000000001,null,null,null,20368.900000000001,1968]
[null,null,null,"2009-01-01",null,"fascia di anzianità da 0-2 anni    Indennità di vacanza contrattuale - (Art. 33  Decreto Legge  N. 185 del 29 novembre 2008) - Annuo lordo inclusa l'iis -",null,20973.22,null,null,null,20973.22,1968]
[null,null,null,"2010-04-01",null,"fascia di anzianità da 0-2 anni    Indennità di vacanza contrattuale - (Art. 33  Decreto Legge  N. 185 del 29 novembre 2008) - Annuo lordo inclusa l'iis -",null,21067.54,null,null,null,21067.54,1968]
[null,null,null,"2010-07-01",null,"fascia di anzianità da 0-2 anni  C.C.N.L. 2007 - BIENNIO ECONOMICO 2008/2009 - Annuo lordo inclusa l'iis",null,21130.54,null,null,null,21130.54,1968]
[null,null,null,"2010-09-01",null,"fascia di anzianità da 0-2 anni  C.C.N.L. 04/ agosto 2011",null,21130.54,null,null,null,21130.54,1968]
[null,null,null,"2176-01-04",null,"per passaggio, in questa data, al gradone 3-8 anni   - inclusa l'i.i.s. - Annuo lordo ",null,21130.54,0,768.48786584515585,0,21130.54,1968]
[null,null,null,"2182-01-02",null,"per passaggio, in questa data, al gradone 9-14 anni   - inclusa l'i.i.s. - Annuo lordo ",null,23602.07,null,null,null,23602.07,1968,0]
[null,null,null,"2188-01-01",null,"per passaggio, in questa data, al gradone 15-20 anni   - inclusa l'i.i.s. - Annuo lordo ",null,25780.61,null,null,null,25780.61,2424]
[null,null,null,"2193-12-30",null,"per passaggio, in questa data, al gradone 21-27 anni   - inclusa l'i.i.s. - Annuo lordo ",null,27896.19,null,null,null,27896.19,2424]
[null,null,null,"2200-12-29",null,"per passaggio, in questa data, al gradone 28-34 anni   - inclusa l'i.i.s. - Annuo lordo ",null,29971.37,null,null,null,29971.37,3090]
[null,null,null,"2207-12-28",null,"per passaggio, in questa data, al gradone da 35 anni in poi   - inclusa l'i.i.s. - Annuo lordo ",null,31509.39,null,null,null,31509.39,3090]
[]
[null,null,null,0,null,0,null,0,null,null,null,0]
[]
[null,null,null,"",null,"ART. 67 -RATEO SPETTANTE PER IL MANCATO PASSAGGIO DI GRADONE NELL'ANNO 96 / 97 - TOT. ANNUO:",{"$error":"#N/A"},0,null,null,null,null,""]
[null,null,null,"",null,"ART. 67 -RATEO SPETTANTE PER IL MANCATO PASSAGGIO DI GRADONE NELL'ANNO 96 / 97 - IL RATEO VERRA' RIASSORBITO AL PROSSIMO PASSAGGIO DI GRADONE - DA CORRISPONDERE PER  L'INTERA PERMANENZA NELLA FASCIA DI ANZIANITA' - TOTALE ANNUO LORDO: ",{"$error":"#N/A"},0,0,0,0,0]
[null,null,null,"00:00:00",null,"",null,0,167.33203530499361,700.31555516534365,18.592448367221515,7257.2523460054645]
[null,null,null,0,null,"",null,0,0,731.30296911071287,0,7405.991932943236]
[]
[]
[null,null,null,null,null,"Posizione / Anni 7 - Trattamento economico come da DPR 399/88 - Annuo lordo ",null,6674.6889638325238,167.33203530499361,731.30296911071287,18.592448367221515,7591.9164166154515]
[]
[]
[]
[]
[]
[]
[]
[]
[]
[]
[]
[]
[]
[]
[]
[]
[]
[]
[]
[]
[]
[]
[]
[]
[]
[]
[]
[]
[]
[]
[]
[]
[]
[]
[]
[]
[]
[]
[]
[]
[]
[]
[]
[]
[]
[]
[]
[]
[]
[]
[]
[]
[]
[]
[]
[]
[]
[]
[]
[]
[]
[]
[]
[]
[]
[]
[]
[]
[]
[]
[]
[]
[]
[]
[]
[]
[]
[null,null,null,"1969/1970"]
[null,null,null,"1970/1971"]
[null,null,null,"1971/1972"]
[null,null,null,"1972/1973"]
[null,null,null,"1973/1974"]
[null,null,null,"1974/1975"]
[null,null,null,"1975/1976"]
[null,null,null,"1976/1977"]
[null,null,null,"1977/1978"]
[null,null,null,"1978/1979"]
[null,null,null,"1979/1980"]
[null,null,null,"1980/1981"]
[null,null,null,"1981/1982"]
[null,null,null,"1982/1983"]
[null,null,null,"1983/1984"]
[null,null,null,"1984/1985"]
[null,null,null,"1985/1986"]
[null,null,null,"1986/1987"]
[null,null,null,"1987/1988"]
[null,null,null,"1988/1989"]
[null,null,null,"1989/1990"]
[null,null,null,"1990/1991"]
[null,null,null,"1991/1992"]
[null,null,null,"1992/1993"]
[null,null,null,"1993/1994"]
[null,null,null,"1994/1995"]
[null,null,null,"1995/1996"]
[null,null,null,"1996/1997"]
[null,null,null,"1997/1998"]
[null,null,null,"1998/1999"]
[null,null,null,"1999/2000"]
[null,null,null,"2000/2001"]
[null,null,null,"2001/2002"]
[null,null,null,"2002/2003"]
[null,null,null,"2003/2004"]
[null,null,null,"2004/2005"]
[null,null,null,"2005/2006"]
[null,null,null,"2006/2007"]
[null,null,null,"2007/2008"]
[null,null,null,"2008/2009"]
[null,null,null,"2009/2010"]
[null,null,null,"2010/2011"]

{"sheet":"399","index":20,"n_rows":388,"n_cols":20,"rows_kept":388,"cut":false,"hidden":false,"merged":[[40,0,41,0],[77,2,77,3]]}
[]
["DECORRENZA GIURIDICA RUOLO. ",null,null,{"$f":"decor","v":-365}," (PER I DOC. DI RELIG. CORRISPONDE ALLA DATA DI MATURAZIONE REQUISITI PER RIC. CAR)"]
["DECORRENZA ECONOMICA RUOLO. ",null,null,{"$f":"IF(B5=\"X\",D2,Foglio2!I27)","v":-365}," (PER I DOC. DI RELIG. CORRISPONDE ALLA DATA DI MATURAZIONE REQUISITI PER RIC. CAR)"]
["QUALIFICA",{"$f":"IF(QUAL=1,L6,IF(QUAL=2,M6,IF(QUAL=3,N6,IF(QUAL=4,O6,IF(QUAL=5,P6,IF(QUAL=6,Q6,IF(QUAL=7,R6,IF(QUAL=8,S6,T6))))))))","v":"DM"}]
["DOC. REL:",{"$f":"Foglio2!C26","v":""}]
["CALCOLO DEL PRE RUOLO",null,null,null,null,null,null,null,null,null,null,"CS","CS","AA","RA","RA","SM","DD","DM","DL"]
["Inserire, nelle celle in giallo,  il servizio pre-ruolo in maniera sintetica o analitica o entrambe ",null,null,null,null,null,null,null,null,null,null,1,2,3,4,5,6,7,8,9]
[null,"DAL","AL",null,"GIORNI tot","ANNI","MESI","GIORNI",null,null,null,"Coll.Sc. ","C.S. Istr.","Ass.A.T.","Coord. A/T","DSGA","Doc. materna elem.","Doc.Dipl.","Doc. laureato 1° Grado","Doc. laureato 2° Grado"]
["PRE RUOLO","senza calcolo (immettere direttamente aa/mm/gg)",null,null,null,{"$f":"Foglio2!F92","v":-1},{"$f":"Foglio2!G92","v":0},{"$f":"Foglio2!H92","v":0},null,null,{"$f":"QUAL","v":8}]
["PRE RUOLO",null,null,{"$f":"DAY(C10)","v":0},{"$f":"IF(D10=0,0,IF(D10<31,DAYS360(B10,C10+1),DAYS360(B10,C10)))","v":0},{"$f":"INT(E10/360)","v":0},{"$f":"INT(INT(E10-(F10*360))/30)","v":0},{"$f":"E10-(F10*360)-(G10*30)","v":0},"calcolo automatico"]
["PRE RUOLO",null,null,0,0,0,{"$f":"INT(INT(E11-(F11*360))/30)","v":0},{"$f":"E11-(F11*360)-(G11*30)","v":0},"calcolo automatico"]
["PRE RUOLO",null,null,0,0,0,0,0,"calcolo automatico"]
["PRE RUOLO",null,null,0,0,0,0,0,"calcolo automatico"]
["PRE RUOLO",null,null,0,0,0,0,0,"calcolo automatico"]
["PRE RUOLO",null,null,0,0,0,0,0,"calcolo automatico"]
["PRE RUOLO",null,null,0,0,0,0,0,"calcolo automatico"]
["PRE RUOLO",null,null,0,0,0,0,0,"calcolo automatico"]
["PRE RUOLO",null,null,0,0,0,0,0,"calcolo automatico"]
["PRE RUOLO",null,null,0,0,0,0,0,"calcolo automatico"]
["PRE RUOLO",null,null,0,0,0,0,0,"calcolo automatico"]
["PRE RUOLO",null,null,0,0,0,0,0,"calcolo automatico"]
["PRE RUOLO",null,null,0,0,0,0,0,"calcolo automatico"]
["PRE RUOLO",null,null,0,0,0,0,0,"calcolo automatico"]
["PRE RUOLO",null,null,0,0,0,0,0,"calcolo automatico"]
["PRE RUOLO",null,null,0,0,0,0,0,"calcolo automatico"]
["PRE RUOLO",null,null,0,0,0,0,0,"calcolo automatico"]
["PRE RUOLO",null,null,0,0,0,0,0,"calcolo automatico"]
["PRE RUOLO",null,null,0,0,0,0,0,"calcolo automatico"]
["PRE RUOLO",null,null,0,0,0,0,0,"calcolo automatico"]
["TOTALE PARZ.",null,null,null,{"$f":"SUM(E10:E29)","v":0},{"$f":"SUM(F9:F29)","v":-1},{"$f":"SUM(G9:G29)","v":0},{"$f":"SUM(H9:H29)","v":0}]
[null,null,null,null,{"$f":"H30+G30*30+F30*360","v":-360},null,{"$f":"INT(INT(G30+H31)/12)","v":0},{"$f":"INT(H30/30)","v":0}]
[null,null,null,null,null,null,{"$f":"G30+H31","v":0}]
["TOTALE SERVIZIO PRERUOLO",null,null,null,{"$f":"E31","v":-360},{"$f":"Foglio2!F92","v":-1},{"$f":"Foglio2!G92","v":0},{"$f":"Foglio2!H92","v":0}]
[]
["SE DOC.DI RELIGIONE N° ANNI DI SERVIZIO SENZA CATTEDRA",null,null,null,null,null,{"$f":"IF(B5=\"X\",IF(F35=1,120,IF(F35=2,240,IF(F35=3,360,IF(F35=4,480,IF(F35=5,600,IF(F35=6,720,0)))))),0)","v":0}]
[]
["AA","CS","DD","DL","DM","RA","SM",{"$f":"IF(E31<1441,E31,IF(E31>1441,1440+((E31-1440)*2/3)))","v":-360},16,50000]
[{"$f":"IF($B$4=\"AA\",IF($E$33>=$J$39,$E$33,$H$37))","v":false},{"$f":"IF($B$4=\"CS\",IF($E$33>=$J$39,$E$33,$H$37))","v":false},{"$f":"IF($B$4=\"DD\",IF($E$33>=$J$38,$E$33,$H$37))","v":false},{"$f":"IF($B$4=\"DL\",IF($E$33>=$J$37,$E$33,$H$37))","v":false},{"$f":"IF($B$4=\"DM\",IF($E$33>=$J$38,$E$33,$H$37))","v":-360},{"$f":"IF($B$4=\"RA\",IF($E$33>=$J$38,$E$33,$H$37))","v":false},{"$f":"IF($B$4=\"SM\",IF($E$33>=$J$38,$E$33,$H$37))","v":false},{"$f":"E31-D41","v":0},17,50000]
[{"$f":"IF($B$4=\"aa\",IF($A$38>=$J$39,$E$33,$H$37))","v":false},{"$f":"IF($B$4=\"CS\",IF($B$38>=$J$39,$E$33,$H$37))","v":false},{"$f":"IF($B$4=\"DD\",IF($C$38>=$J$38,$E$33,$H$37))","v":false},{"$f":"IF($B$4=\"DL\",IF($D$38>=$J$37,$E$33,$H$37))","v":false},{"$f":"IF($B$4=\"DM\",IF($E$38>=$J$38,$E$33,$H$37))","v":-360},{"$f":"IF($B$4=\"RA\",IF($F$38>=$J$38,$E$33,$H$37))","v":false},{"$f":"IF($B$4=\"SM\",IF($G$38>=$J$38,$E$33,$H$37))","v":false},null,20,50000]
[{"$f":"IF($B$4=\"aa\",IF($A$38>=$J$39,0,$H$38))","v":false},{"$f":"IF($B$4=\"CS\",IF($B$38>=$J$39,0,$H$38))","v":false},{"$f":"IF($B$4=\"DD\",IF($C$38>=$J$38,0,$H$38))","v":false},{"$f":"IF($B$4=\"DL\",IF($D$38>=$J$37,0,$H$38))","v":false},{"$f":"IF($B$4=\"DM\",IF($E$38>=$J$38,0,$H$38))","v":0},{"$f":"IF($B$4=\"RA\",IF($F$38>=$J$38,0,$H$38))","v":false},{"$f":"IF($B$4=\"SM\",IF($G$38>=$J$38,0,$H$38))","v":false}]
["PRE RUOLO","ANZIANITA' VALIDA FINI G.E.",null,{"$f":"IF(B4=\"AA\",A39,IF(B4=\"CS\",B39,IF(B4=\"DD\",C39,IF(B4=\"DL\",D39+G35,IF(B4=\"DM\",E39,IF(B4=\"RA\",F39,IF(B4=\"SM\",G39)))))))","v":-360},{"$f":"INT(D41/360)","v":-1},{"$f":"INT(INT(D41-(E41*360))/30)","v":0},{"$f":"D41-(E41*360)-(F41*30)","v":0}]
[null,"ANZ.TA' SOLO ECONOMICA",null,{"$f":"IF(B4=\"AA\",A40,IF(B4=\"CS\",B40,IF(B4=\"DD\",C40,IF(B4=\"DL\",D40,IF(B4=\"DM\",E40,IF(B4=\"RA\",F40,IF(B4=\"SM\",G40)))))))","v":0},{"$f":"INT(D42/360)","v":0},{"$f":"INT(INT(D42-(E42*360))/30)","v":0},{"$f":"D42-(E42*360)-(F42*30)","v":0}]
[]
[null,"DAL","AL","GG.","ANNI","MESI","GIORNI"]
["RUOLO",{"$f":"D2","v":-365},{"$f":"IF(B46=31,C46+1,C46)","v":"1990-05-01"},{"$f":"IF(B45>1,DAYS360(B45,C46),0)","v":0},{"$f":"INT(D45/360)","v":0},{"$f":"INT(INT(D45-(E45*360))/30)","v":0},{"$f":"D45-(E45*360)-(F45*30)","v":0}]
[32994,{"$f":"DAY(C46)","v":1},{"$f":"IF(D3=32752,G46,IF(D3<A46,A46,IF(B4=\"CS\",D3,IF(B4=\"AA\",D3,IF(B4=\"RA\",D3,IF(B5=\"X\",D3,D3+365))))))","v":32994},{"$f":"D45+D41+D42","v":-360},{"$f":"D2","v":-365},{"$f":"D3","v":-365},{"$f":"IF(D3=32752,IF(B4=\"CS\",32994,IF(B4=\"AA\",32994,IF(B4=\"RA\",32994,IF(B5=\"X\",32752,D3+365)))),A46)","v":32994}]
[]
["AA","CS","DD","DL","DM","RA","SM"]
[{"$f":"IF($B$4=\"AA\",IF($D$46<$J$39,$D$41+$D$45,$D$46))","v":false},{"$f":"IF($B$4=\"CS\",IF($D$46<$J$39,$D$41+$D$45,$D$46))","v":false},{"$f":"IF($B$4=\"DD\",IF($D$46<$J$38,$D$41+$D$45,$D$46))","v":false},{"$f":"IF($B$4=\"DL\",IF($D$46<$J$37,$D$41+$D$45,$D$46))","v":false},{"$f":"IF($B$4=\"DM\",IF($D$46<$J$38,$D$41+$D$45,$D$46))","v":-360},{"$f":"IF($B$4=\"RA\",IF($D$46<$J$38,$D$41+$D$45,$D$46))","v":false},{"$f":"IF($B$4=\"SM\",IF($D$46<$J$38,$D$41+$D$45,$D$46))","v":false}]
[{"$f":"IF($B$4=\"AA\",IF($D$46<$J$39,$D$42,0))","v":false},{"$f":"IF($B$4=\"CS\",IF($D$46<$J$39,$D$42,0))","v":false},{"$f":"IF($B$4=\"DD\",IF($D$46<$J$38,$D$42,0))","v":false},{"$f":"IF($B$4=\"DL\",IF($D$46<$J$37,$D$42,0))","v":false},{"$f":"IF($B$4=\"DM\",IF($D$46<$J$38,$D$42,0))","v":0},{"$f":"IF($B$4=\"RA\",IF($D$46<$J$38,$D$42,0))","v":false},{"$f":"IF($B$4=\"SM\",IF($D$46<$J$38,$D$42,0))","v":false}]
[null,null,null,null,"PARI","DISPARI","+2"]
["INQUADRAMENTO AL",null,{"$f":"C45","v":"1990-05-01"},null,{"$f":"EVEN(E53)","v":-2},{"$f":"ODD(E53)","v":-1},{"$f":"IF($B$4=\"CS\",E52+2,IF($B$4=\"AA\",E52+2,IF($B$4=\"DM\",F52+2,IF($B$4=\"RA\",F52+2,IF($B$4=\"SM\",F52+2,IF($B$4=\"DD\",F52+2,IF($B$4=\"DL\",F52+2,IF($B$4=\"DA\",F52+2))))))))","v":1}]
["TOT. ANZIANITA' GIUR. ED EC.  AL ",null,{"$f":"C46","v":"1990-05-01"},{"$f":"IF(B4=\"AA\",A49,IF(B4=\"CS\",B49,IF(B4=\"DD\",C49,IF(B4=\"DL\",D49,IF(B4=\"DM\",E49,IF(B4=\"RA\",F49,IF(B4=\"SM\",G49)))))))","v":-360},{"$f":"INT(D53/360)","v":-1},{"$f":"INT(INT(D53-(E53*360))/30)","v":0},{"$f":"D53-(E53*360)-(F53*30)","v":0},{"$f":"IF(E52=E53,1,2)","v":2}]
["ANZIANITA' SOLO ECONOMICA  @",null,null,{"$f":"IF(B4=\"AA\",A50,IF(B4=\"CS\",B50,IF(B4=\"DD\",C50,IF(B4=\"DL\",D50,IF(B4=\"DM\",E50,IF(B4=\"RA\",F50,IF(B4=\"SM\",G50)))))))","v":0},{"$f":"INT(D54/360)","v":0},{"$f":"INT(INT(D54-(E54*360))/30)","v":0},{"$f":"D54-(E54*360)-(F54*30)","v":0}]
["ANZIANITA' TOTALE AL ",null,{"$f":"C46","v":"1990-05-01"},{"$f":"SUM(D53+D54)","v":-360},{"$f":"INT(D55/360)","v":-1},{"$f":"INT(INT(D55-(E55*360))/30)","v":0},{"$f":"D55-(E55*360)-(F55*30)","v":0}]
[null,null,null,null,null,{"$f":"IF(E78<1,720,IF(E78<2,1440,IF(E78<3,2160,IF(E78<4,2880))))","v":720}]
["CALCOLO PROGRESSIONE",null,null,"AA","MM","GG","Passaggio","AL","POS","A/B"]
["posizione tabellare inq",null,{"$f":"IF(B4=\"AA\",A69,IF(B4=\"CS\",B69,IF(B4=\"DD\",C69,IF(B4=\"DL\",D69,IF(B4=\"DM\",E69,IF(B4=\"RA\",F69,IF(B4=\"SM\",G69)))))))","v":-360},{"$f":"INT(C58/360)","v":-1},{"$f":"INT(INT(C58-(D58*360))/30)","v":0},{"$f":"C58-(D58*360)-(E58*30)","v":0},null,{"$f":"C45","v":"1990-05-01"},{"$f":"C80","v":-3},{"$f":"D80","v":0}]
["diff.za tra inq.e anz effett.(ç) ",null,{"$f":"D53-C58","v":0},{"$f":"INT(C59/360)","v":0},{"$f":"INT(INT(C59-(D59*360))/30)","v":0},{"$f":"C59-(D59*360)-(E59*30)","v":0}]
["somma anz eco+diff (@+ç)",null,{"$f":"IF(D54=0,0,C59+D54)","v":0},{"$f":"INT(C60/360)","v":0},{"$f":"INT(INT(C60-(D60*360))/30)","v":0},{"$f":"C60-(D60*360)-(E60*30)","v":0},null,{"$f":"DATE(YEAR(H58)+D61,MONTH(H58)+E61,DAY(H58)+F61)","v":"1992-05-01"},{"$f":"IF(B4=\"AA\",A67,IF(B4=\"CS\",B67,IF(B4=\"DD\",C67,IF(B4=\"DL\",D67,IF(B4=\"DM\",E67,IF(B4=\"RA\",F67,IF(B4=\"SM\",G67)))))))","v":-1},{"$f":"IF(D54<720,0,IF(D54<1440,1,IF(D54<2160,2,IF(D54<=2880,3))))","v":0}]
["passaggio STIP. DOPO",null,{"$f":"IF(B4=\"AA\",A66,IF(B4=\"CS\",B66,IF(B4=\"DD\",C66,IF(B4=\"DL\",D66,IF(B4=\"DM\",E66,IF(B4=\"RA\",F66,IF(B4=\"SM\",G66)))))))","v":720},{"$f":"INT(C61/360)","v":2},{"$f":"INT(INT(C61-(D61*360))/30)","v":0},{"$f":"C61-(D61*360)-(E61*30)","v":0},{"$f":"H60","v":33725},{"$f":"G61","v":"1992-05-01"},{"$f":"IF(B4=\"AA\",A68,IF(B4=\"CS\",B68,IF(B4=\"DD\",C68,IF(B4=\"DL\",D68,IF(B4=\"DM\",E68,IF(B4=\"RA\",F68,IF(B4=\"SM\",G68)))))))","v":-1},{"$f":"IF(B4=\"AA\",A72,IF(B4=\"CS\",B72,IF(B4=\"DD\",C72,IF(B4=\"DL\",D72,IF(B4=\"DM\",E72,IF(B4=\"RA\",F72,IF(B4=\"SM\",G72)))))))","v":0}]
["passaggio A.B.  DOPO",null,{"$f":"IF(B4=\"AA\",A70,IF(B4=\"CS\",B70,IF(B4=\"DD\",C70,IF(B4=\"DL\",D70,IF(B4=\"DM\",E70,IF(B4=\"RA\",F70,IF(B4=\"SM\",G70)))))))","v":0},{"$f":"INT(C62/360)","v":0},{"$f":"INT(INT(C62-(D62*360))/30)","v":0},{"$f":"C62-(D62*360)-(E62*30)","v":0},{"$f":"IF(C62=0,\"\",IF(C62>0,DATE(YEAR(H58)+D62,MONTH(H58)+E62,DAY(H58)+F62)))","v":""},{"$f":"G62","v":""},{"$f":"IF(C62=0,0,IF(G62>=G61,I60,D58))","v":0},{"$f":"IF(C62=0,0,IF(C62>0,J60+1))","v":0}]
[null,null,null,null,null,null,null,{"$f":"G62","v":""}]
[]
["AA","CS","DD","DL","DM","RA","SM"]
[{"$f":"IF($E$52>$E$53,($E$52*360-$D$53),$G$52*360-$D$53)","v":720},{"$f":"IF($E$52>$E$53,($E$52*360-$D$53),$G$52*360-$D$53)","v":720},{"$f":"IF($E$52>19,IF($H$53=1,$E$52*360-$D$53,($F$52+1)*360-$D$53),IF($H$53=2,($G$52*360-$D$53),$F$52*360-$D$53))","v":720},{"$f":"IF($E$52>17,IF($H$53=2,$E$52*360-$D$53,($F$52+1)*360-$D$53),IF($H$53=2,($G$52*360-$D$53),$F$52*360-$D$53))","v":720},{"$f":"IF($E$52>17,IF($H$53=2,$E$52*360-$D$53,($F$52+1)*360-$D$53),IF($H$53=2,($G$52*360-$D$53),$F$52*360-$D$53))","v":720},{"$f":"IF($E$52>23,IF($H$53=2,$E$52*360-$D$53,($F$52+1)*360-$D$53),IF($H$53=2,($G$52*360-$D$53),$F$52*360-$D$53))","v":720},{"$f":"IF($E$52>23,IF($H$53=2,$E$52*360-$D$53,($F$52+1)*360-$D$53),IF($H$53=2,($G$52*360-$D$53),$F$52*360-$D$53))","v":720},"pass stip<>"]
[{"$f":"IF($B$4=\"AA\",IF($D$55>$J$39,G52,IF($E$52>$E$53,$E$52,$G$52)))","v":false},{"$f":"IF($B$4=\"cs\",IF($D$55>$J$39,G52,IF($E$52>$E$53,$E$52,$G$52)))","v":false},{"$f":"IF($B$4=\"DD\",IF($D$55>$J$38,D58+2,IF($E$52>$E$53,$G$52,$F$52)))","v":false},{"$f":"IF($B$4=\"DL\",IF($D$55>$J$37,D58+2,IF($E$52>$E$53,$G$52,$F$52)))","v":false},{"$f":"IF($B$4=\"DM\",IF($D$55>$J$38,D58+2,IF($E$52>$E$53,$G$52,$F$52)))","v":-1},{"$f":"IF($B$4=\"RA\",IF($D$55>$J$38,F52,IF($E$52>$E$53,$G$52,$F$52)))","v":false},{"$f":"IF($B$4=\"SM\",IF($D$55>$J$38,D58+2,IF($E$52>$E$53,$G$52,$F$52)))","v":false},"pos stip succ.va"]
[{"$f":"IF($I$60>20,IF($E$52>$E$53,$E$52,IF($E$52=$E$53,$F$52+1)),I60)","v":-1},{"$f":"IF($I$60>20,IF($E$52>$E$53,$E$52,IF($E$52=$E$53,$F$52+1)),I60)","v":-1},{"$f":"IF($I$60>19,IF($E$52>$E$53,$E$52,IF($E$52=$E$53,$F$52)),$I$60)","v":-1},{"$f":"IF($I$60>17,IF($E$52>$E$53,$E$52,IF($E$52=$E$53,$F$52+1)),$I$60)","v":-1},{"$f":"IF($I$60>18,IF($E$52>$E$53,$E$52,IF($E$52=$E$53,$E$52+2)),$I$60)","v":-1},{"$f":"IF($I$60>18,IF($E$52>$E$53,$E$52,IF($E$52=$E$53,$F$52)),$I$60)","v":-1},{"$f":"IF($I$60>23,IF($E$52>=$E$53,$E$52,),$I$60)","v":-1},">pos stip succ inq."]
[{"$f":"IF($B$4=\"AA\",IF(E52=0,0,IF($H$53=2,($E$53-1)*360,$E$53*360)))","v":false},{"$f":"IF($B$4=\"CS\",IF(E52=0,0,IF($H$53=2,($E$53-1)*360,$E$53*360)))","v":false},{"$f":"IF($B$4=\"DD\",IF(E52=0,0,IF(E53>19,E52*360,IF($H$53=2,$E$53*360,($E$53-1)*360))))","v":false},{"$f":"IF($B$4=\"DL\",IF(E52=0,0,IF(E53>17,E52*360,IF($H$53=2,$E$53*360,($E$53-1)*360))))","v":false},{"$f":"IF($B$4=\"DM\",IF(E52=0,0,IF(E53>17,E52*360,IF($H$53=2,$E$53*360,($E$53-1)*360))))","v":-360},{"$f":"IF($B$4=\"RA\",IF(E52=0,0,IF(E53>23,E52*360,IF($H$53=2,$E$53*360,($E$53-1)*360))))","v":false},{"$f":"IF($B$4=\"SM\",IF(E52=0,0,IF(E53>23,E52*360,IF($H$53=2,$E$53*360,($E$53-1)*360))))","v":false},"INTERO tab inq"]
[{"$f":"IF($D$53>$J$39,0,IF(D54=0,0,$F$56-$C$60))","v":0},{"$f":"IF($D$53>$J$39,0,IF(D54=0,0,$F$56-$C$60))","v":0},{"$f":"IF($D$53>$J$38,0,IF(D54=0,0,$F$56-$C$60))","v":0},{"$f":"IF($D$53>$J$37,0,IF(D54=0,0,$F$56-$C$60))","v":0},{"$f":"IF($D$53>$J$38,0,IF(D54=0,0,$F$56-$C$60))","v":0},{"$f":"IF($D$53>$J$38,0,IF(D54=0,0,$F$56-$C$60))","v":0},{"$f":"IF($D$53>$J$38,0,IF(D54=0,0,$F$56-$C$60))","v":0},"pass a/b"]
[{"$f":"IF($B$4=\"AA\",IF($D$55>$J$39,0))","v":false},{"$f":"IF($B$4=\"CS\",IF($D$55>$J$39,0))","v":false},{"$f":"IF($B$4=\"DD\",IF($D$55>$J$38,0))","v":false},{"$f":"IF($B$4=\"DL\",IF($D$55>$J$37,0))","v":false},{"$f":"IF($B$4=\"DM\",IF($D$55>$J$38,0))","v":false},{"$f":"IF($B$4=\"RA\",IF($D$55>$J$38,0))","v":false},{"$f":"IF($B$4=\"SM\",IF($D$55>$J$38,0))","v":false},"AB > 16/18/20"]
[{"$f":"IF($B$4=\"AA\",IF($D$55>$J$39,0,J60))","v":false},{"$f":"IF($B$4=\"CS\",IF($D$55>$J$39,0,J60))","v":false},{"$f":"IF($B$4=\"DD\",IF($D$55>$J$38,0,$J$60))","v":false},{"$f":"IF($B$4=\"DL\",IF($D$53>$J$39,0,$J$60))","v":false},{"$f":"IF($B$4=\"DM\",IF($D$55>$J$38,0,$J$60))","v":0},{"$f":"IF($B$4=\"RA\",IF($D$55>$J$38,0,$J$60))","v":false},{"$f":"IF($B$4=\"SM\",IF($D$55>$J$38,0,$J$60))","v":false},"ab DI PROG"]
[{"$f":"IF($B$4=\"AA\",IF($D$55>$J$39,0,E78))","v":false},{"$f":"IF($B$4=\"CS\",IF($D$55>$J$39,0,E78))","v":false},{"$f":"IF($B$4=\"DD\",IF($D$55>$J$38,0,E78))","v":false},{"$f":"IF($B$4=\"DL\",IF($D$53>J37,0,E78))","v":false},{"$f":"IF($B$4=\"DM\",IF($D$55>$J$38,0,E78))","v":0},{"$f":"IF($B$4=\"RA\",IF($D$55>$J$38,0,E78))","v":false},{"$f":"IF($B$4=\"SM\",IF($D$55>$J$38,0,E78))","v":false},"ab DI INQ"]
[{"$f":"IF(D58=0,0,IF($D$53>$J$39,$E$55,$D$76))","v":-3},{"$f":"IF(D58=0,0,IF($D$53>$J$39,$E$55,D76))","v":-3},{"$f":"IF(D58=0,0,IF($D$53>$J$38,$E$55,D76))","v":-3},{"$f":"IF(D58=0,0,IF($D$53>$J$37,$E$55,D76))","v":-3},{"$f":"IF(D58=0,0,IF($D$53>$J$38,$E$55,D76))","v":-3},{"$f":"IF(D58=0,0,IF($D$53>$J$38,$E$55,D76))","v":-3},{"$f":"IF(D58=0,0,IF($D$53>$J$38,$E$55,D76))","v":-3},"Anz > 16/18/20"]
[]
[{"$f":"IF(B4=\"CS\",2,IF(B4=\"AA\",3,IF(B4=\"RA\",4,IF(B4=\"SM\",5,IF(B4=\"DD\",6,IF(B4=\"DM\",7,IF(B4=\"DL\",8,)))))))","v":7},"INDICE QUALIFI","IND POSIZ",{"$f":"IF($B$4=\"AA\",0,IF($B$4=\"CS\",0,IF($B$4=\"DD\",$C$67-2,IF($B$4=\"DL\",$D$67-2,IF($B$4=\"DM\",$E$67-2,IF($B$4=\"RA\",0,IF($B$4=\"SM\",$G$67-2)))))))","v":-3},"indice livello",{"$f":"IF(B4=\"CS\",3,IF(B4=\"AA\",4,IF(B4=\"DD\",6,IF(B4=\"DL\",7,IF(B4=\"DM\",7,IF(B4=\"RA\",5,IF(B4=\"SM\",6)))))))","v":7},null,{"$f":"IF(E53<3,2,IF(E53<9,3,IF(E53<15,4,IF(E53<21,5,IF(E53<28,6,IF(E53<35,7,IF(E53<40,8)))))))","v":2},"INDICE GRADO"]
[]
["INQUADRAMENTO AL",null,{"$f":"C45","v":"1990-05-01"},null,{"$f":"IF($C$60<720,0,IF($C$60<1440,1,IF($C$60<2160,2,IF($C$60<=2880,3))))","v":0}]
["POS STIP AL ",{"$f":"C46","v":"1990-05-01"},"POS. ANNI","A/B",null,null,{"$f":"HLOOKUP(B4,TAB!B95:I96,2)","v":48000},{"$f":"HLOOKUP(B4,TAB!B46:I47,2)","v":384000}]
["STIP  (TAB A DPR 399/88)",null,{"$f":"IF(B4=\"AA\",A74,IF(B4=\"CS\",B74,IF(B4=\"DD\",C74,IF(B4=\"DL\",D74,IF(B4=\"DM\",E74,IF(B4=\"RA\",F74,IF(B4=\"SM\",G74)))))))","v":-3},{"$f":"IF(B4=\"AA\",A73,IF(B4=\"CS\",B73,IF(B4=\"DD\",C73,IF(B4=\"DL\",D73,IF(B4=\"DM\",E73,IF(B4=\"RA\",F73,IF(B4=\"SM\",G73)))))))","v":0},null,{"$f":"VLOOKUP(C80,TAB!K3:S44,A76)","v":{"$error":"#N/A"}},{"$f":"H79*E78","v":0},"TOT. STIP.",{"$f":"F80+G80","v":{"$error":"#N/A"}}]
["IND.FUNZ (TAB B DPR 399/88)",null,{"$f":"C80","v":-3},{"$f":"D80","v":0},null,{"$f":"VLOOKUP(C81,TAB!K50:S93,A76)","v":{"$error":"#N/A"}},{"$f":"E78*G79","v":0},"TOT I.F.",{"$f":"F81+G81","v":{"$error":"#N/A"}}]
[null,null,null,null,null,null,"TOTALE ",null,{"$f":"SUM(I80:I81)","v":{"$error":"#N/A"}}]
[]
["AA","CS","DD","DL","DM","RA","SM"]
[{"$f":"$C$106+2","v":1},{"$f":"$C$106+2","v":1},{"$f":"IF($C$106=19,20,IF($C$106=20,22,$C$106+2))","v":1},{"$f":"IF($C$106=17,18,IF($C$106=18,20,$C$106+2))","v":1},{"$f":"IF($C$106=17,18,IF($C$106=18,20,$C$106+2))","v":1},{"$f":"IF($C$106=23,24,IF($C$106=24,26,$C$106+2))","v":1},{"$f":"IF($C$106=23,24,IF($C$106=24,26,$C$106+2))","v":1},"STI"]
[{"$f":"C107+2","v":3},{"$f":"C107+2","v":3},{"$f":"IF(C107=19,20,IF(C107=20,22,C107+2))","v":3},{"$f":"IF(C107=17,18,IF(C107=18,20,C107+2))","v":3},{"$f":"IF(C107=17,18,IF(C107=18,20,C107+2))","v":3},{"$f":"IF(C107=23,24,IF(C107=24,26,C107+2))","v":3},{"$f":"IF(C107=23,24,IF(C107=24,26,C107+2))","v":3},"PEN"]
[{"$f":"C108+2","v":5},{"$f":"C108+2","v":5},{"$f":"IF(C108=19,20,IF(C108=20,22,C108+2))","v":5},{"$f":"IF(C108=17,18,IF(C108=18,20,C108+2))","v":5},{"$f":"IF(C108=17,18,IF(C108=18,20,C108+2))","v":5},{"$f":"IF(C108=23,24,IF(C108=24,26,C108+2))","v":5},{"$f":"IF(C108=23,24,IF(C108=24,26,C108+2))","v":5},"DI"]
[{"$f":"C109+2","v":7},{"$f":"C109+2","v":7},{"$f":"IF(C109=19,20,IF(C109=20,22,C109+2))","v":7},{"$f":"IF(C109=17,18,IF(C109=18,20,C109+2))","v":7},{"$f":"IF(C109=17,18,IF(C109=18,20,C109+2))","v":7},{"$f":"IF(C109=23,24,IF(C109=24,26,C109+2))","v":7},{"$f":"IF(C109=23,24,IF(C109=24,26,C109+2))","v":7},"O"]
[{"$f":"IF($C$62=0,0,IF(C114>=18,0,IF(D114=0,0,C114+2)))","v":0},{"$f":"IF($C$62=0,0,IF(C114>=18,0,IF(D114=0,0,C114+2)))","v":0},{"$f":"IF($C$62=0,0,IF(C114>=17,0,IF(D114=0,0,C114+2)))","v":0},{"$f":"IF($C$62=0,0,IF(C114>=15,0,IF(D114=0,0,C114+2)))","v":0},{"$f":"IF($C$62=0,0,IF(C114>=17,0,IF(D114=0,0,C114+2)))","v":0},{"$f":"IF($C$62=0,0,IF(C114>=17,0,IF(D114=0,0,C114+2)))","v":0},{"$f":"IF($C$62=0,0,IF(C114>=17,0,IF(D114=0,0,C114+2)))","v":0}," AUM"]
[{"$f":"IF($C$62=0,0,IF(C115>=18,0,IF(A89=0,0,C115+2)))","v":0},{"$f":"IF($C$62=0,0,IF(C115>=18,0,IF(B89=0,0,C115+2)))","v":0},{"$f":"IF($C$62=0,0,IF(C115>=17,0,IF(C89=0,0,C115+2)))","v":0},{"$f":"IF($C$62=0,0,IF(C115>=15,0,IF(D89=0,0,C115+2)))","v":0},{"$f":"IF($C$62=0,0,IF(C115>=17,0,IF(E89=0,0,C115+2)))","v":0},{"$f":"IF($C$62=0,0,IF(C115>=17,0,IF(F89=0,0,C115+2)))","v":0},{"$f":"IF($C$62=0,0,IF(C115>=17,0,IF(G89=0,0,C115+2)))","v":0},"BIEN"]
[{"$f":"IF($C$62=0,0,IF(C116>=18,0,IF(A90=0,0,C116+2)))","v":0},{"$f":"IF($C$62=0,0,IF(C116>=18,0,IF(B90=0,0,C116+2)))","v":0},{"$f":"IF($C$62=0,0,IF(C116>=17,0,IF(C90=0,0,C116+2)))","v":0},{"$f":"IF($C$62=0,0,IF(C116>=15,0,IF(D90=0,0,C116+2)))","v":0},{"$f":"IF($C$62=0,0,IF(C116>=17,0,IF(E90=0,0,C116+2)))","v":0},{"$f":"IF($C$62=0,0,IF(C116>=17,0,IF(F90=0,0,C116+2)))","v":0},{"$f":"IF($C$62=0,0,IF(C116>=17,0,IF(G90=0,0,C116+2)))","v":0},"NA"]
[{"$f":"IF($C$62=0,0,IF(C117>=18,0,IF(A91=0,0,C117+2)))","v":0},{"$f":"IF($C$62=0,0,IF(C117>=18,0,IF(B91=0,0,C117+2)))","v":0},{"$f":"IF($C$62=0,0,IF(C117>=17,0,IF(C91=0,0,C117+2)))","v":0},{"$f":"IF($C$62=0,0,IF(C117>=15,0,IF(D91=0,0,C117+2)))","v":0},{"$f":"IF($C$62=0,0,IF(C117>=17,0,IF(E91=0,0,C117+2)))","v":0},{"$f":"IF($C$62=0,0,IF(C117>=17,0,IF(F91=0,0,C117+2)))","v":0},{"$f":"IF($C$62=0,0,IF(C117>=17,0,IF(G91=0,0,C117+2)))","v":0},"LI"]
[{"$f":"IF(C106>18,0,D100)","v":0},{"$f":"IF(C106>18,0,D100)","v":0},{"$f":"IF(C106>17,0,D100)","v":0},{"$f":"IF(C106>15,0,D100)","v":0},{"$f":"IF(C106>17,0,D100)","v":0},{"$f":"IF(C106>17,0,D100)","v":0},{"$f":"IF(C106>17,0,D100)","v":0},"AB STIPE"]
[{"$f":"IF(C107>18,0,D106)","v":0},{"$f":"IF(C107>18,0,D106)","v":0},{"$f":"IF(C107>17,0,D106)","v":0},{"$f":"IF(C107>15,0,D106)","v":0},{"$f":"IF(C107>17,0,D106)","v":0},{"$f":"IF(C107>17,0,D106)","v":0},{"$f":"IF(C107>17,0,D106)","v":0},"AB STIPE"]
[{"$f":"IF(C108>18,0,D107)","v":0},{"$f":"IF(C108>18,0,D107)","v":0},{"$f":"IF(C108>17,0,D107)","v":0},{"$f":"IF(C108>15,0,D107)","v":0},{"$f":"IF(C108>17,0,D107)","v":0},{"$f":"IF(C108>17,0,D107)","v":0},{"$f":"IF(C108>17,0,D107)","v":0},"AB STIPE"]
[{"$f":"IF(C109>18,0,D108)","v":0},{"$f":"IF(C109>18,0,D108)","v":0},{"$f":"IF(C109>17,0,D108)","v":0},{"$f":"IF(C109>15,0,D108)","v":0},{"$f":"IF(C109>17,0,D108)","v":0},{"$f":"IF(C109>17,0,D108)","v":0},{"$f":"IF(C109>17,0,D108)","v":0},"AB STIPE"]
[{"$f":"IF(C110>18,0,D109)","v":0},{"$f":"IF(C110>18,0,D109)","v":0},{"$f":"IF(C110>17,0,D109)","v":0},{"$f":"IF(C110>15,0,D109)","v":0},{"$f":"IF(C110>17,0,D109)","v":0},{"$f":"IF(C110>17,0,D109)","v":0},{"$f":"IF(C110>17,0,D109)","v":0},"AB STIPE"]
[]
["PROGRESSIONE DI CARRIERA AI SENSI DEL DPR 399/88"]
[{"$f":"MONTH($G$61)","v":5},{"$f":"YEAR($G$61)","v":1992},{"$f":"$I$61","v":-1},{"$f":"$J$61","v":0},"PASSAG.","STIPENDIO"]
[{"$f":"IF(C62=0,0,MONTH($G$62))","v":0},{"$f":"IF(C62=0,0,YEAR($G$62))","v":0},{"$f":"$I$62","v":0},{"$f":"$J$62","v":0},"PASSAG.","AUM.BIEN."]
[]
["PASSAGGI","STIPENDI"]
["MESE","ANNO","POS./ ANNI","A/B","STIPENDIO","A/B STIP","I.F.","A/B IF","TOTALE","TIPO"]
[{"$f":"MONTH($C$78)","v":5},{"$f":"YEAR($C$78)","v":1990},{"$f":"$C$80","v":-3},{"$f":"$D$80","v":0},{"$f":"$F$80","v":{"$error":"#N/A"}},{"$f":"$G$80","v":0},{"$f":"$F$81","v":{"$error":"#N/A"}},{"$f":"$G$81","v":0},{"$f":"$I$82","v":{"$error":"#N/A"}},"INQ"]
[{"$f":"$A$100","v":5},{"$f":"$B$100","v":1992},{"$f":"$C$100","v":-1},{"$f":"IF($B$4=\"AA\",A93,IF($B$4=\"CS\",B93,IF($B$4=\"DD\",C93,IF($B$4=\"DL\",D93,IF($B$4=\"DM\",E93,IF($B$4=\"RA\",F93,IF($B$4=\"SM\",G93)))))))","v":0},{"$f":"VLOOKUP($C$106,TAB!$K$3:$S$44,$A$76)","v":{"$error":"#N/A"}},{"$f":"$D$106*$H$79","v":0},{"$f":"VLOOKUP($C$106,TAB!$K$50:$S$93,$A$76)","v":{"$error":"#N/A"}},{"$f":"$D$106*$G$79","v":0},{"$f":"SUM(E106:H106)","v":{"$error":"#N/A"}},"1° S"]
[{"$f":"A106","v":5},{"$f":"IF($C$107-$C$106=2,$B$106+2,$B$106+1)","v":1994},{"$f":"IF($B$4=\"AA\",$A$85,IF($B$4=\"CS\",$B$85,IF($B$4=\"DD\",$C$85,IF($B$4=\"DL\",$D$85,IF($B$4=\"DM\",$E$85,IF($B$4=\"RA\",$F$85,IF($B$4=\"SM\",$G$85)))))))","v":1},{"$f":"IF($B$4=\"AA\",$A$94,IF($B$4=\"CS\",$B$94,IF($B$4=\"DD\",$C$94,IF($B$4=\"DL\",$D$94,IF($B$4=\"DM\",$E$94,IF($B$4=\"RA\",$F$94,IF($B$4=\"SM\",$G$94)))))))","v":0},{"$f":"VLOOKUP($C$107,TAB!$K$3:$S$44,$A$76)","v":12924000},{"$f":"D107*$H$79","v":0},{"$f":"VLOOKUP($C$107,TAB!$K$50:$S$93,$A$76)","v":1416000},{"$f":"$D$107*$G$79","v":0},{"$f":"SUM(E107:H107)","v":14340000}]
[{"$f":"A107","v":5},{"$f":"IF($C$108-$C$107=2,$B$107+2,$B$107+1)","v":1996},{"$f":"IF($B$4=\"AA\",A86,IF($B$4=\"CS\",B86,IF($B$4=\"DD\",C86,IF($B$4=\"DL\",D86,IF($B$4=\"DM\",E86,IF($B$4=\"RA\",F86,IF($B$4=\"SM\",G86)))))))","v":3},{"$f":"IF($B$4=\"AA\",A95,IF($B$4=\"CS\",B95,IF($B$4=\"DD\",C95,IF($B$4=\"DL\",D95,IF($B$4=\"DM\",E95,IF($B$4=\"RA\",F95,IF($B$4=\"SM\",G95)))))))","v":0},{"$f":"VLOOKUP($C$108,TAB!$K$3:$S$44,$A$76)","v":13608000},{"$f":"D108*$H$79","v":0},{"$f":"VLOOKUP($C$108,TAB!$K$50:$S$93,$A$76)","v":1488000},{"$f":"D108*$G$79","v":0},{"$f":"SUM(E108:H108)","v":15096000},{"$f":"IF(D54<2,720-D54,D54)","v":720}]
[{"$f":"A108","v":5},{"$f":"IF($C$109-$C$108=2,$B$108+2,$B$108+1)","v":1998},{"$f":"IF($B$4=\"AA\",A87,IF($B$4=\"CS\",B87,IF($B$4=\"DD\",C87,IF($B$4=\"DL\",D87,IF($B$4=\"DM\",E87,IF($B$4=\"RA\",F87,IF($B$4=\"SM\",G87)))))))","v":5},{"$f":"IF($B$4=\"AA\",A96,IF($B$4=\"CS\",B96,IF($B$4=\"DD\",C96,IF($B$4=\"DL\",D96,IF($B$4=\"DM\",E96,IF($B$4=\"RA\",F96,IF($B$4=\"SM\",G96)))))))","v":0},{"$f":"VLOOKUP($C$109,TAB!$K$3:$S$44,$A$76)","v":14304000},{"$f":"D109*$H$79","v":0},{"$f":"VLOOKUP($C$109,TAB!$K$50:$S$93,$A$76)","v":1572000},{"$f":"D109*$G$79","v":0},{"$f":"SUM(E109:H109)","v":15876000},{"$f":"J108/30","v":24}]
[{"$f":"A109","v":5},{"$f":"IF($C$110-$C$109=2,$B$109+2,$B$109+1)","v":2000},{"$f":"IF($B$4=\"AA\",A88,IF($B$4=\"CS\",B88,IF($B$4=\"DD\",C88,IF($B$4=\"DL\",D88,IF($B$4=\"DM\",E88,IF($B$4=\"RA\",F88,IF($B$4=\"SM\",G88)))))))","v":7},{"$f":"IF($B$4=\"AA\",A97,IF($B$4=\"CS\",B97,IF($B$4=\"DD\",C97,IF($B$4=\"DL\",D97,IF($B$4=\"DM\",E97,IF($B$4=\"RA\",F97,IF($B$4=\"SM\",G97)))))))","v":0},{"$f":"VLOOKUP($C$110,TAB!$K$3:$S$44,$A$76)","v":14988000},{"$f":"D110*$H$79","v":0},{"$f":"VLOOKUP($C$110,TAB!$K$50:$S$93,$A$76)","v":1644000},{"$f":"D110*$G$79","v":0},{"$f":"SUM(E110:H110)","v":16632000}]
[]
["PASSAGGI","AUM.BIEN."]
["MESE","ANNO","POS./ ANNI","A/B","STIPENDIO","A/B STIP","I.F.","A/B IF","TOTALE","TIPO"]
[{"$f":"$A$101","v":0},{"$f":"$B$101","v":0},{"$f":"$C$101","v":0},{"$f":"$D$101","v":0},{"$f":"IF($C$62=0,0,IF($C$62>0,VLOOKUP(C114,TAB!$K$3:$S$44,$A$76)))","v":0},{"$f":"IF($C$62=0,0,IF($C$62>0,D114*$H$79))","v":0},{"$f":"IF($C$62=0,0,IF($C$62>0,VLOOKUP(C114,TAB!$K$50:$S$93,$A$76)))","v":0},{"$f":"IF($C$62=0,0,IF($C$62>0,D114*$G$79))","v":0},{"$f":"SUM(E114:H114)","v":0},"1°A"]
[{"$f":"IF($C$62=0,0,A114)","v":0},{"$f":"IF($C$62=0,0,B114+2)","v":0},{"$f":"IF($B$4=\"AA\",A89,IF($B$4=\"CS\",B89,IF($B$4=\"DD\",C89,IF($B$4=\"DL\",D89,IF($B$4=\"DM\",E89,IF($B$4=\"RA\",F89,IF($B$4=\"SM\",G89)))))))","v":0},{"$f":"IF($C$62=0,0,IF(C115=0,0,D114))","v":0},{"$f":"IF($C$62=0,0,IF(C115=0,0,IF($C$62>0,VLOOKUP(C115,TAB!$K$3:$S$44,$A$76))))","v":0},{"$f":"IF($C$62=0,0,IF(C115=0,0,IF($C$62>0,D115*$H$79)))","v":0},{"$f":"IF($C$62=0,0,IF(C115=0,0,IF($C$62>0,VLOOKUP(C115,TAB!$K$50:$S$93,$A$76))))","v":0},{"$f":"IF($C$62=0,0,IF(C115=0,0,IF($C$62>0,D115*$G$79)))","v":0},{"$f":"SUM(E115:H115)","v":0}]
[{"$f":"IF($C$62=0,0,A115)","v":0},{"$f":"IF($C$62=0,0,B115+2)","v":0},{"$f":"IF($B$4=\"AA\",A90,IF($B$4=\"CS\",B90,IF($B$4=\"DD\",C90,IF($B$4=\"DL\",D90,IF($B$4=\"DM\",E90,IF($B$4=\"RA\",F90,IF($B$4=\"SM\",G90)))))))","v":0},{"$f":"IF($C$62=0,0,IF(C116=0,0,D115))","v":0},{"$f":"IF($C$62=0,0,IF(C116=0,0,IF($C$62>0,VLOOKUP(C116,TAB!$K$3:$S$44,$A$76))))","v":0},{"$f":"IF($C$62=0,0,IF(C116=0,0,IF($C$62>0,D116*$H$79)))","v":0},{"$f":"IF($C$62=0,0,IF(C116=0,0,IF($C$62>0,VLOOKUP(C116,TAB!$K$50:$S$93,$A$76))))","v":0},{"$f":"IF($C$62=0,0,IF(C116=0,0,IF($C$62>0,D116*$G$79)))","v":0},{"$f":"SUM(E116:H116)","v":0}]
[{"$f":"IF($C$62=0,0,A116)","v":0},{"$f":"IF($C$62=0,0,B116+2)","v":0},{"$f":"IF($B$4=\"AA\",A91,IF($B$4=\"CS\",B91,IF($B$4=\"DD\",C91,IF($B$4=\"DL\",D91,IF($B$4=\"DM\",E91,IF($B$4=\"RA\",F91,IF($B$4=\"SM\",G91)))))))","v":0},{"$f":"IF($C$62=0,0,IF(C117=0,0,D116))","v":0},{"$f":"IF($C$62=0,0,IF(C117=0,0,IF($C$62>0,VLOOKUP(C117,TAB!$K$3:$S$44,$A$76))))","v":0},{"$f":"IF($C$62=0,0,IF(C117=0,0,IF($C$62>0,D117*$H$79)))","v":0},{"$f":"IF($C$62=0,0,IF(C117=0,0,IF($C$62>0,VLOOKUP(C117,TAB!$K$50:$S$93,$A$76))))","v":0},{"$f":"IF($C$62=0,0,IF(C117=0,0,IF($C$62>0,D117*$G$79)))","v":0},{"$f":"SUM(E117:H117)","v":0}]
[{"$f":"IF($C$62=0,0,A117)","v":0},{"$f":"IF($C$62=0,0,B117+2)","v":0},{"$f":"IF($B$4=\"AA\",A92,IF($B$4=\"CS\",B92,IF($B$4=\"DD\",C92,IF($B$4=\"DL\",D92,IF($B$4=\"DM\",E92,IF($B$4=\"RA\",F92,IF($B$4=\"SM\",G92)))))))","v":0},{"$f":"IF($C$62=0,0,IF(C118=0,0,D117))","v":0},{"$f":"IF($C$62=0,0,IF(C118=0,0,IF($C$62>0,VLOOKUP(C118,TAB!$K$3:$S$44,$A$76))))","v":0},{"$f":"IF($C$62=0,0,IF(C118=0,0,IF($C$62>0,D118*$H$79)))","v":0},{"$f":"IF($C$62=0,0,IF(C118=0,0,IF($C$62>0,VLOOKUP(C118,TAB!$K$50:$S$93,$A$76))))","v":0},{"$f":"IF($C$62=0,0,IF(C118=0,0,IF($C$62>0,D118*$G$79)))","v":0},{"$f":"SUM(E118:H118)","v":0}]
[]
["TABELLA GENERALE PROGRESSIONE STIP E A/B DPR 399/88 -ESCLUSO- LE 240.000 E LE IND. VAC. CONT.",null,null,null,null,null,null,null,null,null,"Tot.DAL1/1/93 "]
["MESE","ANNO","POS./ ANNI","A/B","STIPENDIO","A/B STIP","I.F.","A/B IF","TOTALE","TIPO"," +£ 240.000"]
[{"$f":"MONTH($C$78)","v":5},{"$f":"YEAR($C$78)","v":1990},0,{"$f":"$D$80","v":0},{"$f":"$F$80","v":{"$error":"#N/A"}},{"$f":"$G$80","v":0},{"$f":"$F$81","v":{"$error":"#N/A"}},{"$f":"$G$81","v":0},{"$f":"$I$82","v":{"$error":"#N/A"}},"INQ",{"$f":"IF(AND(B122>=1992,B123<=1996),I122+240000,IF(B122=1992,I122+240000,IF(B122=1993,I122+240000,IF(B122=1994,I122+240000,IF(B122=1995,I122+240000,0)))))","v":{"$error":"#N/A"}}]
[{"$f":"IF(E123=0,\"\",IF($J$123=\"A\",A114,A106))","v":{"$error":"#N/A"}},{"$f":"IF(E123=0,\"\",IF($J$123=\"A\",B114,B106))","v":{"$error":"#N/A"}},0,{"$f":"IF($J$123=\"A\",D114,D106)","v":0},{"$error":"#N/A"},0,{"$error":"#N/A"},0,{"$error":"#N/A"},{"$f":"IF($G$61<$G$62,\"S\",IF(G61=G62,\"S\",\"A\"))","v":"S"},{"$f":"IF(B123>=1996,0,IF(AND(B122>=1992,B123<=1995),I123+240000,IF(B123=1992,I123+240000,IF(B122=1993,I123+240000,IF(B123=1995,I123+240000,0)))))","v":{"$error":"#N/A"}}]
[{"$f":"IF(E124=0,\"\",IF($J$123=\"A\",A106,A114))","v":""},{"$f":"IF(E124=0,\"\",IF($J$123=\"A\",B106,B114))","v":""},0,{"$f":"IF($J$123=\"A\",D106,D114)","v":0},0,0,0,0,0,{"$f":"IF(J123=\"S\",\"A\",\"S\")","v":"A"},{"$f":"IF(B124>=1996,0,IF(AND(B123>=1992,B124<=1995),I124+240000,IF(B124=1992,I124+240000,IF(B123=1993,I124+240000,IF(B124=1995,I124+240000,0)))))","v":0}]
[{"$f":"IF(E125=0,\"\",IF($J$125=\"A\",A115,A107))","v":5},{"$f":"IF(E125=0,\"\",IF($J$125=\"A\",B115,B107))","v":1994},0,{"$f":"IF($J$125=\"A\",D115,D107)","v":0},12924000,0,1416000,0,14340000,{"$f":"IF(J124=\"S\",\"A\",\"S\")","v":"S"},{"$f":"IF(B125>=1996,0,IF(AND(B124>=1992,B125<=1995),I125+240000,IF(B125=1992,I125+240000,IF(B124=1993,I125+240000,IF(B125=1995,I125+240000,0)))))","v":14580000}]
[{"$f":"IF(E126=0,\"\",IF($J$125=\"A\",A107,A115))","v":""},{"$f":"IF(E126=0,\"\",IF($J$125=\"A\",B107,B115))","v":""},0,{"$f":"IF($J$125=\"A\",D107,D115)","v":0},0,0,0,0,0,{"$f":"IF(J125=\"s\",\"A\",\"S\")","v":"A"},0]
[{"$f":"IF(E127=0,\"\",IF($J$127=\"A\",A116,A108))","v":5},{"$f":"IF(E127=0,\"\",IF($J$127=\"A\",B116,B108))","v":1996},0,{"$f":"IF($J$127=\"A\",D116,D108)","v":0},13608000,0,1488000,0,15096000,"S",0]
[{"$f":"IF(E128=0,\"\",IF($J$127=\"A\",A108,A116))","v":""},{"$f":"IF(E128=0,\"\",IF($J$127=\"A\",B108,B116))","v":""},0,{"$f":"IF($J$127=\"A\",D108,D116)","v":0},0,0,0,0,0,"A",0]
[{"$f":"IF(E129=0,\"\",IF($J$129=\"A\",A117,A109))","v":5},{"$f":"IF(E129=0,\"\",IF($J$129=\"A\",B117,B109))","v":1998},0,{"$f":"IF($J$129=\"A\",D117,D109)","v":0},14304000,0,1572000,0,15876000,"S",0]
[{"$f":"IF(E130=0,\"\",IF($J$129=\"A\",A109,A117))","v":""},{"$f":"IF(E130=0,\"\",IF($J$129=\"A\",B109,B117))","v":""},0,{"$f":"IF($J$129=\"A\",D109,D117)","v":0},0,0,0,0,0,"A",0]
[{"$f":"IF(E131=0,\"\",IF($J$131=\"A\",A118,A110))","v":5},{"$f":"IF(E131=0,\"\",IF($J$131=\"A\",B118,B110))","v":2000},0,{"$f":"IF($J$131=\"A\",D118,D110)","v":0},14988000,0,1644000,0,16632000,"S",0]
[{"$f":"IF(B128=1995,IF(A128=1,1,IF(B127=1995,IF(A127=1,1,IF(B126=1995,IF(A126=1,1))))),0)","v":0},{"$f":"DATEVALUE(\"1/1/1993\")","v":33970},{"$f":"DATEVALUE(\"1/4/1994\")","v":34425},{"$f":"DATEVALUE(\"1/7/1994\")","v":34516}]
[]
[{"$f":"IF(B132<D3,\"\",\"A DECORRERE DAL 1/1/93 COMPETONO £. 240.000 ANNUE AI SENSI DELL'ART. 7 LEGGE 438/92\")","v":"A DECORRERE DAL 1/1/93 COMPETONO £. 240.000 ANNUE AI SENSI DELL'ART. 7 LEGGE 438/92"}]
[null,null,null,null,{"$f":"VLOOKUP($F$76,TAB!A101:C108,2)","v":22253}]
[{"$f":"IF(C132<C46,\"\",\"A DECORRERE AL 1/4/94 COMPETE LA SOMMA DI £.\")","v":"A DECORRERE AL 1/4/94 COMPETE LA SOMMA DI £."},null,null,null,{"$f":"IF(C132<C46,\"\",E135*12)","v":267036},{"$f":"IF(C132<C46,\"\",\"QUALE IND. DI VACANZA CONTRATTUALE\")","v":"QUALE IND. DI VACANZA CONTRATTUALE"}]
[null,null,null,null,{"$f":"VLOOKUP($F$76,TAB!A101:C108,3)","v":37088}]
[{"$f":"IF(D132<C46,\"\",\"A DECORRERE AL 1/7/94 COMPETE LA SOMMA DI £.\")","v":"A DECORRERE AL 1/7/94 COMPETE LA SOMMA DI £."},null,null,null,{"$f":"IF(D132<C46,\"\",E137*12)","v":445056},{"$f":"IF(D132<C46,\"\",\"QUALE IND. DI VACANZA CONTRATTUALE\")","v":"QUALE IND. DI VACANZA CONTRATTUALE"}]
[null,null,null,null,null,{"$f":"IF(B122=1993,I122,0)","v":0},null,94,95,96,97]
["POSIZ. STIP.  ",{"$f":"IF(D132<A46,C78,\"31/12/94\")","v":"31/12/94"},"ST + I.F.",{"$f":"IF(H149=0,I153,I151)","v":{"$error":"#N/A"}},null,{"$f":"IF(B123=1993,I123,0)","v":{"$error":"#N/A"}},{"$f":"IF(B127=1993,I127,0)","v":0},{"$f":"IF(B122=1994,I122,0)","v":0},{"$f":"IF(B122=1995,I122,0)","v":0},null,{"$f":"IF(B123=1997,IF($J$149>1,I123-I121,I123-I122),0)","v":{"$error":"#N/A"}}]
["ART 7 L 438/92",null,null,{"$f":"IF(D140=0,\"\",240000)","v":{"$error":"#N/A"}},null,{"$f":"IF(B124=1993,I124,0)","v":0},{"$f":"IF(B128=1993,I128,0)","v":0},{"$error":"#N/A"},{"$error":"#N/A"},{"$f":"IF(B123=1996,IF($J$149>1,I123-I122,I123-I122),0)","v":{"$error":"#N/A"}},{"$f":"IF(B124=1997,IF($J$149>1,I124-I122,I124-I123),0)","v":0}]
["IND VAC CONT",{"$f":"VLOOKUP($F$76,TAB!A101:C108,3)","v":37088},null,{"$f":"IF(D140=0,\"\",B142*12)","v":{"$error":"#N/A"}},null,{"$f":"IF(B125=1993,I125,0)","v":0},{"$f":"IF(B129=1993,I129,0)","v":0},0,0,{"$f":"IF(B124=1996,IF($J$149>1,I124-I122,I124-I123),0)","v":0},0]
[null,null,null,{"$f":"SUM(D140:D142)","v":{"$error":"#N/A"}},null,{"$f":"IF(B126=1993,I126,0)","v":0},{"$f":"IF(B130=1993,I130,0)","v":0},14340000,0,{"$f":"IF(B125=1996,IF($J$149>1,I125-I123,I125-I124),0)","v":0},0]
[null,null,null,null,null,null,{"$f":"SUM(F139:G143)","v":{"$error":"#N/A"}},0,0,0,0]
[null,"DAL","AL","GG.","ANNI","MESI","GIORNI",0,0,756000,0]
["RUOLO",{"$f":"$C$46","v":"1990-05-01"},"1994-12-31",{"$f":"IF(B146>1,DAYS360(B146,C146),0)","v":1680},{"$f":"INT(D146/360)","v":4},{"$f":"INT(INT(D146-(E146*360))/30)","v":8},{"$f":"D146-(E146*360)-(F146*30)","v":0},0,0,0,0]
["TOT. ANZIANITA' GIU.EC.  AL 31/12/1994",null,null,{"$f":"D146+D41+D45","v":1320},{"$f":"INT(D147/360)","v":3},{"$f":"INT(INT(D147-(E147*360))/30)","v":8},{"$f":"D147-(E147*360)-(F147*30)","v":0},0,0,0,0]
[{"$f":"IF($B$4=\"AA\",IF($E$147>20,$D$147+$D$42,$D$147))","v":false},{"$f":"IF($B$4=\"CS\",IF($E$147>20,$D$147+$D$42,$D$147))","v":false},{"$f":"IF($B$4=\"RA\",IF($E$147>18,$D$147+$D$42,$D$147))","v":false},{"$f":"IF($B$4=\"DL\",IF($E$147>16,$D$147+$D$42,$D$147))","v":false},{"$f":"IF($E$147>18,$D$147+$D$42,$D$147)","v":1320},null,null,{"$f":"IF(B130=1994,I130,0)","v":0},{"$f":"IF(B130=1995,I130,0)","v":0},0,0]
[null,null,null,null,null,null,null,{"$f":"SUM(H140:H148)","v":{"$error":"#N/A"}},{"$f":"SUM(I140:I148)","v":{"$error":"#N/A"}},{"$f":"COUNTIF(G123:G131,0)","v":4}]
["TOT. ANZIANITA'   AL 31/12/1994",null,null,{"$f":"IF(B4=\"AA\",A148,IF(B4=\"CS\",B148,IF(B4=\"RA\",C148,IF(B4=\"DL\",D148,E148))))","v":1320},{"$f":"INT(D150/360)","v":3},{"$f":"INT(INT(D150-(E150*360))/30)","v":8},{"$f":"D150-(E150*360)-(F150*30)","v":0},{"$f":"IF(E150<3,2,IF(E150<9,3,IF(E150<15,4,IF(E150<21,5,IF(E150<28,6,IF(E150<35,7,IF(E150<40,8)))))))","v":3},{"$f":"IF(E150<3,0,IF(E150<9,3,IF(E150<15,9,IF(E150<21,15,IF(E150<28,21,IF(E150<35,28,IF(E150<40,35)))))))","v":3}]
["TOT. ANZIANITA'   AL 01/12/1995",null,null,{"$f":"D150+330","v":1650},{"$f":"INT(D151/360)","v":4},{"$f":"INT(INT(D151-(E151*360))/30)","v":7},{"$f":"D151-(E151*360)-(F151*30)","v":0},{"$f":"IF(E151<3,2,IF(E151<9,3,IF(E151<15,4,IF(E151<21,5,IF(E151<28,6,IF(E151<35,7,IF(E151<40,8)))))))","v":3},{"$f":"IF(H147>0,H147,IF(H146>0,H146,IF(H145>0,H145,IF(H144>0,H144,IF(H143>0,H143,IF(H142>0,H142,IF(H141>0,H141,IF(H140>0,H140,0))))))))","v":14340000}]
["TOT. ANZIANITA'   AL 31/12/1995",null,null,{"$f":"D151+30","v":1680},{"$f":"INT(D152/360)","v":4},{"$f":"INT(INT(D152-(E152*360))/30)","v":8},{"$f":"D152-(E152*360)-(F152*30)","v":0},{"$f":"IF(E152<3,2,IF(E152<9,3,IF(E152<15,4,IF(E152<21,5,IF(E152<28,6,IF(E152<35,7,IF(E152<40,8)))))))","v":3},93]
["FASCIA AI SENSI CCNL 4/8/95 :",null,null,null,null,null,null,null,{"$f":"IF(G142>0,G142,IF(G141>0,G141,IF(G140>0,G140,IF(F143>0,F143,IF(F142>0,F142,IF(F141>0,F141,IF(F140>0,F140,IF(F139>0,F139,0))))))))","v":{"$error":"#N/A"}}]
[null,null,null,null,null,null,null,null,94]
[null,null,null,{"$f":"IF(A132=1,IF(B123=1995,I123,IF(B124=1995,I124,IF(B125=1995,I125,IF(B126=1995,I126,IF(B127=1995,I127,IF(B128=1995,I128,IF(B129=1995,I129,I151))))))),I151)","v":14340000}]
["POSIZ. STIP. AL 1/1/1995",null,null,{"$f":"IF(D155>0,D155,I153)","v":14340000},"ST + I.F."]
["ART 7 L 438/92",null,null,{"$f":"IF(D156=0,\"\",240000)","v":240000}]
["TAB A1 CCNL 4/8/95",null,null,{"$f":"IF(D156=0,\"\",HLOOKUP($B$4,TAB!$B$112:$I$119,H150))","v":877080}]
[null,null,null,{"$f":"SUM(D156:D158)","v":15457080}]
[{"$f":"IF(B122=1995,A122,IF($B$123=1995,A123,IF($B$124=1995,A124,IF($B$125=1995,A125,IF($B$126=1995,A126,IF($B$127=1995,A127,IF($B$128=1995,A128,0)))))))","v":{"$error":"#N/A"}},{"$f":"IF($B$129=1995,A129,IF($B$130=1995,A130,IF($B$131=1995,A131,A160)))","v":{"$error":"#N/A"}},{"$f":"IF($I$149>1,IF(B122=1995,I122,IF($B$123=1995,I123,IF($B$124=1995,I124,IF($B$125=1995,I125,IF($B$126=1995,I126,IF($B$127=1995,I127,IF($B$128=1995,$I$128))))))),0)","v":{"$error":"#N/A"}},{"$f":"IF($I$149>1,IF($B$129=1995,$I$129,IF($B$130=1995,$I$130,IF($B$131=1995,$I$131,C160))),0)","v":{"$error":"#N/A"}},null,{"$f":"IF(B131=1995,A131,IF(B130=1995,A130,IF(B129=1995,A129,IF(B128=1995,A128,IF(B127=1995,A127,0)))))","v":0},{"$f":"IF(B126=1995,A126,IF(B125=1995,A125,IF(B124=1995,A124,IF(B123=1995,A123,IF(B122=1995,A122,F160)))))","v":{"$error":"#N/A"}},{"$f":"IF($I$149>1,IF(B131=1995,I131,IF(B130=1995,I130,IF(B129=1995,I129,IF(B128=1995,I128,IF(B127=1995,I127,0))))))","v":{"$error":"#N/A"}},{"$f":"IF($I$149>1,IF(B126=1995,I126,IF(B125=1995,I125,IF(B124=1995,I124,IF(B123=1995,I123,IF(B122=1995,I122,H160))))))","v":{"$error":"#N/A"}}]
[{"$f":"IF($I$149>1,\"POS. STIP AL\",\"\")","v":{"$error":"#N/A"}},{"$f":"IF(AND($A$160=0,$B$160=0),\"\",IF($B$160>$A$160,$A$160,IF($A$160>$B$160,$A$160,B160)))","v":{"$error":"#N/A"}},{"$f":"IF($I$149>1,1995,\"\")","v":{"$error":"#N/A"}},{"$f":"IF(AND($C$160=0,$D$160=0),\"\",IF($D$160>$C$160,$C$160,$D$160))","v":{"$error":"#N/A"}},"ST + I.F.",{"$f":"IF($I$149=0,\"\",IF($I$160>$D$161,A161,\"\"))","v":{"$error":"#N/A"}},{"$f":"IF($I$149=0,\"\",IF($I$160>$D$161,G160,\"\"))","v":{"$error":"#N/A"}},{"$f":"IF($I$149=0,\"\",IF($I$160>$D$161,C161,\"\"))","v":{"$error":"#N/A"}},{"$f":"IF($I$149=0,0,IF($I$160>$D$161,I160,0))","v":{"$error":"#N/A"}},{"$f":"IF($I$149=0,\"\",IF($I$160>$D$161,E161,\"\"))","v":{"$error":"#N/A"}}]
[{"$f":"IF($I$149>1,\"ART 7 L 438/72\",\"\")","v":{"$error":"#N/A"}},null,null,{"$f":"IF(I149>1,240000,0)","v":{"$error":"#N/A"}},null,{"$f":"IF($I$149=0,\"\",IF($I$160>$D$161,A162,\"\"))","v":{"$error":"#N/A"}},null,null,{"$f":"IF($I$149=0,\"\",IF($I$160>$D$161,D162,\"\"))","v":{"$error":"#N/A"}}]
[{"$f":"IF($I$149>1,\"TAB A1 CCNL 4/8/95\",\"\")","v":{"$error":"#N/A"}},null,null,{"$f":"IF(AND(I149>1,A160<12),HLOOKUP($B$4,TAB!$B$112:$I$119,H151),D168)","v":{"$error":"#N/A"}},null,{"$f":"IF($I$149=0,\"\",IF($I$160>$D$161,A163,\"\"))","v":{"$error":"#N/A"}},null,null,{"$f":"IF($I$149=0,\"\",IF($I$160>$D$161,D163,\"\"))","v":{"$error":"#N/A"}}]
[null,null,null,{"$f":"IF(I149>1,SUM(D161:D163),0)","v":{"$error":"#N/A"}},null,null,null,null,{"$f":"IF(I149>1,SUM(I161:I163),0)","v":{"$error":"#N/A"}}]
[]
["POSIZ. STIP. AL 1/12/1995",null,null,{"$f":"IF($I$161>1,I161,IF($I$149=0,$I$151,IF(D160>D156,D160,D156)))","v":{"$error":"#N/A"}},"ST + I.F."]
["ART 7 L 438/92",null,null,240000]
["TAB A2  CCNL 4/8/95",null,null,{"$f":"HLOOKUP($B$4,TAB!$B$123:$I$130,H151)","v":1670628}]
[null,null,null,{"$f":"SUM(D166:D168)","v":{"$error":"#N/A"}}]
[]
["POSIZ. STIP. AL",null,"1995-12-31",{"$f":"IF(D169>I164,D166,IF($I$149=0,$I$151,D166))","v":{"$error":"#N/A"}},"ST + I.F."]
["ART 7 L 438/92",null,null,240000]
["TAB A2  CCNL 4/8/95",null,null,{"$f":"HLOOKUP($B$4,TAB!$B$123:$I$130,H152)","v":1670628}]
[null,null,null,{"$f":"SUM(D171:D173)","v":{"$error":"#N/A"}}]
["TRATTAMENTO EC. IN GODIMENTO AL 31/12/1995",null,null,null,"£.",{"$f":"IF(D174>D169,D174,D169)","v":{"$error":"#N/A"}}]
[]
["INQUADRAMENTO AI SENSI DEL CCNL 4/8/95 E CCNL 1/8/96"]
[null,"DAL","AL","GG.","ANNI","MESI","GIORNI"]
["RUOLO",{"$f":"$C$46","v":"1990-05-01"},"1996-01-01",{"$f":"IF(B179>1,DAYS360(B179,C179),0)","v":2040},{"$f":"INT(D179/360)","v":5},{"$f":"INT(INT(D179-(E179*360))/30)","v":8},{"$f":"D179-(E179*360)-(F179*30)","v":0}]
[]
["ANZI.TA' TOT. (GIU.EC. + EC) AL 1/1/1996",null,null,{"$f":"SUM($D$41:$D$45)+D179","v":1680},{"$f":"INT(D181/360)","v":4},{"$f":"INT(INT(D181-(E181*360))/30)","v":8},{"$f":"D181-(E181*360)-(F181*30)","v":0},"(ART. 66 c. 2 CCNL 4/895)"]
[]
["ANZIANITA' ARROTONDATA AL 1/1/96 - ANNI :",null,null,{"$f":"E183*360","v":1800},{"$f":"IF(F181>=6,E181+1,E181)","v":5},{"$f":"IF(F181=0,\"\",IF(F181<6,\"       ( i restanti \",\"\"))","v":""},{"$f":"IF(F181<6,F181,\"\")","v":""},{"$f":"IF(F181=0,\"\",IF(F181<6,\"mesi vengono tralasciati)\",\"\"))","v":""}]
["FASCIA DI INQUADRAMENTO CCNL 1/8/96 :",null,null,null,"POSIZIONE ANNI:",null,{"$f":"IF(E183<3,0,IF(E183<9,3,IF(E183<15,9,IF(E183<21,15,IF(E183<28,21,IF(E183<35,28,IF(E183<40,35)))))))","v":3}]
["ANZIANITA' RESIDUA ANNI:",null,null,null,null,null,{"$f":"IF(E183<3,E183,IF(E183<9,E183-3,IF(E183<15,E183-9,IF(E183<21,E183-15,IF(E183<28,E183-21,IF(E183<35,E183-28,\"\"))))))","v":2}]
["ORE DI AGGIORNAMENTO NECESSARIE",null,null,null,null,null,{"$f":"IF(G184=35,0,IF(B4=\"AA\",H186,IF(B4=\"CS\",I186,J186)))","v":66.680000000000007},{"$f":"IF($B$4=\"AA\",IF($G$184<3,$F$191*10,IF($G$184<21,$F$191*10,IF($G$184<40,$F$191*8.57))))","v":false},{"$f":"IF($B$4=\"CS\",IF($G$184<3,$F$191*10,IF($G$184<21,$F$191*10,IF($G$184<40,$F$191*8.57))))","v":false},{"$f":"IF($G$184<3,$F$191*17,IF($G$184<21,$F$191*16.67,IF($G$184<40,$F$191*14.28)))","v":66.680000000000007}]
["ANZIANITA' TOTALE AI FINI DELLA CARRIERA AL 1/1/1996",null,null,null,{"$f":"INT(H187/360)","v":5},{"$f":"INT(INT(H187-(E187*360))/30)","v":0},{"$f":"H187-(E187*360)-(F187*30)","v":0},{"$f":"IF(E183=35,35,E183*360)","v":1800}]
[]
["STIPEN. AL 1/1/1996",null,{"$f":"HLOOKUP(B4,TAB!B135:I142,I191)","v":17007000},null," ( POSIZIONE DI  ANNI:",null,{"$f":"IF(E187<3,0,IF(E187<9,3,IF(E187<15,9,IF(E187<21,15,IF(E187<28,21,IF(E187<35,28,IF(E187<41,35)))))))","v":3},"fascia",{"$f":"IF(G189=0,\"0 - 2\",IF(G189=3,\"3 - 8\",IF(G189=9,\"9 - 14\",IF(G189=15,\"15 - 20\",IF(G189=21,\"21 - 27\",IF(G189=28,\"28 - 35\",IF(G189=35,\"35\")))))))","v":"3 - 8"},")"]
[null,null,null,null,null,"aa","mm","gg"]
["ANZ NECESSARIA PASS GRAD:",null,{"$f":"IF(G189=0,(3*360),IF(G189=3,(9*360),IF(G189=9,(15*360),IF(G189=15,(21*360),IF(G189=21,(28*360),IF(G189=28,(35*360),0))))))","v":3240}," DIFF GRAD:",{"$f":"C191-H187","v":1440},{"$f":"INT(E191/360)","v":4},{"$f":"INT(INT(E191-(F191*360))/30)","v":0},{"$f":"E191-(F191*360)-(G191*30)","v":0},{"$f":"IF(E183<3,2,IF(E183<9,3,IF(E183<15,4,IF(E183<21,5,IF(E183<28,6,IF(E183<35,7,IF(E183<40,8)))))))","v":3}]
[]
[null,null,"(01/01/1996)","1997-01-31",null,"DATA PASS","GRAD"]
["PASSAGGIO GRADONE",null,{"$f":"DATEVALUE(\"1/1/1996\")","v":35065},{"$f":"DATEVALUE(\"31/1/1997\")","v":35461},null,{"$f":"D195","v":"2000-01-01"},null,{"$f":"IF(G189<3,2,IF(G189<9,3,IF(G189<15,4,IF(G189<21,5,IF(G189<28,6,IF(G189<35,7,IF(G189<40,8)))))))","v":3},"(IND GRAD)"]
["PASSAGGIO SUCCESSIVO DI GRADONE  IL:",null,null,{"$f":"DATE(YEAR(C194)+F191,MONTH(C194)+G191,DAY(C194)+H191)","v":"2000-01-01"},"1°",{"$f":"F194","v":"2000-01-01"},{"$f":"IF(G189=0,3,IF(G189=3,9,IF(G189=9,15,IF(G189=15,21,IF(G189=21,28,IF(G189=28,35))))))","v":9},{"$f":"YEAR(D195)","v":2000}]
[]
[]
["INQUADRAMENTO ",null,"FASCIA DA",{"$f":"$I$189","v":"3 - 8"},"AL 1° /1/1996",null,null,null,{"$f":"D174","v":{"$error":"#N/A"}}]
[]
["STIPENDIO A.L. CCNL 4/8/95 TAB. \"B\"",null,null,null,{"$f":"C189","v":17007000},null,null,null,null,null,{"$f":"D174","v":{"$error":"#N/A"}}]
["Assegno ad personam",null,null,null,{"$f":"IF(C189>D174,0,D174-C189)","v":{"$error":"#N/A"}}]
["CCNL 1/8/96 TAB \"A\" =    12 X",null,{"$f":"HLOOKUP(B4,TAB!C157:I164,H194)","v":61000},null,{"$f":"C202*12","v":732000}]
["TOTALE A.L.",null,null,null,{"$f":"SUM(E200:E202)","v":{"$error":"#N/A"}},"PARI A",{"$f":"E203/1936.27","v":{"$error":"#N/A"}},"€uro"]
[]
[{"$f":"IF($D$194<$D$195,\"POICHE' IL DIPENDENTE NON CONSEGUE IL PASSAGGIO DI GRADONE NEL BIENNIO 96/97 GLI COMPETE IL RATEO DI CUI ALL'ART 67\",2)","v":"POICHE' IL DIPENDENTE NON CONSEGUE IL PASSAGGIO DI GRADONE NEL BIENNIO 96/97 GLI COMPETE IL RATEO DI CUI ALL'ART 67"}]
[{"$f":"IF($D$194<$D$195,\"PROGRESSIONE TEORICA NEL 96/97 AI SENSI DEL D.P.R. 399/88 AI FINI DEL CALCOLO DEI RATEI\",2)","v":"PROGRESSIONE TEORICA NEL 96/97 AI SENSI DEL D.P.R. 399/88 AI FINI DEL CALCOLO DEI RATEI"}]
[]
["MESE","ANNO","POSIZIONE/ANNI","A/B","TOT","IMP IN MATUR","IMP RAPPORTATO","RATEI"]
[{"$f":"IF(B131=1996,A131,IF($B$129=1996,A129,IF($B$128=1996,A128,IF($B$127=1996,A127,IF($B$126=1996,A126,IF($B$125=1996,A125,IF($B$124=1996,A124,IF(B123=1996,A123,0))))))))","v":5},{"$f":"IF(A209=0,0,1996)","v":1996},{"$f":"IF($B$129=1996,C129,IF($B$128=1996,C128,IF($B$127=1996,C127,IF($B$126=1996,C126,IF($B$125=1996,C125,IF($B$124=1996,C124,IF($B$123=1996,C123,0)))))))","v":0},{"$f":"IF($B$129=1996,D129,IF($B$128=1996,D128,IF($B$127=1996,D127,IF($B$126=1996,D126,IF(B125=1996,D125,IF(B124=1996,D124,IF(B123=1996,D123,0)))))))","v":0},{"$f":"IF($B$129=1996,I129,IF($B$128=1996,I128,IF($B$127=1996,I127,IF($B$126=1996,I126,IF(B125=1996,I125,IF(B124=1996,I124,IF(B123=1996,I123,0)))))))","v":15096000},{"$f":"IF(J148>1,J148,IF(J147>1,J147,IF(J146>1,J146,IF(J145>1,J145,IF(J144>1,J144,IF(J143>1,J143,IF(J142>1,J142,IF(J141>1,J141,0))))))))","v":756000},{"$f":"F209*C212/24","v":630000},{"$f":"ROUND(G209*2*0.75/18,0)","v":52500}]
[{"$f":"IF(B131=1997,A131,IF($B$130=1997,A130,IF($B$129=1997,A129,IF($B$128=1997,A128,IF($B$127=1997,A127,IF($B$126=1997,A126,IF(B125=1997,A125,IF(B124=1997,A124,0))))))))","v":0},{"$f":"IF(A210=0,0,1997)","v":0},{"$f":"IF(B131=1997,C131,IF($B$130=1997,C130,IF($B$129=1997,C129,IF($B$128=1997,C128,IF($B$127=1997,C127,IF($B$126=1997,C126,IF(B125=1997,C125,0)))))))","v":0},{"$f":"IF(B131=1997,D131,IF($B$130=1997,D130,IF($B$129=1997,D129,IF($B$128=1997,D128,IF($B$127=1997,D127,IF($B$126=1997,D126,IF(B126=1997,101,0)))))))","v":0},{"$f":"IF(B131=1997,I131,IF($B$130=1997,I130,IF($B$129=1997,I129,IF($B$128=1997,I128,IF($B$127=1997,I127,IF($B$126=1997,I126,IF(B125=1997,I125,0)))))))","v":0},{"$f":"IF(K148>1,K148,IF(K147>1,K147,IF(K146>1,K146,IF(K145>1,K145,IF(K144>1,K144,IF(K143>1,K143,IF(K142>1,K142,IF(K141>1,K141,0))))))))","v":0},{"$f":"F210*C213/24","v":0},{"$f":"ROUND(G210*2*0.75/12,0)","v":0}]
[]
["RATEO","DAL 1/7/96",{"$f":"IF(B130=1996,25-A130,IF(B129=1996,25-A129,IF(B128=1996,25-A128,IF(B127=1996,25-A127,IF(B126=1996,25-A126,IF(B125=1996,25-A125,IF(B124=1996,25-A124,IF(B123=1996,25-A123,0))))))))","v":20},{"$f":"IF(C212=0,0,\"/24\")","v":"/24"},{"$f":"H209","v":52500},"MENSILI",{"$f":"E212*12","v":630000},"ANNUI"]
["RATEO","DAL 1/1/97",{"$f":"IF(B131=1997,13-A131,IF(B130=1997,13-A130,IF(B129=1997,13-A129,IF(B128=1997,13-A128,IF(B127=1997,13-A127,IF(B126=1997,13-A126,IF(B125=1997,13-A125,IF(B124=1997,13-A124,0))))))))","v":0},{"$f":"IF(C213=0,0,\"/24\")","v":0},{"$f":"H210","v":0},"MENSILI",{"$f":"E213*12","v":0},"ANNUI"]
[{"$f":"IF(A205=2,\"POICHE' IL DIPENDENTE CONSEGUE NEL BIENNIO 96/97 LA POSIZIONE STIPENDIALE SUCCESSIVA ALL'INQ.NON COMPETE IL RATEO\",0)","v":0}]
["STTIPENDIO al 1/7/96"]
["FASCIA DA",{"$f":"$I$189","v":"3 - 8"}]
["STIPENDIO A.L. CCNL 4/8/95 TAB. \"B\"",null,null,null,{"$f":"E200","v":17007000}]
["Assegno ad personam",null,null,null,{"$f":"E201","v":{"$error":"#N/A"}}]
["CCNL 1/8/96 TAB \"A\" =    ",null,null,null,{"$f":"E202","v":732000}]
["Rateo",null,null,null,{"$f":"IF(A205=2,0,E212*12)","v":630000}]
["totale a.l.",null,null,null,{"$f":"SUM(E217:E220)","v":{"$error":"#N/A"}},"PARI A",{"$f":"E221/1936.27","v":{"$error":"#N/A"}},"€uro"]
[]
[]
["ANZIANITA'",{"$f":"F227","v":5},null,"FASCIA ",{"$f":"IF(B224<3,0,IF(B224<9,3,IF(B224<15,9,IF(B224<21,15,IF(B224<28,21,IF(B224<35,28,IF(B224<40,35)))))))","v":3},{"$f":"IF(E224<3,2,IF(E224<9,3,IF(E224<15,4,IF(E224<21,5,IF(E224<28,6,IF(E224<35,7,IF(E224<40,8)))))))","v":3},"IND GRAD"]
["RUOLO","1996-01-02","1996-11-01",null,{"$f":"IF(B225>1,DAYS360(B225,C225)+1,0)","v":300},{"$f":"INT(E225/360)","v":0},{"$f":"INT(INT(E225-(F225*360))/30)","v":10},{"$f":"E225-(F225*360)-(G225*30)","v":0}]
[]
["ANZIANITA' TOT. (GIU.EC. + EC) AL 1/11/1996",null,null,null,{"$f":"D183+E225","v":2100},{"$f":"INT(E227/360)","v":5},{"$f":"INT(INT(E227-(F227*360))/30)","v":10},{"$f":"E227-(F227*360)-(G227*30)","v":0}]
[]
["STIPENDIO AL 1°/ 11/ 1996"]
["STIPENDIO ","CCNL 1/8/96",null,null,{"$f":"E217","v":17007000},"FASCIA",{"$f":"E224","v":3}]
["Assegno ad personam",null,null,null,{"$f":"E218","v":{"$error":"#N/A"}}]
["AUMENTO CCNL 1/8/96 12 x    ",null,{"$f":"HLOOKUP(B4,TAB!B167:I174,F224)","v":86000},{"$f":"12*C232","v":1032000},{"$f":"E219+D232","v":1764000}]
["Rateo",null,null,null,{"$f":"E220","v":630000}]
["TOTALE",null,null,null,{"$f":"SUM(E230:E233)","v":{"$error":"#N/A"}},"PARI A",{"$f":"E234/1936.27","v":{"$error":"#N/A"}},"€uro"]
[]
["ANZIANITA'",{"$f":"F239","v":6},null,{"$f":"D237","v":"1990-05-01"},{"$f":"IF(B236<3,0,IF(B236<9,3,IF(B236<15,9,IF(B236<21,15,IF(B236<28,21,IF(B236<35,28,IF(B236<40,35)))))))","v":3},{"$f":"IF(E236<3,2,IF(E236<9,3,IF(E236<15,4,IF(E236<21,5,IF(E236<28,6,IF(E236<35,7,IF(E236<41,8)))))))","v":3},"IND GRAD"]
["RUOLO","1996-11-02","1997-01-01",{"$f":"DATEVALUE(\"1/5/90\")","v":32994},{"$f":"IF(B237>1,DAYS360(B237,C237)+1,0)","v":60},{"$f":"INT(E237/360)","v":0},{"$f":"INT(INT(E237-(F237*360))/30)","v":2},{"$f":"E237-(F237*360)-(G237*30)","v":0}]
[]
["ANZIANITA' TOT. (GIU.EC. + EC) AL 1/01/1997",null,null,null,{"$f":"$E$227+E237","v":2160},{"$f":"INT(E239/360)","v":6},{"$f":"INT(INT(E239-(F239*360))/30)","v":0},{"$f":"E239-(F239*360)-(G239*30)","v":0}]
["PER COMPIUTA ANZIANITA' DI ANNI",null,null,null,"AL DIPENDENTE COMPETE LO STIPENDIO SOTTOINDICATO"]
[]
[{"$f":"IF($H$195=1997,$A$240,2)","v":2},null,null,{"$f":"IF($H$195=1997,E236,2)","v":2},{"$f":"IF($H$195=1997,\"AL 1/1/97\",2)","v":2},{"$f":"IF($H$195=1997,E240,2)","v":2}]
["STIPENDIO 1° GENNAIO 1997"]
["STIPENDIO ","CCNL 1/8/96",null,null,{"$f":"IF(H195=1997,HLOOKUP(B4,TAB!B135:I142,F236),E230)","v":17007000},"FASCIA",{"$f":"E236","v":3}]
["Assegno ad personam",null,null,null,{"$f":"IF($H$195=1997,0,E231)","v":{"$error":"#N/A"}}]
["AUMENTO CCNL 1/8/96 12 x    ",null,null,{"$f":"HLOOKUP(B4,TAB!B178:I185,F236)","v":147000},{"$f":"D246*12","v":1764000}]
["Rateo",null,null,null,{"$f":"IF(A205=2,0,IF(E213=0,E233,IF(E213>0,(E213*12)+E233)))","v":630000}]
["TOTALE",null,null,null,{"$f":"SUM(E244:E247)","v":{"$error":"#N/A"}},"PARI A",{"$f":"E248/1936.27","v":{"$error":"#N/A"}},"€uro"]
[]
["ANZIANITA'",{"$f":"F253","v":6},"FASCIA ",null,{"$f":"IF(B250<3,0,IF(B250<9,3,IF(B250<15,9,IF(B250<21,15,IF(B250<28,21,IF(B250<35,28,IF(B250<40,35)))))))","v":3},{"$f":"IF(E250<3,2,IF(E250<9,3,IF(E250<15,4,IF(E250<21,5,IF(E250<28,6,IF(E250<35,7,IF(E250<41,8)))))))","v":3},"IND GRAD"]
["RUOLO","1997-01-02","1997-07-01",null,{"$f":"IF(B251>1,DAYS360(B251,C251)+1,0)","v":180},{"$f":"INT(E251/360)","v":0},{"$f":"INT(INT(E251-(F251*360))/30)","v":6},{"$f":"E251-(F251*360)-(G251*30)","v":0}]
[]
["ANZIANITA' TOT. (GIU.EC. + EC) AL 1/07/1997",null,null,null,{"$f":"E239+E251","v":2340},{"$f":"INT(E253/360)","v":6},{"$f":"INT(INT(E253-(F253*360))/30)","v":6},{"$f":"E253-(F253*360)-(G253*30)","v":0}]
[]
[]
["STIPENDIO 1° LUGLIO 1997"]
["STIPENDIO ","CCNL 1/8/96",null,null,{"$f":"HLOOKUP(B4,TAB!B210:I217,F250)","v":19683000}]
["Assegno ad personam",null,null,null,{"$f":"E245","v":{"$error":"#N/A"}}]
["Rateo",null,null,null,{"$f":"E247","v":630000}]
["TOTALE",null,null,null,{"$f":"SUM(E257:E259)","v":{"$error":"#N/A"}},"PARI A",{"$f":"E260/1936.27","v":{"$error":"#N/A"}},"€uro"]
[]
[{"$f":"IF($H$195=1998,$A$240,2)","v":2},null,null,{"$f":"IF($H$195=1998,E263,2)","v":2},{"$f":"IF($H$195=1998,\"AL 1/1/98\",2)","v":2},{"$f":"IF($H$195=1998,$E$240,2)","v":2}]
["ANZIANITA'",{"$f":"F265","v":7},"FASCIA ",{"$f":"D264","v":35826},{"$f":"IF(B263<3,0,IF(B263<9,3,IF(B263<15,9,IF(B263<21,15,IF(B263<28,21,IF(B263<35,28,IF(B263<40,35)))))))","v":3},{"$f":"IF(E263<3,2,IF(E263<9,3,IF(E263<15,4,IF(E263<21,5,IF(E263<28,6,IF(E263<35,7,IF(E263<41,8)))))))","v":3},"IND GRAD"]
["RUOLO","1997-07-02","1998-01-01",{"$f":"DATEVALUE(\"31/1/1998\")","v":"1998-01-31"},{"$f":"IF(B264>1,DAYS360(B264,C264)+1,0)","v":180},{"$f":"INT(E264/360)","v":0},{"$f":"INT(INT(E264-(F264*360))/30)","v":6},{"$f":"E264-(F264*360)-(G264*30)","v":0}]
["ANZIANITA' TOT. (GIU.EC. + EC) AL 1/1/1998",null,null,null,{"$f":"E253+E264","v":2520},{"$f":"INT(E265/360)","v":7},{"$f":"INT(INT(E265-(F265*360))/30)","v":0},{"$f":"E265-(F265*360)-(G265*30)","v":0}]
[]
["STIPENDIO 1° GENNAIO 1998"]
["STIPENDIO ","CCNL 1/8/96",null,null,{"$f":"HLOOKUP(B4,TAB!B210:I217,F263)","v":19683000}]
["Assegno ad personam",null,null,null,{"$f":"IF($A$262=2,E258,0)","v":{"$error":"#N/A"}}]
["Rateo",null,null,null,{"$f":"IF($A$262=2,E259,0)","v":630000}]
["TOTALE",null,null,null,{"$f":"SUM(E268:E270)","v":{"$error":"#N/A"}},"PARI A",{"$f":"E271/1936.27","v":{"$error":"#N/A"}},"€uro"]
[]
[]
["INQUADRAMENTO AI SENSI DEL CCNL 26/5/99"]
[]
["ANZIANITA'",{"$f":"F279","v":7},"FASCIA ","1998-01-01",{"$f":"IF(B276<3,0,IF(B276<9,3,IF(B276<15,9,IF(B276<21,15,IF(B276<28,21,IF(B276<35,28,IF(B276<40,35)))))))","v":3},{"$f":"IF(E276<3,2,IF(E276<9,3,IF(E276<15,4,IF(E276<21,5,IF(E276<28,6,IF(E276<35,7,IF(E276<41,8)))))))","v":3},"IND GRAD"]
["RUOLO","1998-01-02","1998-11-01",{"$f":"DATEVALUE(\"1/1/1998\")","v":35796},{"$f":"IF(B277>1,DAYS360(B277,C277)+1,0)","v":300},{"$f":"INT(E277/360)","v":0},{"$f":"INT(INT(E277-(F277*360))/30)","v":10},{"$f":"E277-(F277*360)-(G277*30)","v":0}]
[]
["ANZIANITA' TOT. (GIU.EC. + EC) AL 1/11/1998",null,null,null,{"$f":"E265+E277","v":2820},{"$f":"INT(E279/360)","v":7},{"$f":"INT(INT(E279-(F279*360))/30)","v":10},{"$f":"E279-(F279*360)-(G279*30)","v":0}]
[]
[]
["STIPENDIO AL 1° NOVEMBRE 1998"]
["STIPENDIO ","CCNL 01/8/96",null,null,{"$f":"E268","v":19683000}]
["Assegno ad personam",null,null,null,{"$f":"E269","v":{"$error":"#N/A"}}]
["Rateo",null,null,null,{"$f":"E270","v":630000}]
["AUMENTO 11/98 ccnl 26/5/99",null,null,{"$f":"HLOOKUP(B4,TAB!B220:I227,F276)","v":48000},{"$f":"D286*12","v":576000}]
["TOTALE ",null,null,null,{"$f":"SUM(E283:E286)","v":{"$error":"#N/A"}},"PARI A",{"$f":"E287/1936.27","v":{"$error":"#N/A"}},"€uro"]
[]
[{"$f":"IF($H$195=1999,$A$240,2)","v":2},null,null,{"$f":"IF($H$195=1999,E290,2)","v":2},{"$f":"IF($H$195=1999,\"AL 1/1/99\",2)","v":2},{"$f":"IF($H$195=1999,$E$240,2)","v":2}]
["ANZIANITA'",{"$f":"F292","v":8},"FASCIA ",{"$f":"D291","v":"1999-01-31"},{"$f":"IF(B290<3,0,IF(B290<9,3,IF(B290<15,9,IF(B290<21,15,IF(B290<28,21,IF(B290<35,28,IF(B290<40,35)))))))","v":3},{"$f":"IF(E290<3,2,IF(E290<9,3,IF(E290<15,4,IF(E290<21,5,IF(E290<28,6,IF(E290<35,7,IF(E290<41,8)))))))","v":3},"IND GRAD"]
["RUOLO","1998-11-02","1999-01-01",{"$f":"DATEVALUE(\"31/1/1999\")","v":36191},{"$f":"IF(B291>1,DAYS360(B291,C291)+1,0)","v":60},{"$f":"INT(E291/360)","v":0},{"$f":"INT(INT(E291-(F291*360))/30)","v":2},{"$f":"E291-(F291*360)-(G291*30)","v":0}]
["ANZIANITA' TOT. (GIU.EC. + EC) AL 1/1/1999",null,null,null,{"$f":"E279+E291","v":2880},{"$f":"INT(E292/360)","v":8},{"$f":"INT(INT(E292-(F292*360))/30)","v":0},{"$f":"E292-(F292*360)-(G292*30)","v":0}]
[]
["STIPENDIO AL 1° GENNAIO 1999"]
["STIPENDIO ","CCNL 01/8/96",null,null,{"$f":"HLOOKUP(B4,TAB!B210:I217,F290)","v":19683000}]
["Assegno ad personam",null,null,null,{"$f":"IF($A$289=2,E284,0)","v":{"$error":"#N/A"}}]
["Rateo",null,null,null,{"$f":"IF($A$289=2,E285,0)","v":630000}]
["AUMENTO 11/98 ccnl 26/5/99",null,null,{"$f":"HLOOKUP(B4,TAB!B220:I227,F290)","v":48000},{"$f":"D298*12","v":576000}]
["TOTALE ",null,null,null,{"$f":"SUM(E295:E298)","v":{"$error":"#N/A"}}]
[]
[]
["ANZIANITA'","AL1/6/99",null,null,{"$f":"G307","v":3},{"$f":"IF(E302<3,2,IF(E302<9,3,IF(E302<15,4,IF(E302<21,5,IF(E302<28,6,IF(E302<35,7,IF(E302<41,8)))))))","v":3},"IND GRAD"]
["RUOLO","1999-01-02","1999-06-01",null,{"$f":"IF(B303>1,DAYS360(B303,C303)+1,0)","v":150},{"$f":"INT(E303/360)","v":0},{"$f":"INT(INT(E303-(F303*360))/30)","v":5},{"$f":"E303-(F303*360)-(G303*30)","v":0}]
[]
["ANZIANITA' TOT. (GIU.EC. + EC) AL 1/6/1999",null,null,null,{"$f":"E292+E303","v":3030},{"$f":"INT(E305/360)","v":8},{"$f":"INT(INT(E305-(F305*360))/30)","v":5},{"$f":"E305-(F305*360)-(G305*30)","v":0}]
[]
["FASCIA DI INQUADRAMENTO CCNL 1/6/99  :",null,null,null,"POSIZIONE ANNI:",null,{"$f":"IF(F305<3,0,IF(F305<9,3,IF(F305<15,9,IF(F305<21,15,IF(F305<28,21,IF(F305<35,28,IF(F305<40,35)))))))","v":3},"FASCIA DA",{"$f":"IF(G307<3,\"0-2\",IF(G307<9,\"3-8\",IF(G307<15,\"9-14\",IF(G307<21,\"15-20\",IF(G307<28,\"21-27\",IF(G307<35,\"28-35\"))))))","v":"3-8"}]
[]
[]
["STIPENDIO AL 1° giugno 1999"]
["STIPENDIO ",null,{"$f":"HLOOKUP($B$4,TAB!B241:I248,$F$302)","v":40000},{"$f":"C311+D286","v":88000},{"$f":"HLOOKUP($B$4,TAB!$B$263:$I$270,$F$302)","v":20739000}]
["Assegno ad personam",null,null,null,{"$f":"E296","v":{"$error":"#N/A"}}]
["Rateo",null,null,null,{"$f":"E297","v":630000}]
["TOTALE ",null,null,null,{"$f":"SUM(E311:E313)","v":{"$error":"#N/A"}},"PARI A",{"$f":"E314/1936.27","v":{"$error":"#N/A"}},"€uro"]
[]
[{"$f":"IF($H$195=2000,$A$240,2)","v":"PER COMPIUTA ANZIANITA' DI ANNI"},null,null,{"$f":"IF($H$195=2000,E317,2)","v":9},{"$f":"IF($H$195=2000,\"AL 1/1/2000\",2)","v":"AL 1/1/2000"},{"$f":"IF($H$195=2000,$E$240,2)","v":"AL DIPENDENTE COMPETE LO STIPENDIO SOTTOINDICATO"}]
["ANZIANITA'","AL1/1/2000",null,{"$f":"D318","v":"2000-01-31"},{"$f":"G322","v":9},{"$f":"IF(E317<3,2,IF(E317<9,3,IF(E317<15,4,IF(E317<21,5,IF(E317<28,6,IF(E317<35,7,IF(E317<41,8)))))))","v":4},"IND GRAD"]
["RUOLO","1999-06-02","2000-01-01",{"$f":"DATEVALUE(\"31/1/2000\")","v":36556},{"$f":"IF(B318>1,DAYS360(B318,C318)+1,0)","v":210},{"$f":"INT(E318/360)","v":0},{"$f":"INT(INT(E318-(F318*360))/30)","v":7},{"$f":"E318-(F318*360)-(G318*30)","v":0}]
[]
["ANZIANITA' TOT. (GIU.EC. + EC) AL 1/1/2000",null,null,null,{"$f":"E305+E318","v":3240},{"$f":"INT(E320/360)","v":9},{"$f":"INT(INT(E320-(F320*360))/30)","v":0},{"$f":"E320-(F320*360)-(G320*30)","v":0}]
[]
["FASCIA DI INQUADRAMENTO CCNL 1/6/99  :",null,null,null,"POSIZIONE ANNI:",null,{"$f":"IF(F320<3,0,IF(F320<9,3,IF(F320<15,9,IF(F320<21,15,IF(F320<28,21,IF(F320<35,28,IF(F320<40,35)))))))","v":9},"FASCIA DA",{"$f":"IF(G322<3,\"0-2\",IF(G322<9,\"3-8\",IF(G322<15,\"9-14\",IF(G322<21,\"15-20\",IF(G322<28,\"21-27\",IF(G322<35,\"28-35\"))))))","v":"9-14"}]
[]
["STIPENDIO AL 1° gennaio 2000"]
["STIPENDIO ",null,null,null,{"$f":"HLOOKUP($B$4,TAB!$B$263:$I$270,$F$317)","v":23656000}]
["Assegno ad personam",null,null,null,{"$f":"IF(A316=2,E312,0)","v":0}]
["Rateo",null,null,null,{"$f":"IF(A316=2,E313,0)","v":0}]
["TOTALE ",null,null,null,{"$f":"SUM(E325:E327)","v":23656000},"PARI A",{"$f":"E328/1936.27","v":12217.304404860892},"€uro"]
[]
[]
["INQUADRAMENTO AI SENSI DEL CCNL 15/3/2001"]
[]
["STIPENDIO AL 1° Luglio 2000"]
["STIPENDIO ","CCNL 26/5/99",null,null,{"$f":"E325","v":23656000}]
["AUMENTO TAB A CCNL 15/3/01",null,null,{"$f":"HLOOKUP(B4,TAB!B275:I282,F317)","v":36000},{"$f":"D335*12","v":432000}]
["Assegno ad personam",null,null,null,{"$f":"IF(A316=2,E326,0)","v":0}]
["Rateo",null,null,null,{"$f":"IF(A316=2,E327,0)","v":0}]
["TOTALE ",null,null,null,{"$f":"SUM(E334:E337)","v":24088000},"PARI A",{"$f":"E338/1936.27","v":12440.41378526755},"€uro"]
[]
[]
[{"$f":"IF($H$195=2001,$A$240,2)","v":2},null,null,{"$f":"IF($H$195=2001,E342,2)","v":2},{"$f":"IF($H$195=2001,\"AL 1/1/01\",2)","v":2},{"$f":"IF($H$195=2001,$E$240,2)","v":2}]
["ANZIANITA'","AL1/1/01",null,{"$f":"D343","v":"2000-01-01"},{"$f":"G347","v":9},{"$f":"IF(E342<3,2,IF(E342<9,3,IF(E342<15,4,IF(E342<21,5,IF(E342<28,6,IF(E342<35,7,IF(E342<41,8)))))))","v":4},"IND GRAD"]
["RUOLO","1999-06-02","2001-01-01",{"$f":"DATEVALUE(\"1/1/2000\")","v":36526},{"$f":"IF(B343>1,DAYS360(B343,C343)+1,0)","v":570},{"$f":"INT(E343/360)","v":1},{"$f":"INT(INT(E343-(F343*360))/30)","v":7},{"$f":"E343-(F343*360)-(G343*30)","v":0}]
[]
["ANZIANITA' TOT. (GIU.EC. + EC) AL 1/1/2001",null,null,null,{"$f":"E305+E343","v":3600},{"$f":"INT(E345/360)","v":10},{"$f":"INT(INT(E345-(F345*360))/30)","v":0},{"$f":"E345-(F345*360)-(G345*30)","v":0}]
[]
["FASCIA DI INQUADRAMENTO CCNL 15/03/2001  :",null,null,null,"POSIZIONE ANNI:",null,{"$f":"IF(F345<3,0,IF(F345<9,3,IF(F345<15,9,IF(F345<21,15,IF(F345<28,21,IF(F345<35,28,IF(F345<40,35)))))))","v":9},"FASCIA DA",{"$f":"IF(G347<3,\"0-2\",IF(G347<9,\"3-8\",IF(G347<15,\"9-14\",IF(G347<21,\"15-20\",IF(G347<28,\"21-27\",IF(G347<35,\"28-35\"))))))","v":"9-14"}]
[]
["STIPENDIO AL 1° Gennaio 2001"]
["STIPENDIO ","CCNL 26/5/99",null,null,{"$f":"HLOOKUP(B4,TAB!B310:I317,F342)","v":24820000}]
["Retribuzione Profess Docenti",null,null,{"$f":"IF(F345<=14,\"PRIMA\",IF(F345<=28,\"SECONDA\",\"TERZA\"))","v":"PRIMA"},{"$f":"IF(B4=\"AA\",0,IF(B4=\"CS\",0,IF(B4=\"RA\",0,HLOOKUP(B4,TAB!B320:F327,F342))))","v":2592000}]
["Assegno ad personam",null,null,null,{"$f":"IF(A341=2,E336,0)","v":0}]
["Rateo",null,null,null,{"$f":"IF(A341=2,E337,0)","v":0}]
["TOTALE ",null,null,null,{"$f":"SUM(E350:E353)","v":27412000},"PARI A",{"$f":"E354/1936.27","v":14157.116517841003},"€uro"]
[]
[]
["INQUADRAMENTO AI SENSI DEL CCNL 16/5/2003"]
[{"$f":"IF($H$195=2002,$A$240,IF($F$362=9,$A$240,IF($F$362=15,$A$240,IF($F$362=21,$A$240,IF($F$362=28,$A$240,IF($F$362=35,$A$240,2))))))","v":2},null,null,{"$f":"IF($H$195=2002,E359,IF($F$362=9,E359,IF($F$362=15,E359,IF($F$362=21,E359,IF($F$362=28,E359,IF($F$362=35,E359,2))))))","v":2},{"$f":"IF($H$195=2002,\"AL 1/1/2002\",IF($F$362=9,\"AL 1/1/2002\",IF($F$362=15,\"AL 1/1/2002\",IF($F$362=21,\"AL 1/1/2002\",IF($F$362=28,\"AL 1/1/2002\",IF($F$362=35,\"AL 1/1/2002\",2))))))","v":2},{"$f":"IF($H$195=2002,$E$240,IF($F$362=9,$E$240,IF($F$362=15,$E$240,IF($F$362=21,$E$240,IF($F$362=28,$E$240,IF($F$362=35,$E$240,2))))))","v":2}]
["ANZIANITA'","AL1/1/02",null,{"$f":"D360","v":"2002-01-01"},{"$f":"G364","v":9},{"$f":"IF(E359<3,2,IF(E359<9,3,IF(E359<15,4,IF(E359<21,5,IF(E359<28,6,IF(E359<35,7,IF(E359<41,8)))))))","v":4},"IND GRAD"]
["RUOLO","2001-01-02","2002-01-01",{"$f":"DATEVALUE(\"1/1/2002\")","v":37257},{"$f":"IF(B360>1,DAYS360(B360,C360)+1,0)","v":360},{"$f":"INT(E360/360)","v":1},{"$f":"INT(INT(E360-(F360*360))/30)","v":0},{"$f":"E360-(F360*360)-(G360*30)","v":0}]
[]
["ANZIANITA' TOT. (GIU.EC. + EC) AL 1/1/2002",null,null,null,{"$f":"E345+E360","v":3960},{"$f":"INT(E362/360)","v":11},{"$f":"INT(INT(E362-(F362*360))/30)","v":0},{"$f":"E362-(F362*360)-(G362*30)","v":0}]
[]
["FASCIA DI INQUADRAMENTO CCNL 16/05/2003  :",null,null,null,"POSIZIONE ANNI:",null,{"$f":"IF(F362<3,0,IF(F362<9,3,IF(F362<15,9,IF(F362<21,15,IF(F362<28,21,IF(F362<35,28,IF(F362<40,35)))))))","v":9},"FASCIA DA",{"$f":"IF(G364<3,\"0-2\",IF(G364<9,\"3-8\",IF(G364<15,\"9-14\",IF(G364<21,\"15-20\",IF(G364<28,\"21-27\",IF(G364<35,\"28-35\"))))))","v":"9-14"}]
[]
["STIPENDIO AL 1° Gennaio 2002"]
["STIPENDIO ","CCNL 15/03/01",null,null,{"$f":"HLOOKUP(B4,TAB!B310:I317,F359)","v":24820000}]
["Aum. Tab 1 CCNL16/5/2003",null,null,{"$f":"HLOOKUP(B4,TAB!B338:I345,F359)","v":40.58},{"$f":"D368*1936.27*12","v":942886.0392}]
["Retribuzione Profess Docenti",null,{"$f":"IF(B4=\"AA\",0,IF(B4=\"CS\",0,IF(B4=\"RA\",0,HLOOKUP(B4,TAB!B372:F379,F359))))","v":1578.6562824399489},{"$f":"IF(F362<=14,\"PRIMA\",IF(F362<=28,\"SECONDA\",\"TERZA\"))","v":"PRIMA"},{"$f":"C369*1936.27","v":3056704.8}]
["Assegno ad personam",null,null,null,{"$f":"IF(A358=2,E352,0)","v":0}]
["Rateo",null,null,null,{"$f":"IF(A358=2,E353,0)","v":0}]
["TOTALE ",null,null,null,{"$f":"SUM(E367:E371)","v":28819590.839200001},"PARI A",{"$f":"E372/1936.27","v":14884.076517841004},"€uro"]
[]
[]
[{"$f":"IF($H$195=2003,$A$240,IF($F$379=9,$A$240,IF($F$379=15,$A$240,IF($F$379=21,$A$240,IF($F$379=28,$A$240,IF($F$379=35,$A$240,2))))))","v":2},null,null,{"$f":"IF($H$195=2003,E376,IF($F$379=9,E376,IF($F$379=15,E376,IF($F$379=21,E376,IF($F$379=28,E376,IF($F$379=35,E376,2))))))","v":2},{"$f":"IF($H$195=2003,\"AL 1/1/2003\",IF($F$379=9,\"AL 1/1/2003\",IF($F$379=15,\"AL 1/1/2003\",IF($F$379=21,\"AL 1/1/2003\",IF($F$379=28,\"AL 1/1/2003\",IF($F$379=35,\"AL 1/1/2003\",2))))))","v":2},{"$f":"IF($H$195=2003,$E$240,IF($F$379=9,$E$240,IF($F$379=15,$E$240,IF($F$379=21,$E$240,IF($F$379=28,$E$240,IF($F$379=35,$E$240,2))))))","v":2}]
["ANZIANITA'","AL1/1/03",null,{"$f":"D377","v":"2003-01-01"},{"$f":"G381","v":9},{"$f":"IF(E376<3,2,IF(E376<9,3,IF(E376<15,4,IF(E376<21,5,IF(E376<28,6,IF(E376<35,7,IF(E376<41,8)))))))","v":4},"IND GRAD"]
["RUOLO","2002-01-02","2003-01-01",{"$f":"DATEVALUE(\"1/1/2003\")","v":37622},{"$f":"IF(B377>1,DAYS360(B377,C377)+1,0)","v":360},{"$f":"INT(E377/360)","v":1},{"$f":"INT(INT(E377-(F377*360))/30)","v":0},{"$f":"E377-(F377*360)-(G377*30)","v":0}]
[]
["ANZIANITA' TOT. (GIU.EC. + EC) AL 1/1/2002",null,null,null,{"$f":"E362+E377","v":4320},{"$f":"INT(E379/360)","v":12},{"$f":"INT(INT(E379-(F379*360))/30)","v":0},{"$f":"E379-(F379*360)-(G379*30)","v":0}]
[]
["FASCIA DI INQUADRAMENTO CCNL 16/05/2003  :",null,null,null,"POSIZIONE ANNI:",null,{"$f":"IF(F379<3,0,IF(F379<9,3,IF(F379<15,9,IF(F379<21,15,IF(F379<28,21,IF(F379<35,28,IF(F379<40,35)))))))","v":9},"FASCIA DA",{"$f":"IF(G381<3,\"0-2\",IF(G381<9,\"3-8\",IF(G381<15,\"9-14\",IF(G381<21,\"15-20\",IF(G381<28,\"21-27\",IF(G381<35,\"28-35\"))))))","v":"9-14"}]
[]
["STIPENDIO AL 1° Gennaio 2003 A REGIME INCLUSO I.I.S."]
["STIPENDIO ","CCNL 16/5/2003",null,{"$f":"HLOOKUP(B4,TAB!B362:I369,F376)","v":20265.090235401054},{"$f":"D384*1936.27","v":39238686.270099998},"INCLUSO IND INTEG SPECIALE"]
["Retribuzione Profess Docenti",null,{"$f":"IF(B4=\"AA\",0,IF(B4=\"CS\",0,IF(B4=\"RA\",0,HLOOKUP(B4,TAB!B382:F389,F376))))","v":1710.6},{"$f":"IF(F379<=14,\"PRIMA\",IF(F379<=28,\"SECONDA\",\"TERZA\"))","v":"PRIMA"},{"$f":"C385*1936.27","v":3312183.4619999998}]
["Assegno ad personam",null,null,null,{"$f":"IF(A375=2,E370,0)","v":0}]
["Rateo",null,null,null,{"$f":"IF(A375=2,E371,0)","v":0}]
["TOTALE ",null,null,null,{"$f":"SUM(E384:E387)","v":42550869.732099995},"PARI A",{"$f":"E388/1936.27","v":21975.690235401053},"€uro"]

{"sheet":"COMPARAZIONE","index":21,"n_rows":89,"n_cols":11,"rows_kept":89,"cut":false,"hidden":false,"merged":[[3,3,3,10]]}
[]
[]
[]
[null,null,null,"Tabella di comparazione tra lo stipendio spettante a seguito di ricostruzione e lo stipendio percepito prima della ricostruzione in fascia zero anni. \n(calcolato dal 01/01/1996 in poi)"]
[null,null,null,null,"Questa tabella può anche essere selezionata col mouse è fatto copia e incolla su foglio word per stamparla"]
[]
[null,null,null,null,"decorrenza data",null,"Stipendio annuo lordo spettante a seguito ricostruzione",null,"Stipendio annuo lordo percepito nella fascia di zero anni",null,"Differenza"]
[null,null,null,{"$f":"IF('tabella sintetica'!B71>0,'tabella sintetica'!B71,\"\")","v":""},{"$f":"IF(LEN(D8)>0,'tabella sintetica'!C71,\"\")","v":""},{"$f":"IF(LEN(D8)>0,'tabella sintetica'!D71,\"\")","v":""},{"$f":"IF(LEN(D8)>0,'tabella sintetica'!E71,\"\")","v":""},{"$f":"inizio","v":""},{"$f":"IF(E8>35064,VLOOKUP(E8,RETZERO,2),\"\")","v":{"$error":"#N/A"}},null,{"$f":"IF(E8>35064,H8+J8-I8,\"\")","v":{"$error":"#VALUE!"}}]
[null,null,null,{"$f":"IF('tabella sintetica'!B72>0,'tabella sintetica'!B72,\"\")","v":""},{"$f":"IF(LEN(D9)>0,'tabella sintetica'!C72,\"\")","v":""},{"$f":"IF(LEN(D9)>0,'tabella sintetica'!D72,\"\")","v":""},{"$f":"IF(LEN(D9)>0,'tabella sintetica'!E72,\"\")","v":""},{"$f":"MAX(inizio:G9)","v":0},{"$error":"#N/A"},{"$f":"IF(G9<H9,G9,0)","v":0},{"$error":"#N/A"}]
[null,null,null,{"$f":"IF('tabella sintetica'!B73>0,'tabella sintetica'!B73,\"\")","v":""},{"$f":"IF(LEN(D10)>0,'tabella sintetica'!C73,\"\")","v":""},{"$f":"IF(LEN(D10)>0,'tabella sintetica'!D73,\"\")","v":""},{"$f":"IF(LEN(D10)>0,'tabella sintetica'!E73,\"\")","v":""},{"$f":"MAX(inizio:G10)","v":0},{"$error":"#N/A"},{"$f":"IF(G10<H10,G10,0)","v":0},{"$error":"#N/A"}]
[null,null,null,{"$f":"IF('tabella sintetica'!B74>0,'tabella sintetica'!B74,\"\")","v":""},{"$f":"IF(LEN(D11)>0,'tabella sintetica'!C74,\"\")","v":""},{"$f":"IF(LEN(D11)>0,'tabella sintetica'!D74,\"\")","v":""},{"$f":"IF(LEN(D11)>0,'tabella sintetica'!E74,\"\")","v":""},{"$f":"MAX(inizio:G11)","v":0},{"$error":"#N/A"},0,{"$error":"#N/A"}]
[null,null,null,{"$f":"IF('tabella sintetica'!B75>0,'tabella sintetica'!B75,\"\")","v":""},{"$f":"IF(LEN(D12)>0,'tabella sintetica'!C75,\"\")","v":""},{"$f":"IF(LEN(D12)>0,'tabella sintetica'!D75,\"\")","v":""},{"$f":"IF(LEN(D12)>0,'tabella sintetica'!E75,\"\")","v":""},{"$f":"MAX(inizio:G12)","v":0},{"$error":"#N/A"},0,{"$error":"#N/A"}]
[null,null,null,{"$f":"IF('tabella sintetica'!B76>0,'tabella sintetica'!B76,\"\")","v":""},{"$f":"IF(LEN(D13)>0,'tabella sintetica'!C76,\"\")","v":""},{"$f":"IF(LEN(D13)>0,'tabella sintetica'!D76,\"\")","v":""},{"$f":"IF(LEN(D13)>0,'tabella sintetica'!E76,\"\")","v":""},{"$f":"MAX(inizio:G13)","v":0},{"$error":"#N/A"},0,{"$error":"#N/A"}]
[null,null,null,{"$f":"IF('tabella sintetica'!B77>0,'tabella sintetica'!B77,\"\")","v":""},{"$f":"IF(LEN(D14)>0,'tabella sintetica'!C77,\"\")","v":""},{"$f":"IF(LEN(D14)>0,'tabella sintetica'!D77,\"\")","v":""},{"$f":"IF(LEN(D14)>0,'tabella sintetica'!E77,\"\")","v":""},{"$f":"MAX(inizio:G14)","v":0},{"$error":"#N/A"},0,{"$error":"#N/A"}]
[null,null,null,{"$f":"IF('tabella sintetica'!B78>0,'tabella sintetica'!B78,\"\")","v":""},{"$f":"IF(LEN(D15)>0,'tabella sintetica'!C78,\"\")","v":""},{"$f":"IF(LEN(D15)>0,'tabella sintetica'!D78,\"\")","v":""},{"$f":"IF(LEN(D15)>0,'tabella sintetica'!E78,\"\")","v":""},{"$f":"MAX(inizio:G15)","v":0},{"$error":"#N/A"},0,{"$error":"#N/A"}]
[null,null,null,{"$f":"IF('tabella sintetica'!B79>0,'tabella sintetica'!B79,\"\")","v":""},{"$f":"IF(LEN(D16)>0,'tabella sintetica'!C79,\"\")","v":""},{"$f":"IF(LEN(D16)>0,'tabella sintetica'!D79,\"\")","v":""},{"$f":"IF(LEN(D16)>0,'tabella sintetica'!E79,\"\")","v":""},{"$f":"MAX(inizio:G16)","v":0},{"$error":"#N/A"},0,{"$error":"#N/A"}]
[null,null,null,{"$f":"IF('tabella sintetica'!B80>0,'tabella sintetica'!B80,\"\")","v":""},{"$f":"IF(LEN(D17)>0,'tabella sintetica'!C80,\"\")","v":""},{"$f":"IF(LEN(D17)>0,'tabella sintetica'!D80,\"\")","v":""},{"$f":"IF(LEN(D17)>0,'tabella sintetica'!E80,\"\")","v":""},{"$f":"MAX(inizio:G17)","v":0},{"$error":"#N/A"},0,{"$f":"IF(E17>35064,H17+J17-I17,\"\")","v":{"$error":"#N/A"}}]
[null,null,null,{"$f":"IF('tabella sintetica'!B81>0,'tabella sintetica'!B81,\"\")","v":""},{"$f":"IF(LEN(D18)>0,'tabella sintetica'!C81,\"\")","v":""},{"$f":"IF(LEN(D18)>0,'tabella sintetica'!D81,\"\")","v":""},{"$f":"IF(LEN(D18)>0,'tabella sintetica'!E81,\"\")","v":""},{"$f":"MAX(inizio:G18)","v":0},{"$error":"#N/A"},0,{"$error":"#N/A"}]
[null,null,null,{"$f":"IF('tabella sintetica'!B82>0,'tabella sintetica'!B82,\"\")","v":""},{"$f":"IF(LEN(D19)>0,'tabella sintetica'!C82,\"\")","v":""},{"$f":"IF(LEN(D19)>0,'tabella sintetica'!D82,\"\")","v":""},{"$f":"IF(LEN(D19)>0,'tabella sintetica'!E82,\"\")","v":""},{"$f":"MAX(inizio:G19)","v":0},{"$error":"#N/A"},0,{"$error":"#N/A"}]
[null,null,null,{"$f":"IF('tabella sintetica'!B83>0,'tabella sintetica'!B83,\"\")","v":""},{"$f":"IF(LEN(D20)>0,'tabella sintetica'!C83,\"\")","v":""},{"$f":"IF(LEN(D20)>0,'tabella sintetica'!D83,\"\")","v":""},{"$f":"IF(LEN(D20)>0,'tabella sintetica'!E83,\"\")","v":""},{"$f":"MAX(inizio:G20)","v":0},{"$error":"#N/A"},0,{"$error":"#N/A"}]
[null,null,null,{"$f":"IF('tabella sintetica'!B84>0,'tabella sintetica'!B84,\"\")","v":""},{"$f":"IF(LEN(D21)>0,'tabella sintetica'!C84,\"\")","v":""},{"$f":"IF(LEN(D21)>0,'tabella sintetica'!D84,\"\")","v":""},{"$f":"IF(LEN(D21)>0,'tabella sintetica'!E84,\"\")","v":""},{"$f":"MAX(inizio:G21)","v":0},{"$error":"#N/A"},0,{"$error":"#N/A"}]
[null,null,null,{"$f":"IF('tabella sintetica'!B85>0,'tabella sintetica'!B85,\"\")","v":""},{"$f":"IF(LEN(D22)>0,'tabella sintetica'!C85,\"\")","v":""},{"$f":"IF(LEN(D22)>0,'tabella sintetica'!D85,\"\")","v":""},{"$f":"IF(LEN(D22)>0,'tabella sintetica'!E85,\"\")","v":""},{"$f":"MAX(inizio:G22)","v":0},{"$error":"#N/A"},0,{"$error":"#N/A"}]
[null,null,null,{"$f":"IF('tabella sintetica'!B86>0,'tabella sintetica'!B86,\"\")","v":""},{"$f":"IF(LEN(D23)>0,'tabella sintetica'!C86,\"\")","v":""},{"$f":"IF(LEN(D23)>0,'tabella sintetica'!D86,\"\")","v":""},{"$f":"IF(LEN(D23)>0,'tabella sintetica'!E86,\"\")","v":""},{"$f":"MAX(inizio:G23)","v":0},{"$error":"#N/A"},0,{"$error":"#N/A"}]
[null,null,null,{"$f":"IF('tabella sintetica'!B87>0,'tabella sintetica'!B87,\"\")","v":""},{"$f":"IF(LEN(D24)>0,'tabella sintetica'!C87,\"\")","v":""},{"$f":"IF(LEN(D24)>0,'tabella sintetica'!D87,\"\")","v":""},{"$f":"IF(LEN(D24)>0,'tabella sintetica'!E87,\"\")","v":""},{"$f":"MAX(inizio:G24)","v":0},{"$error":"#N/A"},0,{"$error":"#N/A"}]
[null,null,null,{"$f":"IF('tabella sintetica'!B88>0,'tabella sintetica'!B88,\"\")","v":""},{"$f":"IF(LEN(D25)>0,'tabella sintetica'!C88,\"\")","v":""},{"$f":"IF(LEN(D25)>0,'tabella sintetica'!D88,\"\")","v":""},{"$f":"IF(LEN(D25)>0,'tabella sintetica'!E88,\"\")","v":""},{"$f":"MAX(inizio:G25)","v":0},{"$error":"#N/A"},0,{"$error":"#N/A"}]
[null,null,null,{"$f":"IF('tabella sintetica'!B89>0,'tabella sintetica'!B89,\"\")","v":""},{"$f":"IF(LEN(D26)>0,'tabella sintetica'!C89,\"\")","v":""},{"$f":"IF(LEN(D26)>0,'tabella sintetica'!D89,\"\")","v":""},{"$f":"IF(LEN(D26)>0,'tabella sintetica'!E89,\"\")","v":""},{"$f":"MAX(inizio:G26)","v":0},{"$error":"#N/A"},0,{"$error":"#N/A"}]
[null,null,null,{"$f":"IF('tabella sintetica'!B90>0,'tabella sintetica'!B90,\"\")","v":""},{"$f":"IF(LEN(D27)>0,'tabella sintetica'!C90,\"\")","v":""},{"$f":"IF(LEN(D27)>0,'tabella sintetica'!D90,\"\")","v":""},{"$f":"IF(LEN(D27)>0,'tabella sintetica'!E90,\"\")","v":""},{"$f":"MAX(inizio:G27)","v":0},{"$error":"#N/A"},0,{"$error":"#N/A"}]
[null,null,null,{"$f":"IF('tabella sintetica'!B91>0,'tabella sintetica'!B91,\"\")","v":""},{"$f":"IF(LEN(D28)>0,'tabella sintetica'!C91,\"\")","v":""},{"$f":"IF(LEN(D28)>0,'tabella sintetica'!D91,\"\")","v":""},{"$f":"IF(LEN(D28)>0,'tabella sintetica'!E91,\"\")","v":""},{"$f":"MAX(inizio:G28)","v":0},{"$error":"#N/A"},0,{"$error":"#N/A"}]
[null,null,null,{"$f":"IF('tabella sintetica'!B92>0,'tabella sintetica'!B92,\"\")","v":""},{"$f":"IF(LEN(D29)>0,'tabella sintetica'!C92,\"\")","v":""},{"$f":"IF(LEN(D29)>0,'tabella sintetica'!D92,\"\")","v":""},{"$f":"IF(LEN(D29)>0,'tabella sintetica'!E92,\"\")","v":""},{"$f":"MAX(inizio:G29)","v":0},{"$error":"#N/A"},0,{"$error":"#N/A"}]
[null,null,null,{"$f":"IF('tabella sintetica'!B93>0,'tabella sintetica'!B93,\"\")","v":""},{"$f":"IF(LEN(D30)>0,'tabella sintetica'!C93,\"\")","v":""},{"$f":"IF(LEN(D30)>0,'tabella sintetica'!D93,\"\")","v":""},{"$f":"IF(LEN(D30)>0,'tabella sintetica'!E93,\"\")","v":""},{"$f":"MAX(inizio:G30)","v":0},{"$error":"#N/A"},0,{"$error":"#N/A"}]
[null,null,null,{"$f":"IF('tabella sintetica'!B94>0,'tabella sintetica'!B94,\"\")","v":""},{"$f":"IF(LEN(D31)>0,'tabella sintetica'!C94,\"\")","v":""},{"$f":"IF(LEN(D31)>0,'tabella sintetica'!D94,\"\")","v":""},{"$f":"IF(LEN(D31)>0,'tabella sintetica'!E94,\"\")","v":""},{"$f":"MAX(inizio:G31)","v":0},{"$error":"#N/A"},0,{"$error":"#N/A"}]
[null,null,null,{"$f":"IF('tabella sintetica'!B95>0,'tabella sintetica'!B95,\"\")","v":""},{"$f":"IF(LEN(D32)>0,'tabella sintetica'!C95,\"\")","v":""},{"$f":"IF(LEN(D32)>0,'tabella sintetica'!D95,\"\")","v":""},{"$f":"IF(LEN(D32)>0,'tabella sintetica'!E95,\"\")","v":""},{"$f":"MAX(inizio:G32)","v":0},{"$error":"#N/A"},0,{"$error":"#N/A"}]
[null,null,null,{"$f":"IF('tabella sintetica'!B96>0,'tabella sintetica'!B96,\"\")","v":""},{"$f":"IF(LEN(D33)>0,'tabella sintetica'!C96,\"\")","v":""},{"$f":"IF(LEN(D33)>0,'tabella sintetica'!D96,\"\")","v":""},{"$f":"IF(LEN(D33)>0,'tabella sintetica'!E96,\"\")","v":""},{"$f":"MAX(inizio:G33)","v":0},{"$error":"#N/A"},0,{"$error":"#N/A"}]
[null,null,null,{"$f":"IF('tabella sintetica'!B97>0,'tabella sintetica'!B97,\"\")","v":""},{"$f":"IF(LEN(D34)>0,'tabella sintetica'!C97,\"\")","v":""},{"$f":"IF(LEN(D34)>0,'tabella sintetica'!D97,\"\")","v":""},{"$f":"IF(LEN(D34)>0,'tabella sintetica'!E97,\"\")","v":""},{"$f":"MAX(inizio:G34)","v":0},{"$error":"#N/A"},0,{"$error":"#N/A"}]
[null,null,null,{"$f":"IF('tabella sintetica'!B98>0,'tabella sintetica'!B98,\"\")","v":""},{"$f":"IF(LEN(D35)>0,'tabella sintetica'!C98,\"\")","v":""},{"$f":"IF(LEN(D35)>0,'tabella sintetica'!D98,\"\")","v":""},{"$f":"IF(LEN(D35)>0,'tabella sintetica'!E98,\"\")","v":""},{"$f":"MAX(inizio:G35)","v":0},{"$error":"#N/A"},0,{"$error":"#N/A"}]
[null,null,null,{"$f":"IF('tabella sintetica'!B99>0,'tabella sintetica'!B99,\"\")","v":""},{"$f":"IF(LEN(D36)>0,'tabella sintetica'!C99,\"\")","v":""},{"$f":"IF(LEN(D36)>0,'tabella sintetica'!D99,\"\")","v":""},{"$f":"IF(LEN(D36)>0,'tabella sintetica'!E99,\"\")","v":""},{"$f":"MAX(inizio:G36)","v":0},{"$error":"#N/A"},0,{"$error":"#N/A"}]
[null,null,null,{"$f":"IF('tabella sintetica'!B100>0,'tabella sintetica'!B100,\"\")","v":""},{"$f":"IF(LEN(D37)>0,'tabella sintetica'!C100,\"\")","v":""},{"$f":"IF(LEN(D37)>0,'tabella sintetica'!D100,\"\")","v":""},{"$f":"IF(LEN(D37)>0,'tabella sintetica'!E100,\"\")","v":""},{"$f":"MAX(inizio:G37)","v":0},{"$error":"#N/A"},0,{"$error":"#N/A"}]
[]
[]
[]
[]
[]
[]
[]
[]
[]
[]
[]
[]
[]
[]
[]
[]
[]
[]
[]
[]
[]
[]
[]
[]
[]
[]
[]
[]
[]
[null,null,null,null,{"$f":"D71","v":35065}]
[]
[]
[null,null,null,null,"RETRIBUZIONI A ZERO ANNI"]
[null,null,null,{"$f":"Foglio1!A1204","v":"1996-01-01"},{"$f":"Foglio1!B1204","v":8741.0330170895595}]
[null,null,null,{"$f":"Foglio1!A1205","v":"1998-11-01"},{"$f":"Foglio1!B1205","v":10011.516988849695}]
[null,null,null,{"$f":"Foglio1!A1206","v":"1999-06-01"},{"$f":"Foglio1!B1206","v":10253.218817623576}]
[null,null,null,{"$f":"Foglio1!A1207","v":"2000-07-01"},{"$f":"Foglio1!B1207","v":10451.538266873938}]
[null,null,null,{"$f":"Foglio1!A1208","v":"2001-01-01"},{"$f":"Foglio1!B1208","v":10786.202337483925}]
[null,null,null,{"$f":"Foglio1!A1209","v":"2002-01-01"},{"$f":"Foglio1!B1209","v":11221.802337483925}]
[null,null,null,{"$f":"Foglio1!A1210","v":"2003-01-01"},{"$f":"Foglio1!B1210","v":18128.79}]
[null,null,null,{"$f":"Foglio1!A1211","v":"2004-01-01"},{"$f":"Foglio1!B1211","v":18566.91}]
[null,null,null,{"$f":"Foglio1!A1212","v":"2005-02-01"},{"$f":"Foglio1!B1212","v":19082.5}]
[null,null,null,{"$f":"Foglio1!A1213","v":"2006-01-01"},{"$f":"Foglio1!B1213","v":19170.939999999999}]
[null,null,null,{"$f":"Foglio1!A1214","v":"2007-01-01"},{"$f":"Foglio1!B1214","v":19535.740000000002}]
[null,null,null,{"$f":"Foglio1!A1215","v":"2007-02-01"},{"$f":"Foglio1!B1215","v":20068.419999999998}]
[null,null,null,{"$f":"Foglio1!A1216","v":"2008-01-01"},{"$f":"Foglio1!B1216","v":20197.18}]
[null,null,null,{"$f":"Foglio1!A1217","v":"2008-04-01"},{"$f":"Foglio1!B1217","v":20300.14}]
[null,null,null,{"$f":"Foglio1!A1218","v":"2008-07-01"},{"$f":"Foglio1!B1218","v":20368.900000000001}]
[null,null,null,{"$f":"Foglio1!A1219","v":"2009-01-01"},{"$f":"Foglio1!B1219","v":20973.22}]
[null,null,null,{"$f":"Foglio1!A1220","v":"2010-04-01"},{"$f":"Foglio1!B1220","v":21067.54}]
[null,null,null,{"$f":"Foglio1!A1221","v":"2010-07-01"},{"$f":"Foglio1!B1221","v":21130.54}]
[null,null,null,{"$f":"Foglio1!A1224","v":"2010-09-01"},{"$f":"Foglio1!B1224","v":21130.54}]

{"sheet":"Foglio4","index":22,"n_rows":36,"n_cols":41,"rows_kept":36,"cut":false,"hidden":false,"merged":[]}
[{"$f":"MAX(C5:C36)","v":0}]
[{"$f":"IF(AND(YEAR(principale!D213)>1980,YEAR(principale!D213)<1996),1,0)","v":0},{"$f":"IF(A2>0,\"ARTICOLO\",\"\")","v":""},{"$f":"IF(A2>0,1,0)","v":0},null,{"$f":"IF(A2>0,\"Con decorrenza dal:\",\"\")","v":""},{"$f":"IF(A2>0,principale!D213,\"\")","v":""},null,{"$f":"IF(A2>0,\"spetta:\",\"\")","v":""},{"$f":"IF(A2>0,\"D.P.R. 399/88 - anzianità: 0-2 anni\",\"\")","v":""},null,{"$f":"IF(A2>0,\"Stipendio annuo lordo spettante\",\"\")","v":""},{"$f":"IF(A2>0,principale!F213,\"\")","v":""},{"$f":"IF(A2>0,\"Indennita di Funzione annuo lordo spettante\",\"\")","v":""},{"$f":"IF(A2>0,principale!E213,\"\")","v":""},null,null,null,null,null,null,null,null,null,null,null,null,null,null,"1999-07-01"]
[{"$f":"IF(AND(YEAR(principale!D214)>1980,YEAR(principale!D214)<1996),1,0)","v":0},{"$f":"IF(A3>0,\"ARTICOLO\",\"\")","v":""},{"$f":"IF(A3>0,C2+1,0)","v":0},null,{"$f":"IF(A3>0,\"Con decorrenza dal:\",\"\")","v":""},{"$f":"IF(A3>0,principale!D214,\"\")","v":""},null,{"$f":"IF(A3>0,\"spetta:\",\"\")","v":""},{"$f":"IF(A3>0,\"D.P.R, 399/88 - anzianità: 3 anni\",\"\")","v":""},null,{"$f":"IF(A3>0,\"Stipendio annuo lordo spettante\",\"\")","v":""},{"$f":"IF(A3>0,principale!F214,\"\")","v":""},{"$f":"IF(A3>0,\"Indennita di Funzione annuo lordo spettante\",\"\")","v":""},{"$f":"IF(A3>0,principale!E214,\"\")","v":""}]
[{"$f":"IF(AND(YEAR(principale!D215)>1980,YEAR(principale!D215)<1996),1,0)","v":0},{"$f":"IF(A4>0,\"ARTICOLO\",\"\")","v":""},{"$f":"IF(A4>0,C3+1,0)","v":0},null,{"$f":"IF(A4>0,\"Con decorrenza dal:\",\"\")","v":""},{"$f":"IF(A4>0,principale!D215,\"\")","v":""},null,{"$f":"IF(A4>0,\"spetta:\",\"\")","v":""},{"$f":"IF(A4>0,\"D.P.R, 399/88 - anzianità: 5 anni\",\"\")","v":""},null,{"$f":"IF(A4>0,\"Stipendio annuo lordo spettante\",\"\")","v":""},{"$f":"IF(A4>0,principale!F215,\"\")","v":""},{"$f":"IF(A4>0,\"Indennita di Funzione annuo lordo spettante\",\"\")","v":""},{"$f":"IF(A4>0,principale!E215,\"\")","v":""},null,null,null,null,null,null,null,null,"C.I.A.",null,null,"stip da tabella stip",null,null,"rpd"]
[{"$f":"IF('tabella sintetica'!B71>0,1,0)","v":0},{"$f":"IF(A5>0,\"ARTICOLO\",\"\")","v":""},{"$f":"'tabella sintetica'!B71","v":0},null,{"$f":"IF(A5>0,\"Con decorrenza dal:\",\"\")","v":""},{"$f":"IF(A5>0,'tabella sintetica'!C71,\"\")","v":""},null,{"$f":"IF(A5>0,\"spetta:\",\"\")","v":""},{"$f":"IF(A5>0,'tabella sintetica'!D71,\"\")","v":""},null,{"$f":"IF(A5>0,IF('tabella sintetica'!E71>0,M5,\"\"),\"\")","v":""},{"$f":"IF(A5>0,IF('tabella sintetica'!E71>0,'tabella sintetica'!E71*coef,0),\"\")","v":""},{"$f":"IF(A5>0,IF(LEFT(I5,3)=\"inc\",\"Incremento stipendiale \",\" Retribuzione \"),\"\")","v":""},{"$f":"IF('tabella sintetica'!F71>0,\"Aumento Biennale Stipendiale - dpr 399/88\",\"\")","v":""},{"$f":"IF(A5>0,IF('tabella sintetica'!F71>0,'tabella sintetica'!F71,0),0)","v":0},null,{"$f":"IF(A5>0,IF(                 ('tabella sintetica'!G71 +'tabella sintetica'!K71                      ) >0,\"Assegno ad personam - C.C.N.L. 04/08/2011 - valore annuo lordo da corrispondere fino al termine della fascia 0/8 anni\",\"\"),\"\")","v":""},{"$f":"IF(A5>0,IF(            ('tabella sintetica'!G71+'tabella sintetica'!K71                       )>0,'tabella sintetica'!G71+'tabella sintetica'!K71,0),\"\")","v":""},null,{"$f":"IF(A5>0,IF('tabella sintetica'!H71>0,\"Aumento Biennale Indennità di Funzione - dpr 399/88\",\"\"),\"\")","v":""},{"$f":"IF(A5>0,IF('tabella sintetica'!H71>0,'tabella sintetica'!H71,0),\"\")","v":""},null,{"$f":"IF(QUAL<5,\"C.I.A.:\",\"\")","v":""},{"$f":"IF(A5>0,HLOOKUP(F5,tabcia,2),0)","v":0},null,{"$f":"IF(A5>0,IF('tabella sintetica'!K71>0,\"Stipendio tabellare in vigore\",\"\"),\"\")","v":""},{"$f":"IF(A5>0,IF('tabella sintetica'!K71>0,'tabella sintetica'!K71,0),\"\")","v":""},null,{"$f":" IF(AND(F5>AC2,QUAL>5),\" Retribuzione professionale Docente \",\"\")","v":" Retribuzione professionale Docente "},{"$f":"IF(AND(F5>AC2,QUAL>5),IF(A5>0,IF('tabella sintetica'!J71<>\"\",'tabella sintetica'!J71,0),0),0)","v":0},null,{"$f":"IF(A5>0,\"TOTALE\",\"\")","v":""},{"$f":"IF(A5>0,X5+R5+L5+U5+O5+AD5,\"\")","v":""}]
[{"$f":"IF('tabella sintetica'!B72>0,1,0)","v":0},{"$f":"IF(A6>0,\"ARTICOLO\",\"\")","v":""},{"$f":"IF(A6>0,C5+1,\"\")","v":""},null,{"$f":"IF(A6>0,\"Con decorrenza dal:\",\"\")","v":""},{"$f":"IF(A6>0,'tabella sintetica'!C72,\"\")","v":""},null,{"$f":"IF(A6>0,\"spetta:\",\"\")","v":""},{"$f":"IF(A6>0,'tabella sintetica'!D72,\"\")","v":""},null,{"$f":"IF(A6>0,IF('tabella sintetica'!E72>0,M6,\"\"),\"\")","v":""},{"$f":"IF(A6>0,IF('tabella sintetica'!E72>0,'tabella sintetica'!E72*coef,0),\"\")","v":""},{"$f":"IF(A6>0,IF(LEFT(I6,3)=\"inc\",\"Incremento stipendiale \",\" Retribuzione \"),\"\")","v":""},{"$f":"IF('tabella sintetica'!F72>0,\"Aumento Biennale Stipendiale - dpr 399/88\",\"\")","v":""},{"$f":"IF(A6>0,IF('tabella sintetica'!F72>0,'tabella sintetica'!F72,0),0)","v":0},null,{"$f":"IF(A6>0,IF(                 ('tabella sintetica'!G72 +'tabella sintetica'!K72                      ) >0,\"Assegno ad personam - C.C.N.L. 04/08/2011 - valore annuo lordo da corrispondere fino al termine della fascia 0/8 anni\",\"\"),\"\")","v":""},{"$f":"IF(A6>0,IF(            ('tabella sintetica'!G72+'tabella sintetica'!K72                       )>0,'tabella sintetica'!G72+'tabella sintetica'!K72,0),\"\")","v":""},null,{"$f":"IF(A6>0,IF('tabella sintetica'!H72>0,\"Aumento Biennale Indennità di Funzione - dpr 399/88\",\"\"),\"\")","v":""},{"$f":"IF(A6>0,IF('tabella sintetica'!H72>0,'tabella sintetica'!H72,0),\"\")","v":""},null,"",0,null,{"$f":"IF(A6>0,IF('tabella sintetica'!K21>0,\"Stipendio tabellare in vigore\",\"\"),\"\")","v":""},{"$f":"IF(A6>0,IF('tabella sintetica'!K21>0,'tabella sintetica'!K21,0),\"\")","v":""},null,{"$f":"IF(OR('tabella sintetica'!J21=\"\",A6=0),\"\",\" Retribuzione professionale Docente \")","v":""},{"$f":"IF(A6>0,IF('tabella sintetica'!J72<>\"\",'tabella sintetica'!J72,0),0)","v":0},null,{"$f":"IF(A6>0,\"TOTALE\",\"\")","v":""},{"$f":"IF(A6>0,X6+R6+L6+U6+O6+AD6,\"\")","v":""}]
[{"$f":"IF('tabella sintetica'!B73>0,1,0)","v":0},"",{"$f":"IF(A7>0,C6+1,\"\")","v":""},null,"",{"$f":"IF(A7>0,'tabella sintetica'!C73,\"\")","v":""},null,"",{"$f":"IF(A7>0,'tabella sintetica'!D73,\"\")","v":""},null,{"$f":"IF(A7>0,IF('tabella sintetica'!E73>0,M7,\"\"),\"\")","v":""},{"$f":"IF(A7>0,IF('tabella sintetica'!E73>0,'tabella sintetica'!E73*coef,0),\"\")","v":""},"",{"$f":"IF('tabella sintetica'!F73>0,\"Aumento Biennale Stipendiale - dpr 399/88\",\"\")","v":""},{"$f":"IF(A7>0,IF('tabella sintetica'!F73>0,'tabella sintetica'!F73,0),0)","v":0},null,{"$f":"IF(A7>0,IF(                 ('tabella sintetica'!G73 +'tabella sintetica'!K73                      ) >0,\"Assegno ad personam - C.C.N.L. 04/08/2011 - valore annuo lordo da corrispondere fino al termine della fascia 0/8 anni\",\"\"),\"\")","v":""},{"$f":"IF(A7>0,IF(            ('tabella sintetica'!G73+'tabella sintetica'!K73                       )>0,'tabella sintetica'!G73+'tabella sintetica'!K73,0),\"\")","v":""},null,{"$f":"IF(A7>0,IF('tabella sintetica'!H73>0,\"Aumento Biennale Indennità di Funzione - dpr 399/88\",\"\"),\"\")","v":""},{"$f":"IF(A7>0,IF('tabella sintetica'!H73>0,'tabella sintetica'!H73,0),\"\")","v":""},null,"",0,null,{"$f":"IF(A7>0,IF('tabella sintetica'!K22>0,\"Stipendio tabellare in vigore\",\"\"),\"\")","v":""},{"$f":"IF(A7>0,IF('tabella sintetica'!K22>0,'tabella sintetica'!K22,0),\"\")","v":""},null,{"$f":"IF(OR('tabella sintetica'!J22=\"\",A7=0),\"\",\" Retribuzione professionale Docente \")","v":""},{"$f":"IF(A7>0,IF('tabella sintetica'!J73<>\"\",'tabella sintetica'!J73,0),0)","v":0},null,"",""]
[{"$f":"IF('tabella sintetica'!B74>0,1,0)","v":0},"","",null,"",{"$f":"IF(A8>0,'tabella sintetica'!C74,\"\")","v":""},null,"",{"$f":"IF(A8>0,'tabella sintetica'!D74,\"\")","v":""},null,{"$f":"IF(A8>0,IF('tabella sintetica'!E74>0,M8,\"\"),\"\")","v":""},{"$f":"IF(A8>0,IF('tabella sintetica'!E74>0,'tabella sintetica'!E74*coef,0),\"\")","v":""},"",{"$f":"IF('tabella sintetica'!F74>0,\"Aumento Biennale Stipendiale - dpr 399/88\",\"\")","v":""},{"$f":"IF(A8>0,IF('tabella sintetica'!F74>0,'tabella sintetica'!F74,0),0)","v":0},null,{"$f":"IF(A8>0,IF(                 ('tabella sintetica'!G74 +'tabella sintetica'!K74                      ) >0,\"Assegno ad personam - C.C.N.L. 04/08/2011 - valore annuo lordo da corrispondere fino al termine della fascia 0/8 anni\",\"\"),\"\")","v":""},{"$f":"IF(A8>0,IF(            ('tabella sintetica'!G74+'tabella sintetica'!K74                       )>0,'tabella sintetica'!G74+'tabella sintetica'!K74,0),\"\")","v":""},null,{"$f":"IF(A8>0,IF('tabella sintetica'!H74>0,\"Aumento Biennale Indennità di Funzione - dpr 399/88\",\"\"),\"\")","v":""},{"$f":"IF(A8>0,IF('tabella sintetica'!H74>0,'tabella sintetica'!H74,0),\"\")","v":""},null,"",0,null,{"$f":"IF(A8>0,IF('tabella sintetica'!K23>0,\"Stipendio tabellare in vigore\",\"\"),\"\")","v":""},{"$f":"IF(A8>0,IF('tabella sintetica'!K23>0,'tabella sintetica'!K23,0),\"\")","v":""},null,{"$f":"IF(OR('tabella sintetica'!J23=\"\",A8=0),\"\",\" Retribuzione professionale Docente \")","v":""},{"$f":"IF(A8>0,IF('tabella sintetica'!J74<>\"\",'tabella sintetica'!J74,0),0)","v":0},null,"",""]
[{"$f":"IF('tabella sintetica'!B75>0,1,0)","v":0},"","",null,"",{"$f":"IF(A9>0,'tabella sintetica'!C75,\"\")","v":""},null,"",{"$f":"IF(A9>0,'tabella sintetica'!D75,\"\")","v":""},null,{"$f":"IF(A9>0,IF('tabella sintetica'!E75>0,M9,\"\"),\"\")","v":""},{"$f":"IF(A9>0,IF('tabella sintetica'!E75>0,'tabella sintetica'!E75*coef,0),\"\")","v":""},"",{"$f":"IF('tabella sintetica'!F75>0,\"Aumento Biennale Stipendiale - dpr 399/88\",\"\")","v":""},{"$f":"IF(A9>0,IF('tabella sintetica'!F75>0,'tabella sintetica'!F75,0),0)","v":0},null,{"$f":"IF(A9>0,IF(                 ('tabella sintetica'!G75 +'tabella sintetica'!K75                      ) >0,\"Assegno ad personam - C.C.N.L. 04/08/2011 - valore annuo lordo da corrispondere fino al termine della fascia 0/8 anni\",\"\"),\"\")","v":""},{"$f":"IF(A9>0,IF(            ('tabella sintetica'!G75+'tabella sintetica'!K75                       )>0,'tabella sintetica'!G75+'tabella sintetica'!K75,0),\"\")","v":""},null,{"$f":"IF(A9>0,IF('tabella sintetica'!H75>0,\"Aumento Biennale Indennità di Funzione - dpr 399/88\",\"\"),\"\")","v":""},{"$f":"IF(A9>0,IF('tabella sintetica'!H75>0,'tabella sintetica'!H75,0),\"\")","v":""},null,"",0,null,{"$f":"IF(A9>0,IF('tabella sintetica'!K24>0,\"Stipendio tabellare in vigore\",\"\"),\"\")","v":""},{"$f":"IF(A9>0,IF('tabella sintetica'!K24>0,'tabella sintetica'!K24,0),\"\")","v":""},null,{"$f":"IF(OR('tabella sintetica'!J24=\"\",A9=0),\"\",\" Retribuzione professionale Docente \")","v":""},{"$f":"IF(A9>0,IF('tabella sintetica'!J75<>\"\",'tabella sintetica'!J75,0),0)","v":0},null,"",""]
[{"$f":"IF('tabella sintetica'!B76>0,1,0)","v":0},"","",null,"",{"$f":"IF(A10>0,'tabella sintetica'!C76,\"\")","v":""},null,"",{"$f":"IF(A10>0,'tabella sintetica'!D76,\"\")","v":""},null,{"$f":"IF(A10>0,IF('tabella sintetica'!E76>0,M10,\"\"),\"\")","v":""},{"$f":"IF(A10>0,IF('tabella sintetica'!E76>0,'tabella sintetica'!E76*coef,0),\"\")","v":""},"",{"$f":"IF('tabella sintetica'!F76>0,\"Aumento Biennale Stipendiale - dpr 399/88\",\"\")","v":""},{"$f":"IF(A10>0,IF('tabella sintetica'!F76>0,'tabella sintetica'!F76,0),0)","v":0},null,{"$f":"IF(A10>0,IF(                 ('tabella sintetica'!G76 +'tabella sintetica'!K76                      ) >0,\"Assegno ad personam - C.C.N.L. 04/08/2011 - valore annuo lordo da corrispondere fino al termine della fascia 0/8 anni\",\"\"),\"\")","v":""},{"$f":"IF(A10>0,IF(            ('tabella sintetica'!G76+'tabella sintetica'!K76                       )>0,'tabella sintetica'!G76+'tabella sintetica'!K76,0),\"\")","v":""},null,{"$f":"IF(A10>0,IF('tabella sintetica'!H76>0,\"Aumento Biennale Indennità di Funzione - dpr 399/88\",\"\"),\"\")","v":""},{"$f":"IF(A10>0,IF('tabella sintetica'!H76>0,'tabella sintetica'!H76,0),\"\")","v":""},null,"",0,null,{"$f":"IF(A10>0,IF('tabella sintetica'!K25>0,\"Stipendio tabellare in vigore\",\"\"),\"\")","v":""},{"$f":"IF(A10>0,IF('tabella sintetica'!K25>0,'tabella sintetica'!K25,0),\"\")","v":""},null,{"$f":"IF(OR('tabella sintetica'!J25=\"\",A10=0),\"\",\" Retribuzione professionale Docente \")","v":""},{"$f":"IF(A10>0,IF('tabella sintetica'!J76<>\"\",'tabella sintetica'!J76,0),0)","v":0},null,"",""]
[{"$f":"IF('tabella sintetica'!B77>0,1,0)","v":0},"","",null,"",{"$f":"IF(A11>0,'tabella sintetica'!C77,\"\")","v":""},null,"",{"$f":"IF(A11>0,'tabella sintetica'!D77,\"\")","v":""},null,{"$f":"IF(A11>0,IF('tabella sintetica'!E77>0,M11,\"\"),\"\")","v":""},{"$f":"IF(A11>0,IF('tabella sintetica'!E77>0,'tabella sintetica'!E77*coef,0),\"\")","v":""},"",{"$f":"IF('tabella sintetica'!F77>0,\"Aumento Biennale Stipendiale - dpr 399/88\",\"\")","v":""},{"$f":"IF(A11>0,IF('tabella sintetica'!F77>0,'tabella sintetica'!F77,0),0)","v":0},null,{"$f":"IF(A11>0,IF(                 ('tabella sintetica'!G77 +'tabella sintetica'!K77                      ) >0,\"Assegno ad personam - C.C.N.L. 04/08/2011 - valore annuo lordo da corrispondere fino al termine della fascia 0/8 anni\",\"\"),\"\")","v":""},{"$f":"IF(A11>0,IF(            ('tabella sintetica'!G77+'tabella sintetica'!K77                       )>0,'tabella sintetica'!G77+'tabella sintetica'!K77,0),\"\")","v":""},null,{"$f":"IF(A11>0,IF('tabella sintetica'!H77>0,\"Aumento Biennale Indennità di Funzione - dpr 399/88\",\"\"),\"\")","v":""},{"$f":"IF(A11>0,IF('tabella sintetica'!H77>0,'tabella sintetica'!H77,0),\"\")","v":""},null,"",0,null,{"$f":"IF(A11>0,IF('tabella sintetica'!K26>0,\"Stipendio tabellare in vigore\",\"\"),\"\")","v":""},{"$f":"IF(A11>0,IF('tabella sintetica'!K26>0,'tabella sintetica'!K26,0),\"\")","v":""},null,{"$f":"IF(OR('tabella sintetica'!J26=\"\",A11=0),\"\",\" Retribuzione professionale Docente \")","v":""},{"$f":"IF(A11>0,IF('tabella sintetica'!J77<>\"\",'tabella sintetica'!J77,0),0)","v":0},null,"",""]
[{"$f":"IF('tabella sintetica'!B78>0,1,0)","v":0},"","",null,"",{"$f":"IF(A12>0,'tabella sintetica'!C78,\"\")","v":""},null,"",{"$f":"IF(A12>0,'tabella sintetica'!D78,\"\")","v":""},null,{"$f":"IF(A12>0,IF('tabella sintetica'!E78>0,M12,\"\"),\"\")","v":""},{"$f":"IF(A12>0,IF('tabella sintetica'!E78>0,'tabella sintetica'!E78*coef,0),\"\")","v":""},"",{"$f":"IF('tabella sintetica'!F78>0,\"Aumento Biennale Stipendiale - dpr 399/88\",\"\")","v":""},{"$f":"IF(A12>0,IF('tabella sintetica'!F78>0,'tabella sintetica'!F78,0),0)","v":0},null,{"$f":"IF(A12>0,IF(                 ('tabella sintetica'!G78 +'tabella sintetica'!K78                      ) >0,\"Assegno ad personam - C.C.N.L. 04/08/2011 - valore annuo lordo da corrispondere fino al termine della fascia 0/8 anni\",\"\"),\"\")","v":""},{"$f":"IF(A12>0,IF(            ('tabella sintetica'!G78+'tabella sintetica'!K78                       )>0,'tabella sintetica'!G78+'tabella sintetica'!K78,0),\"\")","v":""},null,{"$f":"IF(A12>0,IF('tabella sintetica'!H78>0,\"Aumento Biennale Indennità di Funzione - dpr 399/88\",\"\"),\"\")","v":""},{"$f":"IF(A12>0,IF('tabella sintetica'!H78>0,'tabella sintetica'!H78,0),\"\")","v":""},null,"",0,null,{"$f":"IF(A12>0,IF('tabella sintetica'!K27>0,\"Stipendio tabellare in vigore\",\"\"),\"\")","v":""},{"$f":"IF(A12>0,IF('tabella sintetica'!K27>0,'tabella sintetica'!K27,0),\"\")","v":""},null,{"$f":"IF(OR('tabella sintetica'!J27=\"\",A12=0),\"\",\" Retribuzione professionale Docente \")","v":""},{"$f":"IF(A12>0,IF('tabella sintetica'!J78<>\"\",'tabella sintetica'!J78,0),0)","v":0},null,"",""]
[{"$f":"IF('tabella sintetica'!B79>0,1,0)","v":0},"","",null,"",{"$f":"IF(A13>0,'tabella sintetica'!C79,\"\")","v":""},null,"",{"$f":"IF(A13>0,'tabella sintetica'!D79,\"\")","v":""},null,{"$f":"IF(A13>0,IF('tabella sintetica'!E79>0,M13,\"\"),\"\")","v":""},{"$f":"IF(A13>0,IF('tabella sintetica'!E79>0,'tabella sintetica'!E79*coef,0),\"\")","v":""},"",{"$f":"IF('tabella sintetica'!F79>0,\"Aumento Biennale Stipendiale - dpr 399/88\",\"\")","v":""},{"$f":"IF(A13>0,IF('tabella sintetica'!F79>0,'tabella sintetica'!F79,0),0)","v":0},null,{"$f":"IF(A13>0,IF(                 ('tabella sintetica'!G79 +'tabella sintetica'!K79                      ) >0,\"Assegno ad personam - C.C.N.L. 04/08/2011 - valore annuo lordo da corrispondere fino al termine della fascia 0/8 anni\",\"\"),\"\")","v":""},{"$f":"IF(A13>0,IF(            ('tabella sintetica'!G79+'tabella sintetica'!K79                       )>0,'tabella sintetica'!G79+'tabella sintetica'!K79,0),\"\")","v":""},null,{"$f":"IF(A13>0,IF('tabella sintetica'!H79>0,\"Aumento Biennale Indennità di Funzione - dpr 399/88\",\"\"),\"\")","v":""},{"$f":"IF(A13>0,IF('tabella sintetica'!H79>0,'tabella sintetica'!H79,0),\"\")","v":""},null,"",0,null,{"$f":"IF(A13>0,IF('tabella sintetica'!K28>0,\"Stipendio tabellare in vigore\",\"\"),\"\")","v":""},{"$f":"IF(A13>0,IF('tabella sintetica'!K28>0,'tabella sintetica'!K28,0),\"\")","v":""},null,{"$f":"IF(OR('tabella sintetica'!J28=\"\",A13=0),\"\",\" Retribuzione professionale Docente \")","v":""},{"$f":"IF(A13>0,IF('tabella sintetica'!J79<>\"\",'tabella sintetica'!J79,0),0)","v":0},null,"",""]
[{"$f":"IF('tabella sintetica'!B80>0,1,0)","v":0},"","",null,"",{"$f":"IF(A14>0,'tabella sintetica'!C80,\"\")","v":""},null,"",{"$f":"IF(A14>0,'tabella sintetica'!D80,\"\")","v":""},null,{"$f":"IF(A14>0,IF('tabella sintetica'!E80>0,M14,\"\"),\"\")","v":""},{"$f":"IF(A14>0,IF('tabella sintetica'!E80>0,'tabella sintetica'!E80*coef,0),\"\")","v":""},"",{"$f":"IF('tabella sintetica'!F80>0,\"Aumento Biennale Stipendiale - dpr 399/88\",\"\")","v":""},{"$f":"IF(A14>0,IF('tabella sintetica'!F80>0,'tabella sintetica'!F80,0),0)","v":0},null,{"$f":"IF(A14>0,IF(                 ('tabella sintetica'!G80 +'tabella sintetica'!K80                      ) >0,\"Assegno ad personam - C.C.N.L. 04/08/2011 - valore annuo lordo da corrispondere fino al termine della fascia 0/8 anni\",\"\"),\"\")","v":""},{"$f":"IF(A14>0,IF(            ('tabella sintetica'!G80+'tabella sintetica'!K80                       )>0,'tabella sintetica'!G80+'tabella sintetica'!K80,0),\"\")","v":""},null,{"$f":"IF(A14>0,IF('tabella sintetica'!H80>0,\"Aumento Biennale Indennità di Funzione - dpr 399/88\",\"\"),\"\")","v":""},{"$f":"IF(A14>0,IF('tabella sintetica'!H80>0,'tabella sintetica'!H80,0),\"\")","v":""},null,"",0,null,{"$f":"IF(A14>0,IF('tabella sintetica'!K29>0,\"Stipendio tabellare in vigore\",\"\"),\"\")","v":""},{"$f":"IF(A14>0,IF('tabella sintetica'!K29>0,'tabella sintetica'!K29,0),\"\")","v":""},null,{"$f":"IF(OR('tabella sintetica'!J29=\"\",A14=0),\"\",\" Retribuzione professionale Docente \")","v":""},{"$f":"IF(A14>0,IF('tabella sintetica'!J80<>\"\",'tabella sintetica'!J80,0),0)","v":0},null,"",""]
[{"$f":"IF('tabella sintetica'!B81>0,1,0)","v":0},"","",null,"",{"$f":"IF(A15>0,'tabella sintetica'!C81,\"\")","v":""},null,"",{"$f":"IF(A15>0,'tabella sintetica'!D81,\"\")","v":""},null,{"$f":"IF(A15>0,IF('tabella sintetica'!E81>0,M15,\"\"),\"\")","v":""},{"$f":"IF(A15>0,IF('tabella sintetica'!E81>0,'tabella sintetica'!E81*coef,0),\"\")","v":""},"",{"$f":"IF('tabella sintetica'!F81>0,\"Aumento Biennale Stipendiale - dpr 399/88\",\"\")","v":""},{"$f":"IF(A15>0,IF('tabella sintetica'!F81>0,'tabella sintetica'!F81,0),0)","v":0},null,{"$f":"IF(A15>0,IF(                 ('tabella sintetica'!G81 +'tabella sintetica'!K81                      ) >0,\"Assegno ad personam - C.C.N.L. 04/08/2011 - valore annuo lordo da corrispondere fino al termine della fascia 0/8 anni\",\"\"),\"\")","v":""},{"$f":"IF(A15>0,IF(            ('tabella sintetica'!G81+'tabella sintetica'!K81                       )>0,'tabella sintetica'!G81+'tabella sintetica'!K81,0),\"\")","v":""},null,{"$f":"IF(A15>0,IF('tabella sintetica'!H81>0,\"Aumento Biennale Indennità di Funzione - dpr 399/88\",\"\"),\"\")","v":""},{"$f":"IF(A15>0,IF('tabella sintetica'!H81>0,'tabella sintetica'!H81,0),\"\")","v":""},null,"",0,null,{"$f":"IF(A15>0,IF('tabella sintetica'!K30>0,\"Stipendio tabellare in vigore\",\"\"),\"\")","v":""},{"$f":"IF(A15>0,IF('tabella sintetica'!K30>0,'tabella sintetica'!K30,0),\"\")","v":""},null,{"$f":"IF(OR('tabella sintetica'!J30=\"\",A15=0),\"\",\" Retribuzione professionale Docente \")","v":""},{"$f":"IF(A15>0,IF('tabella sintetica'!J81<>\"\",'tabella sintetica'!J81,0),0)","v":0},null,"","",null,null,"tabella CIA"]
[{"$f":"IF('tabella sintetica'!B82>0,1,0)","v":0},"","",null,"",{"$f":"IF(A16>0,'tabella sintetica'!C82,\"\")","v":""},null,"",{"$f":"IF(A16>0,'tabella sintetica'!D82,\"\")","v":""},null,{"$f":"IF(A16>0,IF('tabella sintetica'!E82>0,M16,\"\"),\"\")","v":""},{"$f":"IF(A16>0,IF('tabella sintetica'!E82>0,'tabella sintetica'!E82*coef,0),\"\")","v":""},"",{"$f":"IF('tabella sintetica'!F82>0,\"Aumento Biennale Stipendiale - dpr 399/88\",\"\")","v":""},{"$f":"IF(A16>0,IF('tabella sintetica'!F82>0,'tabella sintetica'!F82,0),0)","v":0},null,{"$f":"IF(A16>0,IF(                 ('tabella sintetica'!G82 +'tabella sintetica'!K82                      ) >0,\"Assegno ad personam - C.C.N.L. 04/08/2011 - valore annuo lordo da corrispondere fino al termine della fascia 0/8 anni\",\"\"),\"\")","v":""},{"$f":"IF(A16>0,IF(            ('tabella sintetica'!G82+'tabella sintetica'!K82                       )>0,'tabella sintetica'!G82+'tabella sintetica'!K82,0),\"\")","v":""},null,{"$f":"IF(A16>0,IF('tabella sintetica'!H82>0,\"Aumento Biennale Indennità di Funzione - dpr 399/88\",\"\"),\"\")","v":""},{"$f":"IF(A16>0,IF('tabella sintetica'!H82>0,'tabella sintetica'!H82,0),\"\")","v":""},null,"",0,null,{"$f":"IF(A16>0,IF('tabella sintetica'!K31>0,\"Stipendio tabellare in vigore\",\"\"),\"\")","v":""},{"$f":"IF(A16>0,IF('tabella sintetica'!K31>0,'tabella sintetica'!K31,0),\"\")","v":""},null,{"$f":"IF(OR('tabella sintetica'!J31=\"\",A16=0),\"\",\" Retribuzione professionale Docente \")","v":""},{"$f":"IF(A16>0,IF('tabella sintetica'!J82<>\"\",'tabella sintetica'!J82,0),0)","v":0},null,"",""]
[{"$f":"IF('tabella sintetica'!B83>0,1,0)","v":0},"","",null,"",{"$f":"IF(A17>0,'tabella sintetica'!C83,\"\")","v":""},null,"",{"$f":"IF(A17>0,'tabella sintetica'!D83,\"\")","v":""},null,{"$f":"IF(A17>0,IF('tabella sintetica'!E83>0,M17,\"\"),\"\")","v":""},{"$f":"IF(A17>0,IF('tabella sintetica'!E83>0,'tabella sintetica'!E83*coef,0),\"\")","v":""},"",{"$f":"IF('tabella sintetica'!F83>0,\"Aumento Biennale Stipendiale - dpr 399/88\",\"\")","v":""},{"$f":"IF(A17>0,IF('tabella sintetica'!F83>0,'tabella sintetica'!F83,0),0)","v":0},null,{"$f":"IF(A17>0,IF(                 ('tabella sintetica'!G83 +'tabella sintetica'!K83                      ) >0,\"Assegno ad personam - C.C.N.L. 04/08/2011 - valore annuo lordo da corrispondere fino al termine della fascia 0/8 anni\",\"\"),\"\")","v":""},{"$f":"IF(A17>0,IF(            ('tabella sintetica'!G83+'tabella sintetica'!K83                       )>0,'tabella sintetica'!G83+'tabella sintetica'!K83,0),\"\")","v":""},null,{"$f":"IF(A17>0,IF('tabella sintetica'!H83>0,\"Aumento Biennale Indennità di Funzione - dpr 399/88\",\"\"),\"\")","v":""},{"$f":"IF(A17>0,IF('tabella sintetica'!H83>0,'tabella sintetica'!H83,0),\"\")","v":""},null,"",0,null,{"$f":"IF(A17>0,IF('tabella sintetica'!K32>0,\"Stipendio tabellare in vigore\",\"\"),\"\")","v":""},{"$f":"IF(A17>0,IF('tabella sintetica'!K32>0,'tabella sintetica'!K32,0),\"\")","v":""},null,{"$f":"IF(OR('tabella sintetica'!J32=\"\",A17=0),\"\",\" Retribuzione professionale Docente \")","v":""},{"$f":"IF(A17>0,IF('tabella sintetica'!J83<>\"\",'tabella sintetica'!J83,0),0)","v":0},null,"",""]
[{"$f":"IF('tabella sintetica'!B84>0,1,0)","v":0},"","",null,"",{"$f":"IF(A18>0,'tabella sintetica'!C84,\"\")","v":""},null,"",{"$f":"IF(A18>0,'tabella sintetica'!D84,\"\")","v":""},null,{"$f":"IF(A18>0,IF('tabella sintetica'!E84>0,M18,\"\"),\"\")","v":""},{"$f":"IF(A18>0,IF('tabella sintetica'!E84>0,'tabella sintetica'!E84*coef,0),\"\")","v":""},"",{"$f":"IF('tabella sintetica'!F84>0,\"Aumento Biennale Stipendiale - dpr 399/88\",\"\")","v":""},{"$f":"IF(A18>0,IF('tabella sintetica'!F84>0,'tabella sintetica'!F84,0),0)","v":0},null,{"$f":"IF(A18>0,IF(                 ('tabella sintetica'!G84 +'tabella sintetica'!K84                      ) >0,\"Assegno ad personam - C.C.N.L. 04/08/2011 - valore annuo lordo da corrispondere fino al termine della fascia 0/8 anni\",\"\"),\"\")","v":""},{"$f":"IF(A18>0,IF(            ('tabella sintetica'!G84+'tabella sintetica'!K84                       )>0,'tabella sintetica'!G84+'tabella sintetica'!K84,0),\"\")","v":""},null,{"$f":"IF(A18>0,IF('tabella sintetica'!H84>0,\"Aumento Biennale Indennità di Funzione - dpr 399/88\",\"\"),\"\")","v":""},{"$f":"IF(A18>0,IF('tabella sintetica'!H84>0,'tabella sintetica'!H84,0),\"\")","v":""},null,"",0,null,{"$f":"IF(A18>0,IF('tabella sintetica'!K33>0,\"Stipendio tabellare in vigore\",\"\"),\"\")","v":""},{"$f":"IF(A18>0,IF('tabella sintetica'!K33>0,'tabella sintetica'!K33,0),\"\")","v":""},null,{"$f":"IF(OR('tabella sintetica'!J33=\"\",A18=0),\"\",\" Retribuzione professionale Docente \")","v":""},{"$f":"IF(A18>0,IF('tabella sintetica'!J84<>\"\",'tabella sintetica'!J84,0),0)","v":0},null,"","",null,null,"N° qual:","1900-01-01","1999-07-01","2002-01-01","2003-01-01","2006-01-01"]
[{"$f":"IF('tabella sintetica'!B85>0,1,0)","v":0},"","",null,"",{"$f":"IF(A19>0,'tabella sintetica'!C85,\"\")","v":""},null,"",{"$f":"IF(A19>0,'tabella sintetica'!D85,\"\")","v":""},null,{"$f":"IF(A19>0,IF('tabella sintetica'!E85>0,M19,\"\"),\"\")","v":""},{"$f":"IF(A19>0,IF('tabella sintetica'!E85>0,'tabella sintetica'!E85*coef,0),\"\")","v":""},"",{"$f":"IF('tabella sintetica'!F85>0,\"Aumento Biennale Stipendiale - dpr 399/88\",\"\")","v":""},{"$f":"IF(A19>0,IF('tabella sintetica'!F85>0,'tabella sintetica'!F85,0),0)","v":0},null,{"$f":"IF(A19>0,IF(                 ('tabella sintetica'!G85 +'tabella sintetica'!K85                      ) >0,\"Assegno ad personam - C.C.N.L. 04/08/2011 - valore annuo lordo da corrispondere fino al termine della fascia 0/8 anni\",\"\"),\"\")","v":""},{"$f":"IF(A19>0,IF(            ('tabella sintetica'!G85+'tabella sintetica'!K85                       )>0,'tabella sintetica'!G85+'tabella sintetica'!K85,0),\"\")","v":""},null,{"$f":"IF(A19>0,IF('tabella sintetica'!H85>0,\"Aumento Biennale Indennità di Funzione - dpr 399/88\",\"\"),\"\")","v":""},{"$f":"IF(A19>0,IF('tabella sintetica'!H85>0,'tabella sintetica'!H85,0),\"\")","v":""},null,"",0,null,{"$f":"IF(A19>0,IF('tabella sintetica'!K34>0,\"Stipendio tabellare in vigore\",\"\"),\"\")","v":""},{"$f":"IF(A19>0,IF('tabella sintetica'!K34>0,'tabella sintetica'!K34,0),\"\")","v":""},null,{"$f":"IF('tabella sintetica'!J34<>\"\",\" Retribuzione professionale Docente \",\"\")","v":" Retribuzione professionale Docente "},{"$f":"IF(A19>0,IF('tabella sintetica'!J85<>\"\",'tabella sintetica'!J85,0),0)","v":0},null,"","",null,null,1,0,471,495,579,702]
[{"$f":"IF('tabella sintetica'!B86>0,1,0)","v":0},"","",null,"",{"$f":"IF(A20>0,'tabella sintetica'!C86,\"\")","v":""},null,"",{"$f":"IF(A20>0,'tabella sintetica'!D86,\"\")","v":""},null,{"$f":"IF(A20>0,IF('tabella sintetica'!E86>0,M20,\"\"),\"\")","v":""},{"$f":"IF(A20>0,IF('tabella sintetica'!E86>0,'tabella sintetica'!E86*coef,0),\"\")","v":""},"",{"$f":"IF('tabella sintetica'!F86>0,\"Aumento Biennale Stipendiale - dpr 399/88\",\"\")","v":""},{"$f":"IF(A20>0,IF('tabella sintetica'!F86>0,'tabella sintetica'!F86,0),0)","v":0},null,{"$f":"IF(A20>0,IF(                 ('tabella sintetica'!G86 +'tabella sintetica'!K86                      ) >0,\"Assegno ad personam - C.C.N.L. 04/08/2011 - valore annuo lordo da corrispondere fino al termine della fascia 0/8 anni\",\"\"),\"\")","v":""},{"$f":"IF(A20>0,IF(            ('tabella sintetica'!G86+'tabella sintetica'!K86                       )>0,'tabella sintetica'!G86+'tabella sintetica'!K86,0),\"\")","v":""},null,{"$f":"IF(A20>0,IF('tabella sintetica'!H86>0,\"Aumento Biennale Indennità di Funzione - dpr 399/88\",\"\"),\"\")","v":""},{"$f":"IF(A20>0,IF('tabella sintetica'!H86>0,'tabella sintetica'!H86,0),\"\")","v":""},null,"",0,null,{"$f":"IF(A20>0,IF('tabella sintetica'!K35>0,\"Stipendio tabellare in vigore\",\"\"),\"\")","v":""},{"$f":"IF(A20>0,IF('tabella sintetica'!K35>0,'tabella sintetica'!K35,0),\"\")","v":""},null,{"$f":"IF('tabella sintetica'!J35<>\"\",\" Retribuzione professionale Docente \",\"\")","v":" Retribuzione professionale Docente "},{"$f":"IF(A20>0,IF('tabella sintetica'!J86<>\"\",'tabella sintetica'!J86,0),0)","v":0},null,"","",null,null,2,0,471,495,579,702]
[{"$f":"IF('tabella sintetica'!B87>0,1,0)","v":0},"","",null,"",{"$f":"IF(A21>0,'tabella sintetica'!C87,\"\")","v":""},null,"",{"$f":"IF(A21>0,'tabella sintetica'!D87,\"\")","v":""},null,{"$f":"IF(A21>0,IF('tabella sintetica'!E87>0,M21,\"\"),\"\")","v":""},{"$f":"IF(A21>0,IF('tabella sintetica'!E87>0,'tabella sintetica'!E87*coef,0),\"\")","v":""},"",{"$f":"IF('tabella sintetica'!F87>0,\"Aumento Biennale Stipendiale - dpr 399/88\",\"\")","v":""},{"$f":"IF(A21>0,IF('tabella sintetica'!F87>0,'tabella sintetica'!F87,0),0)","v":0},null,{"$f":"IF(A21>0,IF(                 ('tabella sintetica'!G87 +'tabella sintetica'!K87                      ) >0,\"Assegno ad personam - C.C.N.L. 04/08/2011 - valore annuo lordo da corrispondere fino al termine della fascia 0/8 anni\",\"\"),\"\")","v":""},{"$f":"IF(A21>0,IF(            ('tabella sintetica'!G87+'tabella sintetica'!K87                       )>0,'tabella sintetica'!G87+'tabella sintetica'!K87,0),\"\")","v":""},null,{"$f":"IF(A21>0,IF('tabella sintetica'!H87>0,\"Aumento Biennale Indennità di Funzione - dpr 399/88\",\"\"),\"\")","v":""},{"$f":"IF(A21>0,IF('tabella sintetica'!H87>0,'tabella sintetica'!H87,0),\"\")","v":""},null,"",0,null,{"$f":"IF(A21>0,IF('tabella sintetica'!K36>0,\"Stipendio tabellare in vigore\",\"\"),\"\")","v":""},{"$f":"IF(A21>0,IF('tabella sintetica'!K36>0,'tabella sintetica'!K36,0),\"\")","v":""},null,{"$f":"IF('tabella sintetica'!J36<>\"\",\" Retribuzione professionale Docente \",\"\")","v":" Retribuzione professionale Docente "},{"$f":"IF(A21>0,IF('tabella sintetica'!J87<>\"\",'tabella sintetica'!J87,0),0)","v":0},null,"","",null,null,3,0,502,537.96,633.96,774]
[{"$f":"IF('tabella sintetica'!B88>0,1,0)","v":0},"","",null,"",{"$f":"IF(A22>0,'tabella sintetica'!C88,\"\")","v":""},null,"",{"$f":"IF(A22>0,'tabella sintetica'!D88,\"\")","v":""},null,{"$f":"IF(A22>0,IF('tabella sintetica'!E88>0,M22,\"\"),\"\")","v":""},{"$f":"IF(A22>0,IF('tabella sintetica'!E88>0,'tabella sintetica'!E88*coef,0),\"\")","v":""},"",{"$f":"IF('tabella sintetica'!F88>0,\"Aumento Biennale Stipendiale - dpr 399/88\",\"\")","v":""},{"$f":"IF(A22>0,IF('tabella sintetica'!F88>0,'tabella sintetica'!F88,0),0)","v":0},null,{"$f":"IF(A22>0,IF(                 ('tabella sintetica'!G88 +'tabella sintetica'!K88                      ) >0,\"Assegno ad personam - C.C.N.L. 04/08/2011 - valore annuo lordo da corrispondere fino al termine della fascia 0/8 anni\",\"\"),\"\")","v":""},{"$f":"IF(A22>0,IF(            ('tabella sintetica'!G88+'tabella sintetica'!K88                       )>0,'tabella sintetica'!G88+'tabella sintetica'!K88,0),\"\")","v":""},null,{"$f":"IF(A22>0,IF('tabella sintetica'!H88>0,\"Aumento Biennale Indennità di Funzione - dpr 399/88\",\"\"),\"\")","v":""},{"$f":"IF(A22>0,IF('tabella sintetica'!H88>0,'tabella sintetica'!H88,0),\"\")","v":""},null,"",0,null,{"$f":"IF(A22>0,IF('tabella sintetica'!K37>0,\"Stipendio tabellare in vigore\",\"\"),\"\")","v":""},{"$f":"IF(A22>0,IF('tabella sintetica'!K37>0,'tabella sintetica'!K37,0),\"\")","v":""},null,{"$f":"IF('tabella sintetica'!J37<>\"\",\" Retribuzione professionale Docente \",\"\")","v":" Retribuzione professionale Docente "},{"$f":"IF(A22>0,IF('tabella sintetica'!J88<>\"\",'tabella sintetica'!J88,0),0)","v":0},null,"","",null,null,4,0,502,537.96,633.96,774]
[{"$f":"IF('tabella sintetica'!B89>0,1,0)","v":0},"","",null,"",{"$f":"IF(A23>0,'tabella sintetica'!C89,\"\")","v":""},null,"",{"$f":"IF(A23>0,'tabella sintetica'!D89,\"\")","v":""},null,{"$f":"IF(A23>0,IF('tabella sintetica'!E89>0,M23,\"\"),\"\")","v":""},{"$f":"IF(A23>0,IF('tabella sintetica'!E89>0,'tabella sintetica'!E89*coef,0),\"\")","v":""},"",{"$f":"IF('tabella sintetica'!F89>0,\"Aumento Biennale Stipendiale - dpr 399/88\",\"\")","v":""},{"$f":"IF(A23>0,IF('tabella sintetica'!F89>0,'tabella sintetica'!F89,0),0)","v":0},null,{"$f":"IF(A23>0,IF(                 ('tabella sintetica'!G89 +'tabella sintetica'!K89                      ) >0,\"Assegno ad personam - C.C.N.L. 04/08/2011 - valore annuo lordo da corrispondere fino al termine della fascia 0/8 anni\",\"\"),\"\")","v":""},{"$f":"IF(A23>0,IF(            ('tabella sintetica'!G89+'tabella sintetica'!K89                       )>0,'tabella sintetica'!G89+'tabella sintetica'!K89,0),\"\")","v":""},null,{"$f":"IF(A23>0,IF('tabella sintetica'!H89>0,\"Aumento Biennale Indennità di Funzione - dpr 399/88\",\"\"),\"\")","v":""},{"$f":"IF(A23>0,IF('tabella sintetica'!H89>0,'tabella sintetica'!H89,0),\"\")","v":""},null,"",0,null,{"$f":"IF(A23>0,IF('tabella sintetica'!K38>0,\"Stipendio tabellare in vigore\",\"\"),\"\")","v":""},{"$f":"IF(A23>0,IF('tabella sintetica'!K38>0,'tabella sintetica'!K38,0),\"\")","v":""},null,{"$f":"IF('tabella sintetica'!J38<>\"\",\" Retribuzione professionale Docente \",\"\")","v":" Retribuzione professionale Docente "},{"$f":"IF(A23>0,IF('tabella sintetica'!J89<>\"\",'tabella sintetica'!J89,0),0)","v":0},null,"",""]
[{"$f":"IF('tabella sintetica'!B90>0,1,0)","v":0},"","",null,"",{"$f":"IF(A24>0,'tabella sintetica'!C90,\"\")","v":""},null,"",{"$f":"IF(A24>0,'tabella sintetica'!D90,\"\")","v":""},null,{"$f":"IF(A24>0,IF('tabella sintetica'!E90>0,M24,\"\"),\"\")","v":""},{"$f":"IF(A24>0,IF('tabella sintetica'!E90>0,'tabella sintetica'!E90*coef,0),\"\")","v":""},"",{"$f":"IF('tabella sintetica'!F90>0,\"Aumento Biennale Stipendiale - dpr 399/88\",\"\")","v":""},{"$f":"IF(A24>0,IF('tabella sintetica'!F90>0,'tabella sintetica'!F90,0),0)","v":0},null,{"$f":"IF(A24>0,IF(                 ('tabella sintetica'!G90 +'tabella sintetica'!K90                      ) >0,\"Assegno ad personam - C.C.N.L. 04/08/2011 - valore annuo lordo da corrispondere fino al termine della fascia 0/8 anni\",\"\"),\"\")","v":""},{"$f":"IF(A24>0,IF(            ('tabella sintetica'!G90+'tabella sintetica'!K90                       )>0,'tabella sintetica'!G90+'tabella sintetica'!K90,0),\"\")","v":""},null,{"$f":"IF(A24>0,IF('tabella sintetica'!H90>0,\"Aumento Biennale Indennità di Funzione - dpr 399/88\",\"\"),\"\")","v":""},{"$f":"IF(A24>0,IF('tabella sintetica'!H90>0,'tabella sintetica'!H90,0),\"\")","v":""},null,"",0,null,{"$f":"IF(A24>0,IF('tabella sintetica'!K39>0,\"Stipendio tabellare in vigore\",\"\"),\"\")","v":""},{"$f":"IF(A24>0,IF('tabella sintetica'!K39>0,'tabella sintetica'!K39,0),\"\")","v":""},null,{"$f":"IF('tabella sintetica'!J39<>\"\",\" Retribuzione professionale Docente \",\"\")","v":" Retribuzione professionale Docente "},{"$f":"IF(A24>0,IF('tabella sintetica'!J90<>\"\",'tabella sintetica'!J90,0),0)","v":0},null,"",""]
[{"$f":"IF('tabella sintetica'!B91>0,1,0)","v":0},"","",null,"",{"$f":"IF(A25>0,'tabella sintetica'!C91,\"\")","v":""},null,"",{"$f":"IF(A25>0,'tabella sintetica'!D91,\"\")","v":""},null,{"$f":"IF(A25>0,IF('tabella sintetica'!E91>0,M25,\"\"),\"\")","v":""},{"$f":"IF(A25>0,IF('tabella sintetica'!E91>0,'tabella sintetica'!E91*coef,0),\"\")","v":""},"",{"$f":"IF('tabella sintetica'!F91>0,\"Aumento Biennale Stipendiale - dpr 399/88\",\"\")","v":""},{"$f":"IF(A25>0,IF('tabella sintetica'!F91>0,'tabella sintetica'!F91,0),0)","v":0},null,{"$f":"IF(A25>0,IF(                 ('tabella sintetica'!G91 +'tabella sintetica'!K91                      ) >0,\"Assegno ad personam - C.C.N.L. 04/08/2011 - valore annuo lordo da corrispondere fino al termine della fascia 0/8 anni\",\"\"),\"\")","v":""},{"$f":"IF(A25>0,IF(            ('tabella sintetica'!G91+'tabella sintetica'!K91                       )>0,'tabella sintetica'!G91+'tabella sintetica'!K91,0),\"\")","v":""},null,{"$f":"IF(A25>0,IF('tabella sintetica'!H91>0,\"Aumento Biennale Indennità di Funzione - dpr 399/88\",\"\"),\"\")","v":""},{"$f":"IF(A25>0,IF('tabella sintetica'!H91>0,'tabella sintetica'!H91,0),\"\")","v":""},null,"",0,null,{"$f":"IF(A25>0,IF('tabella sintetica'!K40>0,\"Stipendio tabellare in vigore\",\"\"),\"\")","v":""},{"$f":"IF(A25>0,IF('tabella sintetica'!K40>0,'tabella sintetica'!K40,0),\"\")","v":""},null,{"$f":"IF('tabella sintetica'!J40<>\"\",\" Retribuzione professionale Docente \",\"\")","v":" Retribuzione professionale Docente "},{"$f":"IF(A25>0,IF('tabella sintetica'!J91<>\"\",'tabella sintetica'!J91,0),0)","v":0},null,"",""]
[{"$f":"IF('tabella sintetica'!B92>0,1,0)","v":0},"","",null,"",{"$f":"IF(A26>0,'tabella sintetica'!C92,\"\")","v":""},null,"",{"$f":"IF(A26>0,'tabella sintetica'!D92,\"\")","v":""},null,{"$f":"IF(A26>0,IF('tabella sintetica'!E92>0,M26,\"\"),\"\")","v":""},{"$f":"IF(A26>0,IF('tabella sintetica'!E92>0,'tabella sintetica'!E92*coef,0),\"\")","v":""},"",{"$f":"IF('tabella sintetica'!F92>0,\"Aumento Biennale Stipendiale - dpr 399/88\",\"\")","v":""},{"$f":"IF(A26>0,IF('tabella sintetica'!F92>0,'tabella sintetica'!F92,0),0)","v":0},null,{"$f":"IF(A26>0,IF(                 ('tabella sintetica'!G92 +'tabella sintetica'!K92                      ) >0,\"Assegno ad personam - C.C.N.L. 04/08/2011 - valore annuo lordo da corrispondere fino al termine della fascia 0/8 anni\",\"\"),\"\")","v":""},{"$f":"IF(A26>0,IF(            ('tabella sintetica'!G92+'tabella sintetica'!K92                       )>0,'tabella sintetica'!G92+'tabella sintetica'!K92,0),\"\")","v":""},null,{"$f":"IF(A26>0,IF('tabella sintetica'!H92>0,\"Aumento Biennale Indennità di Funzione - dpr 399/88\",\"\"),\"\")","v":""},{"$f":"IF(A26>0,IF('tabella sintetica'!H92>0,'tabella sintetica'!H92,0),\"\")","v":""},null,"",0,null,{"$f":"IF(A26>0,IF('tabella sintetica'!K41>0,\"Stipendio tabellare in vigore\",\"\"),\"\")","v":""},{"$f":"IF(A26>0,IF('tabella sintetica'!K41>0,'tabella sintetica'!K41,0),\"\")","v":""},null,{"$f":"IF('tabella sintetica'!J41<>\"\",\" Retribuzione professionale Docente \",\"\")","v":" Retribuzione professionale Docente "},{"$f":"IF(A26>0,IF('tabella sintetica'!J92<>\"\",'tabella sintetica'!J92,0),0)","v":0},null,"",""]
[{"$f":"IF('tabella sintetica'!B93>0,1,0)","v":0},"","",null,"",{"$f":"IF(A27>0,'tabella sintetica'!C93,\"\")","v":""},null,"",{"$f":"IF(A27>0,'tabella sintetica'!D93,\"\")","v":""},null,{"$f":"IF(A27>0,IF('tabella sintetica'!E93>0,M27,\"\"),\"\")","v":""},{"$f":"IF(A27>0,IF('tabella sintetica'!E93>0,'tabella sintetica'!E93*coef,0),\"\")","v":""},"",{"$f":"IF('tabella sintetica'!F93>0,\"Aumento Biennale Stipendiale - dpr 399/88\",\"\")","v":""},{"$f":"IF(A27>0,IF('tabella sintetica'!F93>0,'tabella sintetica'!F93,0),0)","v":0},null,{"$f":"IF(A27>0,IF(                 ('tabella sintetica'!G93 +'tabella sintetica'!K93                      ) >0,\"Assegno ad personam - C.C.N.L. 04/08/2011 - valore annuo lordo da corrispondere fino al termine della fascia 0/8 anni\",\"\"),\"\")","v":""},{"$f":"IF(A27>0,IF(            ('tabella sintetica'!G93+'tabella sintetica'!K93                       )>0,'tabella sintetica'!G93+'tabella sintetica'!K93,0),\"\")","v":""},null,{"$f":"IF(A27>0,IF('tabella sintetica'!H93>0,\"Aumento Biennale Indennità di Funzione - dpr 399/88\",\"\"),\"\")","v":""},{"$f":"IF(A27>0,IF('tabella sintetica'!H93>0,'tabella sintetica'!H93,0),\"\")","v":""},null,"",0,null,{"$f":"IF(A27>0,IF('tabella sintetica'!K42>0,\"Stipendio tabellare in vigore\",\"\"),\"\")","v":""},{"$f":"IF(A27>0,IF('tabella sintetica'!K42>0,'tabella sintetica'!K42,0),\"\")","v":""},null,{"$f":"IF('tabella sintetica'!J42<>\"\",\" Retribuzione professionale Docente \",\"\")","v":" Retribuzione professionale Docente "},{"$f":"IF(A27>0,IF('tabella sintetica'!J93<>\"\",'tabella sintetica'!J93,0),0)","v":0},null,"","",null,null,"1900-01-01","1999-07-01","2002-01-01","2003-01-01","2006-01-01"]
[{"$f":"IF('tabella sintetica'!B94>0,1,0)","v":0},"","",null,"",{"$f":"IF(A28>0,'tabella sintetica'!C94,\"\")","v":""},null,"",{"$f":"IF(A28>0,'tabella sintetica'!D94,\"\")","v":""},null,{"$f":"IF(A28>0,IF('tabella sintetica'!E94>0,M28,\"\"),\"\")","v":""},{"$f":"IF(A28>0,IF('tabella sintetica'!E94>0,'tabella sintetica'!E94*coef,0),\"\")","v":""},"",{"$f":"IF('tabella sintetica'!F94>0,\"Aumento Biennale Stipendiale - dpr 399/88\",\"\")","v":""},{"$f":"IF(A28>0,IF('tabella sintetica'!F94>0,'tabella sintetica'!F94,0),0)","v":0},null,{"$f":"IF(A28>0,IF(                 ('tabella sintetica'!G94 +'tabella sintetica'!K94                      ) >0,\"Assegno ad personam - C.C.N.L. 04/08/2011 - valore annuo lordo da corrispondere fino al termine della fascia 0/8 anni\",\"\"),\"\")","v":""},{"$f":"IF(A28>0,IF(            ('tabella sintetica'!G94+'tabella sintetica'!K94                       )>0,'tabella sintetica'!G94+'tabella sintetica'!K94,0),\"\")","v":""},null,{"$f":"IF(A28>0,IF('tabella sintetica'!H94>0,\"Aumento Biennale Indennità di Funzione - dpr 399/88\",\"\"),\"\")","v":""},{"$f":"IF(A28>0,IF('tabella sintetica'!H94>0,'tabella sintetica'!H94,0),\"\")","v":""},null,"",0,null,{"$f":"IF(A28>0,IF('tabella sintetica'!K43>0,\"Stipendio tabellare in vigore\",\"\"),\"\")","v":""},{"$f":"IF(A28>0,IF('tabella sintetica'!K43>0,'tabella sintetica'!K43,0),\"\")","v":""},null,{"$f":"IF('tabella sintetica'!J43<>\"\",\" Retribuzione professionale Docente \",\"\")","v":""},{"$f":"IF(A28>0,IF('tabella sintetica'!J94<>\"\",'tabella sintetica'!J94,0),0)","v":0},null,"","",null,null,{"$f":"IF(QUAL=AJ19,AK19,0)","v":0},{"$f":"IF(QUAL=AJ19,AL19,0)","v":0},{"$f":"IF(QUAL=AJ19,AM19,0)","v":0},{"$f":"IF(QUAL=AJ19,AN19,0)","v":0},{"$f":"IF(QUAL=AJ19,AO19,0)","v":0}]
[{"$f":"IF('tabella sintetica'!B95>0,1,0)","v":0},"","",null,"",{"$f":"IF(A29>0,'tabella sintetica'!C95,\"\")","v":""},null,"",{"$f":"IF(A29>0,'tabella sintetica'!D95,\"\")","v":""},null,{"$f":"IF(A29>0,IF('tabella sintetica'!E95>0,M29,\"\"),\"\")","v":""},{"$f":"IF(A29>0,IF('tabella sintetica'!E95>0,'tabella sintetica'!E95*coef,0),\"\")","v":""},"",{"$f":"IF('tabella sintetica'!F95>0,\"Aumento Biennale Stipendiale - dpr 399/88\",\"\")","v":""},{"$f":"IF(A29>0,IF('tabella sintetica'!F95>0,'tabella sintetica'!F95,0),0)","v":0},null,{"$f":"IF(A29>0,IF(                 ('tabella sintetica'!G95 +'tabella sintetica'!K95                      ) >0,\"Assegno ad personam - C.C.N.L. 04/08/2011 - valore annuo lordo da corrispondere fino al termine della fascia 0/8 anni\",\"\"),\"\")","v":""},{"$f":"IF(A29>0,IF(            ('tabella sintetica'!G95+'tabella sintetica'!K95                       )>0,'tabella sintetica'!G95+'tabella sintetica'!K95,0),\"\")","v":""},null,{"$f":"IF(A29>0,IF('tabella sintetica'!H95>0,\"Aumento Biennale Indennità di Funzione - dpr 399/88\",\"\"),\"\")","v":""},{"$f":"IF(A29>0,IF('tabella sintetica'!H95>0,'tabella sintetica'!H95,0),\"\")","v":""},null,"",0,null,{"$f":"IF(A29>0,IF('tabella sintetica'!K44>0,\"Stipendio tabellare in vigore\",\"\"),\"\")","v":""},{"$f":"IF(A29>0,IF('tabella sintetica'!K44>0,'tabella sintetica'!K44,0),\"\")","v":""},null,{"$f":"IF('tabella sintetica'!J44<>\"\",\" Retribuzione professionale Docente \",\"\")","v":""},{"$f":"IF(A29>0,IF('tabella sintetica'!J95<>\"\",'tabella sintetica'!J95,0),0)","v":0},null,"","",null,null,{"$f":"IF(QUAL=AJ20,AK20,0)","v":0},{"$f":"IF(QUAL=AJ20,AL20,0)","v":0},{"$f":"IF(QUAL=AJ20,AM20,0)","v":0},{"$f":"IF(QUAL=AJ20,AN20,0)","v":0},{"$f":"IF(QUAL=AJ20,AO20,0)","v":0}]
[{"$f":"IF('tabella sintetica'!B96>0,1,0)","v":0},"","",null,"",{"$f":"IF(A30>0,'tabella sintetica'!C96,\"\")","v":""},null,"",{"$f":"IF(A30>0,'tabella sintetica'!D96,\"\")","v":""},null,{"$f":"IF(A30>0,IF('tabella sintetica'!E96>0,M30,\"\"),\"\")","v":""},{"$f":"IF(A30>0,IF('tabella sintetica'!E96>0,'tabella sintetica'!E96*coef,0),\"\")","v":""},"",{"$f":"IF('tabella sintetica'!F96>0,\"Aumento Biennale Stipendiale - dpr 399/88\",\"\")","v":""},{"$f":"IF(A30>0,IF('tabella sintetica'!F96>0,'tabella sintetica'!F96,0),0)","v":0},null,{"$f":"IF(A30>0,IF(                 ('tabella sintetica'!G96 +'tabella sintetica'!K96                      ) >0,\"Assegno ad personam - C.C.N.L. 04/08/2011 - valore annuo lordo da corrispondere fino al termine della fascia 0/8 anni\",\"\"),\"\")","v":""},{"$f":"IF(A30>0,IF(            ('tabella sintetica'!G96+'tabella sintetica'!K96                       )>0,'tabella sintetica'!G96+'tabella sintetica'!K96,0),\"\")","v":""},null,{"$f":"IF(A30>0,IF('tabella sintetica'!H96>0,\"Aumento Biennale Indennità di Funzione - dpr 399/88\",\"\"),\"\")","v":""},{"$f":"IF(A30>0,IF('tabella sintetica'!H96>0,'tabella sintetica'!H96,0),\"\")","v":""},null,"",0,null,{"$f":"IF(A30>0,IF('tabella sintetica'!K45>0,\"Stipendio tabellare in vigore\",\"\"),\"\")","v":""},{"$f":"IF(A30>0,IF('tabella sintetica'!K45>0,'tabella sintetica'!K45,0),\"\")","v":""},null,{"$f":"IF('tabella sintetica'!J45<>\"\",\" Retribuzione professionale Docente \",\"\")","v":""},{"$f":"IF(A30>0,IF('tabella sintetica'!J96<>\"\",'tabella sintetica'!J96,0),0)","v":0},null,"","",null,null,{"$f":"IF(QUAL=AJ21,AK21,0)","v":0},{"$f":"IF(QUAL=AJ21,AL21,0)","v":0},{"$f":"IF(QUAL=AJ21,AM21,0)","v":0},{"$f":"IF(QUAL=AJ21,AN21,0)","v":0},{"$f":"IF(QUAL=AJ21,AO21,0)","v":0}]
[{"$f":"IF('tabella sintetica'!B97>0,1,0)","v":0},"","",null,"",{"$f":"IF(A31>0,'tabella sintetica'!C97,\"\")","v":""},null,"",{"$f":"IF(A31>0,'tabella sintetica'!D97,\"\")","v":""},null,{"$f":"IF(A31>0,IF('tabella sintetica'!E97>0,M31,\"\"),\"\")","v":""},{"$f":"IF(A31>0,IF('tabella sintetica'!E97>0,'tabella sintetica'!E97*coef,0),\"\")","v":""},"",{"$f":"IF('tabella sintetica'!F97>0,\"Aumento Biennale Stipendiale - dpr 399/88\",\"\")","v":""},{"$f":"IF(A31>0,IF('tabella sintetica'!F97>0,'tabella sintetica'!F97,0),0)","v":0},null,{"$f":"IF(A31>0,IF(                 ('tabella sintetica'!G97 +'tabella sintetica'!K97                      ) >0,\"Assegno ad personam - C.C.N.L. 04/08/2011 - valore annuo lordo da corrispondere fino al termine della fascia 0/8 anni\",\"\"),\"\")","v":""},{"$f":"IF(A31>0,IF(            ('tabella sintetica'!G97+'tabella sintetica'!K97                       )>0,'tabella sintetica'!G97+'tabella sintetica'!K97,0),\"\")","v":""},null,{"$f":"IF(A31>0,IF('tabella sintetica'!H97>0,\"Aumento Biennale Indennità di Funzione - dpr 399/88\",\"\"),\"\")","v":""},{"$f":"IF(A31>0,IF('tabella sintetica'!H97>0,'tabella sintetica'!H97,0),\"\")","v":""},null,"",0,null,{"$f":"IF(A31>0,IF('tabella sintetica'!K46>0,\"Stipendio tabellare in vigore\",\"\"),\"\")","v":""},{"$f":"IF(A31>0,IF('tabella sintetica'!K46>0,'tabella sintetica'!K46,0),\"\")","v":""},null,{"$f":"IF('tabella sintetica'!J46<>\"\",\" Retribuzione professionale Docente \",\"\")","v":""},{"$f":"IF(A31>0,IF('tabella sintetica'!J97<>\"\",'tabella sintetica'!J97,0),0)","v":0},null,"","",null,null,{"$f":"IF(QUAL=AJ22,AK22,0)","v":0},{"$f":"IF(QUAL=AJ22,AL22,0)","v":0},{"$f":"IF(QUAL=AJ22,AM22,0)","v":0},{"$f":"IF(QUAL=AJ22,AN22,0)","v":0},{"$f":"IF(QUAL=AJ22,AO22,0)","v":0}]
[{"$f":"IF('tabella sintetica'!B98>0,1,0)","v":0},"","",null,"",{"$f":"IF(A32>0,'tabella sintetica'!C98,\"\")","v":""},null,"",{"$f":"IF(A32>0,'tabella sintetica'!D98,\"\")","v":""},null,{"$f":"IF(A32>0,IF('tabella sintetica'!E98>0,M32,\"\"),\"\")","v":""},{"$f":"IF(A32>0,IF('tabella sintetica'!E98>0,'tabella sintetica'!E98*coef,0),\"\")","v":""},"",{"$f":"IF('tabella sintetica'!F98>0,\"Aumento Biennale Stipendiale - dpr 399/88\",\"\")","v":""},{"$f":"IF(A32>0,IF('tabella sintetica'!F98>0,'tabella sintetica'!F98,0),0)","v":0},null,{"$f":"IF(A32>0,IF(                 ('tabella sintetica'!G98 +'tabella sintetica'!K98                      ) >0,\"Assegno ad personam - C.C.N.L. 04/08/2011 - valore annuo lordo da corrispondere fino al termine della fascia 0/8 anni\",\"\"),\"\")","v":""},{"$f":"IF(A32>0,IF(            ('tabella sintetica'!G98+'tabella sintetica'!K98                       )>0,'tabella sintetica'!G98+'tabella sintetica'!K98,0),\"\")","v":""},null,{"$f":"IF(A32>0,IF('tabella sintetica'!H98>0,\"Aumento Biennale Indennità di Funzione - dpr 399/88\",\"\"),\"\")","v":""},{"$f":"IF(A32>0,IF('tabella sintetica'!H98>0,'tabella sintetica'!H98,0),\"\")","v":""},null,"",0,null,{"$f":"IF(A32>0,IF('tabella sintetica'!K47>0,\"Stipendio tabellare in vigore\",\"\"),\"\")","v":""},{"$f":"IF(A32>0,IF('tabella sintetica'!K47>0,'tabella sintetica'!K47,0),\"\")","v":""},null,{"$f":"IF('tabella sintetica'!J47<>\"\",\" Retribuzione professionale Docente \",\"\")","v":""},{"$f":"IF(A32>0,IF('tabella sintetica'!J98<>\"\",'tabella sintetica'!J98,0),0)","v":0},null,"",""]
[{"$f":"IF('tabella sintetica'!B99>0,1,0)","v":0},"","",null,"",{"$f":"IF(A33>0,'tabella sintetica'!C99,\"\")","v":""},null,"",{"$f":"IF(A33>0,'tabella sintetica'!D99,\"\")","v":""},null,{"$f":"IF(A33>0,IF('tabella sintetica'!E99>0,M33,\"\"),\"\")","v":""},{"$f":"IF(A33>0,IF('tabella sintetica'!E99>0,'tabella sintetica'!E99*coef,0),\"\")","v":""},"",{"$f":"IF('tabella sintetica'!F99>0,\"Aumento Biennale Stipendiale - dpr 399/88\",\"\")","v":""},{"$f":"IF(A33>0,IF('tabella sintetica'!F99>0,'tabella sintetica'!F99,0),0)","v":0},null,{"$f":"IF(A33>0,IF(                 ('tabella sintetica'!G99 +'tabella sintetica'!K99                      ) >0,\"Assegno ad personam - C.C.N.L. 04/08/2011 - valore annuo lordo da corrispondere fino al termine della fascia 0/8 anni\",\"\"),\"\")","v":""},{"$f":"IF(A33>0,IF(            ('tabella sintetica'!G99+'tabella sintetica'!K99                       )>0,'tabella sintetica'!G99+'tabella sintetica'!K99,0),\"\")","v":""},null,{"$f":"IF(A33>0,IF('tabella sintetica'!H99>0,\"Aumento Biennale Indennità di Funzione - dpr 399/88\",\"\"),\"\")","v":""},{"$f":"IF(A33>0,IF('tabella sintetica'!H99>0,'tabella sintetica'!H99,0),\"\")","v":""},null,"",0,null,{"$f":"IF(A33>0,IF('tabella sintetica'!K48>0,\"Stipendio tabellare in vigore\",\"\"),\"\")","v":""},{"$f":"IF(A33>0,IF('tabella sintetica'!K48>0,'tabella sintetica'!K48,0),\"\")","v":""},null,{"$f":"IF('tabella sintetica'!J48<>\"\",\" Retribuzione professionale Docente \",\"\")","v":""},{"$f":"IF(A33>0,IF('tabella sintetica'!J99<>\"\",'tabella sintetica'!J99,0),0)","v":0},null,"","",null,"CIA risultante per questo profilo:"]
[{"$f":"IF('tabella sintetica'!B100>0,1,0)","v":0},"","",null,"",{"$f":"IF(A34>0,'tabella sintetica'!C100,\"\")","v":""},null,"",{"$f":"IF(A34>0,'tabella sintetica'!D100,\"\")","v":""},null,{"$f":"IF(A34>0,IF('tabella sintetica'!E100>0,M34,\"\"),\"\")","v":""},{"$f":"IF(A34>0,IF('tabella sintetica'!E100>0,'tabella sintetica'!E100*coef,0),\"\")","v":""},"",{"$f":"IF('tabella sintetica'!F100>0,\"Aumento Biennale Stipendiale - dpr 399/88\",\"\")","v":""},{"$f":"IF(A34>0,IF('tabella sintetica'!F100>0,'tabella sintetica'!F100,0),0)","v":0},null,{"$f":"IF(A34>0,IF(                 ('tabella sintetica'!G100 +'tabella sintetica'!K100                      ) >0,\"Assegno ad personam - C.C.N.L. 04/08/2011 - valore annuo lordo da corrispondere fino al termine della fascia 0/8 anni\",\"\"),\"\")","v":""},{"$f":"IF(A34>0,IF(            ('tabella sintetica'!G100+'tabella sintetica'!K100                       )>0,'tabella sintetica'!G100+'tabella sintetica'!K100,0),\"\")","v":""},null,{"$f":"IF(A34>0,IF('tabella sintetica'!H100>0,\"Aumento Biennale Indennità di Funzione - dpr 399/88\",\"\"),\"\")","v":""},{"$f":"IF(A34>0,IF('tabella sintetica'!H100>0,'tabella sintetica'!H100,0),\"\")","v":""},null,"",0,null,{"$f":"IF(A34>0,IF('tabella sintetica'!K49>0,\"Stipendio tabellare in vigore\",\"\"),\"\")","v":""},{"$f":"IF(A34>0,IF('tabella sintetica'!K49>0,'tabella sintetica'!K49,0),\"\")","v":""},null,{"$f":"IF('tabella sintetica'!J49<>\"\",\" Retribuzione professionale Docente \",\"\")","v":""},{"$f":"IF(A34>0,IF('tabella sintetica'!J100<>\"\",'tabella sintetica'!J100,0),0)","v":0},null,"","",null,null,"1900-01-01","1999-07-01","2002-01-01","2003-01-01","2006-01-01"]
[{"$f":"IF('tabella sintetica'!B101>0,1,0)","v":0},"","",null,"",{"$f":"IF(A35>0,'tabella sintetica'!C101,\"\")","v":""},null,"",{"$f":"IF(A35>0,'tabella sintetica'!D101,\"\")","v":""},null,{"$f":"IF(A35>0,IF('tabella sintetica'!E101>0,M35,\"\"),\"\")","v":""},{"$f":"IF(A35>0,IF('tabella sintetica'!E101>0,'tabella sintetica'!E101*coef,0),\"\")","v":""},"",{"$f":"IF('tabella sintetica'!F101>0,\"Aumento Biennale Stipendiale - dpr 399/88\",\"\")","v":""},{"$f":"IF(A35>0,IF('tabella sintetica'!F101>0,'tabella sintetica'!F101,0),0)","v":0},null,{"$f":"IF(A35>0,IF(                 ('tabella sintetica'!G101 +'tabella sintetica'!K101                      ) >0,\"Assegno ad personam - C.C.N.L. 04/08/2011 - valore annuo lordo da corrispondere fino al termine della fascia 0/8 anni\",\"\"),\"\")","v":""},{"$f":"IF(A35>0,IF(            ('tabella sintetica'!G101+'tabella sintetica'!K101                       )>0,'tabella sintetica'!G101+'tabella sintetica'!K101,0),\"\")","v":""},null,{"$f":"IF(A35>0,IF('tabella sintetica'!H101>0,\"Aumento Biennale Indennità di Funzione - dpr 399/88\",\"\"),\"\")","v":""},{"$f":"IF(A35>0,IF('tabella sintetica'!H101>0,'tabella sintetica'!H101,0),\"\")","v":""},null,"",0,null,{"$f":"IF(A35>0,IF('tabella sintetica'!K50>0,\"Stipendio tabellare in vigore\",\"\"),\"\")","v":""},{"$f":"IF(A35>0,IF('tabella sintetica'!K50>0,'tabella sintetica'!K50,0),\"\")","v":""},null,{"$f":"IF('tabella sintetica'!J50<>\"\",\" Retribuzione professionale Docente \",\"\")","v":""},{"$f":"IF(A35>0,IF('tabella sintetica'!J101<>\"\",'tabella sintetica'!J101,0),0)","v":0},null,"","",null,null,{"$f":"SUM(AJ28:AJ31)","v":0},{"$f":"SUM(AK28:AK31)","v":0},{"$f":"SUM(AL28:AL31)","v":0},{"$f":"SUM(AM28:AM31)","v":0},{"$f":"SUM(AN28:AN31)","v":0}]
[{"$f":"IF('tabella sintetica'!B102>0,1,0)","v":0},"","",null,"",{"$f":"IF(A36>0,'tabella sintetica'!C102,\"\")","v":""},null,"",{"$f":"IF(A36>0,'tabella sintetica'!D102,\"\")","v":""},null,{"$f":"IF(A36>0,IF('tabella sintetica'!E102>0,M36,\"\"),\"\")","v":""},{"$f":"IF(A36>0,IF('tabella sintetica'!E102>0,'tabella sintetica'!E102*coef,0),\"\")","v":""},"",{"$f":"IF('tabella sintetica'!F102>0,\"Aumento Biennale Stipendiale - dpr 399/88\",\"\")","v":""},{"$f":"IF(A36>0,IF('tabella sintetica'!F102>0,'tabella sintetica'!F102,0),0)","v":0},null,{"$f":"IF(A36>0,IF(                 ('tabella sintetica'!G102 +'tabella sintetica'!K102                      ) >0,\"Assegno ad personam - C.C.N.L. 04/08/2011 - valore annuo lordo da corrispondere fino al termine della fascia 0/8 anni\",\"\"),\"\")","v":""},{"$f":"IF(A36>0,IF(            ('tabella sintetica'!G102+'tabella sintetica'!K102                       )>0,'tabella sintetica'!G102+'tabella sintetica'!K102,0),\"\")","v":""},null,{"$f":"IF(A36>0,IF('tabella sintetica'!H102>0,\"Aumento Biennale Indennità di Funzione - dpr 399/88\",\"\"),\"\")","v":""},{"$f":"IF(A36>0,IF('tabella sintetica'!H102>0,'tabella sintetica'!H102,0),\"\")","v":""},null,"",0,null,{"$f":"IF(A36>0,IF('tabella sintetica'!K51>0,\"Stipendio tabellare in vigore\",\"\"),\"\")","v":""},{"$f":"IF(A36>0,IF('tabella sintetica'!K51>0,'tabella sintetica'!K51,0),\"\")","v":""},null,{"$f":"IF('tabella sintetica'!J51<>\"\",\" Retribuzione professionale Docente \",\"\")","v":""},{"$f":"IF(A36>0,IF('tabella sintetica'!J102<>\"\",'tabella sintetica'!J102,0),0)","v":0},null,"",""]

{"sheet":"tabella sintetica","index":23,"n_rows":351,"n_cols":32,"rows_kept":351,"cut":false,"hidden":false,"merged":[[13,1,13,3],[9,3,9,5],[11,3,11,5],[14,2,14,8],[3,1,3,2],[3,4,3,5],[3,6,3,7],[5,1,5,2],[5,4,5,5],[68,1,68,2],[68,4,68,5],[9,2,12,2],[7,1,7,2],[7,4,7,5]]}
[]
[]
[]
[null,"Nominativo:",null,{"$f":"Foglio2!E21","v":0},"Codice Fiscale:",null,{"$f":"Foglio2!L21","v":0}]
[]
[null,"Qualifica:",null,{"$f":"qualifica","v":"Doc. laureato 1° Grado"},"Decorrenza ruolo:",null,{"$f":"decor","v":-365}]
[null,null,null,null,null,null,"anni","mesi","giorni",null,"Intervallo date decreto"]
[null,"Conferma in ruolo:",null,{"$f":"G6","v":-365},"Totale servizio preruolo:",null,{"$f":"Foglio2!F92","v":-1},{"$f":"Foglio2!G92","v":0},{"$f":"Foglio2!H92","v":0},null,"dal."]
[null,"anz. Riconosciuta alla conf. In ruolo",null,{"$f":"G10+(D8-G6)/365","v":{"$error":"#NUM!"}},null,null,"anni","mesi","giorni",null,{"$f":"Foglio2!M25","v":"1986-09-01"},"(intmin)"]
["in caso ata",{"$f":"IF(AND(QUAL<5,D8<=AE19,D9>=3),Foglio1!P1161,0)","v":{"$error":"#NUM!"}},"cifra da aggiungere alla retrib. Della conferma in ruolo perche da 3 a 8 anni","Anzianità riconosciuta giuridica ed economica:",null,null,{"$f":"Foglio2!C103","v":{"$error":"#NUM!"}},{"$f":"Foglio2!D103","v":0},{"$f":"Foglio2!E103","v":0},null,"al"]
["in caso doc",{"$f":"IF(AND(QUAL>5,G6<=AE19,G10>=3),Foglio1!P1161,0)","v":{"$error":"#NUM!"}},null,null,null,null,"anni","mesi","giorni",null,{"$f":"Foglio2!O25","v":"00:00:00"},"(intmax)"]
[null,null,null,"Anaizanità riconsociuta solo economica:",null,null,{"$f":"Foglio2!C104","v":0},{"$f":"Foglio2!D104","v":0},{"$f":"Foglio2!E104","v":0}]
[null,{"$f":"B10+B11","v":{"$error":"#NUM!"}},null,null,null,null,null,null,null,null,null,null,null,null,null,null,null,null,null,null,null,null,null,null,null,null,null,null,null,null,"se al 01/09/2010 l'anz è minore di 3 anni allora non spetta l'ass ad p."]
[null,"N. B.  -l'assegno ad personam, il rateo, le 240.000 lire art 7, l'ind. di vacanza,  vengono riassorbiti con il successivo passaggio di gradone. L'incremento stipendiale ccnl assorbe l'indennita di vacanza.",null,null,null,null,null,null,null,null,null,null,null,null,null,null,null,null,null,null,null,null,null,null,null,null,null,null,null,null,"Verifica se è =1 l'ad ad personam non spetta"]
[null,null,"Tabella sintetica delle modifiche contrattuali / retributive intervenute durante l'iter della carriera"]
[]
[null,null,null,null,null,null,null,null,null,null,null,null,null,null,null,null,null,null,null,null,null,null,null,null,null,null,null,null,null,null,{"$f":"MAX(AE20:AE30)","v":0},"se e = 1    l'as ad pers. Non spetta  -se =0 l'as ad p. spetta"]
[]
[null,null,"Decorrenza data","Posizione Anni - ratei spettanti - passaggi","Valore",{"$f":"IF(CONF<data96,\"Aumento Biennale Stipendiale - dpr 399/88\",\"\")","v":{"$error":"#NUM!"}},{"$f":"IF(CONF<data96,\"Indennità di Funzione - dpr 399/88\",\"\")","v":{"$error":"#NUM!"}},{"$f":"IF(CONF<data96,\"Aumento Biennale Indennità di Funzione - dpr 399/88\",\"\")","v":{"$error":"#NUM!"}},{"$f":"IF(CONF<data96,\"riconoscimento lire 240.00 - dpr 399/88\",\"\")","v":{"$error":"#NUM!"}},"R.p.D.","Stipendio",null,"verifica se la data e dal 01/09/2010 in poi","c.c.n.l. 04/agosto 2011 - per eliminazione fascia 3-8 anni",null,null,null,null,null,null,null,null,null,null,null,null,null,null,null,null,"2010-09-01","fascia di anzianità da 0-2 anni  C.C.N.L. 04/ agosto 2011"]
[null,{"$f":"IF(AND(C20>=intmin,C20<=intmax,E20>0),1,0)","v":0},"2000-01-01","Decorrenza della Ricostruzione di Carriera ",10253.218817623576,null,null,null,null,594.96,null,null,{"$f":"IF(C20>40421,1,0)","v":0},"fascia di anzianità da 3-8 anni  ccnl","fascia di anzianità da 0-2 anni  C.C.N.L. 2007 - BIENNIO ECONOMICO 2008/2009 - Annuo lordo inclusa l'iis","per passaggio, in questa data, al gradone 3-8 anni   - inclusa l'i.i.s. - Annuo lordo ","Fascia di anzianità 0-8 anni - C.C.N.L. 04/08/2011 - Annuo lordo inclusa I.I.S.","Fascia di anzianità 0-8 anni - C.C.N.L. 04/08/2011 - Annuo lordo inclusa I.I.S.",{"$f":"IF( AE17=0,\"Da corrispondere da questa data: Assegno ad Personam C.C.N.L. 04/agosto / 2011 - per tutta la durata del gradone 0 / 8 anni - importo annuo lordo \",O20)","v":"Da corrispondere da questa data: Assegno ad Personam C.C.N.L. 04/agosto / 2011 - per tutta la durata del gradone 0 / 8 anni - importo annuo lordo "},null,{"$f":"IF(LEFT(N20,30)=LEFT(D20,30),Q20,IF(LEFT(O20,30)=LEFT(D20,30),R20,IF(P20=D20,S20,)))","v":0},null,{"$f":"IF(OR(M20=0, U20=0),D20,U20)","v":"Decorrenza della Ricostruzione di Carriera "},{"$f":"IF(AND(C20>=AE19,W20=O20),Q20,W20)","v":"Decorrenza della Ricostruzione di Carriera "},{"$f":"IF(AND(X20=S20,M20=1),R20,X20)","v":"Decorrenza della Ricostruzione di Carriera "},null,null,null,null,null,{"$f":"IF(AND(AE19>=C20,AF19=D20),1,0)","v":0}]
[null,{"$f":"IF(AND(C21>=intmin,C21<=intmax,E21>0),B20+1,0)","v":0},"2000-07-01","fascia di anzianità da 0-2 anni  C.C.N.L. del 26/05/1999 incluso incremento stipendiale dal 01/11/1998 - Annuo lordo",10451.538266873938,null,null,null,null,594.96,null,null,{"$f":"IF(C21>40421,1,0)","v":0},"fascia di anzianità da 3-8 anni  ccnl","fascia di anzianità da 0-2 anni  C.C.N.L. 2007 - BIENNIO ECONOMICO 2008/2009 - Annuo lordo inclusa l'iis","per passaggio, in questa data, al gradone 3-8 anni   - inclusa l'i.i.s. - Annuo lordo ","Fascia di anzianità 0-8 anni - C.C.N.L. 04/08/2011 - Annuo lordo inclusa I.I.S.","Fascia di anzianità 0-8 anni - C.C.N.L. 04/08/2011 - Annuo lordo inclusa I.I.S.",{"$f":"IF( AE17=0,\"Da corrispondere da questa data: Assegno ad Personam C.C.N.L. 04/agosto / 2011 - per tutta la durata del gradone 0 / 8 anni - importo annuo lordo \",O21)","v":"Da corrispondere da questa data: Assegno ad Personam C.C.N.L. 04/agosto / 2011 - per tutta la durata del gradone 0 / 8 anni - importo annuo lordo "},null,{"$f":"IF(LEFT(N21,30)=LEFT(D21,30),Q21,IF(LEFT(O21,30)=LEFT(D21,30),R21,IF(P21=D21,S21,)))","v":"Fascia di anzianità 0-8 anni - C.C.N.L. 04/08/2011 - Annuo lordo inclusa I.I.S."},null,{"$f":"IF(OR(M21=0, U21=0),D21,U21)","v":"fascia di anzianità da 0-2 anni  C.C.N.L. del 26/05/1999 incluso incremento stipendiale dal 01/11/1998 - Annuo lordo"},{"$f":"IF(AND(C21>=AE19,W21=O21),Q21,W21)","v":"fascia di anzianità da 0-2 anni  C.C.N.L. del 26/05/1999 incluso incremento stipendiale dal 01/11/1998 - Annuo lordo"},{"$f":"IF(AND(X21=S21,M21=1),R21,X21)","v":"fascia di anzianità da 0-2 anni  C.C.N.L. del 26/05/1999 incluso incremento stipendiale dal 01/11/1998 - Annuo lordo"},null,null,null,null,null,{"$f":"IF(AND(AE19>=C21,AF19=D21),1,0)","v":0}]
[null,0,"2001-01-01","fascia di anzianità da 0-2 anni  C.C.N.L. del 26/05/1999 - incluso incremento stipendiale dal 01/06/1999 - Annuo lordo",10786.202337483925,null,null,null,null,1338.6562824399489,null,null,{"$f":"IF(C22>40421,1,0)","v":0},"fascia di anzianità da 3-8 anni  ccnl","fascia di anzianità da 0-2 anni  C.C.N.L. 2007 - BIENNIO ECONOMICO 2008/2009 - Annuo lordo inclusa l'iis","per passaggio, in questa data, al gradone 3-8 anni   - inclusa l'i.i.s. - Annuo lordo ","Fascia di anzianità 0-8 anni - C.C.N.L. 04/08/2011 - Annuo lordo inclusa I.I.S.","Fascia di anzianità 0-8 anni - C.C.N.L. 04/08/2011 - Annuo lordo inclusa I.I.S.",{"$f":"IF( AE17=0,\"Da corrispondere da questa data: Assegno ad Personam C.C.N.L. 04/agosto / 2011 - per tutta la durata del gradone 0 / 8 anni - importo annuo lordo \",O22)","v":"Da corrispondere da questa data: Assegno ad Personam C.C.N.L. 04/agosto / 2011 - per tutta la durata del gradone 0 / 8 anni - importo annuo lordo "},null,"Fascia di anzianità 0-8 anni - C.C.N.L. 04/08/2011 - Annuo lordo inclusa I.I.S.",null,"fascia di anzianità da 0-2 anni  C.C.N.L. del 26/05/1999 - incluso incremento stipendiale dal 01/06/1999 - Annuo lordo",{"$f":"IF(AND(C22>=AE19,W22=O22),Q22,W22)","v":"fascia di anzianità da 0-2 anni  C.C.N.L. del 26/05/1999 - incluso incremento stipendiale dal 01/06/1999 - Annuo lordo"},{"$f":"IF(AND(X22=S22,M22=1),R22,X22)","v":"fascia di anzianità da 0-2 anni  C.C.N.L. del 26/05/1999 - incluso incremento stipendiale dal 01/06/1999 - Annuo lordo"},null,null,null,null,null,{"$f":"IF(AND(AE19>=C22,AF19=D22),1,0)","v":0}]
[null,0,"2002-01-01","fascia di anzianità da 0-2 anni  C.C.N.L. del 15/03/2001 - Annuo lordo",11221.802337483925,null,null,null,null,1578.6562824399489,null,null,0,"fascia di anzianità da 3-8 anni  ccnl","fascia di anzianità da 0-2 anni  C.C.N.L. 2007 - BIENNIO ECONOMICO 2008/2009 - Annuo lordo inclusa l'iis","per passaggio, in questa data, al gradone 3-8 anni   - inclusa l'i.i.s. - Annuo lordo ","Fascia di anzianità 0-8 anni - C.C.N.L. 04/08/2011 - Annuo lordo inclusa I.I.S.","Fascia di anzianità 0-8 anni - C.C.N.L. 04/08/2011 - Annuo lordo inclusa I.I.S.",{"$f":"IF( AE17=0,\"Da corrispondere da questa data: Assegno ad Personam C.C.N.L. 04/agosto / 2011 - per tutta la durata del gradone 0 / 8 anni - importo annuo lordo \",O23)","v":"Da corrispondere da questa data: Assegno ad Personam C.C.N.L. 04/agosto / 2011 - per tutta la durata del gradone 0 / 8 anni - importo annuo lordo "},null,"Fascia di anzianità 0-8 anni - C.C.N.L. 04/08/2011 - Annuo lordo inclusa I.I.S.",null,"fascia di anzianità da 0-2 anni  C.C.N.L. del 15/03/2001 - Annuo lordo",{"$f":"IF(AND(C23>=AE19,W23=O23),Q23,W23)","v":"fascia di anzianità da 0-2 anni  C.C.N.L. del 15/03/2001 - Annuo lordo"},{"$f":"IF(AND(X23=S23,M23=1),R23,X23)","v":"fascia di anzianità da 0-2 anni  C.C.N.L. del 15/03/2001 - Annuo lordo"},null,null,null,null,null,{"$f":"IF(AND(AE19>=C23,AF19=D23),1,0)","v":0}]
[null,0,"2003-01-01","fascia di anzianità da 0-2 anni  C.C.N.L. del 15/03/2001 - incluso incrementi stipendiali dal 01/01/2001 - Annuo lordo",18128.79,null,null,null,null,1710.6,null,null,0,"fascia di anzianità da 3-8 anni  ccnl","fascia di anzianità da 0-2 anni  C.C.N.L. 2007 - BIENNIO ECONOMICO 2008/2009 - Annuo lordo inclusa l'iis","per passaggio, in questa data, al gradone 3-8 anni   - inclusa l'i.i.s. - Annuo lordo ","Fascia di anzianità 0-8 anni - C.C.N.L. 04/08/2011 - Annuo lordo inclusa I.I.S.","Fascia di anzianità 0-8 anni - C.C.N.L. 04/08/2011 - Annuo lordo inclusa I.I.S.",{"$f":"IF( AE17=0,\"Da corrispondere da questa data: Assegno ad Personam C.C.N.L. 04/agosto / 2011 - per tutta la durata del gradone 0 / 8 anni - importo annuo lordo \",O24)","v":"Da corrispondere da questa data: Assegno ad Personam C.C.N.L. 04/agosto / 2011 - per tutta la durata del gradone 0 / 8 anni - importo annuo lordo "},null,"Fascia di anzianità 0-8 anni - C.C.N.L. 04/08/2011 - Annuo lordo inclusa I.I.S.",null,"fascia di anzianità da 0-2 anni  C.C.N.L. del 15/03/2001 - incluso incrementi stipendiali dal 01/01/2001 - Annuo lordo",{"$f":"IF(AND(C24>=AE19,W24=O24),Q24,W24)","v":"fascia di anzianità da 0-2 anni  C.C.N.L. del 15/03/2001 - incluso incrementi stipendiali dal 01/01/2001 - Annuo lordo"},"fascia di anzianità da 0-2 anni  C.C.N.L. del 15/03/2001 - incluso incrementi stipendiali dal 01/01/2001 - Annuo lordo",null,null,null,null,null,{"$f":"IF(AND(AE19>=C24,AF19=D24),1,0)","v":0}]
[null,0,37987,"fascia di anzianità da 0-2 anni  C.C.N.L. del 24/07/2003 - Annuo lordo",18566.91,null,null,null,null,1857.84,null,null,0,"fascia di anzianità da 3-8 anni  ccnl","fascia di anzianità da 0-2 anni  C.C.N.L. 2007 - BIENNIO ECONOMICO 2008/2009 - Annuo lordo inclusa l'iis","per passaggio, in questa data, al gradone 3-8 anni   - inclusa l'i.i.s. - Annuo lordo ","Fascia di anzianità 0-8 anni - C.C.N.L. 04/08/2011 - Annuo lordo inclusa I.I.S.","Fascia di anzianità 0-8 anni - C.C.N.L. 04/08/2011 - Annuo lordo inclusa I.I.S.",{"$f":"IF( AE17=0,\"Da corrispondere da questa data: Assegno ad Personam C.C.N.L. 04/agosto / 2011 - per tutta la durata del gradone 0 / 8 anni - importo annuo lordo \",O25)","v":"Da corrispondere da questa data: Assegno ad Personam C.C.N.L. 04/agosto / 2011 - per tutta la durata del gradone 0 / 8 anni - importo annuo lordo "},null,"Fascia di anzianità 0-8 anni - C.C.N.L. 04/08/2011 - Annuo lordo inclusa I.I.S.",null,"fascia di anzianità da 0-2 anni  C.C.N.L. del 24/07/2003 - Annuo lordo",{"$f":"IF(AND(C25>=AE19,W25=O25),Q25,W25)","v":"fascia di anzianità da 0-2 anni  C.C.N.L. del 24/07/2003 - Annuo lordo"},"fascia di anzianità da 0-2 anni  C.C.N.L. del 24/07/2003 - Annuo lordo",null,{"$f":"LEFT(D25,30)","v":"fascia di anzianità da 0-2 ann"},null,null,null,{"$f":"IF(AND(AE19>=C25,AF19=D25),1,0)","v":0}]
[null,0,"2005-02-01","fascia di anzianità da 0-2 anni  C.C.N.L. del 24/07/2003 - incluso incrementi stipendiali dal 01/01/2003 - inclusa l' i.i.s. - Annuo lordo",19082.5,null,null,null,null,1857.84,null,null,0,"fascia di anzianità da 3-8 anni  ccnl","fascia di anzianità da 0-2 anni  C.C.N.L. 2007 - BIENNIO ECONOMICO 2008/2009 - Annuo lordo inclusa l'iis","per passaggio, in questa data, al gradone 3-8 anni   - inclusa l'i.i.s. - Annuo lordo ","Fascia di anzianità 0-8 anni - C.C.N.L. 04/08/2011 - Annuo lordo inclusa I.I.S.","Fascia di anzianità 0-8 anni - C.C.N.L. 04/08/2011 - Annuo lordo inclusa I.I.S.",{"$f":"IF( AE17=0,\"Da corrispondere da questa data: Assegno ad Personam C.C.N.L. 04/agosto / 2011 - per tutta la durata del gradone 0 / 8 anni - importo annuo lordo \",O26)","v":"Da corrispondere da questa data: Assegno ad Personam C.C.N.L. 04/agosto / 2011 - per tutta la durata del gradone 0 / 8 anni - importo annuo lordo "},null,"Fascia di anzianità 0-8 anni - C.C.N.L. 04/08/2011 - Annuo lordo inclusa I.I.S.",null,"fascia di anzianità da 0-2 anni  C.C.N.L. del 24/07/2003 - incluso incrementi stipendiali dal 01/01/2003 - inclusa l' i.i.s. - Annuo lordo",{"$f":"IF(AND(C26>=AE19,W26=O26),Q26,W26)","v":"fascia di anzianità da 0-2 anni  C.C.N.L. del 24/07/2003 - incluso incrementi stipendiali dal 01/01/2003 - inclusa l' i.i.s. - Annuo lordo"},"fascia di anzianità da 0-2 anni  C.C.N.L. del 24/07/2003 - incluso incrementi stipendiali dal 01/01/2003 - inclusa l' i.i.s. - Annuo lordo",null,null,null,null,null,{"$f":"IF(AND(AE19>=C26,AF19=D26),1,0)","v":0}]
[null,0,38718,"fascia di anzianità da 0-2 anni  C.C.N.L. del 07/12/2005 - incluso incremento stipendiale dal 01/01/2004 - inclusa l'i.i.s. - Annuo lordo",19170.939999999999,null,null,null,null,1968,null,null,0,"fascia di anzianità da 3-8 anni  ccnl","fascia di anzianità da 0-2 anni  C.C.N.L. 2007 - BIENNIO ECONOMICO 2008/2009 - Annuo lordo inclusa l'iis","per passaggio, in questa data, al gradone 3-8 anni   - inclusa l'i.i.s. - Annuo lordo ","Fascia di anzianità 0-8 anni - C.C.N.L. 04/08/2011 - Annuo lordo inclusa I.I.S.","Fascia di anzianità 0-8 anni - C.C.N.L. 04/08/2011 - Annuo lordo inclusa I.I.S.",{"$f":"IF( AE17=0,\"Da corrispondere da questa data: Assegno ad Personam C.C.N.L. 04/agosto / 2011 - per tutta la durata del gradone 0 / 8 anni - importo annuo lordo \",O27)","v":"Da corrispondere da questa data: Assegno ad Personam C.C.N.L. 04/agosto / 2011 - per tutta la durata del gradone 0 / 8 anni - importo annuo lordo "},null,"Fascia di anzianità 0-8 anni - C.C.N.L. 04/08/2011 - Annuo lordo inclusa I.I.S.",null,"fascia di anzianità da 0-2 anni  C.C.N.L. del 07/12/2005 - incluso incremento stipendiale dal 01/01/2004 - inclusa l'i.i.s. - Annuo lordo",{"$f":"IF(AND(C27>=AE19,W27=O27),Q27,W27)","v":"fascia di anzianità da 0-2 anni  C.C.N.L. del 07/12/2005 - incluso incremento stipendiale dal 01/01/2004 - inclusa l'i.i.s. - Annuo lordo"},"fascia di anzianità da 0-2 anni  C.C.N.L. del 07/12/2005 - incluso incremento stipendiale dal 01/01/2004 - inclusa l'i.i.s. - Annuo lordo",null,null,null,null,null,{"$f":"IF(AND(AE19>=C27,AF19=D27),1,0)","v":0}]
[null,0,"2007-01-01","fascia di anzianità da 0-2 anni  C.C.N.L. del 07/12/2005 - incluso incremento stipendiale dal 01/02/2005 - inclusa l'i.i.s. - Annuo lordo",19535.740000000002,null,null,null,null,1968,null,null,0,"fascia di anzianità da 3-8 anni  ccnl","fascia di anzianità da 0-2 anni  C.C.N.L. 2007 - BIENNIO ECONOMICO 2008/2009 - Annuo lordo inclusa l'iis","per passaggio, in questa data, al gradone 3-8 anni   - inclusa l'i.i.s. - Annuo lordo ","Fascia di anzianità 0-8 anni - C.C.N.L. 04/08/2011 - Annuo lordo inclusa I.I.S.","Fascia di anzianità 0-8 anni - C.C.N.L. 04/08/2011 - Annuo lordo inclusa I.I.S.",{"$f":"IF( AE17=0,\"Da corrispondere da questa data: Assegno ad Personam C.C.N.L. 04/agosto / 2011 - per tutta la durata del gradone 0 / 8 anni - importo annuo lordo \",O28)","v":"Da corrispondere da questa data: Assegno ad Personam C.C.N.L. 04/agosto / 2011 - per tutta la durata del gradone 0 / 8 anni - importo annuo lordo "},null,"Fascia di anzianità 0-8 anni - C.C.N.L. 04/08/2011 - Annuo lordo inclusa I.I.S.",null,"fascia di anzianità da 0-2 anni  C.C.N.L. del 07/12/2005 - incluso incremento stipendiale dal 01/02/2005 - inclusa l'i.i.s. - Annuo lordo",{"$f":"IF(AND(C28>=AE19,W28=O28),Q28,W28)","v":"fascia di anzianità da 0-2 anni  C.C.N.L. del 07/12/2005 - incluso incremento stipendiale dal 01/02/2005 - inclusa l'i.i.s. - Annuo lordo"},"fascia di anzianità da 0-2 anni  C.C.N.L. del 07/12/2005 - incluso incremento stipendiale dal 01/02/2005 - inclusa l'i.i.s. - Annuo lordo",null,null,null,null,null,{"$f":"IF(AND(AE19>=C28,AF19=D28),1,0)","v":0}]
[null,0,"2007-02-01","fascia di anzianità da 0-2 anni  C.C.N.L. del 29/11/2007 - inclusa l'i.i.s. - Annuo lordo",20068.419999999998,null,null,null,null,1968,null,null,0,"fascia di anzianità da 3-8 anni  ccnl","fascia di anzianità da 0-2 anni  C.C.N.L. 2007 - BIENNIO ECONOMICO 2008/2009 - Annuo lordo inclusa l'iis","per passaggio, in questa data, al gradone 3-8 anni   - inclusa l'i.i.s. - Annuo lordo ","Fascia di anzianità 0-8 anni - C.C.N.L. 04/08/2011 - Annuo lordo inclusa I.I.S.","Fascia di anzianità 0-8 anni - C.C.N.L. 04/08/2011 - Annuo lordo inclusa I.I.S.",{"$f":"IF( AE17=0,\"Da corrispondere da questa data: Assegno ad Personam C.C.N.L. 04/agosto / 2011 - per tutta la durata del gradone 0 / 8 anni - importo annuo lordo \",O29)","v":"Da corrispondere da questa data: Assegno ad Personam C.C.N.L. 04/agosto / 2011 - per tutta la durata del gradone 0 / 8 anni - importo annuo lordo "},null,"Fascia di anzianità 0-8 anni - C.C.N.L. 04/08/2011 - Annuo lordo inclusa I.I.S.",null,"fascia di anzianità da 0-2 anni  C.C.N.L. del 29/11/2007 - inclusa l'i.i.s. - Annuo lordo",{"$f":"IF(AND(C29>=AE19,W29=O29),Q29,W29)","v":"fascia di anzianità da 0-2 anni  C.C.N.L. del 29/11/2007 - inclusa l'i.i.s. - Annuo lordo"},"fascia di anzianità da 0-2 anni  C.C.N.L. del 29/11/2007 - inclusa l'i.i.s. - Annuo lordo",null,null,null,null,null,{"$f":"IF(AND(AE19>=C29,AF19=D29),1,0)","v":0}]
[null,0,"2008-01-01","fascia di anzianità da 0-2 anni  C.C.N.L. del 29/11/2007 - incluso incremento stipendiale dal 01/01/2007 - inclusa l'i.i.s. - Annuo lordo",20197.18,null,null,null,null,1968,null,null,0,"fascia di anzianità da 3-8 anni  ccnl","fascia di anzianità da 0-2 anni  C.C.N.L. 2007 - BIENNIO ECONOMICO 2008/2009 - Annuo lordo inclusa l'iis","per passaggio, in questa data, al gradone 3-8 anni   - inclusa l'i.i.s. - Annuo lordo ","Fascia di anzianità 0-8 anni - C.C.N.L. 04/08/2011 - Annuo lordo inclusa I.I.S.","Fascia di anzianità 0-8 anni - C.C.N.L. 04/08/2011 - Annuo lordo inclusa I.I.S.",{"$f":"IF( AE17=0,\"Da corrispondere da questa data: Assegno ad Personam C.C.N.L. 04/agosto / 2011 - per tutta la durata del gradone 0 / 8 anni - importo annuo lordo \",O30)","v":"Da corrispondere da questa data: Assegno ad Personam C.C.N.L. 04/agosto / 2011 - per tutta la durata del gradone 0 / 8 anni - importo annuo lordo "},null,"Fascia di anzianità 0-8 anni - C.C.N.L. 04/08/2011 - Annuo lordo inclusa I.I.S.",null,"fascia di anzianità da 0-2 anni  C.C.N.L. del 29/11/2007 - incluso incremento stipendiale dal 01/01/2007 - inclusa l'i.i.s. - Annuo lordo",{"$f":"IF(AND(C30>=AE19,W30=O30),Q30,W30)","v":"fascia di anzianità da 0-2 anni  C.C.N.L. del 29/11/2007 - incluso incremento stipendiale dal 01/01/2007 - inclusa l'i.i.s. - Annuo lordo"},"fascia di anzianità da 0-2 anni  C.C.N.L. del 29/11/2007 - incluso incremento stipendiale dal 01/01/2007 - inclusa l'i.i.s. - Annuo lordo",null,null,null,null,null,{"$f":"IF(AND(AE19>=C30,AF19=D30),1,0)","v":0}]
[null,0,"2008-04-01","fascia di anzianità da 0-2 anni  Sequenza Contrattuale del 14/02/2008  - inclusa l'i.i.s. - Annuo lordo",20300.14,null,null,null,null,1968,null,null,0,"fascia di anzianità da 3-8 anni  ccnl","fascia di anzianità da 0-2 anni  C.C.N.L. 2007 - BIENNIO ECONOMICO 2008/2009 - Annuo lordo inclusa l'iis","per passaggio, in questa data, al gradone 3-8 anni   - inclusa l'i.i.s. - Annuo lordo ","Fascia di anzianità 0-8 anni - C.C.N.L. 04/08/2011 - Annuo lordo inclusa I.I.S.","Fascia di anzianità 0-8 anni - C.C.N.L. 04/08/2011 - Annuo lordo inclusa I.I.S.",{"$f":"IF( AE17=0,\"Da corrispondere da questa data: Assegno ad Personam C.C.N.L. 04/agosto / 2011 - per tutta la durata del gradone 0 / 8 anni - importo annuo lordo \",O31)","v":"Da corrispondere da questa data: Assegno ad Personam C.C.N.L. 04/agosto / 2011 - per tutta la durata del gradone 0 / 8 anni - importo annuo lordo "},null,"Fascia di anzianità 0-8 anni - C.C.N.L. 04/08/2011 - Annuo lordo inclusa I.I.S.",null,"fascia di anzianità da 0-2 anni  Sequenza Contrattuale del 14/02/2008  - inclusa l'i.i.s. - Annuo lordo",{"$f":"IF(AND(C31>=AE19,W31=O31),Q31,W31)","v":"fascia di anzianità da 0-2 anni  Sequenza Contrattuale del 14/02/2008  - inclusa l'i.i.s. - Annuo lordo"},"fascia di anzianità da 0-2 anni  Sequenza Contrattuale del 14/02/2008  - inclusa l'i.i.s. - Annuo lordo"]
[null,0,"2008-07-01","fascia di anzianità da 0-2 anni  Sequenza Contrattuale del 14/02/2008 - inclusa l'i.i.s. - Annuo lordo",20368.900000000001,null,null,null,null,1968,null,null,0,"fascia di anzianità da 3-8 anni  ccnl","fascia di anzianità da 0-2 anni  C.C.N.L. 2007 - BIENNIO ECONOMICO 2008/2009 - Annuo lordo inclusa l'iis","per passaggio, in questa data, al gradone 3-8 anni   - inclusa l'i.i.s. - Annuo lordo ","Fascia di anzianità 0-8 anni - C.C.N.L. 04/08/2011 - Annuo lordo inclusa I.I.S.","Fascia di anzianità 0-8 anni - C.C.N.L. 04/08/2011 - Annuo lordo inclusa I.I.S.",{"$f":"IF( AE17=0,\"Da corrispondere da questa data: Assegno ad Personam C.C.N.L. 04/agosto / 2011 - per tutta la durata del gradone 0 / 8 anni - importo annuo lordo \",O32)","v":"Da corrispondere da questa data: Assegno ad Personam C.C.N.L. 04/agosto / 2011 - per tutta la durata del gradone 0 / 8 anni - importo annuo lordo "},null,"Fascia di anzianità 0-8 anni - C.C.N.L. 04/08/2011 - Annuo lordo inclusa I.I.S.",null,"fascia di anzianità da 0-2 anni  Sequenza Contrattuale del 14/02/2008 - inclusa l'i.i.s. - Annuo lordo",{"$f":"IF(AND(C32>=AE19,W32=O32),Q32,W32)","v":"fascia di anzianità da 0-2 anni  Sequenza Contrattuale del 14/02/2008 - inclusa l'i.i.s. - Annuo lordo"},"fascia di anzianità da 0-2 anni  Sequenza Contrattuale del 14/02/2008 - inclusa l'i.i.s. - Annuo lordo"]
[null,0,"2009-01-01","fascia di anzianità da 0-2 anni    Indennità di vacanza contrattuale - (Art. 33  Decreto Legge  N. 185 del 29 novembre 2008) - Annuo lordo inclusa l'iis -",20973.22,null,null,null,null,1968,null,null,0,"fascia di anzianità da 3-8 anni  ccnl","fascia di anzianità da 0-2 anni  C.C.N.L. 2007 - BIENNIO ECONOMICO 2008/2009 - Annuo lordo inclusa l'iis","per passaggio, in questa data, al gradone 3-8 anni   - inclusa l'i.i.s. - Annuo lordo ","Fascia di anzianità 0-8 anni - C.C.N.L. 04/08/2011 - Annuo lordo inclusa I.I.S.","Fascia di anzianità 0-8 anni - C.C.N.L. 04/08/2011 - Annuo lordo inclusa I.I.S.",{"$f":"IF( AE17=0,\"Da corrispondere da questa data: Assegno ad Personam C.C.N.L. 04/agosto / 2011 - per tutta la durata del gradone 0 / 8 anni - importo annuo lordo \",O33)","v":"Da corrispondere da questa data: Assegno ad Personam C.C.N.L. 04/agosto / 2011 - per tutta la durata del gradone 0 / 8 anni - importo annuo lordo "},null,"Fascia di anzianità 0-8 anni - C.C.N.L. 04/08/2011 - Annuo lordo inclusa I.I.S.",null,"fascia di anzianità da 0-2 anni    Indennità di vacanza contrattuale - (Art. 33  Decreto Legge  N. 185 del 29 novembre 2008) - Annuo lordo inclusa l'iis -",{"$f":"IF(AND(C33>=AE19,W33=O33),Q33,W33)","v":"fascia di anzianità da 0-2 anni    Indennità di vacanza contrattuale - (Art. 33  Decreto Legge  N. 185 del 29 novembre 2008) - Annuo lordo inclusa l'iis -"},"fascia di anzianità da 0-2 anni    Indennità di vacanza contrattuale - (Art. 33  Decreto Legge  N. 185 del 29 novembre 2008) - Annuo lordo inclusa l'iis -"]
[null,0,"2010-04-01","fascia di anzianità da 0-2 anni    Indennità di vacanza contrattuale - (Art. 33  Decreto Legge  N. 185 del 29 novembre 2008) - Annuo lordo inclusa l'iis -",21067.54,null,null,null,null,1968,null,null,0,"fascia di anzianità da 3-8 anni  ccnl","fascia di anzianità da 0-2 anni  C.C.N.L. 2007 - BIENNIO ECONOMICO 2008/2009 - Annuo lordo inclusa l'iis","per passaggio, in questa data, al gradone 3-8 anni   - inclusa l'i.i.s. - Annuo lordo ","Fascia di anzianità 0-8 anni - C.C.N.L. 04/08/2011 - Annuo lordo inclusa I.I.S.","Fascia di anzianità 0-8 anni - C.C.N.L. 04/08/2011 - Annuo lordo inclusa I.I.S.",{"$f":"IF( AE17=0,\"Da corrispondere da questa data: Assegno ad Personam C.C.N.L. 04/agosto / 2011 - per tutta la durata del gradone 0 / 8 anni - importo annuo lordo \",O34)","v":"Da corrispondere da questa data: Assegno ad Personam C.C.N.L. 04/agosto / 2011 - per tutta la durata del gradone 0 / 8 anni - importo annuo lordo "},null,"Fascia di anzianità 0-8 anni - C.C.N.L. 04/08/2011 - Annuo lordo inclusa I.I.S.",null,"fascia di anzianità da 0-2 anni    Indennità di vacanza contrattuale - (Art. 33  Decreto Legge  N. 185 del 29 novembre 2008) - Annuo lordo inclusa l'iis -",{"$f":"IF(AND(C34>=AE19,W34=O34),Q34,W34)","v":"fascia di anzianità da 0-2 anni    Indennità di vacanza contrattuale - (Art. 33  Decreto Legge  N. 185 del 29 novembre 2008) - Annuo lordo inclusa l'iis -"},"fascia di anzianità da 0-2 anni    Indennità di vacanza contrattuale - (Art. 33  Decreto Legge  N. 185 del 29 novembre 2008) - Annuo lordo inclusa l'iis -"]
[null,0,"2010-07-01","fascia di anzianità da 0-2 anni  C.C.N.L. 2007 - BIENNIO ECONOMICO 2008/2009 - Annuo lordo inclusa l'iis",21130.54,null,null,null,null,1968,null,null,0,"fascia di anzianità da 3-8 anni  ccnl","fascia di anzianità da 0-2 anni  C.C.N.L. 2007 - BIENNIO ECONOMICO 2008/2009 - Annuo lordo inclusa l'iis","per passaggio, in questa data, al gradone 3-8 anni   - inclusa l'i.i.s. - Annuo lordo ","Fascia di anzianità 0-8 anni - C.C.N.L. 04/08/2011 - Annuo lordo inclusa I.I.S.","Fascia di anzianità 0-8 anni - C.C.N.L. 04/08/2011 - Annuo lordo inclusa I.I.S.",{"$f":"IF( AE17=0,\"Da corrispondere da questa data: Assegno ad Personam C.C.N.L. 04/agosto / 2011 - per tutta la durata del gradone 0 / 8 anni - importo annuo lordo \",O35)","v":"Da corrispondere da questa data: Assegno ad Personam C.C.N.L. 04/agosto / 2011 - per tutta la durata del gradone 0 / 8 anni - importo annuo lordo "},null,"Fascia di anzianità 0-8 anni - C.C.N.L. 04/08/2011 - Annuo lordo inclusa I.I.S.",null,"fascia di anzianità da 0-2 anni  C.C.N.L. 2007 - BIENNIO ECONOMICO 2008/2009 - Annuo lordo inclusa l'iis",{"$f":"IF(AND(C35>=AE19,W35=O35),Q35,W35)","v":"fascia di anzianità da 0-2 anni  C.C.N.L. 2007 - BIENNIO ECONOMICO 2008/2009 - Annuo lordo inclusa l'iis"},"fascia di anzianità da 0-2 anni  C.C.N.L. 2007 - BIENNIO ECONOMICO 2008/2009 - Annuo lordo inclusa l'iis"]
[null,0,"2010-09-01","fascia di anzianità da 0-2 anni  C.C.N.L. 04/ agosto 2011",21130.54,null,null,null,null,1968,null,null,1,"fascia di anzianità da 3-8 anni  ccnl","fascia di anzianità da 0-2 anni  C.C.N.L. 2007 - BIENNIO ECONOMICO 2008/2009 - Annuo lordo inclusa l'iis","per passaggio, in questa data, al gradone 3-8 anni   - inclusa l'i.i.s. - Annuo lordo ","Fascia di anzianità 0-8 anni - C.C.N.L. 04/08/2011 - Annuo lordo inclusa I.I.S.","Fascia di anzianità 0-8 anni - C.C.N.L. 04/08/2011 - Annuo lordo inclusa I.I.S.",{"$f":"IF( AE17=0,\"Da corrispondere da questa data: Assegno ad Personam C.C.N.L. 04/agosto / 2011 - per tutta la durata del gradone 0 / 8 anni - importo annuo lordo \",O36)","v":"Da corrispondere da questa data: Assegno ad Personam C.C.N.L. 04/agosto / 2011 - per tutta la durata del gradone 0 / 8 anni - importo annuo lordo "},null,"Fascia di anzianità 0-8 anni - C.C.N.L. 04/08/2011 - Annuo lordo inclusa I.I.S.",null,"Fascia di anzianità 0-8 anni - C.C.N.L. 04/08/2011 - Annuo lordo inclusa I.I.S.",{"$f":"IF(AND(C36>=AE19,W36=O36),Q36,W36)","v":"Fascia di anzianità 0-8 anni - C.C.N.L. 04/08/2011 - Annuo lordo inclusa I.I.S."},"Fascia di anzianità 0-8 anni - C.C.N.L. 04/08/2011 - Annuo lordo inclusa I.I.S."]
[null,0,"2176-01-04","per passaggio, in questa data, al gradone 3-8 anni   - inclusa l'i.i.s. - Annuo lordo ",21130.54,0,768.48786584515585,0,null,1968,null,null,1,"fascia di anzianità da 3-8 anni  ccnl","fascia di anzianità da 0-2 anni  C.C.N.L. 2007 - BIENNIO ECONOMICO 2008/2009 - Annuo lordo inclusa l'iis","per passaggio, in questa data, al gradone 3-8 anni   - inclusa l'i.i.s. - Annuo lordo ","Fascia di anzianità 0-8 anni - C.C.N.L. 04/08/2011 - Annuo lordo inclusa I.I.S.","Fascia di anzianità 0-8 anni - C.C.N.L. 04/08/2011 - Annuo lordo inclusa I.I.S.",{"$f":"IF( AE17=0,\"Da corrispondere da questa data: Assegno ad Personam C.C.N.L. 04/agosto / 2011 - per tutta la durata del gradone 0 / 8 anni - importo annuo lordo \",O37)","v":"Da corrispondere da questa data: Assegno ad Personam C.C.N.L. 04/agosto / 2011 - per tutta la durata del gradone 0 / 8 anni - importo annuo lordo "},null,"Da corrispondere da questa data: Assegno ad Personam C.C.N.L. 04/agosto / 2011 - per tutta la durata del gradone 0 / 8 anni - importo annuo lordo ",null,"Da corrispondere da questa data: Assegno ad Personam C.C.N.L. 04/agosto / 2011 - per tutta la durata del gradone 0 / 8 anni - importo annuo lordo ",{"$f":"IF(AND(C37>=AE19,W37=O37),Q37,W37)","v":"Da corrispondere da questa data: Assegno ad Personam C.C.N.L. 04/agosto / 2011 - per tutta la durata del gradone 0 / 8 anni - importo annuo lordo "},"Fascia di anzianità 0-8 anni - C.C.N.L. 04/08/2011 - Annuo lordo inclusa I.I.S."]
[null,0,"2182-01-02","per passaggio, in questa data, al gradone 9-14 anni   - inclusa l'i.i.s. - Annuo lordo ",23602.07,null,null,null,0,1968,null,null,1,"fascia di anzianità da 3-8 anni  ccnl","fascia di anzianità da 0-2 anni  C.C.N.L. 2007 - BIENNIO ECONOMICO 2008/2009 - Annuo lordo inclusa l'iis","per passaggio, in questa data, al gradone 3-8 anni   - inclusa l'i.i.s. - Annuo lordo ","Fascia di anzianità 0-8 anni - C.C.N.L. 04/08/2011 - Annuo lordo inclusa I.I.S.","Fascia di anzianità 0-8 anni - C.C.N.L. 04/08/2011 - Annuo lordo inclusa I.I.S.",{"$f":"IF( AE17=0,\"Da corrispondere da questa data: Assegno ad Personam C.C.N.L. 04/agosto / 2011 - per tutta la durata del gradone 0 / 8 anni - importo annuo lordo \",O38)","v":"Da corrispondere da questa data: Assegno ad Personam C.C.N.L. 04/agosto / 2011 - per tutta la durata del gradone 0 / 8 anni - importo annuo lordo "},null,0,null,"per passaggio, in questa data, al gradone 9-14 anni   - inclusa l'i.i.s. - Annuo lordo ",{"$f":"IF(AND(C38>=AE19,W38=O38),Q38,W38)","v":"per passaggio, in questa data, al gradone 9-14 anni   - inclusa l'i.i.s. - Annuo lordo "},"per passaggio, in questa data, al gradone 9-14 anni   - inclusa l'i.i.s. - Annuo lordo "]
[null,0,"2188-01-01","per passaggio, in questa data, al gradone 15-20 anni   - inclusa l'i.i.s. - Annuo lordo ",25780.61,null,null,null,null,2424,null,null,1,"fascia di anzianità da 3-8 anni  ccnl","fascia di anzianità da 0-2 anni  C.C.N.L. 2007 - BIENNIO ECONOMICO 2008/2009 - Annuo lordo inclusa l'iis","per passaggio, in questa data, al gradone 3-8 anni   - inclusa l'i.i.s. - Annuo lordo ","Fascia di anzianità 0-8 anni - C.C.N.L. 04/08/2011 - Annuo lordo inclusa I.I.S.","Fascia di anzianità 0-8 anni - C.C.N.L. 04/08/2011 - Annuo lordo inclusa I.I.S.",{"$f":"IF( AE17=0,\"Da corrispondere da questa data: Assegno ad Personam C.C.N.L. 04/agosto / 2011 - per tutta la durata del gradone 0 / 8 anni - importo annuo lordo \",O39)","v":"Da corrispondere da questa data: Assegno ad Personam C.C.N.L. 04/agosto / 2011 - per tutta la durata del gradone 0 / 8 anni - importo annuo lordo "},null,0,null,"per passaggio, in questa data, al gradone 15-20 anni   - inclusa l'i.i.s. - Annuo lordo ",{"$f":"IF(AND(C39>=AE19,W39=O39),Q39,W39)","v":"per passaggio, in questa data, al gradone 15-20 anni   - inclusa l'i.i.s. - Annuo lordo "},"per passaggio, in questa data, al gradone 15-20 anni   - inclusa l'i.i.s. - Annuo lordo "]
[null,0,"2193-12-30","per passaggio, in questa data, al gradone 21-27 anni   - inclusa l'i.i.s. - Annuo lordo ",27896.19,null,null,null,null,2424,null,null,1,"fascia di anzianità da 3-8 anni  ccnl","fascia di anzianità da 0-2 anni  C.C.N.L. 2007 - BIENNIO ECONOMICO 2008/2009 - Annuo lordo inclusa l'iis","per passaggio, in questa data, al gradone 3-8 anni   - inclusa l'i.i.s. - Annuo lordo ","Fascia di anzianità 0-8 anni - C.C.N.L. 04/08/2011 - Annuo lordo inclusa I.I.S.","Fascia di anzianità 0-8 anni - C.C.N.L. 04/08/2011 - Annuo lordo inclusa I.I.S.",{"$f":"IF( AE17=0,\"Da corrispondere da questa data: Assegno ad Personam C.C.N.L. 04/agosto / 2011 - per tutta la durata del gradone 0 / 8 anni - importo annuo lordo \",O40)","v":"Da corrispondere da questa data: Assegno ad Personam C.C.N.L. 04/agosto / 2011 - per tutta la durata del gradone 0 / 8 anni - importo annuo lordo "},null,0,null,"per passaggio, in questa data, al gradone 21-27 anni   - inclusa l'i.i.s. - Annuo lordo ",{"$f":"IF(AND(C40>=AE19,W40=O40),Q40,W40)","v":"per passaggio, in questa data, al gradone 21-27 anni   - inclusa l'i.i.s. - Annuo lordo "},"per passaggio, in questa data, al gradone 21-27 anni   - inclusa l'i.i.s. - Annuo lordo "]
[null,0,"2200-12-29","per passaggio, in questa data, al gradone 28-34 anni   - inclusa l'i.i.s. - Annuo lordo ",29971.37,null,null,null,null,3090,null,null,1,"fascia di anzianità da 3-8 anni  ccnl","fascia di anzianità da 0-2 anni  C.C.N.L. 2007 - BIENNIO ECONOMICO 2008/2009 - Annuo lordo inclusa l'iis","per passaggio, in questa data, al gradone 3-8 anni   - inclusa l'i.i.s. - Annuo lordo ","Fascia di anzianità 0-8 anni - C.C.N.L. 04/08/2011 - Annuo lordo inclusa I.I.S.","Fascia di anzianità 0-8 anni - C.C.N.L. 04/08/2011 - Annuo lordo inclusa I.I.S.",{"$f":"IF( AE17=0,\"Da corrispondere da questa data: Assegno ad Personam C.C.N.L. 04/agosto / 2011 - per tutta la durata del gradone 0 / 8 anni - importo annuo lordo \",O41)","v":"Da corrispondere da questa data: Assegno ad Personam C.C.N.L. 04/agosto / 2011 - per tutta la durata del gradone 0 / 8 anni - importo annuo lordo "},null,0,null,"per passaggio, in questa data, al gradone 28-34 anni   - inclusa l'i.i.s. - Annuo lordo ",{"$f":"IF(AND(C41>=AE19,W41=O41),Q41,W41)","v":"per passaggio, in questa data, al gradone 28-34 anni   - inclusa l'i.i.s. - Annuo lordo "},"per passaggio, in questa data, al gradone 28-34 anni   - inclusa l'i.i.s. - Annuo lordo "]
[null,0,"2207-12-28","per passaggio, in questa data, al gradone da 35 anni in poi   - inclusa l'i.i.s. - Annuo lordo ",31509.39,null,null,null,null,3090,null,null,1,"fascia di anzianità da 3-8 anni  ccnl","fascia di anzianità da 0-2 anni  C.C.N.L. 2007 - BIENNIO ECONOMICO 2008/2009 - Annuo lordo inclusa l'iis","per passaggio, in questa data, al gradone 3-8 anni   - inclusa l'i.i.s. - Annuo lordo ","Fascia di anzianità 0-8 anni - C.C.N.L. 04/08/2011 - Annuo lordo inclusa I.I.S.","Fascia di anzianità 0-8 anni - C.C.N.L. 04/08/2011 - Annuo lordo inclusa I.I.S.",{"$f":"IF( AE17=0,\"Da corrispondere da questa data: Assegno ad Personam C.C.N.L. 04/agosto / 2011 - per tutta la durata del gradone 0 / 8 anni - importo annuo lordo \",O42)","v":"Da corrispondere da questa data: Assegno ad Personam C.C.N.L. 04/agosto / 2011 - per tutta la durata del gradone 0 / 8 anni - importo annuo lordo "},null,0,null,"per passaggio, in questa data, al gradone da 35 anni in poi   - inclusa l'i.i.s. - Annuo lordo ",{"$f":"IF(AND(C42>=AE19,W42=O42),Q42,W42)","v":"per passaggio, in questa data, al gradone da 35 anni in poi   - inclusa l'i.i.s. - Annuo lordo "},"per passaggio, in questa data, al gradone da 35 anni in poi   - inclusa l'i.i.s. - Annuo lordo "]
[null,0,null,null,null,null,null,null,null,null,null,null,0,"fascia di anzianità da 3-8 anni  ccnl","fascia di anzianità da 0-2 anni  C.C.N.L. 2007 - BIENNIO ECONOMICO 2008/2009 - Annuo lordo inclusa l'iis","per passaggio, in questa data, al gradone 3-8 anni   - inclusa l'i.i.s. - Annuo lordo ","Fascia di anzianità 0-8 anni - C.C.N.L. 04/08/2011 - Annuo lordo inclusa I.I.S.","Fascia di anzianità 0-8 anni - C.C.N.L. 04/08/2011 - Annuo lordo inclusa I.I.S.",{"$f":"IF( AE17=0,\"Da corrispondere da questa data: Assegno ad Personam C.C.N.L. 04/agosto / 2011 - per tutta la durata del gradone 0 / 8 anni - importo annuo lordo \",O43)","v":"Da corrispondere da questa data: Assegno ad Personam C.C.N.L. 04/agosto / 2011 - per tutta la durata del gradone 0 / 8 anni - importo annuo lordo "},null,0,null,0,{"$f":"IF(AND(C43>=AE19,W43=O43),Q43,W43)","v":0},0]
[null,0,null,null,null,null,null,null,null,null,null,null,0,"fascia di anzianità da 3-8 anni  ccnl","fascia di anzianità da 0-2 anni  C.C.N.L. 2007 - BIENNIO ECONOMICO 2008/2009 - Annuo lordo inclusa l'iis","per passaggio, in questa data, al gradone 3-8 anni   - inclusa l'i.i.s. - Annuo lordo ","Fascia di anzianità 0-8 anni - C.C.N.L. 04/08/2011 - Annuo lordo inclusa I.I.S.","Fascia di anzianità 0-8 anni - C.C.N.L. 04/08/2011 - Annuo lordo inclusa I.I.S.",{"$f":"IF( AE17=0,\"Da corrispondere da questa data: Assegno ad Personam C.C.N.L. 04/agosto / 2011 - per tutta la durata del gradone 0 / 8 anni - importo annuo lordo \",O44)","v":"Da corrispondere da questa data: Assegno ad Personam C.C.N.L. 04/agosto / 2011 - per tutta la durata del gradone 0 / 8 anni - importo annuo lordo "},null,0,null,0,{"$f":"IF(AND(C44>=AE19,W44=O44),Q44,W44)","v":0},0]
[null,0,null,null,null,null,null,null,null,null,null,null,0,"fascia di anzianità da 3-8 anni  ccnl","fascia di anzianità da 0-2 anni  C.C.N.L. 2007 - BIENNIO ECONOMICO 2008/2009 - Annuo lordo inclusa l'iis","per passaggio, in questa data, al gradone 3-8 anni   - inclusa l'i.i.s. - Annuo lordo ","Fascia di anzianità 0-8 anni - C.C.N.L. 04/08/2011 - Annuo lordo inclusa I.I.S.","Fascia di anzianità 0-8 anni - C.C.N.L. 04/08/2011 - Annuo lordo inclusa I.I.S.",{"$f":"IF( AE17=0,\"Da corrispondere da questa data: Assegno ad Personam C.C.N.L. 04/agosto / 2011 - per tutta la durata del gradone 0 / 8 anni - importo annuo lordo \",O45)","v":"Da corrispondere da questa data: Assegno ad Personam C.C.N.L. 04/agosto / 2011 - per tutta la durata del gradone 0 / 8 anni - importo annuo lordo "},null,0,null,0,{"$f":"IF(AND(C45>=AE19,W45=O45),Q45,W45)","v":0},0]
[null,0,null,null,null,null,null,null,null,null,null,null,0,"fascia di anzianità da 3-8 anni  ccnl","fascia di anzianità da 0-2 anni  C.C.N.L. 2007 - BIENNIO ECONOMICO 2008/2009 - Annuo lordo inclusa l'iis","per passaggio, in questa data, al gradone 3-8 anni   - inclusa l'i.i.s. - Annuo lordo ","Fascia di anzianità 0-8 anni - C.C.N.L. 04/08/2011 - Annuo lordo inclusa I.I.S.","Fascia di anzianità 0-8 anni - C.C.N.L. 04/08/2011 - Annuo lordo inclusa I.I.S.",{"$f":"IF( AE17=0,\"Da corrispondere da questa data: Assegno ad Personam C.C.N.L. 04/agosto / 2011 - per tutta la durata del gradone 0 / 8 anni - importo annuo lordo \",O46)","v":"Da corrispondere da questa data: Assegno ad Personam C.C.N.L. 04/agosto / 2011 - per tutta la durata del gradone 0 / 8 anni - importo annuo lordo "},null,0,null,0,{"$f":"IF(AND(C46>=AE19,W46=O46),Q46,W46)","v":0},0]
[null,0,null,null,null,null,null,null,null,null,null,null,0,"fascia di anzianità da 3-8 anni  ccnl","fascia di anzianità da 0-2 anni  C.C.N.L. 2007 - BIENNIO ECONOMICO 2008/2009 - Annuo lordo inclusa l'iis","per passaggio, in questa data, al gradone 3-8 anni   - inclusa l'i.i.s. - Annuo lordo ","Fascia di anzianità 0-8 anni - C.C.N.L. 04/08/2011 - Annuo lordo inclusa I.I.S.","Fascia di anzianità 0-8 anni - C.C.N.L. 04/08/2011 - Annuo lordo inclusa I.I.S.",{"$f":"IF( AE17=0,\"Da corrispondere da questa data: Assegno ad Personam C.C.N.L. 04/agosto / 2011 - per tutta la durata del gradone 0 / 8 anni - importo annuo lordo \",O47)","v":"Da corrispondere da questa data: Assegno ad Personam C.C.N.L. 04/agosto / 2011 - per tutta la durata del gradone 0 / 8 anni - importo annuo lordo "},null,0,null,0,{"$f":"IF(AND(C47>=AE19,W47=O47),Q47,W47)","v":0},0]
[null,0,null,null,null,null,null,null,null,null,null,null,0,"fascia di anzianità da 3-8 anni  ccnl","fascia di anzianità da 0-2 anni  C.C.N.L. 2007 - BIENNIO ECONOMICO 2008/2009 - Annuo lordo inclusa l'iis","per passaggio, in questa data, al gradone 3-8 anni   - inclusa l'i.i.s. - Annuo lordo ","Fascia di anzianità 0-8 anni - C.C.N.L. 04/08/2011 - Annuo lordo inclusa I.I.S.","Fascia di anzianità 0-8 anni - C.C.N.L. 04/08/2011 - Annuo lordo inclusa I.I.S.",{"$f":"IF( AE17=0,\"Da corrispondere da questa data: Assegno ad Personam C.C.N.L. 04/agosto / 2011 - per tutta la durata del gradone 0 / 8 anni - importo annuo lordo \",O48)","v":"Da corrispondere da questa data: Assegno ad Personam C.C.N.L. 04/agosto / 2011 - per tutta la durata del gradone 0 / 8 anni - importo annuo lordo "},null,0,null,0,{"$f":"IF(AND(C48>=AE19,W48=O48),Q48,W48)","v":0},0]
[null,0,null,null,null,null,null,null,null,null,null,null,0,"fascia di anzianità da 3-8 anni  ccnl","fascia di anzianità da 0-2 anni  C.C.N.L. 2007 - BIENNIO ECONOMICO 2008/2009 - Annuo lordo inclusa l'iis","per passaggio, in questa data, al gradone 3-8 anni   - inclusa l'i.i.s. - Annuo lordo ","Fascia di anzianità 0-8 anni - C.C.N.L. 04/08/2011 - Annuo lordo inclusa I.I.S.","Fascia di anzianità 0-8 anni - C.C.N.L. 04/08/2011 - Annuo lordo inclusa I.I.S.",{"$f":"IF( AE17=0,\"Da corrispondere da questa data: Assegno ad Personam C.C.N.L. 04/agosto / 2011 - per tutta la durata del gradone 0 / 8 anni - importo annuo lordo \",O49)","v":"Da corrispondere da questa data: Assegno ad Personam C.C.N.L. 04/agosto / 2011 - per tutta la durata del gradone 0 / 8 anni - importo annuo lordo "},null,0,null,0,{"$f":"IF(AND(C49>=AE19,W49=O49),Q49,W49)","v":0},0]
[null,0,null,null,null,null,null,null,null,null,null,null,{"$f":"IF(C50>40421,1,0)","v":0},"fascia di anzianità da 3-8 anni  ccnl","fascia di anzianità da 0-2 anni  C.C.N.L. 2007 - BIENNIO ECONOMICO 2008/2009 - Annuo lordo inclusa l'iis","per passaggio, in questa data, al gradone 3-8 anni   - inclusa l'i.i.s. - Annuo lordo ","Fascia di anzianità 0-8 anni - C.C.N.L. 04/08/2011 - Annuo lordo inclusa I.I.S.","Fascia di anzianità 0-8 anni - C.C.N.L. 04/08/2011 - Annuo lordo inclusa I.I.S.",{"$f":"IF( AE18=0,\"Da corrispondere da questa data: Assegno ad Personam C.C.N.L. 04/agosto / 2011 - per tutta la durata del gradone 0 / 8 anni - importo annuo lordo \",O50)","v":"Da corrispondere da questa data: Assegno ad Personam C.C.N.L. 04/agosto / 2011 - per tutta la durata del gradone 0 / 8 anni - importo annuo lordo "},null,{"$f":"IF(LEFT(N50,30)=LEFT(D50,30),Q50,IF(LEFT(O50,30)=LEFT(D50,30),R50,IF(P50=D50,S50,)))","v":0},null,{"$f":"IF(OR(M50=0, U50=0),D50,U50)","v":0},{"$f":"IF(AND(C50>=AE20,W50=O50),Q50,W50)","v":0},{"$f":"IF(AND(X50=S50,M50=1),R50,X50)","v":0}]
[null,0,null,null,null,null,null,null,null,null,null,null,{"$f":"IF(C51>40421,1,0)","v":0},"fascia di anzianità da 3-8 anni  ccnl","fascia di anzianità da 0-2 anni  C.C.N.L. 2007 - BIENNIO ECONOMICO 2008/2009 - Annuo lordo inclusa l'iis","per passaggio, in questa data, al gradone 3-8 anni   - inclusa l'i.i.s. - Annuo lordo ","Fascia di anzianità 0-8 anni - C.C.N.L. 04/08/2011 - Annuo lordo inclusa I.I.S.","Fascia di anzianità 0-8 anni - C.C.N.L. 04/08/2011 - Annuo lordo inclusa I.I.S.",{"$f":"IF( AE19=0,\"Da corrispondere da questa data: Assegno ad Personam C.C.N.L. 04/agosto / 2011 - per tutta la durata del gradone 0 / 8 anni - importo annuo lordo \",O51)","v":"fascia di anzianità da 0-2 anni  C.C.N.L. 2007 - BIENNIO ECONOMICO 2008/2009 - Annuo lordo inclusa l'iis"},null,{"$f":"IF(LEFT(N51,30)=LEFT(D51,30),Q51,IF(LEFT(O51,30)=LEFT(D51,30),R51,IF(P51=D51,S51,)))","v":0},null,{"$f":"IF(OR(M51=0, U51=0),D51,U51)","v":0},{"$f":"IF(AND(C51>=AE21,W51=O51),Q51,W51)","v":0},{"$f":"IF(AND(X51=S51,M51=1),R51,X51)","v":0}]
[null,0,null,null,null,null,null,null,null,null,null,null,{"$f":"IF(C52>40421,1,0)","v":0},"fascia di anzianità da 3-8 anni  ccnl","fascia di anzianità da 0-2 anni  C.C.N.L. 2007 - BIENNIO ECONOMICO 2008/2009 - Annuo lordo inclusa l'iis","per passaggio, in questa data, al gradone 3-8 anni   - inclusa l'i.i.s. - Annuo lordo ","Fascia di anzianità 0-8 anni - C.C.N.L. 04/08/2011 - Annuo lordo inclusa I.I.S.","Fascia di anzianità 0-8 anni - C.C.N.L. 04/08/2011 - Annuo lordo inclusa I.I.S.",{"$f":"IF( AE20=0,\"Da corrispondere da questa data: Assegno ad Personam C.C.N.L. 04/agosto / 2011 - per tutta la durata del gradone 0 / 8 anni - importo annuo lordo \",O52)","v":"Da corrispondere da questa data: Assegno ad Personam C.C.N.L. 04/agosto / 2011 - per tutta la durata del gradone 0 / 8 anni - importo annuo lordo "},null,{"$f":"IF(LEFT(N52,30)=LEFT(D52,30),Q52,IF(LEFT(O52,30)=LEFT(D52,30),R52,IF(P52=D52,S52,)))","v":0},null,{"$f":"IF(OR(M52=0, U52=0),D52,U52)","v":0},{"$f":"IF(AND(C52>=AE22,W52=O52),Q52,W52)","v":0},{"$f":"IF(AND(X52=S52,M52=1),R52,X52)","v":0}]
[null,0,null,null,null,null,null,null,null,null,null,null,{"$f":"IF(C53>40421,1,0)","v":0},"fascia di anzianità da 3-8 anni  ccnl","fascia di anzianità da 0-2 anni  C.C.N.L. 2007 - BIENNIO ECONOMICO 2008/2009 - Annuo lordo inclusa l'iis","per passaggio, in questa data, al gradone 3-8 anni   - inclusa l'i.i.s. - Annuo lordo ","Fascia di anzianità 0-8 anni - C.C.N.L. 04/08/2011 - Annuo lordo inclusa I.I.S.","Fascia di anzianità 0-8 anni - C.C.N.L. 04/08/2011 - Annuo lordo inclusa I.I.S.",{"$f":"IF( AE21=0,\"Da corrispondere da questa data: Assegno ad Personam C.C.N.L. 04/agosto / 2011 - per tutta la durata del gradone 0 / 8 anni - importo annuo lordo \",O53)","v":"Da corrispondere da questa data: Assegno ad Personam C.C.N.L. 04/agosto / 2011 - per tutta la durata del gradone 0 / 8 anni - importo annuo lordo "},null,{"$f":"IF(LEFT(N53,30)=LEFT(D53,30),Q53,IF(LEFT(O53,30)=LEFT(D53,30),R53,IF(P53=D53,S53,)))","v":0},null,{"$f":"IF(OR(M53=0, U53=0),D53,U53)","v":0},{"$f":"IF(AND(C53>=AE23,W53=O53),Q53,W53)","v":0},{"$f":"IF(AND(X53=S53,M53=1),R53,X53)","v":0}]
[null,0,null,null,null,null,null,null,null,null,{"$f":"SUM(E54:J54)","v":0}]
[null,0,null,null,null,null,null,null,null,null,0]
[null,0,null,null,null,null,null,null,null,null,0]
[null,0,null,null,null,null,null,null,null,null,0]
[null,0,null,null,null,null,null,null,null,null,0]
[null,0,null,null,null,null,null,null,null,null,0]
[null,0,null,null,null,null,null,null,null,null,0]
[]
[]
[]
[]
[null,null,null,null,null,null,null,null,null,null,"stringa di riferimento ricerca:"]
["2010-09-01",null,{"$f":"QUAL","v":8},null,null,null,null,null,null,null,"indennità vacanza contrattuale annuo lordo"]
[null,"i tre anni li matura nel:",null,{"$f":"'front utente'!K39","v":{"$error":"#NUM!"}},null,null,null,null,null,null,"ART. 67 -RATEO SPETTANTE PER IL MANCATO PASSAGGIO DI GRADONE NELL'ANNO 96 / 97 - IMPORTO ANNUO LORDO DA CORRISPONDERE PER  L'INTERA PERMANENZA NELLA FASCIA DI ANZIANITA':"]
[null,"decorrenza della ricostr.",null,{"$f":"'front utente'!G13","v":"00:00:00"},null,null,null,null,null,null,"assegno ad personam"]
[null,"spetta adp del ccnl2011 quando maturera i tre anni?",null,{"$f":"IF(AND(D68<A66,G351=0,D67>=A66),\"si\",0)","v":{"$error":"#NUM!"}},"l'adp per quando maturera i tre anno e di euro:",null,{"$f":"IF(D69=\"si\",Foglio1!P1161,0)","v":{"$error":"#NUM!"}}]
[null,null,{"$f":"C19","v":"Decorrenza data"},"Posizione Anni - ratei spettanti - passaggi","Valore",{"$error":"#NUM!"},"assegno ad personan ccnl 2011",{"$error":"#NUM!"},{"$error":"#NUM!"},"R.p.D.","assegno ad personam ccnl 2011 spettante eventualmente alla maturazione del 3 anno:"]
[null,{"$f":"B20","v":0},"2000-01-01",{"$f":"Y20","v":"Decorrenza della Ricostruzione di Carriera "},{"$f":"E20+K71","v":{"$error":"#NUM!"}},{"$f":"F20","v":0},{"$f":"IF(C71>=  AE19,   B13,0)","v":0},{"$f":"H20","v":0},{"$f":"I20","v":0},{"$f":"J20","v":594.96},{"$f":"IF( C71=$D$67,$G$69,0)","v":{"$error":"#NUM!"}},"retrib",null,"retrib",null,"retrib","assegno ad personam ccnl 2011"]
[null,0,"2000-07-01",{"$f":"Y21","v":"fascia di anzianità da 0-2 anni  C.C.N.L. del 26/05/1999 incluso incremento stipendiale dal 01/11/1998 - Annuo lordo"},{"$f":"IF( Q72=0, E21,Q72)","v":10451.538266873938},{"$f":"F21","v":0},{"$f":"IF(AND(E71+G71>E72, C72>=40421),  E71+G71-E72,0)","v":{"$error":"#NUM!"}},{"$f":"H21","v":0},0,{"$f":"IF( AND(QUAL>5,Q72=0),J21,0   )","v":594.96},{"$f":"IF( C72=$D$67,$G$69,0)","v":{"$error":"#NUM!"}},{"$f":"IF(K72<>\"\",J71,0)","v":{"$error":"#NUM!"}}]
[null,0,"2001-01-01","fascia di anzianità da 0-2 anni  C.C.N.L. del 26/05/1999 - incluso incremento stipendiale dal 01/06/1999 - Annuo lordo",{"$f":"IF( Q73=0, E22,Q73)","v":10786.202337483925},0,{"$f":"IF(AND(E72+G72>E73, C73>=40421),  E72+G72-E73,0)","v":{"$error":"#NUM!"}},0,0,{"$f":"IF( AND(QUAL>5,Q73=0),J22,0)","v":1338.6562824399489},{"$error":"#NUM!"},{"$error":"#NUM!"}]
[null,0,"2002-01-01","fascia di anzianità da 0-2 anni  C.C.N.L. del 15/03/2001 - Annuo lordo",{"$f":"IF( Q74=0, E23,Q74)","v":11221.802337483925},0,{"$error":"#NUM!"},0,0,1578.6562824399489,{"$error":"#NUM!"},{"$error":"#NUM!"}]
[null,0,"2003-01-01","fascia di anzianità da 0-2 anni  C.C.N.L. del 15/03/2001 - incluso incrementi stipendiali dal 01/01/2001 - Annuo lordo",18128.79,0,{"$error":"#NUM!"},0,0,1710.6,{"$error":"#NUM!"},{"$error":"#NUM!"}]
[null,0,"2004-01-01","fascia di anzianità da 0-2 anni  C.C.N.L. del 24/07/2003 - Annuo lordo",18566.91,0,{"$error":"#NUM!"},0,0,1857.84,{"$error":"#NUM!"},{"$error":"#NUM!"}]
[null,0,"2005-02-01","fascia di anzianità da 0-2 anni  C.C.N.L. del 24/07/2003 - incluso incrementi stipendiali dal 01/01/2003 - inclusa l' i.i.s. - Annuo lordo",19082.5,0,{"$error":"#NUM!"},0,0,1857.84,{"$error":"#NUM!"},{"$error":"#NUM!"}]
[null,0,"2006-01-01","fascia di anzianità da 0-2 anni  C.C.N.L. del 07/12/2005 - incluso incremento stipendiale dal 01/01/2004 - inclusa l'i.i.s. - Annuo lordo",19170.939999999999,0,{"$error":"#NUM!"},0,0,1968,{"$error":"#NUM!"},{"$error":"#NUM!"}]
[null,0,"2007-01-01","fascia di anzianità da 0-2 anni  C.C.N.L. del 07/12/2005 - incluso incremento stipendiale dal 01/02/2005 - inclusa l'i.i.s. - Annuo lordo",19535.740000000002,0,{"$error":"#NUM!"},0,0,1968,{"$error":"#NUM!"},{"$error":"#NUM!"}]
[null,0,"2007-02-01","fascia di anzianità da 0-2 anni  C.C.N.L. del 29/11/2007 - inclusa l'i.i.s. - Annuo lordo",20068.419999999998,0,{"$error":"#NUM!"},0,0,1968,{"$error":"#NUM!"},{"$error":"#NUM!"}]
[null,0,"2008-01-01","fascia di anzianità da 0-2 anni  C.C.N.L. del 29/11/2007 - incluso incremento stipendiale dal 01/01/2007 - inclusa l'i.i.s. - Annuo lordo",20197.18,0,{"$error":"#NUM!"},0,0,1968,{"$error":"#NUM!"},{"$error":"#NUM!"}]
[null,0,"2008-04-01","fascia di anzianità da 0-2 anni  Sequenza Contrattuale del 14/02/2008  - inclusa l'i.i.s. - Annuo lordo",20300.14,0,{"$error":"#NUM!"},0,0,1968,{"$error":"#NUM!"},{"$error":"#NUM!"}]
[null,0,"2008-07-01","fascia di anzianità da 0-2 anni  Sequenza Contrattuale del 14/02/2008 - inclusa l'i.i.s. - Annuo lordo",20368.900000000001,0,{"$error":"#NUM!"},0,0,1968,{"$error":"#NUM!"},{"$error":"#NUM!"}]
[null,0,"2009-01-01","fascia di anzianità da 0-2 anni    Indennità di vacanza contrattuale - (Art. 33  Decreto Legge  N. 185 del 29 novembre 2008) - Annuo lordo inclusa l'iis -",20973.22,0,{"$error":"#NUM!"},0,0,1968,{"$error":"#NUM!"},{"$error":"#NUM!"}]
[null,0,"2010-04-01","fascia di anzianità da 0-2 anni    Indennità di vacanza contrattuale - (Art. 33  Decreto Legge  N. 185 del 29 novembre 2008) - Annuo lordo inclusa l'iis -",21067.54,0,{"$error":"#NUM!"},0,0,1968,{"$error":"#NUM!"},{"$error":"#NUM!"}]
[null,0,"2010-07-01","fascia di anzianità da 0-2 anni  C.C.N.L. 2007 - BIENNIO ECONOMICO 2008/2009 - Annuo lordo inclusa l'iis",21130.54,0,{"$error":"#NUM!"},0,0,{"$f":"IF( AND(QUAL>5, Q86=0),J35,0)","v":1968},{"$error":"#NUM!"},{"$error":"#NUM!"}]
[null,0,"2010-09-01","Fascia di anzianità 0-8 anni - C.C.N.L. 04/08/2011 - Annuo lordo inclusa I.I.S.",21130.54,0,{"$error":"#NUM!"},0,0,{"$f":"IF( Q87=0,J36,0)","v":1968},{"$error":"#NUM!"},{"$error":"#NUM!"}]
[null,0,"2176-01-04","Fascia di anzianità 0-8 anni - C.C.N.L. 04/08/2011 - Annuo lordo inclusa I.I.S.",21130.54,0,{"$error":"#NUM!"},0,0,1968,{"$error":"#NUM!"},{"$error":"#NUM!"}]
[null,0,"2182-01-02","per passaggio, in questa data, al gradone 9-14 anni   - inclusa l'i.i.s. - Annuo lordo ",23602.07,0,{"$error":"#NUM!"},0,0,1968,{"$error":"#NUM!"},{"$error":"#NUM!"}]
[null,0,"2188-01-01","per passaggio, in questa data, al gradone 15-20 anni   - inclusa l'i.i.s. - Annuo lordo ",25780.61,0,{"$error":"#NUM!"},0,0,2424,{"$error":"#NUM!"},{"$error":"#NUM!"}]
[null,{"$f":"B40","v":0},"2193-12-30","per passaggio, in questa data, al gradone 21-27 anni   - inclusa l'i.i.s. - Annuo lordo ",27896.19,0,{"$error":"#NUM!"},0,0,2424,{"$error":"#NUM!"},{"$error":"#NUM!"}]
[null,0,"2200-12-29","per passaggio, in questa data, al gradone 28-34 anni   - inclusa l'i.i.s. - Annuo lordo ",29971.37,0,{"$error":"#NUM!"},0,0,3090,{"$error":"#NUM!"},{"$error":"#NUM!"}]
[null,0,"2207-12-28","per passaggio, in questa data, al gradone da 35 anni in poi   - inclusa l'i.i.s. - Annuo lordo ",31509.39,0,{"$error":"#NUM!"},0,0,3090,{"$error":"#NUM!"},{"$error":"#NUM!"}]
[null,0,"00:00:00","00:00:00",0,0,{"$error":"#NUM!"},0,0,0,{"$error":"#NUM!"},{"$error":"#NUM!"}]
[null,0,"00:00:00","00:00:00",0,0,{"$error":"#NUM!"},0,0,0,{"$error":"#NUM!"},{"$error":"#NUM!"}]
[null,0,"00:00:00","00:00:00",0,0,{"$error":"#NUM!"},0,0,0,{"$error":"#NUM!"},{"$error":"#NUM!"}]
[null,0,"00:00:00","00:00:00",0,0,{"$error":"#NUM!"},0,0,0,{"$error":"#NUM!"},{"$error":"#NUM!"}]
[null,0,"00:00:00","00:00:00",0,0,{"$error":"#NUM!"},0,0,0,{"$error":"#NUM!"},{"$error":"#NUM!"}]
[null,0,"00:00:00","00:00:00",0,0,{"$error":"#NUM!"},0,0,0,{"$error":"#NUM!"},{"$error":"#NUM!"}]
[null,0,"00:00:00","00:00:00",0,0,{"$error":"#NUM!"},0,0,0,{"$error":"#NUM!"},{"$error":"#NUM!"}]
[null,0,"00:00:00","00:00:00",0,0,{"$error":"#NUM!"},0,0,0,{"$error":"#NUM!"},{"$error":"#NUM!"}]
[null,0,"00:00:00",{"$f":"D51","v":"00:00:00"},0,0,0,0,0,0,{"$f":"IF(OR(stri1=D102,stri2=D102,stri3=D102),D101,\"\")","v":""},0]
[null,0,"00:00:00","00:00:00",0,0,0,0,0,0,"",0]
[null,0,"00:00:00","00:00:00",0,0,0,0,0,0,"",0]
[null,0,"00:00:00","00:00:00",0,0,0,0,0,0,"",0]
[null,0,"00:00:00","00:00:00",0,0,0,0,0,0,"",0]
[null,0,"00:00:00","00:00:00",0,0,0,0,0,0,"",0]
[null,{"$f":"B57","v":0},"00:00:00","00:00:00",0,0,0,0,0,0,"",0]
[null,{"$f":"B58","v":0},"00:00:00","00:00:00",0,0,0,0,0,0,"",0]
[]
[]
[]
[]
[]
[]
[]
[]
[]
[]
[]
[]
[]
[]
[]
[]
[]
[]
[]
[]
[]
[]
[]
[]
[]
[]
[]
[]
[]
[]
[]
[]
[]
[]
[]
[]
[]
[]
[]
[]
[]
[]
[]
[]
[]
[]
[]
[]
[]
[]
[]
[]
[]
[]
[]
[]
[]
[]
[]
[]
[]
[]
[]
[]
[]
[]
[]
[]
[]
[]
[]
[]
[]
[]
[]
[]
[]
[]
[]
[]
[]
[]
[]
[]
[]
[]
[]
[]
[]
[]
[]
[]
[]
[]
[]
[]
[]
[]
[]
[]
[]
[]
[]
[]
[]
[]
[]
[]
[]
[]
[]
[]
[]
[]
[]
[]
[]
[]
[]
[]
[]
[]
[]
[]
[]
[]
[]
[]
[]
[]
[]
[]
[]
[]
[]
[]
[]
[]
[]
[]
[]
[]
[]
[]
[]
[]
[]
[]
[]
[]
[]
[]
[]
[]
[]
[]
[]
[]
[]
[]
[]
[]
[]
[]
[]
[]
[]
[]
[]
[]
[]
[]
[]
[]
[]
[]
[]
[]
[]
[]
[]
[]
[]
[]
[]
[]
[]
[]
[]
[]
[]
[]
[]
[]
[]
[]
[]
[]
[]
[]
[]
[]
[]
[]
[]
[]
[]
[]
[]
[]
[]
[]
[]
[]
[]
[]
[]
[]
[]
[]
[]
[]
[]
[]
[]
[]
[]
[]
[]
[]
[]
[]
[]
[]
[]
[]
[]
[]
[]
[]
[]
[null,null,null,null,null,null,{"$f":"SUM(G71:G350)","v":{"$error":"#NUM!"}}]

{"sheet":"differenzespettanti","index":24,"n_rows":45,"n_cols":15,"rows_kept":45,"cut":false,"hidden":false,"merged":[[9,3,9,10],[44,3,44,8]]}
[]
[]
[]
[]
[]
[]
[]
[]
[]
[null,null,null,"Tabella di comparazione tra lo stipendio spettante a seguito di ricostruzione e lo stipendio percepito prima della ricostruzione in fascia zero anni. \n"]
[null,null,null,null,"Questa tabella può anche essere selezionata col mouse facendo poi copia e incolla su foglio word per modificarla e stamparla"]
[]
[null,null,null,null,"decorrenza data","inquadramento contrattuale","Stipendio annuo lordo spettante a seguito ricostruzione",null,"Stipendio annuo lordo percepito nella fascia di zero anni",null,"Differenza spettante rapportata all'orario di lavoro","orario","su","orario"]
[null,null,null,{"$f":"'tabella sintetica'!B71","v":0},{"$f":"IF(D14>0,'tabella sintetica'!C71,\"\")","v":""},{"$f":"IF(D14>0,'tabella sintetica'!D71,\"\")","v":""},{"$f":"IF(D14>0,'tabella sintetica'!E71+'tabella sintetica'!K71,\"\")","v":""},{"$f":"inizio","v":""},{"$f":"IF(D14>0,VLOOKUP(E14,RETZERO,2),\"\")","v":""},null,{"$f":"IF( I14=\"\",0,  (G14-I14)*O14)","v":0},{"$f":"VLOOKUP(E14,'front utente'!$C$27:$G$66,3)","v":{"$error":"#N/A"}},null,{"$f":"VLOOKUP(E14,'front utente'!$C$27:$G$66,5)","v":{"$error":"#N/A"}},{"$f":"IF(N14=0,1,L14/N14)","v":{"$error":"#N/A"}}]
[null,null,null,{"$f":"'tabella sintetica'!B72","v":0},{"$f":"IF(D15>0,'tabella sintetica'!C72,\"\")","v":""},{"$f":"IF(D15>0,'tabella sintetica'!D72,\"\")","v":""},{"$f":"IF(D15>0,'tabella sintetica'!E72+'tabella sintetica'!K72,\"\")","v":""},"","",0,0,{"$f":"VLOOKUP(E15,'front utente'!$C$27:$G$66,3)","v":{"$error":"#N/A"}},null,{"$f":"VLOOKUP(E15,'front utente'!$C$27:$G$66,5)","v":{"$error":"#N/A"}},{"$f":"IF(N15=0,1,L15/N15)","v":{"$error":"#N/A"}}]
[null,null,null,{"$f":"'tabella sintetica'!B73","v":0},{"$f":"IF(D16>0,'tabella sintetica'!C73,\"\")","v":""},{"$f":"IF(D16>0,'tabella sintetica'!D73,\"\")","v":""},{"$f":"IF(D16>0,'tabella sintetica'!E73+'tabella sintetica'!K73,\"\")","v":""},"","",0,0,{"$f":"VLOOKUP(E16,'front utente'!$C$27:$G$66,3)","v":{"$error":"#N/A"}},null,{"$f":"VLOOKUP(E16,'front utente'!$C$27:$G$66,5)","v":{"$error":"#N/A"}},{"$error":"#N/A"}]
[null,null,null,{"$f":"'tabella sintetica'!B74","v":0},{"$f":"IF(D17>0,'tabella sintetica'!C74,\"\")","v":""},{"$f":"IF(D17>0,'tabella sintetica'!D74,\"\")","v":""},{"$f":"IF(D17>0,'tabella sintetica'!E74+'tabella sintetica'!K74,\"\")","v":""},"","",0,0,{"$f":"VLOOKUP(E17,'front utente'!$C$27:$G$66,3)","v":{"$error":"#N/A"}},null,{"$f":"VLOOKUP(E17,'front utente'!$C$27:$G$66,5)","v":{"$error":"#N/A"}},{"$error":"#N/A"}]
[null,null,null,{"$f":"'tabella sintetica'!B75","v":0},{"$f":"IF(D18>0,'tabella sintetica'!C75,\"\")","v":""},{"$f":"IF(D18>0,'tabella sintetica'!D75,\"\")","v":""},{"$f":"IF(D18>0,'tabella sintetica'!E75+'tabella sintetica'!K75,\"\")","v":""},"","",0,0,{"$f":"VLOOKUP(E18,'front utente'!$C$27:$G$66,3)","v":{"$error":"#N/A"}},null,{"$f":"VLOOKUP(E18,'front utente'!$C$27:$G$66,5)","v":{"$error":"#N/A"}},{"$error":"#N/A"}]
[null,null,null,{"$f":"'tabella sintetica'!B76","v":0},{"$f":"IF(D19>0,'tabella sintetica'!C76,\"\")","v":""},{"$f":"IF(D19>0,'tabella sintetica'!D76,\"\")","v":""},{"$f":"IF(D19>0,'tabella sintetica'!E76+'tabella sintetica'!K76,\"\")","v":""},"","",0,0,{"$f":"VLOOKUP(E19,'front utente'!$C$27:$G$66,3)","v":{"$error":"#N/A"}},null,{"$f":"VLOOKUP(E19,'front utente'!$C$27:$G$66,5)","v":{"$error":"#N/A"}},{"$error":"#N/A"}]
[null,null,null,{"$f":"'tabella sintetica'!B77","v":0},{"$f":"IF(D20>0,'tabella sintetica'!C77,\"\")","v":""},{"$f":"IF(D20>0,'tabella sintetica'!D77,\"\")","v":""},{"$f":"IF(D20>0,'tabella sintetica'!E77+'tabella sintetica'!K77,\"\")","v":""},"","",0,0,{"$f":"VLOOKUP(E20,'front utente'!$C$27:$G$66,3)","v":{"$error":"#N/A"}},null,{"$f":"VLOOKUP(E20,'front utente'!$C$27:$G$66,5)","v":{"$error":"#N/A"}},{"$error":"#N/A"}]
[null,null,null,{"$f":"'tabella sintetica'!B78","v":0},{"$f":"IF(D21>0,'tabella sintetica'!C78,\"\")","v":""},{"$f":"IF(D21>0,'tabella sintetica'!D78,\"\")","v":""},{"$f":"IF(D21>0,'tabella sintetica'!E78+'tabella sintetica'!K78,\"\")","v":""},"","",0,0,{"$f":"VLOOKUP(E21,'front utente'!$C$27:$G$66,3)","v":{"$error":"#N/A"}},null,{"$f":"VLOOKUP(E21,'front utente'!$C$27:$G$66,5)","v":{"$error":"#N/A"}},{"$error":"#N/A"}]
[null,null,null,{"$f":"'tabella sintetica'!B79","v":0},{"$f":"IF(D22>0,'tabella sintetica'!C79,\"\")","v":""},{"$f":"IF(D22>0,'tabella sintetica'!D79,\"\")","v":""},{"$f":"IF(D22>0,'tabella sintetica'!E79+'tabella sintetica'!K79,\"\")","v":""},"","",0,0,{"$f":"VLOOKUP(E22,'front utente'!$C$27:$G$66,3)","v":{"$error":"#N/A"}},null,{"$f":"VLOOKUP(E22,'front utente'!$C$27:$G$66,5)","v":{"$error":"#N/A"}},{"$error":"#N/A"}]
[null,null,null,{"$f":"'tabella sintetica'!B80","v":0},{"$f":"IF(D23>0,'tabella sintetica'!C80,\"\")","v":""},{"$f":"IF(D23>0,'tabella sintetica'!D80,\"\")","v":""},{"$f":"IF(D23>0,'tabella sintetica'!E80+'tabella sintetica'!K80,\"\")","v":""},"","",0,0,{"$f":"VLOOKUP(E23,'front utente'!$C$27:$G$66,3)","v":{"$error":"#N/A"}},null,{"$f":"VLOOKUP(E23,'front utente'!$C$27:$G$66,5)","v":{"$error":"#N/A"}},{"$error":"#N/A"}]
[null,null,null,{"$f":"'tabella sintetica'!B81","v":0},{"$f":"IF(D24>0,'tabella sintetica'!C81,\"\")","v":""},{"$f":"IF(D24>0,'tabella sintetica'!D81,\"\")","v":""},{"$f":"IF(D24>0,'tabella sintetica'!E81+'tabella sintetica'!K81,\"\")","v":""},"","",0,0,{"$f":"VLOOKUP(E24,'front utente'!$C$27:$G$66,3)","v":{"$error":"#N/A"}},null,{"$f":"VLOOKUP(E24,'front utente'!$C$27:$G$66,5)","v":{"$error":"#N/A"}},{"$error":"#N/A"}]
[null,null,null,{"$f":"'tabella sintetica'!B82","v":0},{"$f":"IF(D25>0,'tabella sintetica'!C82,\"\")","v":""},{"$f":"IF(D25>0,'tabella sintetica'!D82,\"\")","v":""},{"$f":"IF(D25>0,'tabella sintetica'!E82+'tabella sintetica'!K82,\"\")","v":""},"","",0,0,{"$f":"VLOOKUP(E25,'front utente'!$C$27:$G$66,3)","v":{"$error":"#N/A"}},null,{"$f":"VLOOKUP(E25,'front utente'!$C$27:$G$66,5)","v":{"$error":"#N/A"}},{"$error":"#N/A"}]
[null,null,null,{"$f":"'tabella sintetica'!B83","v":0},{"$f":"IF(D26>0,'tabella sintetica'!C83,\"\")","v":""},{"$f":"IF(D26>0,'tabella sintetica'!D83,\"\")","v":""},{"$f":"IF(D26>0,'tabella sintetica'!E83+'tabella sintetica'!K83,\"\")","v":""},"","",0,0,{"$f":"VLOOKUP(E26,'front utente'!$C$27:$G$66,3)","v":{"$error":"#N/A"}},null,{"$f":"VLOOKUP(E26,'front utente'!$C$27:$G$66,5)","v":{"$error":"#N/A"}},{"$error":"#N/A"}]
[null,null,null,{"$f":"'tabella sintetica'!B84","v":0},{"$f":"IF(D27>0,'tabella sintetica'!C84,\"\")","v":""},{"$f":"IF(D27>0,'tabella sintetica'!D84,\"\")","v":""},{"$f":"IF(D27>0,'tabella sintetica'!E84+'tabella sintetica'!K84,\"\")","v":""},"","",0,0,{"$f":"VLOOKUP(E27,'front utente'!$C$27:$G$66,3)","v":{"$error":"#N/A"}},null,{"$f":"VLOOKUP(E27,'front utente'!$C$27:$G$66,5)","v":{"$error":"#N/A"}},{"$error":"#N/A"}]
[null,null,null,{"$f":"'tabella sintetica'!B85","v":0},{"$f":"IF(D28>0,'tabella sintetica'!C85,\"\")","v":""},{"$f":"IF(D28>0,'tabella sintetica'!D85,\"\")","v":""},{"$f":"IF(D28>0,'tabella sintetica'!E85+'tabella sintetica'!K85,\"\")","v":""},"","",0,0,{"$f":"VLOOKUP(E28,'front utente'!$C$27:$G$66,3)","v":{"$error":"#N/A"}},null,{"$f":"VLOOKUP(E28,'front utente'!$C$27:$G$66,5)","v":{"$error":"#N/A"}},{"$error":"#N/A"}]
[null,null,null,{"$f":"'tabella sintetica'!B86","v":0},{"$f":"IF(D29>0,'tabella sintetica'!C86,\"\")","v":""},{"$f":"IF(D29>0,'tabella sintetica'!D86,\"\")","v":""},{"$f":"IF(D29>0,'tabella sintetica'!E86+'tabella sintetica'!K86,\"\")","v":""},"","",0,0,{"$f":"VLOOKUP(E29,'front utente'!$C$27:$G$66,3)","v":{"$error":"#N/A"}},null,{"$f":"VLOOKUP(E29,'front utente'!$C$27:$G$66,5)","v":{"$error":"#N/A"}},{"$error":"#N/A"}]
[null,null,null,{"$f":"'tabella sintetica'!B87","v":0},{"$f":"IF(D30>0,'tabella sintetica'!C87,\"\")","v":""},{"$f":"IF(D30>0,'tabella sintetica'!D87,\"\")","v":""},{"$f":"IF(D30>0,'tabella sintetica'!E87+'tabella sintetica'!K87,\"\")","v":""},"","",0,0,{"$f":"VLOOKUP(E30,'front utente'!$C$27:$G$66,3)","v":{"$error":"#N/A"}},null,{"$f":"VLOOKUP(E30,'front utente'!$C$27:$G$66,5)","v":{"$error":"#N/A"}},{"$error":"#N/A"}]
[null,null,null,{"$f":"'tabella sintetica'!B88","v":0},{"$f":"IF(D31>0,'tabella sintetica'!C88,\"\")","v":""},{"$f":"IF(D31>0,'tabella sintetica'!D88,\"\")","v":""},{"$f":"IF(D31>0,'tabella sintetica'!E88+'tabella sintetica'!K88,\"\")","v":""},"","",0,0,{"$f":"VLOOKUP(E31,'front utente'!$C$27:$G$66,3)","v":{"$error":"#N/A"}},null,{"$f":"VLOOKUP(E31,'front utente'!$C$27:$G$66,5)","v":{"$error":"#N/A"}},{"$error":"#N/A"}]
[null,null,null,{"$f":"'tabella sintetica'!B89","v":0},{"$f":"IF(D32>0,'tabella sintetica'!C89,\"\")","v":""},{"$f":"IF(D32>0,'tabella sintetica'!D89,\"\")","v":""},{"$f":"IF(D32>0,'tabella sintetica'!E89+'tabella sintetica'!K89,\"\")","v":""},"","",0,0,{"$f":"VLOOKUP(E32,'front utente'!$C$27:$G$66,3)","v":{"$error":"#N/A"}},null,{"$f":"VLOOKUP(E32,'front utente'!$C$27:$G$66,5)","v":{"$error":"#N/A"}},{"$error":"#N/A"}]
[null,null,null,{"$f":"'tabella sintetica'!B90","v":0},{"$f":"IF(D33>0,'tabella sintetica'!C90,\"\")","v":""},{"$f":"IF(D33>0,'tabella sintetica'!D90,\"\")","v":""},{"$f":"IF(D33>0,'tabella sintetica'!E90+'tabella sintetica'!K90,\"\")","v":""},"","",0,0,{"$f":"VLOOKUP(E33,'front utente'!$C$27:$G$66,3)","v":{"$error":"#N/A"}},null,{"$f":"VLOOKUP(E33,'front utente'!$C$27:$G$66,5)","v":{"$error":"#N/A"}},{"$error":"#N/A"}]
[null,null,null,{"$f":"'tabella sintetica'!B91","v":0},{"$f":"IF(D34>0,'tabella sintetica'!C91,\"\")","v":""},{"$f":"IF(D34>0,'tabella sintetica'!D91,\"\")","v":""},{"$f":"IF(D34>0,'tabella sintetica'!E91+'tabella sintetica'!K91,\"\")","v":""},"","",0,0,{"$f":"VLOOKUP(E34,'front utente'!$C$27:$G$66,3)","v":{"$error":"#N/A"}},null,{"$f":"VLOOKUP(E34,'front utente'!$C$27:$G$66,5)","v":{"$error":"#N/A"}},{"$error":"#N/A"}]
[null,null,null,{"$f":"'tabella sintetica'!B92","v":0},{"$f":"IF(D35>0,'tabella sintetica'!C92,\"\")","v":""},{"$f":"IF(D35>0,'tabella sintetica'!D92,\"\")","v":""},{"$f":"IF(D35>0,'tabella sintetica'!E92+'tabella sintetica'!K92,\"\")","v":""},"","",0,{"$f":"IF( I35=\"\",0,  (G35-I35)*O35)","v":0},{"$f":"VLOOKUP(E35,'front utente'!$C$27:$G$66,3)","v":{"$error":"#N/A"}},null,{"$f":"VLOOKUP(E35,'front utente'!$C$27:$G$66,5)","v":{"$error":"#N/A"}},{"$error":"#N/A"}]
[null,null,null,{"$f":"'tabella sintetica'!B93","v":0},{"$f":"IF(D36>0,'tabella sintetica'!C93,\"\")","v":""},{"$f":"IF(D36>0,'tabella sintetica'!D93,\"\")","v":""},{"$f":"IF(D36>0,'tabella sintetica'!E93+'tabella sintetica'!K93,\"\")","v":""},"","",0,{"$f":"IF( I36=\"\",0,  (G36-I36)*O36)","v":0},{"$f":"VLOOKUP(E36,'front utente'!$C$27:$G$66,3)","v":{"$error":"#N/A"}},null,{"$f":"VLOOKUP(E36,'front utente'!$C$27:$G$66,5)","v":{"$error":"#N/A"}},{"$error":"#N/A"}]
[null,null,null,{"$f":"'tabella sintetica'!B94","v":0},{"$f":"IF(D37>0,'tabella sintetica'!C94,\"\")","v":""},{"$f":"IF(D37>0,'tabella sintetica'!D94,\"\")","v":""},{"$f":"IF(D37>0,'tabella sintetica'!E94+'tabella sintetica'!K94,\"\")","v":""},"","",0,0,{"$f":"VLOOKUP(E37,'front utente'!$C$27:$G$66,3)","v":{"$error":"#N/A"}},null,{"$f":"VLOOKUP(E37,'front utente'!$C$27:$G$66,5)","v":{"$error":"#N/A"}},{"$error":"#N/A"}]
[null,null,null,{"$f":"'tabella sintetica'!B95","v":0},{"$f":"IF(D38>0,'tabella sintetica'!C95,\"\")","v":""},{"$f":"IF(D38>0,'tabella sintetica'!D95,\"\")","v":""},{"$f":"IF(D38>0,'tabella sintetica'!E95+'tabella sintetica'!K95,\"\")","v":""},"","",0,0,{"$f":"VLOOKUP(E38,'front utente'!$C$27:$G$66,3)","v":{"$error":"#N/A"}},null,{"$f":"VLOOKUP(E38,'front utente'!$C$27:$G$66,5)","v":{"$error":"#N/A"}},{"$error":"#N/A"}]
[null,null,null,{"$f":"'tabella sintetica'!B96","v":0},{"$f":"IF(D39>0,'tabella sintetica'!C96,\"\")","v":""},{"$f":"IF(D39>0,'tabella sintetica'!D96,\"\")","v":""},{"$f":"IF(D39>0,'tabella sintetica'!E96+'tabella sintetica'!K96,\"\")","v":""},"","",0,0,{"$f":"VLOOKUP(E39,'front utente'!$C$27:$G$66,3)","v":{"$error":"#N/A"}},null,{"$f":"VLOOKUP(E39,'front utente'!$C$27:$G$66,5)","v":{"$error":"#N/A"}},{"$error":"#N/A"}]
[null,null,null,{"$f":"'tabella sintetica'!B97","v":0},{"$f":"IF(D40>0,'tabella sintetica'!C97,\"\")","v":""},{"$f":"IF(D40>0,'tabella sintetica'!D97,\"\")","v":""},{"$f":"IF(D40>0,'tabella sintetica'!E97+'tabella sintetica'!K97,\"\")","v":""},"","",0,0,{"$f":"VLOOKUP(E40,'front utente'!$C$27:$G$66,3)","v":{"$error":"#N/A"}},null,{"$f":"VLOOKUP(E40,'front utente'!$C$27:$G$66,5)","v":{"$error":"#N/A"}},{"$error":"#N/A"}]
[null,null,null,{"$f":"'tabella sintetica'!B98","v":0},{"$f":"IF(D41>0,'tabella sintetica'!C98,\"\")","v":""},{"$f":"IF(D41>0,'tabella sintetica'!D98,\"\")","v":""},{"$f":"IF(D41>0,'tabella sintetica'!E98+'tabella sintetica'!K98,\"\")","v":""},"","",0,0,{"$f":"VLOOKUP(E41,'front utente'!$C$27:$G$66,3)","v":{"$error":"#N/A"}},null,{"$f":"VLOOKUP(E41,'front utente'!$C$27:$G$66,5)","v":{"$error":"#N/A"}},{"$error":"#N/A"}]
[null,null,null,{"$f":"'tabella sintetica'!B99","v":0},{"$f":"IF(D42>0,'tabella sintetica'!C99,\"\")","v":""},{"$f":"IF(D42>0,'tabella sintetica'!D99,\"\")","v":""},{"$f":"IF(D42>0,'tabella sintetica'!E99+'tabella sintetica'!K99,\"\")","v":""},"","",0,0,{"$f":"VLOOKUP(E42,'front utente'!$C$27:$G$66,3)","v":{"$error":"#N/A"}},null,{"$f":"VLOOKUP(E42,'front utente'!$C$27:$G$66,5)","v":{"$error":"#N/A"}},{"$error":"#N/A"}]
[null,null,null,{"$f":"'tabella sintetica'!B100","v":0},{"$f":"IF(D43>0,'tabella sintetica'!C100,\"\")","v":""},{"$f":"IF(D43>0,'tabella sintetica'!D100,\"\")","v":""},{"$f":"IF(D43>0,'tabella sintetica'!E100+'tabella sintetica'!K100,\"\")","v":""},"","",0,0,{"$f":"VLOOKUP(E43,'front utente'!$C$27:$G$66,3)","v":{"$error":"#N/A"}},null,{"$f":"VLOOKUP(E43,'front utente'!$C$27:$G$66,5)","v":{"$error":"#N/A"}},{"$error":"#N/A"}]
[null,null,null,{"$f":"'tabella sintetica'!B101","v":0},{"$f":"IF(D44>0,'tabella sintetica'!C101,\"\")","v":""},{"$f":"IF(D44>0,'tabella sintetica'!D101,\"\")","v":""},{"$f":"IF(D44>0,'tabella sintetica'!E101+'tabella sintetica'!K101,\"\")","v":""},"",{"$f":"IF(D44>0,VLOOKUP(E44,RETZERO,2),\"\")","v":""},0,{"$f":"IF( I44=\"\",0,  (G44-I44)*O44)","v":0},{"$f":"VLOOKUP(E44,'front utente'!$C$27:$G$66,3)","v":{"$error":"#N/A"}},null,{"$f":"VLOOKUP(E44,'front utente'!$C$27:$G$66,5)","v":{"$error":"#N/A"}},{"$error":"#N/A"}]
[null,null,null,"Differenza orientativa spettante all'interessato nei periodi di cui sopra  tra lo stipendio percepito con contratto a tempo determinato e lo stipendio percepito a seguito ricostruzione. Retribuzioni rapportate in base agli orari di lavoro indicati",null,null,null,null,null,null,{"$f":"SUM(K14:K44)","v":0}]

{"sheet":"Foglio1","index":25,"n_rows":1250,"n_cols":23,"rows_kept":1250,"cut":false,"hidden":false,"merged":[[1239,7,1239,8],[238,0,240,1],[1155,13,1159,21],[45,0,45,2],[211,1,211,2],[211,5,211,6],[214,0,217,1],[862,13,869,13],[912,13,919,13]]}
[null,null,null,null,null,null,null,null,null,null,null,null,null,{"$f":"D252","v":"Coll.Sc. "}]
[null,null,null,null,null,null,null,null,null,null,null,null,null,{"$f":"E252","v":"C.S. Istr."}]
[null,null,null,null,null,null,null,null,null,null,null,null,null,{"$f":"F252","v":"Ass.A.T."}]
[null,null,null,null,null,null,null,null,null,null,null,null,null,{"$f":"G252","v":"Coord. A/T"}]
[null,null,null,null,null,null,null,null,null,null,null,null,null,{"$f":"H252","v":"DSGA"}]
[null,null,null,null,null,null,null,null,null,null,null,null,null,{"$f":"I252","v":"Doc. materna elem."}]
[null,null,null,null,null,null,null,null,null,null,null,null,null,{"$f":"J252","v":"Doc.Dipl."}]
[null,null,null,null,null,null,null,null,null,null,null,null,null,{"$f":"K252","v":"Doc. laureato 1° Grado"}]
[null,null,null,null,null,null,null,null,null,null,null,null,null,{"$f":"L252","v":"Doc. laureato 2° Grado"}]
[]
[null,null,"I DATI PRESENTI IN QUESTO FOGLIO SONO DIRETTAMENTE COLLEGATI AL FOGLIO DECRETO"]
[]
[]
[]
[]
[]
[]
[]
[]
[]
[]
[]
[]
[]
[]
[]
[]
[]
[]
[]
[]
[]
[]
[]
[]
[]
[]
[]
[]
[]
[]
[]
[]
[]
[]
[]
[]
[]
[]
[]
[]
[]
[]
[]
[]
[]
[]
[]
[]
[]
[]
[]
[]
[]
[]
[]
[]
[]
[]
[]
[]
[]
[]
[]
[]
[]
[]
[]
[]
[]
[]
[]
[]
[]
[]
[]
[]
[]
[]
[]
[]
[]
[]
[]
[]
[]
[]
[]
[]
[]
[]
[]
[]
[]
[]
[]
[]
[]
[]
[]
[]
[]
[]
[]
[]
[]
[]
[]
[]
[]
[]
[]
[]
[]
[]
[]
[]
[]
[]
[]
[]
[]
[]
[]
[]
[]
[]
[]
[]
[]
[]
[]
[]
[]
[]
[]
[]
[]
[]
[]
[]
[]
[]
[]
[]
[]
[]
[]
[]
[]
[]
[]
[]
[]
[]
[]
[]
[]
[]
[]
[]
[]
[]
[]
[]
[]
[]
[]
[]
[]
[]
[]
[]
[]
[]
[]
[]
[]
[]
[]
[]
[]
[]
[]
[]
[]
[]
[]
[]
[]
[]
[]
[]
[]
[]
[]
[]
[]
[]
[]
[]
[]
[]
[]
[]
[]
[]
[]
[]
[]
[]
[]
[]
[]
[]
[]
[]
[]
[]
[]
[]
[]
[]
[]
[]
[]
[]
[]
[]
[]
[]
[]
[]
[]
[]
[]
[]
[]
[]
[]
[null,null,"1996-01-01",null,null,null,null,null,null,null,null,"Tab F"]
[null,null,null,"Coll.Sc. ","C.S. Istr.","Ass.A.T.","Coord. A/T","DSGA","Doc. materna elem.","Doc.Dipl.","Doc. laureato 1° Grado","Doc. laureato 2° Grado"]
[null,0,"da 0 a 2 ",4720.4160576779068,4720.4160576779068,5952.1657620063315,5952.1657620063315,7621.8709167626421,7621.8709167626421,7621.8709167626421,8741.0330170895595,8741.0330170895595]
[null,3,"da 3 a 8",4923.900075919164,4923.900075919164,6220.7233495328646,6220.7233495328646,7995.2692548043406,7995.2692548043406,7995.2692548043406,9161.4289329484018,9600.4172971744647]
[null,9,"da 9 a 14",5691.3550279661413,5691.3550279661413,7211.2876819864996,7211.2876819864996,9156.2643639575053,9156.2643639575053,9156.2643639575053,10525.391603443735,10977.807847046124]
[null,15,"da 15 a 20",6412.8453159941537,6412.8453159941537,8142.9759279439331,8142.9759279439331,10520.74349135193,10520.74349135193,10520.74349135193,12100.068688767578,12676.951045050535]
[null,21,"da 21 a 27",7128.1381212330925,7128.1381212330925,9074.6641739013667,9074.6641739013667,11845.971894415552,11845.971894415552,12488.960733781962,13634.978592861533,14841.938366033663]
[null,28,"da 28 a 34",7646.1443910198477,7646.1443910198477,9750.189797910416,9750.189797910416,13144.86099562561,13144.86099562561,13787.849834992021,15136.83525541376,16259.096097135214]
[null,35,"da 35",8032.9706084378731,8032.9706084378731,10255.284645219934,10255.284645219934,14115.799965913844,14115.799965913844,14765.502744968418,16259.096097135214,17393.235447535728]
[{"$f":"SUM(C260:L260)","v":8741.0330170895595},null,null,{"$f":"IF(QUAL=1,D253,\"\")","v":""},{"$f":"IF(QUAL=2,E253,\"\")","v":""},{"$f":"IF(QUAL=3,F253,\"\")","v":""},{"$f":"IF(QUAL=4,G253,\"\")","v":""},{"$f":"IF(QUAL=5,H253,\"\")","v":""},{"$f":"IF(QUAL=6,I253,\"\")","v":""},{"$f":"IF(QUAL=7,J253,\"\")","v":""},{"$f":"IF(QUAL=8,K253,\"\")","v":8741.0330170895595},{"$f":"IF(QUAL=9,L253,\"\")","v":""}]
[9161.4289329484018,null,null,"","","","","","","",9161.4289329484018,""]
[10525.391603443735,null,null,"","","","","","","",10525.391603443735,""]
[12100.068688767578,null,null,"","","","","","","",12100.068688767578,""]
[13634.978592861533,null,null,"","","","","","","",13634.978592861533,""]
[15136.83525541376,null,null,"","","","","","","",15136.83525541376,""]
[16259.096097135214,null,null,"","","","","","","",16259.096097135214,""]
[]
[]
[]
[]
[null,null,null,null,null,null,null,null,null,null,null,"Tab A2"]
[null,null,null,"Coll.Sc. ","C.S. Istr.","Ass.A.T.","Coord. A/T","DSGA","Doc. materna elem.","Doc.Dipl.","Doc. laureato 1° Grado","Doc. laureato 2° Grado"]
[null,0,"da 0 a 2 ",29.63,30.39,33.19,37.950000000000003,43.88,39.58,39.58,42.96,42.96]
[null,3,"da 3 a 8",30.21,30.95,33.94,38.979999999999997,45.16,40.65,40.65,44.15,45.4]
[null,9,"da 9 a 14",32.29,33.020000000000003,36.6,42.14,49.12,43.95,43.95,48.02,49.29]
[null,15,"da 15 a 20",34.24,34.97,39.119999999999997,45.83,53.74,47.79,47.79,52.49,54.09]
[null,21,"da 21 a 27",36.15,36.94,41.66,49.41,58.68,51.53,53.36,56.82,60.21]
[null,28,"da 28 a 34",37.6,38.340000000000003,43.47,52.94,63.76,55.21,55.21,61.07,64.22]
[null,35,"da 35",38.61,39.39,44.86,55.58,68.7,57.95,57.95,64.22,67.42]
[{"$f":"SUM(C280:L280)","v":42.96},null,null,{"$f":"IF(QUAL=1,D273,\"\")","v":""},{"$f":"IF(QUAL=2,E273,\"\")","v":""},{"$f":"IF(QUAL=3,F273,\"\")","v":""},{"$f":"IF(QUAL=4,G273,\"\")","v":""},{"$f":"IF(QUAL=5,H273,\"\")","v":""},{"$f":"IF(QUAL=6,I273,\"\")","v":""},{"$f":"IF(QUAL=7,J273,\"\")","v":""},{"$f":"IF(QUAL=8,K273,\"\")","v":42.96},{"$f":"IF(QUAL=9,L273,\"\")","v":""}]
[{"$f":"SUM(C281:L281)","v":44.15},null,null,"","","","","","","",44.15,""]
[48.02,null,null,"","","","","","","",48.02,""]
[52.49,null,null,"","","","","","","",52.49,""]
[56.82,null,null,"","","","","","","",56.82,""]
[61.07,null,null,"","","","","","","",61.07,""]
[64.22,null,null,"","","","","","","",64.22,""]
[]
[]
[]
[]
[]
[]
[]
[]
[]
[]
[]
[]
[]
[]
["tabella f - posizioni stipendiali dal 1/1/2003 -  allegata al C.C.N.L. 2003",null,"1998-11-01",null,null,null,null,null,null,null,null,"Tab B",null,{"$f":"D302","v":"Coll.Sc. "}]
[null,null,null,"Coll.Sc. ","C.S. Istr.","Ass.A.T.","Coord. A/T","DSGA","Doc. materna elem.","Doc.Dipl.","Doc. laureato 1° Grado","Doc. laureato 2° Grado",null,{"$f":"E302","v":"C.S. Istr."}]
[null,0,"da 0 a 2 ",5631.4460276717609,5631.4460276717609,6974.750422203515,6974.750422203515,8786.9976811085235,8786.9976811085235,8786.9976811085235,10011.516988849695,10011.516988849695,null,{"$f":"F302","v":"Ass.A.T."}]
[null,3,"da 3 a 8",5853.5224942802397,5853.5224942802397,7268.0979408863432,7268.0979408863432,9191.3834330955906,9191.3834330955906,9191.3834330955906,10462.900318653907,10939.073579614413,null,{"$f":"G302","v":"Coord. A/T"}]
[null,9,"da 9 a 14",6689.1497570070287,6689.1497570070287,8339.2295495979379,8339.2295495979379,10457.735749663012,10457.735749663012,10457.735749663012,11944.615162141643,12434.216302478477,null,{"$f":"H302","v":"DSGA"}]
[null,15,"da 15 a 20",7472.6148729257802,7472.6148729257802,9345.2875890242576,9345.2875890242576,11927.572084471691,11927.572084471691,11927.572084471691,13649.439386036038,14269.704121842511,null,{"$f":"I302","v":"Doc. materna elem."}]
[null,21,"da 21 a 27",8237.4875404773102,8237.4875404773102,10357.543111239651,10357.543111239651,13364.355177738642,13364.355177738642,14063.121362206717,15314.496428700542,16620.615926497856,null,{"$f":"J302","v":"Doc.Dipl."}]
[null,28,"da 28 a 34",8805.0736725766546,8805.0736725766546,11088.846080350364,11088.846080350364,14774.798969152029,14774.798969152029,15467.36767083103,16946.500229823319,18155.525830591807,null,{"$f":"K302","v":"Doc. laureato 1° Grado"}]
[null,35,"da 35",9216.6898211509761,9216.6898211509761,11637.323307183398,11637.323307183398,15826.305215698225,15826.305215698225,16531.785339854461,18155.525830591807,19382.627422828427,null,{"$f":"L302","v":"Doc. laureato 2° Grado"}]
[{"$f":"SUM(C310:L310)","v":10011.516988849695},null,null,{"$f":"IF(QUAL=1,D303,\"\")","v":""},{"$f":"IF(QUAL=2,E303,\"\")","v":""},{"$f":"IF(QUAL=3,F303,\"\")","v":""},{"$f":"IF(QUAL=4,G303,\"\")","v":""},{"$f":"IF(QUAL=5,H303,\"\")","v":""},{"$f":"IF(QUAL=6,I303,\"\")","v":""},{"$f":"IF(QUAL=7,J303,\"\")","v":""},{"$f":"IF(QUAL=8,K303,\"\")","v":10011.516988849695},{"$f":"IF(QUAL=9,L303,\"\")","v":""}]
[{"$f":"SUM(C311:L311)","v":10462.900318653907},null,null,"","","","","","","",10462.900318653907,""]
[11944.615162141643,null,null,"","","","","","","",11944.615162141643,""]
[13649.439386036038,null,null,"","","","","","","",13649.439386036038,""]
[15314.496428700542,null,null,"","","","","","","",15314.496428700542,""]
[16946.500229823319,null,null,"","","","","","","",16946.500229823319,""]
[18155.525830591807,null,null,"","","","","","","",18155.525830591807,""]
[]
[]
[]
[]
[null,null,null,null,null,null,null,null,null,null,null,"Tab A1"]
[null,null,null,"Coll.Sc. ","C.S. Istr.","Ass.A.T.","Coord. A/T","DSGA","Doc. materna elem.","Doc.Dipl.","Doc. laureato 1° Grado","Doc. laureato 2° Grado"]
[null,0,"da 0 a 2 ",22.92,23.51,25.68,29.36,33.950000000000003,33.64,33.64,36.51,36.51]
[null,3,"da 3 a 8",23.37,23.94,26.26,30.16,34.94,34.549999999999997,34.549999999999997,37.520000000000003,38.58]
[null,9,"da 9 a 14",24.98,25.55,28.32,32.6,38,37.35,37.35,40.82,41.89]
[null,15,"da 15 a 20",26.49,27.05,30.27,35.46,41.58,40.619999999999997,40.619999999999997,44.61,45.98]
[null,21,"da 21 a 27",27.97,28.58,32.229999999999997,38.229999999999997,45.4,43.79,45.35,48.29,51.18]
[null,28,"da 28 a 34",29.09,29.67,33.630000000000003,40.96,49.33,46.92,48.46,51.91,54.58]
[null,35,"da 35",29.87,30.47,34.700000000000003,43,53.15,49.26,50.81,54.58,57.3]
[{"$f":"SUM(C330:L330)","v":36.51},null,null,{"$f":"IF(QUAL=1,D323,\"\")","v":""},{"$f":"IF(QUAL=2,E323,\"\")","v":""},{"$f":"IF(QUAL=3,F323,\"\")","v":""},{"$f":"IF(QUAL=4,G323,\"\")","v":""},{"$f":"IF(QUAL=5,H323,\"\")","v":""},{"$f":"IF(QUAL=6,I323,\"\")","v":""},{"$f":"IF(QUAL=7,J323,\"\")","v":""},{"$f":"IF(QUAL=8,K323,\"\")","v":36.51},{"$f":"IF(QUAL=9,L323,\"\")","v":""}]
[{"$f":"SUM(C331:L331)","v":37.520000000000003},null,null,"","","","","","","",37.520000000000003,""]
[40.82,null,null,"","","","","","","",40.82,""]
[44.61,null,null,"","","","","","","",44.61,""]
[48.29,null,null,"","","","","","","",48.29,""]
[51.91,null,null,"","","","","","","",51.91,""]
[54.58,null,null,"","","","","","","",54.58,""]
[]
[]
[]
[]
[]
[]
[]
[]
[]
[]
[]
[]
[]
[]
["posizioni stipendiali dal 1/1/2004 - tabella a1 allegata al C.C.N.L. 2003",null,"1999-06-01",null,null,null,null,null,null,null,null,"Tab F"]
[null,null,null,"Coll.Sc. ","C.S. Istr.","Ass.A.T.","Coord. A/T","DSGA","Doc. materna elem.","Doc.Dipl.","Doc. laureato 1° Grado","Doc. laureato 2° Grado"]
[null,0,"da 0 a 2 ",5804.9755457658284,5804.9755457658284,7173.0698714538776,7173.0698714538776,9010.1070615151821,9010.1070615151821,9010.1070615151821,10253.218817623576,10253.218817623576]
[null,3,"da 3 a 8",6033.2494951633807,6033.2494951633807,7472.6148729257802,7472.6148729257802,9420.6902962913227,9420.6902962913227,9420.6902962913227,10710.799630216861,11193.170373966441]
[null,9,"da 9 a 14",6881.2717234683178,6881.2717234683178,8556.1414472155229,8556.1414472155229,10705.635061225965,10705.635061225965,10705.635061225965,12217.304404860892,12713.103027986799]
[null,15,"da 15 a 20",7670.9343221761428,7670.9343221761428,9574.5944522199898,9574.5944522199898,12200.261327190939,12200.261327190939,12200.261327190939,13946.918559911583,14573.380778507129]
[null,21,"da 21 a 27",8448.2019553058199,8448.2019553058199,10605.442422802606,10605.442422802606,13655.636868825113,13655.636868825113,14366.798018871335,15636.765533732383,16961.477479896916]
[null,28,"da 28 a 34",9028.1830529833132,9028.1830529833132,11342.942874702392,11342.942874702392,15084.673108605721,15084.673108605721,15789.636775862871,17293.559266011456,18521.177315147164]
[null,35,"da 35",9445.9966843467082,9445.9966843467082,11903.815067113574,11903.815067113574,16154.771803519137,16154.771803519137,16866.449410464451,18521.177315147164,19760.673872961932]
[{"$f":"SUM(C360:L360)","v":10253.218817623576},null,null,{"$f":"IF(QUAL=1,D353,\"\")","v":""},{"$f":"IF(QUAL=2,E353,\"\")","v":""},{"$f":"IF(QUAL=3,F353,\"\")","v":""},{"$f":"IF(QUAL=4,G353,\"\")","v":""},{"$f":"IF(QUAL=5,H353,\"\")","v":""},{"$f":"IF(QUAL=6,I353,\"\")","v":""},{"$f":"IF(QUAL=7,J353,\"\")","v":""},{"$f":"IF(QUAL=8,K353,\"\")","v":10253.218817623576},{"$f":"IF(QUAL=9,L353,\"\")","v":""}]
[{"$f":"SUM(C361:L361)","v":10710.799630216861},null,null,"","","","","","","",10710.799630216861,""]
[12217.304404860892,null,null,"","","","","","","",12217.304404860892,""]
[13946.918559911583,null,null,"","","","","","","",13946.918559911583,""]
[15636.765533732383,null,null,"","","","","","","",15636.765533732383,""]
[17293.559266011456,null,null,"","","","","","","",17293.559266011456,""]
[18521.177315147164,null,null,"","","","","","","",18521.177315147164,""]
[]
[]
[]
[]
[null,null,null,null,null,null,null,null,null,null,null,"Tab A2"]
[null,null,null,"Coll.Sc. ","C.S. Istr.","Ass.A.T.","Coord. A/T","DSGA","Doc. materna elem.","Doc.Dipl.","Doc. laureato 1° Grado","Doc. laureato 2° Grado"]
[null,0,"da 0 a 2 ",29.63,30.39,33.19,37.950000000000003,43.88,39.58,39.58,42.96,42.96]
[null,3,"da 3 a 8",30.21,30.95,33.94,38.979999999999997,45.16,40.65,40.65,44.15,45.4]
[null,9,"da 9 a 14",32.29,33.020000000000003,36.6,42.14,49.12,43.95,43.95,48.02,49.29]
[null,15,"da 15 a 20",34.24,34.97,39.119999999999997,45.83,53.74,47.79,47.79,52.49,54.09]
[null,21,"da 21 a 27",36.15,36.94,41.66,49.41,58.68,51.53,53.36,56.82,60.21]
[null,28,"da 28 a 34",37.6,38.340000000000003,43.47,52.94,63.76,55.21,55.21,61.07,64.22]
[null,35,"da 35",38.61,39.39,44.86,55.58,68.7,57.95,57.95,64.22,67.42]
[{"$f":"SUM(C380:L380)","v":42.96},null,null,{"$f":"IF(QUAL=1,D373,\"\")","v":""},{"$f":"IF(QUAL=2,E373,\"\")","v":""},{"$f":"IF(QUAL=3,F373,\"\")","v":""},{"$f":"IF(QUAL=4,G373,\"\")","v":""},{"$f":"IF(QUAL=5,H373,\"\")","v":""},{"$f":"IF(QUAL=6,I373,\"\")","v":""},{"$f":"IF(QUAL=7,J373,\"\")","v":""},{"$f":"IF(QUAL=8,K373,\"\")","v":42.96},{"$f":"IF(QUAL=9,L373,\"\")","v":""}]
[{"$f":"SUM(C381:L381)","v":44.15},null,null,"","","","","","","",44.15,""]
[48.02,null,null,"","","","","","","",48.02,""]
[52.49,null,null,"","","","","","","",52.49,""]
[56.82,null,null,"","","","","","","",56.82,""]
[61.07,null,null,"","","","","","","",61.07,""]
[64.22,null,null,"","","","","","","",64.22,""]
[]
[]
[]
[]
[]
[]
[]
[]
[]
[]
[]
[]
[]
[]
["posizioni stipendiali dal 1/2/2005 - tabella B allegata al C.C.N.L. 2003",null,"2000-07-01",null,null,null,null,null,null,null,null,"Tab B"]
[null,null,null,"Coll.Sc. ","C.S. Istr.","Ass.A.T.","Coord. A/T","DSGA","Doc. materna elem.","Doc.Dipl.","Doc. laureato 1° Grado","Doc. laureato 2° Grado"]
[null,0,"da 0 a 2 ",5947.5176499145264,5947.5176499145264,7334.204423969798,7334.204423969798,9196.0315451873957,9196.0315451873957,9196.0315451873957,10451.538266873938,10451.538266873938]
[null,3,"da 3 a 8",6181.9890821011531,6181.9890821011531,7639.9469082307733,7639.9469082307733,9612.8122627526118,9612.8122627526118,9612.8122627526118,10915.316562256297,11403.884788794951]
[null,9,"da 9 a 14",7036.2087931951637,7036.2087931951637,8735.8684480986649,8735.8684480986649,10910.151993265403,10910.151993265403,10910.151993265403,12440.41378526755,12942.409891182531]
[null,15,"da 15 a 20",7838.2663574811368,7838.2663574811368,9766.7164186812788,9766.7164186812788,12423.370707597598,12423.370707597598,12423.370707597598,14194.817871474535,14827.477572859158]
[null,21,"da 21 a 27",8621.7314733998883,8621.7314733998883,10809.959354842042,10809.959354842042,13897.338697598992,13897.338697598992,14614.697330434288,15903.257293662558,17240.36420540524]
[null,28,"da 28 a 34",9214.1075366555287,9214.1075366555287,11553.657289530902,11553.657289530902,15344.967385746822,15344.967385746822,16056.128535793045,17578.64347430885,18818.656489022709]
[null,35,"da 35",9631.9211680189237,9631.9211680189237,12120.726964731159,12120.726964731159,16427.461046238386,16427.461046238386,17145.336135972771,18818.656489022709,20076.745495204697]
[{"$f":"SUM(C410:L410)","v":10451.538266873938},null,null,{"$f":"IF(QUAL=1,D403,\"\")","v":""},{"$f":"IF(QUAL=2,E403,\"\")","v":""},{"$f":"IF(QUAL=3,F403,\"\")","v":""},{"$f":"IF(QUAL=4,G403,\"\")","v":""},{"$f":"IF(QUAL=5,H403,\"\")","v":""},{"$f":"IF(QUAL=6,I403,\"\")","v":""},{"$f":"IF(QUAL=7,J403,\"\")","v":""},{"$f":"IF(QUAL=8,K403,\"\")","v":10451.538266873938},{"$f":"IF(QUAL=9,L403,\"\")","v":""}]
[{"$f":"SUM(C411:L411)","v":10915.316562256297},null,null,"","","","","","","",10915.316562256297,""]
[12440.41378526755,null,null,"","","","","","","",12440.41378526755,""]
[14194.817871474535,null,null,"","","","","","","",14194.817871474535,""]
[15903.257293662558,null,null,"","","","","","","",15903.257293662558,""]
[17578.64347430885,null,null,"","","","","","","",17578.64347430885,""]
[18818.656489022709,null,null,"","","","","","","",18818.656489022709,""]
[]
[]
[]
[]
[null,null,null,null,null,null,null,null,null,null,null,"Tab A1"]
[null,null,null,"Coll.Sc. ","C.S. Istr.","Ass.A.T.","Coord. A/T","DSGA","Doc. materna elem.","Doc.Dipl.","Doc. laureato 1° Grado","Doc. laureato 2° Grado"]
[null,0,"da 0 a 2 ",22.92,23.51,25.68,29.36,33.950000000000003,33.64,33.64,36.51,36.51]
[null,3,"da 3 a 8",23.37,23.94,26.26,30.16,34.94,34.549999999999997,34.549999999999997,37.520000000000003,38.58]
[null,9,"da 9 a 14",24.98,25.55,28.32,32.6,38,37.35,37.35,40.82,41.89]
[null,15,"da 15 a 20",26.49,27.05,30.27,35.46,41.58,40.619999999999997,40.619999999999997,44.61,45.98]
[null,21,"da 21 a 27",27.97,28.58,32.229999999999997,38.229999999999997,45.4,43.79,45.35,48.29,51.18]
[null,28,"da 28 a 34",29.09,29.67,33.630000000000003,40.96,49.33,46.92,48.46,51.91,54.58]
[null,35,"da 35",29.87,30.47,34.700000000000003,43,53.15,49.26,50.81,54.58,57.3]
[{"$f":"SUM(C430:L430)","v":36.51},null,null,{"$f":"IF(QUAL=1,D423,\"\")","v":""},{"$f":"IF(QUAL=2,E423,\"\")","v":""},{"$f":"IF(QUAL=3,F423,\"\")","v":""},{"$f":"IF(QUAL=4,G423,\"\")","v":""},{"$f":"IF(QUAL=5,H423,\"\")","v":""},{"$f":"IF(QUAL=6,I423,\"\")","v":""},{"$f":"IF(QUAL=7,J423,\"\")","v":""},{"$f":"IF(QUAL=8,K423,\"\")","v":36.51},{"$f":"IF(QUAL=9,L423,\"\")","v":""}]
[{"$f":"SUM(C431:L431)","v":37.520000000000003},null,null,"","","","","","","",37.520000000000003,""]
[40.82,null,null,"","","","","","","",40.82,""]
[44.61,null,null,"","","","","","","",44.61,""]
[48.29,null,null,"","","","","","","",48.29,""]
[51.91,null,null,"","","","","","","",51.91,""]
[54.58,null,null,"","","","","","","",54.58,""]
[]
[]
[]
[]
[]
[]
[]
[]
[]
[]
[]
[]
[]
[]
[null,null,"2001-01-01",null,null,null,null,null,null,null,null,"Tab F"]
[null,null,null,"Coll.Sc. ","C.S. Istr.","Ass.A.T.","Coord. A/T","DSGA","Doc. materna elem.","Doc.Dipl.","Doc. laureato 1° Grado","Doc. laureato 2° Grado"]
[null,0,"da 0 a 2 ",6189.2194786884065,6189.2194786884065,7606.8936666890468,7606.8936666890468,9505.9056846410876,9505.9056846410876,9505.9056846410876,10786.202337483925,10786.202337483925]
[null,3,"da 3 a 8",6429.8883936641068,6429.8883936641068,7918.8336337390965,7918.8336337390965,9935.0813677844508,9935.0813677844508,9935.0813677844508,11262.375598444432,11763.338790561234]
[null,9,"da 9 a 14",7302.700553125339,7302.700553125339,9033.3476219742079,9033.3476219742079,11257.211029453538,11257.211029453538,11257.211029453538,12818.460235401055,13326.653824105109]
[null,15,"da 15 a 20",8117.1530829894591,8117.1530829894591,10088.985523713118,10088.985523713118,12801.417157731101,12801.417157731101,12801.417157731101,14610.049218342483,15255.103885305252]
[null,21,"da 21 a 27",8919.2106472754313,8919.2106472754313,11150.820908241103,11150.820908241103,14300.175078888791,14300.175078888791,15036.126160091309,16349.476054475874,17711.372897374851]
[null,28,"da 28 a 34",9523.9816761092206,9523.9816761092206,11906.91380850811,11906.91380850811,15778.791180981991,15778.791180981991,16502.347296606364,18055.849649067539,19320.652594937688]
[null,35,"da 35",9947.9927902616892,9947.9927902616892,12486.378449286514,12486.378449286514,16879.877289840777,16879.877289840777,17616.344827942383,19320.652594937688,20603.531532275974]
[{"$f":"SUM(C460:L460)","v":10786.202337483925},null,null,{"$f":"IF(QUAL=1,D453,\"\")","v":""},{"$f":"IF(QUAL=2,E453,\"\")","v":""},{"$f":"IF(QUAL=3,F453,\"\")","v":""},{"$f":"IF(QUAL=4,G453,\"\")","v":""},{"$f":"IF(QUAL=5,H453,\"\")","v":""},{"$f":"IF(QUAL=6,I453,\"\")","v":""},{"$f":"IF(QUAL=7,J453,\"\")","v":""},{"$f":"IF(QUAL=8,K453,\"\")","v":10786.202337483925},{"$f":"IF(QUAL=9,L453,\"\")","v":""}]
[{"$f":"SUM(C461:L461)","v":11262.375598444432},null,null,"","","","","","","",11262.375598444432,""]
[12818.460235401055,null,null,"","","","","","","",12818.460235401055,""]
[14610.049218342483,null,null,"","","","","","","",14610.049218342483,""]
[16349.476054475874,null,null,"","","","","","","",16349.476054475874,""]
[18055.849649067539,null,null,"","","","","","","",18055.849649067539,""]
[19320.652594937688,null,null,"","","","","","","",19320.652594937688,""]
[]
[]
[]
[]
[null,null,null,null,null,null,null,null,null,null,null,"Tab A2"]
[null,null,null,"Coll.Sc. ","C.S. Istr.","Ass.A.T.","Coord. A/T","DSGA","Doc. materna elem.","Doc.Dipl.","Doc. laureato 1° Grado","Doc. laureato 2° Grado"]
[null,0,"da 0 a 2 ",29.63,30.39,33.19,37.950000000000003,43.88,39.58,39.58,42.96,42.96]
[null,3,"da 3 a 8",30.21,30.95,33.94,38.979999999999997,45.16,40.65,40.65,44.15,45.4]
[null,9,"da 9 a 14",32.29,33.020000000000003,36.6,42.14,49.12,43.95,43.95,48.02,49.29]
[null,15,"da 15 a 20",34.24,34.97,39.119999999999997,45.83,53.74,47.79,47.79,52.49,54.09]
[null,21,"da 21 a 27",36.15,36.94,41.66,49.41,58.68,51.53,53.36,56.82,60.21]
[null,28,"da 28 a 34",37.6,38.340000000000003,43.47,52.94,63.76,55.21,55.21,61.07,64.22]
[null,35,"da 35",38.61,39.39,44.86,55.58,68.7,57.95,57.95,64.22,67.42]
[{"$f":"SUM(C480:L480)","v":42.96},null,null,{"$f":"IF(QUAL=1,D473,\"\")","v":""},{"$f":"IF(QUAL=2,E473,\"\")","v":""},{"$f":"IF(QUAL=3,F473,\"\")","v":""},{"$f":"IF(QUAL=4,G473,\"\")","v":""},{"$f":"IF(QUAL=5,H473,\"\")","v":""},{"$f":"IF(QUAL=6,I473,\"\")","v":""},{"$f":"IF(QUAL=7,J473,\"\")","v":""},{"$f":"IF(QUAL=8,K473,\"\")","v":42.96},{"$f":"IF(QUAL=9,L473,\"\")","v":""}]
[{"$f":"SUM(C481:L481)","v":44.15},null,null,"","","","","","","",44.15,""]
[48.02,null,null,"","","","","","","",48.02,""]
[52.49,null,null,"","","","","","","",52.49,""]
[56.82,null,null,"","","","","","","",56.82,""]
[61.07,null,null,"","","","","","","",61.07,""]
[64.22,null,null,"","","","","","","",64.22,""]
[]
[]
[]
[]
[]
[]
[]
[]
[]
[]
[]
[]
[]
[]
[null,null,"2002-01-01",null,null,null,null,null,null,null,null,"Tab B"]
[null,null,null,"Coll.Sc. ","C.S. Istr.","Ass.A.T.","Coord. A/T","DSGA","Doc. materna elem.","Doc.Dipl.","Doc. laureato 1° Grado","Doc. laureato 2° Grado"]
[null,0,"da 0 a 2 ",6501.5794786884062,6501.5794786884062,7956.8136666890468,7956.8136666890468,9905.9856846410876,9907.1856846410883,9907.1856846410883,11221.802337483925,11221.802337483925]
[null,3,"da 3 a 8",6748.3683936641064,6748.3683936641064,8276.6736337390957,8276.6736337390957,10345.96136778445,10347.281367784452,10347.281367784452,11709.975598444433,12223.538790561235]
[null,9,"da 9 a 14",7643.1405531253386,7643.1405531253386,9419.2676219742079,9419.2676219742079,11701.451029453538,11702.771029453537,11702.771029453537,13305.420235401054,13826.33382410511]
[null,15,"da 15 a 20",8478.1130829894591,8478.1130829894591,10501.425523713118,10501.425523713118,13284.537157731102,13285.9771577311,13285.9771577311,15142.249218342484,15803.503885305252]
[null,21,"da 21 a 27",9300.3306472754321,9300.3306472754321,11590.020908241104,11590.020908241104,14821.095078888791,14822.535078888792,15577.086160091309,16925.596054475875,18321.81289737485]
[null,28,"da 28 a 34",9920.3416761092212,9920.3416761092212,12365.193808508111,12365.193808508111,16336.911180981991,16338.59118098199,17080.387296606365,18675.04964906754,19971.772594937687]
[null,35,"da 35",10355.03279026169,10355.03279026169,12959.298449286514,12959.298449286514,17465.837289840776,17467.397289840777,18222.464827942382,19971.772594937687,21287.051532275975]
[{"$f":"SUM(C510:L510)","v":11221.802337483925},null,null,{"$f":"IF(QUAL=1,D503,\"\")","v":""},{"$f":"IF(QUAL=2,E503,\"\")","v":""},{"$f":"IF(QUAL=3,F503,\"\")","v":""},{"$f":"IF(QUAL=4,G503,\"\")","v":""},{"$f":"IF(QUAL=5,H503,\"\")","v":""},{"$f":"IF(QUAL=6,I503,\"\")","v":""},{"$f":"IF(QUAL=7,J503,\"\")","v":""},{"$f":"IF(QUAL=8,K503,\"\")","v":11221.802337483925},{"$f":"IF(QUAL=9,L503,\"\")","v":""}]
[{"$f":"SUM(C511:L511)","v":11709.975598444433},null,null,"","","","","","","",11709.975598444433,""]
[13305.420235401054,null,null,"","","","","","","",13305.420235401054,""]
[15142.249218342484,null,null,"","","","","","","",15142.249218342484,""]
[16925.596054475875,null,null,"","","","","","","",16925.596054475875,""]
[18675.04964906754,null,null,"","","","","","","",18675.04964906754,""]
[19971.772594937687,null,null,"","","","","","","",19971.772594937687,""]
[]
[]
[]
[]
[null,null,null,null,null,null,null,null,null,null,null,"Tab A1"]
[null,null,null,"Coll.Sc. ","C.S. Istr.","Ass.A.T.","Coord. A/T","DSGA","Doc. materna elem.","Doc.Dipl.","Doc. laureato 1° Grado","Doc. laureato 2° Grado"]
[null,0,"da 0 a 2 ",22.92,23.51,25.68,29.36,33.950000000000003,33.64,33.64,36.51,36.51]
[null,3,"da 3 a 8",23.37,23.94,26.26,30.16,34.94,34.549999999999997,34.549999999999997,37.520000000000003,38.58]
[null,9,"da 9 a 14",24.98,25.55,28.32,32.6,38,37.35,37.35,40.82,41.89]
[null,15,"da 15 a 20",26.49,27.05,30.27,35.46,41.58,40.619999999999997,40.619999999999997,44.61,45.98]
[null,21,"da 21 a 27",27.97,28.58,32.229999999999997,38.229999999999997,45.4,43.79,45.35,48.29,51.18]
[null,28,"da 28 a 34",29.09,29.67,33.630000000000003,40.96,49.33,46.92,48.46,51.91,54.58]
[null,35,"da 35",29.87,30.47,34.700000000000003,43,53.15,49.26,50.81,54.58,57.3]
[{"$f":"SUM(C530:L530)","v":36.51},null,null,{"$f":"IF(QUAL=1,D523,\"\")","v":""},{"$f":"IF(QUAL=2,E523,\"\")","v":""},{"$f":"IF(QUAL=3,F523,\"\")","v":""},{"$f":"IF(QUAL=4,G523,\"\")","v":""},{"$f":"IF(QUAL=5,H523,\"\")","v":""},{"$f":"IF(QUAL=6,I523,\"\")","v":""},{"$f":"IF(QUAL=7,J523,\"\")","v":""},{"$f":"IF(QUAL=8,K523,\"\")","v":36.51},{"$f":"IF(QUAL=9,L523,\"\")","v":""}]
[{"$f":"SUM(C531:L531)","v":37.520000000000003},null,null,"","","","","","","",37.520000000000003,""]
[40.82,null,null,"","","","","","","",40.82,""]
[44.61,null,null,"","","","","","","",44.61,""]
[48.29,null,null,"","","","","","","",48.29,""]
[51.91,null,null,"","","","","","","",51.91,""]
[54.58,null,null,"","","","","","","",54.58,""]
[]
[]
[]
[]
[]
[]
[]
[]
[]
[]
[]
[]
[]
[]
[null,null,"2003-01-01",null,null,null,null,null,null,null,null,"Tab F"]
[null,null,null,"Coll.Sc. ","C.S. Istr.","Ass.A.T.","Coord. A/T","DSGA","Doc. materna elem.","Doc.Dipl.","Doc. laureato 1° Grado","Doc. laureato 2° Grado"]
[null,0,"da 0 a 2 ",13029.26,13363.2,14595.91,16688.22,19296.63,16703.5,16703.5,18128.79,18128.79]
[null,3,"da 3 a 8",13282.29,13609.55,14923.93,17139.349999999999,19858.400000000001,17154.75,17154.75,18629.330000000002,19155.849999999999]
[null,9,"da 9 a 14",14199.62,14520.45,16095.33,18529.04,21599.279999999999,18544.439999999999,18544.439999999999,20265.09,20799.2]
[null,15,"da 15 a 20",15055.71,15376.42,17204.73,20151.97,23631.02,20167.73,20167.73,22148.36,22826.41]
[null,21,"da 21 a 27",15898.57,16245.63,18320.8,21727.29,25804.51,21743.17,22516.799999999999,23976.83,25408.44]
[null,28,"da 28 a 34",16534.3,16861.169999999998,19115.53,23281.38,28037.7,23297.62,24058.14,25770.560000000001,27100.16]
[null,35,"da 35",16979.91,17320.93,19724.64,24438.75,30210.04,24454.99,25229.13,27100.16,28448.68]
[{"$f":"SUM(C560:L560)","v":18128.79},null,null,{"$f":"IF(QUAL=1,D553,\"\")","v":""},{"$f":"IF(QUAL=2,E553,\"\")","v":""},{"$f":"IF(QUAL=3,F553,\"\")","v":""},{"$f":"IF(QUAL=4,G553,\"\")","v":""},{"$f":"IF(QUAL=5,H553,\"\")","v":""},{"$f":"IF(QUAL=6,I553,\"\")","v":""},{"$f":"IF(QUAL=7,J553,\"\")","v":""},{"$f":"IF(QUAL=8,K553,\"\")","v":18128.79},{"$f":"IF(QUAL=9,L553,\"\")","v":""}]
[{"$f":"SUM(C561:L561)","v":18629.330000000002},null,null,"","","","","","","",18629.330000000002,""]
[20265.09,null,null,"","","","","","","",20265.09,""]
[22148.36,null,null,"","","","","","","",22148.36,""]
[23976.83,null,null,"","","","","","","",23976.83,""]
[25770.560000000001,null,null,"","","","","","","",25770.560000000001,""]
[27100.16,null,null,"","","","","","","",27100.16,""]
[]
[]
[]
[]
[null,null,null,null,null,null,null,null,null,null,null,"Tab A2"]
[null,null,null,"Coll.Sc. ","C.S. Istr.","Ass.A.T.","Coord. A/T","DSGA","Doc. materna elem.","Doc.Dipl.","Doc. laureato 1° Grado","Doc. laureato 2° Grado"]
[null,0,"da 0 a 2 ",29.63,30.39,33.19,37.950000000000003,43.88,39.58,39.58,42.96,42.96]
[null,3,"da 3 a 8",30.21,30.95,33.94,38.979999999999997,45.16,40.65,40.65,44.15,45.4]
[null,9,"da 9 a 14",32.29,33.020000000000003,36.6,42.14,49.12,43.95,43.95,48.02,49.29]
[null,15,"da 15 a 20",34.24,34.97,39.119999999999997,45.83,53.74,47.79,47.79,52.49,54.09]
[null,21,"da 21 a 27",36.15,36.94,41.66,49.41,58.68,51.53,53.36,56.82,60.21]
[null,28,"da 28 a 34",37.6,38.340000000000003,43.47,52.94,63.76,55.21,55.21,61.07,64.22]
[null,35,"da 35",38.61,39.39,44.86,55.58,68.7,57.95,57.95,64.22,67.42]
[{"$f":"SUM(C580:L580)","v":42.96},null,null,{"$f":"IF(QUAL=1,D573,\"\")","v":""},{"$f":"IF(QUAL=2,E573,\"\")","v":""},{"$f":"IF(QUAL=3,F573,\"\")","v":""},{"$f":"IF(QUAL=4,G573,\"\")","v":""},{"$f":"IF(QUAL=5,H573,\"\")","v":""},{"$f":"IF(QUAL=6,I573,\"\")","v":""},{"$f":"IF(QUAL=7,J573,\"\")","v":""},{"$f":"IF(QUAL=8,K573,\"\")","v":42.96},{"$f":"IF(QUAL=9,L573,\"\")","v":""}]
[{"$f":"SUM(C581:L581)","v":44.15},null,null,"","","","","","","",44.15,""]
[48.02,null,null,"","","","","","","",48.02,""]
[52.49,null,null,"","","","","","","",52.49,""]
[56.82,null,null,"","","","","","","",56.82,""]
[61.07,null,null,"","","","","","","",61.07,""]
[64.22,null,null,"","","","","","","",64.22,""]
[]
[]
[]
[]
[]
[]
[]
[]
[]
[]
[]
[]
[]
[]
[null,null,"2004-01-01",null,null,null,null,null,null,null,null,"Tab F"]
[null,null,null,"Coll.Sc. ","C.S. Istr.","Ass.A.T.","Coord. A/T","DSGA","Doc. materna elem.","Doc.Dipl.","Doc. laureato 1° Grado","Doc. laureato 2° Grado"]
[null,0,"da 0 a 2 ",13304.3,13645.32,14904.07,17040.54,19704.03,17107.18,17107.18,18566.91,18566.91]
[null,3,"da 3 a 8",13562.73,13896.83,15239.05,17501.27,20277.68,17569.349999999999,17569.349999999999,19079.57,19618.810000000001]
[null,9,"da 9 a 14",14499.38,14827.05,16435.169999999998,18920.240000000002,22055.279999999999,18992.64,18992.64,20754.93,21301.88]
[null,15,"da 15 a 20",15373.59,15701.02,17567.97,20577.490000000002,24129.98,20655.169999999998,20655.169999999998,22683.68,23378.17]
[null,21,"da 21 a 27",16234.21,16588.59,18707.560000000001,22186.05,26349.31,22268.65,23061,24556.31,26022.6]
[null,28,"da 28 a 34",16883.38,17217.21,19519.09,23772.9,28629.66,23860.66,24639.66,26393.48,27755.119999999999]
[null,35,"da 35",17338.349999999999,17686.57,20141.04,24954.75,30847.84,25046.11,25838.85,27755.119999999999,29136.28]
[{"$f":"SUM(C610:L610)","v":18566.91},null,null,{"$f":"IF(QUAL=1,D603,\"\")","v":""},{"$f":"IF(QUAL=2,E603,\"\")","v":""},{"$f":"IF(QUAL=3,F603,\"\")","v":""},{"$f":"IF(QUAL=4,G603,\"\")","v":""},{"$f":"IF(QUAL=5,H603,\"\")","v":""},{"$f":"IF(QUAL=6,I603,\"\")","v":""},{"$f":"IF(QUAL=7,J603,\"\")","v":""},{"$f":"IF(QUAL=8,K603,\"\")","v":18566.91},{"$f":"IF(QUAL=9,L603,\"\")","v":""}]
[{"$f":"SUM(C611:L611)","v":19079.57},null,null,"","","","","","","",19079.57,""]
[20754.93,null,null,"","","","","","","",20754.93,""]
[22683.68,null,null,"","","","","","","",22683.68,""]
[24556.31,null,null,"","","","","","","",24556.31,""]
[26393.48,null,null,"","","","","","","",26393.48,""]
[27755.119999999999,null,null,"","","","","","","",27755.119999999999,""]
[]
[]
[]
[]
[null,null,null,null,null,null,null,null,null,null,null,"Tab A1"]
[null,null,null,"Coll.Sc. ","C.S. Istr.","Ass.A.T.","Coord. A/T","DSGA","Doc. materna elem.","Doc.Dipl.","Doc. laureato 1° Grado","Doc. laureato 2° Grado"]
[null,0,"da 0 a 2 ",22.92,23.51,25.68,29.36,33.950000000000003,33.64,33.64,36.51,36.51]
[null,3,"da 3 a 8",23.37,23.94,26.26,30.16,34.94,34.549999999999997,34.549999999999997,37.520000000000003,38.58]
[null,9,"da 9 a 14",24.98,25.55,28.32,32.6,38,37.35,37.35,40.82,41.89]
[null,15,"da 15 a 20",26.49,27.05,30.27,35.46,41.58,40.619999999999997,40.619999999999997,44.61,45.98]
[null,21,"da 21 a 27",27.97,28.58,32.229999999999997,38.229999999999997,45.4,43.79,45.35,48.29,51.18]
[null,28,"da 28 a 34",29.09,29.67,33.630000000000003,40.96,49.33,46.92,48.46,51.91,54.58]
[null,35,"da 35",29.87,30.47,34.700000000000003,43,53.15,49.26,50.81,54.58,57.3]
[{"$f":"SUM(C630:L630)","v":36.51},null,null,{"$f":"IF(QUAL=1,D623,\"\")","v":""},{"$f":"IF(QUAL=2,E623,\"\")","v":""},{"$f":"IF(QUAL=3,F623,\"\")","v":""},{"$f":"IF(QUAL=4,G623,\"\")","v":""},{"$f":"IF(QUAL=5,H623,\"\")","v":""},{"$f":"IF(QUAL=6,I623,\"\")","v":""},{"$f":"IF(QUAL=7,J623,\"\")","v":""},{"$f":"IF(QUAL=8,K623,\"\")","v":36.51},{"$f":"IF(QUAL=9,L623,\"\")","v":""}]
[{"$f":"SUM(C631:L631)","v":37.520000000000003},null,null,"","","","","","","",37.520000000000003,""]
[40.82,null,null,"","","","","","","",40.82,""]
[44.61,null,null,"","","","","","","",44.61,""]
[48.29,null,null,"","","","","","","",48.29,""]
[51.91,null,null,"","","","","","","",51.91,""]
[54.58,null,null,"","","","","","","",54.58,""]
[]
[]
[]
[]
[]
[]
[]
[]
[]
[]
[]
[]
[]
[]
[null,null,"2005-02-01",null,null,null,null,null,null,null,null,"Tab F"]
[null,null,null,"Coll.Sc. ","C.S. Istr.","Ass.A.T.","Coord. A/T","DSGA","Doc. materna elem.","Doc.Dipl.","Doc. laureato 1° Grado","Doc. laureato 2° Grado"]
[null,0,"da 0 a 2 ",13659.9,14010.01,15302.38,17495.96,20230.62,17582.23,17582.23,19082.5,19082.5]
[null,3,"da 3 a 8",13925.18,14268.28,15646.28,17968.93,20819.59,18057.22,18057.22,19609.37,20163.59]
[null,9,"da 9 a 14",14886.91,15223.27,16874.38,19425.88,22644.73,19520.02,19520.02,21331.19,21893.39]
[null,15,"da 15 a 20",15784.44,16120.67,18037.47,21127.37,24774.81,21228.7,21228.7,23313.53,24027.25]
[null,21,"da 21 a 27",16668.09,17031.95,19207.560000000001,22778.93,27053.5,22887.02,23701.35,25238.19,26745.11]
[null,28,"da 28 a 34",17334.59,17677.28,20040.759999999998,24408.240000000002,29394.78,24523.25,25323.78,27126.29,28525.83]
[null,35,"da 35",17801.77,18159.3,20679.349999999999,25621.63,31672.27,25741.51,26556.37,28525.83,29945.29]
[{"$f":"SUM(C660:L660)","v":19082.5},null,null,{"$f":"IF(QUAL=1,D653,\"\")","v":""},{"$f":"IF(QUAL=2,E653,\"\")","v":""},{"$f":"IF(QUAL=3,F653,\"\")","v":""},{"$f":"IF(QUAL=4,G653,\"\")","v":""},{"$f":"IF(QUAL=5,H653,\"\")","v":""},{"$f":"IF(QUAL=6,I653,\"\")","v":""},{"$f":"IF(QUAL=7,J653,\"\")","v":""},{"$f":"IF(QUAL=8,K653,\"\")","v":19082.5},{"$f":"IF(QUAL=9,L653,\"\")","v":""}]
[{"$f":"SUM(C661:L661)","v":19609.37},null,null,"","","","","","","",19609.37,""]
[21331.19,null,null,"","","","","","","",21331.19,""]
[23313.53,null,null,"","","","","","","",23313.53,""]
[25238.19,null,null,"","","","","","","",25238.19,""]
[27126.29,null,null,"","","","","","","",27126.29,""]
[28525.83,null,null,"","","","","","","",28525.83,""]
[]
[]
[]
[]
[null,null,null,null,null,null,null,null,null,null,null,"Tab A2"]
[null,null,null,"Coll.Sc. ","C.S. Istr.","Ass.A.T.","Coord. A/T","DSGA","Doc. materna elem.","Doc.Dipl.","Doc. laureato 1° Grado","Doc. laureato 2° Grado"]
[null,0,"da 0 a 2 ",29.63,30.39,33.19,37.950000000000003,43.88,39.58,39.58,42.96,42.96]
[null,3,"da 3 a 8",30.21,30.95,33.94,38.979999999999997,45.16,40.65,40.65,44.15,45.4]
[null,9,"da 9 a 14",32.29,33.020000000000003,36.6,42.14,49.12,43.95,43.95,48.02,49.29]
[null,15,"da 15 a 20",34.24,34.97,39.119999999999997,45.83,53.74,47.79,47.79,52.49,54.09]
[null,21,"da 21 a 27",36.15,36.94,41.66,49.41,58.68,51.53,53.36,56.82,60.21]
[null,28,"da 28 a 34",37.6,38.340000000000003,43.47,52.94,63.76,55.21,55.21,61.07,64.22]
[null,35,"da 35",38.61,39.39,44.86,55.58,68.7,57.95,57.95,64.22,67.42]
[{"$f":"SUM(C680:L680)","v":42.96},null,null,{"$f":"IF(QUAL=1,D673,\"\")","v":""},{"$f":"IF(QUAL=2,E673,\"\")","v":""},{"$f":"IF(QUAL=3,F673,\"\")","v":""},{"$f":"IF(QUAL=4,G673,\"\")","v":""},{"$f":"IF(QUAL=5,H673,\"\")","v":""},{"$f":"IF(QUAL=6,I673,\"\")","v":""},{"$f":"IF(QUAL=7,J673,\"\")","v":""},{"$f":"IF(QUAL=8,K673,\"\")","v":42.96},{"$f":"IF(QUAL=9,L673,\"\")","v":""}]
[{"$f":"SUM(C681:L681)","v":44.15},null,null,"","","","","","","",44.15,""]
[48.02,null,null,"","","","","","","",48.02,""]
[52.49,null,null,"","","","","","","",52.49,""]
[56.82,null,null,"","","","","","","",56.82,""]
[61.07,null,null,"","","","","","","",61.07,""]
[64.22,null,null,"","","","","","","",64.22,""]
[]
[]
[]
[]
[]
[]
[]
[]
[]
[]
[]
[]
[]
[]
[null,null,"2006-01-01",null,null,null,null,null,null,null,null,"Tab F"]
[null,null,null,"Coll.Sc. ","C.S. Istr.","Ass.A.T.","Coord. A/T","DSGA","Doc. materna elem.","Doc.Dipl.","Doc. laureato 1° Grado","Doc. laureato 2° Grado"]
[null,0,"da 0 a 2 ",13722.54,14074.33,15372.58,17576.240000000002,20323.5,17663.71,17663.71,19170.939999999999,19170.939999999999]
[null,3,"da 3 a 8",13989.02,14333.8,15718.04,18051.37,20915.11,18140.86,18140.86,19700.21,20256.95]
[null,9,"da 9 a 14",14955.19,15293.11,16951.78,19515.04,22748.65,19610.38,19610.38,21429.95,21994.79]
[null,15,"da 15 a 20",15856.92,16194.59,18120.27,21224.33,24888.45,21326.98,21326.98,23421.53,24138.49]
[null,21,"da 21 a 27",16744.53,17110.07,19295.64,22883.45,27177.7,22992.98,23811.15,25355.07,26868.95]
[null,28,"da 28 a 34",17414.150000000001,17758.400000000001,20132.68,24520.2,29529.66,24636.89,25441.02,27251.93,28657.95]
[null,35,"da 35",17883.490000000002,18242.580000000002,20774.27,25739.23,31817.59,25860.79,26679.37,28657.95,30084.01]
[{"$f":"SUM(C710:L710)","v":19170.939999999999},null,null,{"$f":"IF(QUAL=1,D703,\"\")","v":""},{"$f":"IF(QUAL=2,E703,\"\")","v":""},{"$f":"IF(QUAL=3,F703,\"\")","v":""},{"$f":"IF(QUAL=4,G703,\"\")","v":""},{"$f":"IF(QUAL=5,H703,\"\")","v":""},{"$f":"IF(QUAL=6,I703,\"\")","v":""},{"$f":"IF(QUAL=7,J703,\"\")","v":""},{"$f":"IF(QUAL=8,K703,\"\")","v":19170.939999999999},{"$f":"IF(QUAL=9,L703,\"\")","v":""}]
[{"$f":"SUM(C711:L711)","v":19700.21},null,null,"","","","","","","",19700.21,""]
[21429.95,null,null,"","","","","","","",21429.95,""]
[23421.53,null,null,"","","","","","","",23421.53,""]
[25355.07,null,null,"","","","","","","",25355.07,""]
[27251.93,null,null,"","","","","","","",27251.93,""]
[28657.95,null,null,"","","","","","","",28657.95,""]
[]
[]
[]
[]
[null,null,null,null,null,null,null,null,null,null,null,"Tab A2"]
[null,null,null,"Coll.Sc. ","C.S. Istr.","Ass.A.T.","Coord. A/T","DSGA","Doc. materna elem.","Doc.Dipl.","Doc. laureato 1° Grado","Doc. laureato 2° Grado"]
[null,0,"da 0 a 2 ",29.63,30.39,33.19,37.950000000000003,43.88,39.58,39.58,42.96,42.96]
[null,3,"da 3 a 8",30.21,30.95,33.94,38.979999999999997,45.16,40.65,40.65,44.15,45.4]
[null,9,"da 9 a 14",32.29,33.020000000000003,36.6,42.14,49.12,43.95,43.95,48.02,49.29]
[null,15,"da 15 a 20",34.24,34.97,39.119999999999997,45.83,53.74,47.79,47.79,52.49,54.09]
[null,21,"da 21 a 27",36.15,36.94,41.66,49.41,58.68,51.53,53.36,56.82,60.21]
[null,28,"da 28 a 34",37.6,38.340000000000003,43.47,52.94,63.76,55.21,55.21,61.07,64.22]
[null,35,"da 35",38.61,39.39,44.86,55.58,68.7,57.95,57.95,64.22,67.42]
[{"$f":"SUM(C730:L730)","v":42.96},null,null,{"$f":"IF(QUAL=1,D723,\"\")","v":""},{"$f":"IF(QUAL=2,E723,\"\")","v":""},{"$f":"IF(QUAL=3,F723,\"\")","v":""},{"$f":"IF(QUAL=4,G723,\"\")","v":""},{"$f":"IF(QUAL=5,H723,\"\")","v":""},{"$f":"IF(QUAL=6,I723,\"\")","v":""},{"$f":"IF(QUAL=7,J723,\"\")","v":""},{"$f":"IF(QUAL=8,K723,\"\")","v":42.96},{"$f":"IF(QUAL=9,L723,\"\")","v":""}]
[{"$f":"SUM(C731:L731)","v":44.15},null,null,"","","","","","","",44.15,""]
[48.02,null,null,"","","","","","","",48.02,""]
[52.49,null,null,"","","","","","","",52.49,""]
[56.82,null,null,"","","","","","","",56.82,""]
[61.07,null,null,"","","","","","","",61.07,""]
[64.22,null,null,"","","","","","","",64.22,""]
[]
[]
[]
[]
[]
[]
[]
[]
[]
[]
[]
[]
[]
[]
[null,null,"2007-01-01",null,null,null,null,null,null,null,null,"Tab F"]
[null,null,null,"Coll.Sc. ","C.S. Istr.","Ass.A.T.","Coord. A/T","DSGA","Doc. materna elem.","Doc.Dipl.","Doc. laureato 1° Grado","Doc. laureato 2° Grado"]
[null,0,"da 0 a 2 ",13981.34,14339.65,15662.5,17907.68,20706.66,17999.830000000002,17999.830000000002,19535.740000000002,19535.740000000002]
[null,3,"da 3 a 8",14252.97,14604.04,16014.44,18391.810000000001,21309.55,18486.099999999999,18486.099999999999,20075.21,20642.509999999998]
[null,9,"da 9 a 14",15237.14,15581.47,17271.46,19882.96,23177.65,19983.7,19983.7,21837.83,22413.47]
[null,15,"da 15 a 20",16155.87,16499.990000000002,18461.91,21624.53,25357.77,21732.94,21732.94,23867.33,24597.97]
[null,21,"da 21 a 27",17060.29,17432.75,19659.599999999999,23314.97,27690.1,23430.62,24264.39,25837.71,27380.39]
[null,28,"da 28 a 34",17742.46,18093.32,20512.36,24982.68,30086.46,25105.73,25925.34,27770.69,29203.47]
[null,35,"da 35",18220.59,18586.62,21165.95,26224.51,32417.59,26352.91,27187.21,29203.47,30656.65]
[{"$f":"SUM(C760:L760)","v":19535.740000000002},null,null,{"$f":"IF(QUAL=1,D753,\"\")","v":""},{"$f":"IF(QUAL=2,E753,\"\")","v":""},{"$f":"IF(QUAL=3,F753,\"\")","v":""},{"$f":"IF(QUAL=4,G753,\"\")","v":""},{"$f":"IF(QUAL=5,H753,\"\")","v":""},{"$f":"IF(QUAL=6,I753,\"\")","v":""},{"$f":"IF(QUAL=7,J753,\"\")","v":""},{"$f":"IF(QUAL=8,K753,\"\")","v":19535.740000000002},{"$f":"IF(QUAL=9,L753,\"\")","v":""}]
[{"$f":"SUM(C761:L761)","v":20075.21},null,null,"","","","","","","",20075.21,""]
[21837.83,null,null,"","","","","","","",21837.83,""]
[23867.33,null,null,"","","","","","","",23867.33,""]
[25837.71,null,null,"","","","","","","",25837.71,""]
[27770.69,null,null,"","","","","","","",27770.69,""]
[29203.47,null,null,"","","","","","","",29203.47,""]
[]
[]
[]
[]
[null,null,null,null,null,null,null,null,null,null,null,"Tab A2"]
[null,null,null,"Coll.Sc. ","C.S. Istr.","Ass.A.T.","Coord. A/T","DSGA","Doc. materna elem.","Doc.Dipl.","Doc. laureato 1° Grado","Doc. laureato 2° Grado"]
[null,0,"da 0 a 2 ",29.63,30.39,33.19,37.950000000000003,43.88,39.58,39.58,42.96,42.96]
[null,3,"da 3 a 8",30.21,30.95,33.94,38.979999999999997,45.16,40.65,40.65,44.15,45.4]
[null,9,"da 9 a 14",32.29,33.020000000000003,36.6,42.14,49.12,43.95,43.95,48.02,49.29]
[null,15,"da 15 a 20",34.24,34.97,39.119999999999997,45.83,53.74,47.79,47.79,52.49,54.09]
[null,21,"da 21 a 27",36.15,36.94,41.66,49.41,58.68,51.53,53.36,56.82,60.21]
[null,28,"da 28 a 34",37.6,38.340000000000003,43.47,52.94,63.76,55.21,55.21,61.07,64.22]
[null,35,"da 35",38.61,39.39,44.86,55.58,68.7,57.95,57.95,64.22,67.42]
[{"$f":"SUM(C780:L780)","v":42.96},null,null,{"$f":"IF(QUAL=1,D773,\"\")","v":""},{"$f":"IF(QUAL=2,E773,\"\")","v":""},{"$f":"IF(QUAL=3,F773,\"\")","v":""},{"$f":"IF(QUAL=4,G773,\"\")","v":""},{"$f":"IF(QUAL=5,H773,\"\")","v":""},{"$f":"IF(QUAL=6,I773,\"\")","v":""},{"$f":"IF(QUAL=7,J773,\"\")","v":""},{"$f":"IF(QUAL=8,K773,\"\")","v":42.96},{"$f":"IF(QUAL=9,L773,\"\")","v":""}]
[{"$f":"SUM(C781:L781)","v":44.15},null,null,"","","","","","","",44.15,""]
[48.02,null,null,"","","","","","","",48.02,""]
[52.49,null,null,"","","","","","","",52.49,""]
[56.82,null,null,"","","","","","","",56.82,""]
[61.07,null,null,"","","","","","","",61.07,""]
[64.22,null,null,"","","","","","","",64.22,""]
[]
[]
[]
[]
[]
[]
[]
[]
[]
[]
[]
[]
[]
[]
[null,null,"2007-02-01",null,null,null,null,null,null,null,null,"Tab F"]
[null,null,null,"Coll.Sc. ","C.S. Istr.","Ass.A.T.","Coord. A/T","DSGA","Doc. materna elem.","Doc.Dipl.","Doc. laureato 1° Grado","Doc. laureato 2° Grado"]
[null,0,"da 0 a 2 ",14358.98,14339.65,16085.59,17907.68,20706.66,18490.63,18490.63,20068.419999999998,20068.419999999998]
[null,3,"da 3 a 8",14637.93,14604.04,16447.21,18391.810000000001,21309.55,18990.099999999999,18990.099999999999,20622.41,21205.31]
[null,9,"da 9 a 14",15648.86,15581.47,17738.009999999998,19882.96,23177.65,20528.5,20528.5,22433.27,23024.51]
[null,15,"da 15 a 20",16592.310000000001,16499.990000000002,18960.57,21624.53,25357.77,22325.5,22325.5,24517.97,25268.53]
[null,21,"da 21 a 27",17521.09,17432.75,20190.52,23314.97,27690.1,24069.5,24925.83,26542.11,28126.91]
[null,28,"da 28 a 34",18221.86,18093.32,21066.49,24982.68,30086.46,25790.21,26632.14,28527.77,29999.55]
[null,35,"da 35",18712.830000000002,18586.62,21737.759999999998,26224.51,32417.59,27071.47,27928.33,29999.55,31492.33]
[{"$f":"SUM(C810:L810)","v":20068.419999999998},null,null,{"$f":"IF(QUAL=1,D803,\"\")","v":""},{"$f":"IF(QUAL=2,E803,\"\")","v":""},{"$f":"IF(QUAL=3,F803,\"\")","v":""},{"$f":"IF(QUAL=4,G803,\"\")","v":""},{"$f":"IF(QUAL=5,H803,\"\")","v":""},{"$f":"IF(QUAL=6,I803,\"\")","v":""},{"$f":"IF(QUAL=7,J803,\"\")","v":""},{"$f":"IF(QUAL=8,K803,\"\")","v":20068.419999999998},{"$f":"IF(QUAL=9,L803,\"\")","v":""}]
[{"$f":"SUM(C811:L811)","v":20622.41},null,null,"","","","","","","",20622.41,""]
[22433.27,null,null,"","","","","","","",22433.27,""]
[24517.97,null,null,"","","","","","","",24517.97,""]
[26542.11,null,null,"","","","","","","",26542.11,""]
[28527.77,null,null,"","","","","","","",28527.77,""]
[29999.55,null,null,"","","","","","","",29999.55,""]
[]
[]
[]
[]
[null,null,null,null,null,null,null,null,null,null,null,"Tab A2"]
[null,null,null,"Coll.Sc. ","C.S. Istr.","Ass.A.T.","Coord. A/T","DSGA","Doc. materna elem.","Doc.Dipl.","Doc. laureato 1° Grado","Doc. laureato 2° Grado"]
[null,0,"da 0 a 2 ",{"$f":"(D853-D803)/12","v":0},32.289999999999964,2.5000000000545697E-3,40.310000000000095,46.619999999999891,9.8900000000000237,9.8900000000000237,10.730000000000169,10.730000000000169]
[null,3,"da 3 a 8",{"$f":"(D854-D804)/12","v":-5.8333333333090804E-3},32.87999999999996,-4.1666666666060337E-3,41.399999999999942,47.969999999999949,10.160000000000158,10.160000000000158,11.030000000000049,11.339999999999842]
[null,9,"da 9 a 14",{"$f":"(D855-D805)/12","v":4.1666666666060337E-3},35.080000000000076,8.3333333350310568E-4,44.770000000000131,52.179999999999986,10.979999999999867,10.979999999999867,12,12.310000000000096]
[null,15,"da 15 a 20",{"$f":"(D856-D806)/12","v":-2.500000000206152E-3},37.149999999999942,5.0000000001091394E-3,48.679999999999986,57.08999999999984,11.939999999999904,11.939999999999904,13.109999999999976,13.510000000000218]
[null,21,"da 21 a 27",{"$f":"(D857-D807)/12","v":6.6666666665090206E-3},39.25,6.6666666665090206E-3,52.489999999999782,62.340000000000146,12.869999999999891,13.329999999999927,14.199999999999818,15.039999999999964]
[null,28,"da 28 a 34",{"$f":"(D858-D808)/12","v":8.3333333319994074E-4},40.730000000000167,2.4999999999029874E-3,56.240000000000087,67.74000000000008,13.789999999999964,14.240000000000085,15.259999999999915,16.039999999999964]
[null,35,"da 35",{"$f":"(D859-D809)/12","v":8.3333333332120674E-3},41.840000000000146,-8.3333333319994074E-4,59.040000000000269,72.979999999999862,14.479999999999867,14.939999999999904,16.039999999999964,16.839999999999844]
[{"$f":"SUM(C830:L830)","v":10.730000000000169},null,null,{"$f":"IF(QUAL=1,D823,\"\")","v":""},{"$f":"IF(QUAL=2,E823,\"\")","v":""},{"$f":"IF(QUAL=3,F823,\"\")","v":""},{"$f":"IF(QUAL=4,G823,\"\")","v":""},{"$f":"IF(QUAL=5,H823,\"\")","v":""},{"$f":"IF(QUAL=6,I823,\"\")","v":""},{"$f":"IF(QUAL=7,J823,\"\")","v":""},{"$f":"IF(QUAL=8,K823,\"\")","v":10.730000000000169},{"$f":"IF(QUAL=9,L823,\"\")","v":""}]
[{"$f":"SUM(C831:L831)","v":11.030000000000049},null,null,"","","","","","","",11.030000000000049,""]
[12,null,null,"","","","","","","",12,""]
[13.109999999999976,null,null,"","","","","","","",13.109999999999976,""]
[14.199999999999818,null,null,"","","","","","","",14.199999999999818,""]
[15.259999999999915,null,null,"","","","","","","",15.259999999999915,""]
[16.039999999999964,null,null,"","","","","","","",16.039999999999964,""]
[]
[]
[]
[]
[]
[]
[]
[]
[]
[]
[]
[]
[]
[]
[null,null,"2008-01-01",null,null,null,null,null,null,null,null,"Tab F"]
[null,null,null,"Coll.Sc. ","C.S. Istr.","Ass.A.T.","Coord. A/T","DSGA","Doc. materna elem.","Doc.Dipl.","Doc. laureato 1° Grado","Doc. laureato 2° Grado"]
[null,0,"da 0 a 2 ",14358.98,14727.13,16085.62,18391.400000000001,21266.1,18609.310000000001,18609.310000000001,20197.18,20197.18]
[null,3,"da 3 a 8",14637.86,14998.6,16447.16,18888.61,21885.19,19112.02,19112.02,20754.77,21341.39]
[null,9,"da 9 a 14",15648.91,16002.43,17738.02,20420.2,23803.81,20660.259999999998,20660.259999999998,22577.27,23172.23]
[null,15,"da 15 a 20",16592.28,16945.79,18960.63,22208.69,26042.85,22468.78,22468.78,24675.29,25430.65]
[null,21,"da 21 a 27",17521.169999999998,17903.75,20190.599999999999,23944.85,28438.18,24223.94,25085.79,26712.51,28307.39]
[null,28,"da 28 a 34",18221.87,18582.080000000002,21066.52,25657.56,30899.34,25955.69,26803.02,28710.89,30192.03]
[null,35,"da 35",18712.93,19088.7,21737.75,26932.99,33293.35,27245.23,28107.61,30192.03,31694.41]
[{"$f":"SUM(C860:L860)","v":20197.18},null,null,{"$f":"IF(QUAL=1,D853,\"\")","v":""},{"$f":"IF(QUAL=2,E853,\"\")","v":""},{"$f":"IF(QUAL=3,F853,\"\")","v":""},{"$f":"IF(QUAL=4,G853,\"\")","v":""},{"$f":"IF(QUAL=5,H853,\"\")","v":""},{"$f":"IF(QUAL=6,I853,\"\")","v":""},{"$f":"IF(QUAL=7,J853,\"\")","v":""},{"$f":"IF(QUAL=8,K853,\"\")","v":20197.18},{"$f":"IF(QUAL=9,L853,\"\")","v":""}]
[{"$f":"SUM(C861:L861)","v":20754.77},null,null,"","","","","","","",20754.77,""]
[22577.27,null,null,"","","","","","","",22577.27,"",null,null,"CCNL 29/11/2007                                              Tab. B"]
[24675.29,null,null,"","","","","","","",24675.29,"",null,"Decorrenza 1/2/2007","Doc.M.E.","Doc.Dipl.","Doc.L.I gr.","Doc.L.II gr."]
[26712.51,null,null,"","","","","","","",26712.51,"",null,null,18490.63,18490.63,20068.419999999998,20068.419999999998,"da 0 a 2 "]
[28710.89,null,null,"","","","","","","",28710.89,"",null,null,18990.099999999999,18990.099999999999,20622.41,21205.31,"da 3 a 8"]
[30192.03,null,null,"","","","","","","",30192.03,"",null,null,20528.5,20528.5,22433.27,23024.51,"da 9 a 14"]
[null,null,null,null,null,null,null,null,null,null,null,null,null,null,22325.5,22325.5,24517.97,25268.53,"da 15 a 20"]
[null,null,null,null,null,null,null,null,null,null,null,null,null,null,24069.5,24925.83,26542.11,28126.91,"da 21 a 27"]
[null,null,null,null,null,null,null,null,null,null,null,null,null,null,25790.21,26632.14,28527.77,29999.55,"da 28 a 34"]
[null,null,null,null,null,null,null,null,null,null,null,null,null,null,27071.47,27928.33,29999.55,31492.33,"da 35"]
[null,null,null,null,null,null,null,null,null,null,null,"Tab A2"]
[null,null,null,"Coll.Sc. ","C.S. Istr.","Ass.A.T.","Coord. A/T","DSGA","Doc. materna elem.","Doc.Dipl.","Doc. laureato 1° Grado","Doc. laureato 2° Grado"]
[null,0,"da 0 a 2 ",{"$f":"(D903-D853)/12","v":6.1033333333333148},6.2600000000000664,6.8399999999999936,7.8200000000000118,9.0400000000002674,7.9099999999998545,7.9099999999998545,8.5799999999999272,8.5799999999999272]
[null,3,"da 3 a 8",{"$f":"(D904-D854)/12","v":6.0999999999999091},6.2599999999999154,6.8400000000001455,7.8200000000000118,9.0399999999999636,7.9099999999998545,7.9099999999998545,8.5799999999999272,8.5799999999999272]
[null,9,"da 9 a 14",{"$f":"(D905-D855)/12","v":6.1000000000000609},6.2599999999999154,6.8399999999998427,7.8200000000000118,9.0399999999999636,7.9100000000001573,7.9100000000001573,8.5799999999999272,8.5799999999999272]
[null,15,"da 15 a 20",{"$f":"(D906-D856)/12","v":6.1000000000000609},6.2599999999999154,6.8399999999998427,7.8200000000000118,9.0400000000002674,7.9100000000001573,7.9100000000001573,8.5799999999999272,8.5799999999999272]
[null,21,"da 21 a 27",{"$f":"(D907-D857)/12","v":6.1000000000000609},6.2599999999999154,6.8400000000001455,7.8200000000000118,9.0399999999999636,7.9100000000001573,7.9099999999998545,8.580000000000231,8.5799999999999272]
[null,28,"da 28 a 34",{"$f":"(D908-D858)/12","v":6.1000000000000609},6.2599999999999154,6.8399999999998427,7.8200000000000118,9.0399999999999636,7.9100000000001573,7.9099999999998545,8.5799999999999272,8.580000000000231]
[null,35,"da 35",{"$f":"(D909-D859)/12","v":6.1000000000000609},6.2599999999999154,6.8400000000001455,7.8200000000000118,9.0400000000002674,7.9100000000001573,7.9099999999998545,8.580000000000231,8.5799999999999272]
[{"$f":"SUM(C880:L880)","v":8.5799999999999272},null,null,{"$f":"IF(QUAL=1,D873,\"\")","v":""},{"$f":"IF(QUAL=2,E873,\"\")","v":""},{"$f":"IF(QUAL=3,F873,\"\")","v":""},{"$f":"IF(QUAL=4,G873,\"\")","v":""},{"$f":"IF(QUAL=5,H873,\"\")","v":""},{"$f":"IF(QUAL=6,I873,\"\")","v":""},{"$f":"IF(QUAL=7,J873,\"\")","v":""},{"$f":"IF(QUAL=8,K873,\"\")","v":8.5799999999999272},{"$f":"IF(QUAL=9,L873,\"\")","v":""}]
[{"$f":"SUM(C881:L881)","v":8.5799999999999272},null,null,"","","","","","","",8.5799999999999272,""]
[8.5799999999999272,null,null,"","","","","","","",8.5799999999999272,""]
[8.5799999999999272,null,null,"","","","","","","",8.5799999999999272,""]
[8.580000000000231,null,null,"","","","","","","",8.580000000000231,""]
[8.5799999999999272,null,null,"","","","","","","",8.5799999999999272,""]
[8.580000000000231,null,null,"","","","","","","",8.580000000000231,""]
[]
[]
[]
[]
[]
[]
[]
[]
[]
[]
[]
[]
[null,null,null,null,null,"aggiornato alla sequenza contrattuale del 14/2/2008"]
[]
[null,null,"2008-04-01",null,null,null,null,null,null,null,null,"Tab F"]
[null,null,null,"Coll.Sc. ","C.S. Istr.","Ass.A.T.","Coord. A/T","DSGA","Doc. materna elem.","Doc.Dipl.","Doc. laureato 1° Grado","Doc. laureato 2° Grado"]
[null,0,"da 0 a 2 ",14432.22,14802.25,16167.7,18485.240000000002,21374.58,18704.23,18704.23,20300.14,20300.14]
[null,3,"da 3 a 8",14711.06,15073.72,16529.240000000002,18982.45,21993.67,19206.939999999999,19206.939999999999,20857.73,21444.35]
[null,9,"da 9 a 14",15722.11,16077.55,17820.099999999999,20514.04,23912.29,20755.18,20755.18,22680.23,23275.19]
[null,15,"da 15 a 20",16665.48,17020.91,19042.71,22302.53,26151.33,22563.7,22563.7,24778.25,25533.61]
[null,21,"da 21 a 27",17594.37,17978.87,20272.68,24038.69,28546.66,24318.86,25180.71,26815.47,28410.35]
[null,28,"da 28 a 34",18295.07,18657.2,21148.6,25751.4,31007.82,26050.61,26897.94,28813.85,30294.99]
[null,35,"da 35",18786.13,19163.82,21819.83,27026.83,33401.83,27340.15,28202.53,30294.99,31797.37]
[{"$f":"SUM(C910:L910)","v":20300.14},null,null,{"$f":"IF(QUAL=1,D903,\"\")","v":""},{"$f":"IF(QUAL=2,E903,\"\")","v":""},{"$f":"IF(QUAL=3,F903,\"\")","v":""},{"$f":"IF(QUAL=4,G903,\"\")","v":""},{"$f":"IF(QUAL=5,H903,\"\")","v":""},{"$f":"IF(QUAL=6,I903,\"\")","v":""},{"$f":"IF(QUAL=7,J903,\"\")","v":""},{"$f":"IF(QUAL=8,K903,\"\")","v":20300.14},{"$f":"IF(QUAL=9,L903,\"\")","v":""}]
[{"$f":"SUM(C911:L911)","v":20857.73},null,null,"","","","","","","",20857.73,""]
[22680.23,null,null,"","","","","","","",22680.23,"",null,null,"CCNL 29/11/2007                                              Tab. B"]
[24778.25,null,null,"","","","","","","",24778.25,"",null,"Decorrenza 1/2/2007","Doc.M.E.","Doc.Dipl.","Doc.L.I gr.","Doc.L.II gr."]
[26815.47,null,null,"","","","","","","",26815.47,"",null,null,18490.63,18490.63,20068.419999999998,20068.419999999998,"da 0 a 2 "]
[28813.85,null,null,"","","","","","","",28813.85,"",null,null,18990.099999999999,18990.099999999999,20622.41,21205.31,"da 3 a 8"]
[30294.99,null,null,"","","","","","","",30294.99,"",null,null,20528.5,20528.5,22433.27,23024.51,"da 9 a 14"]
[null,null,null,null,null,null,null,null,null,null,null,null,null,null,22325.5,22325.5,24517.97,25268.53,"da 15 a 20"]
[null,null,null,null,null,null,null,null,null,null,null,null,null,null,24069.5,24925.83,26542.11,28126.91,"da 21 a 27"]
[null,null,null,null,null,null,null,null,null,null,null,null,null,null,25790.21,26632.14,28527.77,29999.55,"da 28 a 34"]
[null,null,null,null,null,null,null,null,null,null,null,null,null,null,27071.47,27928.33,29999.55,31492.33,"da 35"]
[null,null,null,null,null,null,null,null,null,null,null,"Tab A2"]
[null,null,null,"Coll.Sc. ","C.S. Istr.","Ass.A.T.","Coord. A/T","DSGA","Doc. materna elem.","Doc.Dipl.","Doc. laureato 1° Grado","Doc. laureato 2° Grado"]
[null,0,"da 0 a 2 ",{"$f":"(D953-D903)/12","v":4.0700000000000118},4.5033333333334058,4.549999999999879,5.2099999999997335,6.0199999999998299,5.2700000000001337,5.2700000000001337,5.7300000000001701,5.7300000000001701]
[null,3,"da 3 a 8",{"$f":"(D954-D904)/12","v":4.0700000000000118},4.5033333333334058,4.549999999999879,5.2100000000000364,6.0200000000001337,5.2700000000001337,5.2700000000001337,5.7300000000001701,5.7300000000001701]
[null,9,"da 9 a 14",{"$f":"(D955-D905)/12","v":4.0700000000000118},4.5033333333334058,4.5500000000001819,5.2100000000000364,6.0199999999998299,5.2699999999998299,5.2699999999998299,5.7300000000001701,5.7300000000001701]
[null,15,"da 15 a 20",{"$f":"(D956-D906)/12","v":4.0700000000000118},4.5033333333334058,4.5500000000001819,5.2100000000000364,6.0199999999998299,5.2699999999998299,5.2699999999998299,5.7299999999998663,5.7299999999998663]
[null,21,"da 21 a 27",{"$f":"(D957-D907)/12","v":4.0700000000000118},4.5033333333334058,4.549999999999879,5.2100000000000364,6.0200000000001337,5.2699999999998299,5.2700000000001337,5.7299999999998663,5.7300000000001701]
[null,28,"da 28 a 34",{"$f":"(D958-D908)/12","v":4.0700000000000118},4.5033333333334058,4.5500000000001819,5.2099999999997335,6.0200000000001337,5.2699999999998299,5.2700000000001337,5.7300000000001701,5.7299999999998663]
[null,35,"da 35",{"$f":"(D959-D909)/12","v":4.0700000000000118},4.5033333333334058,4.549999999999879,5.2099999999997335,6.0199999999998299,5.2699999999998299,5.2700000000001337,5.7299999999998663,5.7300000000001701]
[{"$f":"SUM(C930:L930)","v":5.7300000000001701},null,null,{"$f":"IF(QUAL=1,D923,\"\")","v":""},{"$f":"IF(QUAL=2,E923,\"\")","v":""},{"$f":"IF(QUAL=3,F923,\"\")","v":""},{"$f":"IF(QUAL=4,G923,\"\")","v":""},{"$f":"IF(QUAL=5,H923,\"\")","v":""},{"$f":"IF(QUAL=6,I923,\"\")","v":""},{"$f":"IF(QUAL=7,J923,\"\")","v":""},{"$f":"IF(QUAL=8,K923,\"\")","v":5.7300000000001701},{"$f":"IF(QUAL=9,L923,\"\")","v":""}]
[{"$f":"SUM(C931:L931)","v":5.7300000000001701},null,null,"","","","","","","",5.7300000000001701,""]
[5.7300000000001701,null,null,"","","","","","","",5.7300000000001701,""]
[5.7299999999998663,null,null,"","","","","","","",5.7299999999998663,""]
[5.7299999999998663,null,null,"","","","","","","",5.7299999999998663,""]
[5.7300000000001701,null,null,"","","","","","","",5.7300000000001701,""]
[5.7299999999998663,null,null,"","","","","","","",5.7299999999998663,""]
[]
[]
[]
[]
[]
[]
[]
[]
[]
[]
[]
[]
[]
[null,null,null,"ind. Di vacanza contrattuale - (Art. 33  Decreto Legge  N. 185 del 29 novembre 2008)"]
[null,null,"2008-07-01",null,null,null,null,null,null,null,null,"Tab F"]
[null,null,null,"Coll.Sc. ","C.S. Istr.","Ass.A.T.","Coord. A/T","DSGA","Doc. materna elem.","Doc.Dipl.","Doc. laureato 1° Grado","Doc. laureato 2° Grado"]
[null,0,"da 0 a 2 ",14481.06,14856.29,16222.3,18547.759999999998,21446.82,18767.47,18767.47,20368.900000000001,20368.900000000001]
[null,3,"da 3 a 8",14759.9,15127.76,16583.84,19044.97,22065.91,19270.18,19270.18,20926.490000000002,21513.11]
[null,9,"da 9 a 14",15770.95,16131.59,17874.7,20576.560000000001,23984.53,20818.419999999998,20818.419999999998,22748.99,23343.95]
[null,15,"da 15 a 20",16714.32,17074.95,19097.310000000001,22365.05,26223.57,22626.94,22626.94,24847.01,25602.37]
[null,21,"da 21 a 27",17643.21,18032.91,20327.28,24101.21,28618.9,24382.1,25243.95,26884.23,28479.11]
[null,28,"da 28 a 34",18343.91,18711.240000000002,21203.200000000001,25813.919999999998,31080.06,26113.85,26961.18,28882.61,30363.75]
[null,35,"da 35",18834.97,19217.86,21874.43,27089.35,33474.07,27403.39,28265.77,30363.75,31866.13]
[{"$f":"SUM(C960:L960)","v":20368.900000000001},null,null,{"$f":"IF(QUAL=1,D953,\"\")","v":""},{"$f":"IF(QUAL=2,E953,\"\")","v":""},{"$f":"IF(QUAL=3,F953,\"\")","v":""},{"$f":"IF(QUAL=4,G953,\"\")","v":""},{"$f":"IF(QUAL=5,H953,\"\")","v":""},{"$f":"IF(QUAL=6,I953,\"\")","v":""},{"$f":"IF(QUAL=7,J953,\"\")","v":""},{"$f":"IF(QUAL=8,K953,\"\")","v":20368.900000000001},{"$f":"IF(QUAL=9,L953,\"\")","v":""}]
[{"$f":"SUM(C961:L961)","v":20926.490000000002},null,null,"","","","","","","",20926.490000000002,""]
[22748.99,null,null,"","","","","","","",22748.99,""]
[24847.01,null,null,"","","","","","","",24847.01,""]
[26884.23,null,null,"","","","","","","",26884.23,""]
[28882.61,null,null,"","","","","","","",28882.61,""]
[30363.75,null,null,"","","","","","","",30363.75,""]
[]
[]
[]
[]
[null,null,null,null,null,null,null,null,null,null,null,"Tab A2"]
[null,null,null,"Coll.Sc. ","C.S. Istr.","Ass.A.T.","Coord. A/T","DSGA","Doc. materna elem.","Doc.Dipl.","Doc. laureato 1° Grado","Doc. laureato 2° Grado"]
[null,0,"da 0 a 2 ",29.63,30.39,33.19,37.950000000000003,43.88,39.58,39.58,42.96,42.96]
[null,3,"da 3 a 8",30.21,30.95,33.94,38.979999999999997,45.16,40.65,40.65,44.15,45.4]
[null,9,"da 9 a 14",32.29,33.020000000000003,36.6,42.14,49.12,43.95,43.95,48.02,49.29]
[null,15,"da 15 a 20",34.24,34.97,39.119999999999997,45.83,53.74,47.79,47.79,52.49,54.09]
[null,21,"da 21 a 27",36.15,36.94,41.66,49.41,58.68,51.53,53.36,56.82,60.21]
[null,28,"da 28 a 34",37.6,38.340000000000003,43.47,52.94,63.76,55.21,55.21,61.07,64.22]
[null,35,"da 35",38.61,39.39,44.86,55.58,68.7,57.95,57.95,64.22,67.42]
[{"$f":"SUM(C980:L980)","v":42.96},null,null,{"$f":"IF(QUAL=1,D973,\"\")","v":""},{"$f":"IF(QUAL=2,E973,\"\")","v":""},{"$f":"IF(QUAL=3,F973,\"\")","v":""},{"$f":"IF(QUAL=4,G973,\"\")","v":""},{"$f":"IF(QUAL=5,H973,\"\")","v":""},{"$f":"IF(QUAL=6,I973,\"\")","v":""},{"$f":"IF(QUAL=7,J973,\"\")","v":""},{"$f":"IF(QUAL=8,K973,\"\")","v":42.96},{"$f":"IF(QUAL=9,L973,\"\")","v":""}]
[{"$f":"SUM(C981:L981)","v":44.15},null,null,"","","","","","","",44.15,""]
[48.02,null,null,"","","","","","","",48.02,""]
[52.49,null,null,"","","","","","","",52.49,""]
[56.82,null,null,"","","","","","","",56.82,""]
[61.07,null,null,"","","","","","","",61.07,""]
[64.22,null,null,"","","","","","","",64.22,""]
[]
[]
[]
[]
[]
[]
[]
[]
[]
[]
[]
[]
[]
[null,null,null,"C.C.N.L. 2007 - BIENNIO ECONOMICO 2008/2009"]
[null,null,"2009-01-01",null,null,null,null,null,null,null,null,"Tab F"]
[null,null,null,"Coll.Sc. ","C.S. Istr.","Ass.A.T.","Coord. A/T","DSGA","Doc. materna elem.","Doc.Dipl.","Doc. laureato 1° Grado","Doc. laureato 2° Grado"]
[null,0,"da 0 a 2 ",14903.94,15285.97,16696.060000000001,19089.32,22073.1,19324.27,19324.27,20973.22,20973.22]
[null,3,"da 3 a 8",15193.34,15567.76,17071.28,19605.37,22715.71,19846.3,19846.3,21552.17,22161.35]
[null,9,"da 9 a 14",16242.79,16609.75,18411.099999999999,21195.16,24707.17,21454.06,21454.06,23444.75,24062.51]
[null,15,"da 15 a 20",17221.919999999998,17588.87,19680.150000000001,23051.45,27031.17,23332.06,23332.06,25623.29,26407.69]
[null,21,"da 21 a 27",18186.09,18583.189999999999,20956.8,24853.49,29517.34,25154.66,26049.63,27738.87,29394.95]
[null,28,"da 28 a 34",18913.310000000001,19287.2,21865.96,26631.24,32071.98,26952.89,27832.86,29814.05,31352.07]
[null,35,"da 35",19423.09,19813.14,22562.63,27955.03,34556.83,28291.99,29187.49,31352.07,32912.17]
[{"$f":"SUM(C1010:L1010)","v":20973.22},null,null,{"$f":"IF(QUAL=1,D1003,\"\")","v":""},{"$f":"IF(QUAL=2,E1003,\"\")","v":""},{"$f":"IF(QUAL=3,F1003,\"\")","v":""},{"$f":"IF(QUAL=4,G1003,\"\")","v":""},{"$f":"IF(QUAL=5,H1003,\"\")","v":""},{"$f":"IF(QUAL=6,I1003,\"\")","v":""},{"$f":"IF(QUAL=7,J1003,\"\")","v":""},{"$f":"IF(QUAL=8,K1003,\"\")","v":20973.22},{"$f":"IF(QUAL=9,L1003,\"\")","v":""}]
[{"$f":"SUM(C1011:L1011)","v":21552.17},null,null,"","","","","","","",21552.17,""]
[23444.75,null,null,"","","","","","","",23444.75,""]
[25623.29,null,null,"","","","","","","",25623.29,""]
[27738.87,null,null,"","","","","","","",27738.87,""]
[29814.05,null,null,"","","","","","","",29814.05,""]
[31352.07,null,null,"","","","","","","",31352.07,""]
[]
[]
[]
[]
[null,null,null,null,null,null,null,null,null,null,null,"Tab A2"]
[null,null,null,"Coll.Sc. ","C.S. Istr.","Ass.A.T.","Coord. A/T","DSGA","Doc. materna elem.","Doc.Dipl.","Doc. laureato 1° Grado","Doc. laureato 2° Grado"]
[null,0,"da 0 a 2 ",29.63,30.39,33.19,37.950000000000003,43.88,39.58,39.58,42.96,42.96]
[null,3,"da 3 a 8",30.21,30.95,33.94,38.979999999999997,45.16,40.65,40.65,44.15,45.4]
[null,9,"da 9 a 14",32.29,33.020000000000003,36.6,42.14,49.12,43.95,43.95,48.02,49.29]
[null,15,"da 15 a 20",34.24,34.97,39.119999999999997,45.83,53.74,47.79,47.79,52.49,54.09]
[null,21,"da 21 a 27",36.15,36.94,41.66,49.41,58.68,51.53,53.36,56.82,60.21]
[null,28,"da 28 a 34",37.6,38.340000000000003,43.47,52.94,63.76,55.21,55.21,61.07,64.22]
[null,35,"da 35",38.61,39.39,44.86,55.58,68.7,57.95,57.95,64.22,67.42]
[{"$f":"SUM(C1030:L1030)","v":42.96},null,null,{"$f":"IF(QUAL=1,D1023,\"\")","v":""},{"$f":"IF(QUAL=2,E1023,\"\")","v":""},{"$f":"IF(QUAL=3,F1023,\"\")","v":""},{"$f":"IF(QUAL=4,G1023,\"\")","v":""},{"$f":"IF(QUAL=5,H1023,\"\")","v":""},{"$f":"IF(QUAL=6,I1023,\"\")","v":""},{"$f":"IF(QUAL=7,J1023,\"\")","v":""},{"$f":"IF(QUAL=8,K1023,\"\")","v":42.96},{"$f":"IF(QUAL=9,L1023,\"\")","v":""}]
[{"$f":"SUM(C1031:L1031)","v":44.15},null,null,"","","","","","","",44.15,""]
[48.02,null,null,"","","","","","","",48.02,""]
[52.49,null,null,"","","","","","","",52.49,""]
[56.82,null,null,"","","","","","","",56.82,""]
[61.07,null,null,"","","","","","","",61.07,""]
[64.22,null,null,"","","","","","","",64.22,""]
[]
[]
[]
[]
[]
[]
[]
[]
[]
[]
[]
[]
[]
[null,null,null,"C.C.N.L. 04/08/2011"]
[null,null,"2010-04-01",null,null,null,null,null,null,null,null,"Tab F"]
[null,null,null,"Coll.Sc. ","C.S. Istr.","Ass.A.T.","Coord. A/T","DSGA","Doc. materna elem.","Doc.Dipl.","Doc. laureato 1° Grado","Doc. laureato 2° Grado"]
[null,0,"da 0 a 2",14971.02,15354.73,16771.18,19175.240000000002,22172.73,19411.27,19411.27,21067.54,21067.54]
[null,3,"da 3 a 8",15260.42,15636.52,17146.400000000001,19691.29,22815.34,19933.3,19933.3,21646.49,22255.67]
[null,9,"da 9 a 14",16309.87,16678.509999999998,18486.22,21281.08,24806.799999999999,21541.06,21541.06,23539.07,24156.83]
[null,15,"da 15 a 20",17289,17657.63,19755.27,23137.37,27130.799999999999,23419.06,23419.06,25717.61,26502.01]
[null,21,"da 21 a 27",18253.169999999998,18651.95,21031.919999999998,24939.41,29616.97,25241.66,26136.63,27833.19,29489.27]
[null,28,"da 28 a 35",18980.39,19355.96,21941.08,26717.16,32171.61,27039.89,27919.86,29908.37,31446.39]
[null,35,"oltre 35",19490.169999999998,19881.900000000001,22637.75,28040.95,34656.46,28378.99,29274.49,31446.39,33006.49]
[{"$f":"SUM(C1060:L1060)","v":21067.54},null,null,{"$f":"IF(QUAL=1,D1053,\"\")","v":""},{"$f":"IF(QUAL=2,E1053,\"\")","v":""},{"$f":"IF(QUAL=3,F1053,\"\")","v":""},{"$f":"IF(QUAL=4,G1053,\"\")","v":""},{"$f":"IF(QUAL=5,H1053,\"\")","v":""},{"$f":"IF(QUAL=6,I1053,\"\")","v":""},{"$f":"IF(QUAL=7,J1053,\"\")","v":""},{"$f":"IF(QUAL=8,K1053,\"\")","v":21067.54},{"$f":"IF(QUAL=9,L1053,\"\")","v":""}]
[{"$f":"SUM(C1061:L1061)","v":21646.49},null,null,"","","","","","","",21646.49,""]
[23539.07,null,null,"","","","","","","",23539.07,""]
[25717.61,null,null,"","","","","","","",25717.61,""]
[27833.19,null,null,"","","","","","","",27833.19,""]
[29908.37,null,null,"","","","","","","",29908.37,""]
[31446.39,null,null,"","","","","","","",31446.39,""]
[]
[]
[]
[]
[null,null,null,null,null,null,null,null,null,null,null,"Tab A2"]
[null,null,null,"Coll.Sc. ","C.S. Istr.","Ass.A.T.","Coord. A/T","DSGA","Doc. materna elem.","Doc.Dipl.","Doc. laureato 1° Grado","Doc. laureato 2° Grado"]
[null,0,"da 0 a 2 ",29.63,30.39,33.19,37.950000000000003,43.88,39.58,39.58,42.96,42.96]
[null,3,"da 3 a 8",30.21,30.95,33.94,38.979999999999997,45.16,40.65,40.65,44.15,45.4]
[null,9,"da 9 a 14",32.29,33.020000000000003,36.6,42.14,49.12,43.95,43.95,48.02,49.29]
[null,15,"da 15 a 20",34.24,34.97,39.119999999999997,45.83,53.74,47.79,47.79,52.49,54.09]
[null,21,"da 21 a 27",36.15,36.94,41.66,49.41,58.68,51.53,53.36,56.82,60.21]
[null,28,"da 28 a 34",37.6,38.340000000000003,43.47,52.94,63.76,55.21,55.21,61.07,64.22]
[null,35,"da 35",38.61,39.39,44.86,55.58,68.7,57.95,57.95,64.22,67.42]
[{"$f":"SUM(C1080:L1080)","v":42.96},null,null,{"$f":"IF(QUAL=1,D1073,\"\")","v":""},{"$f":"IF(QUAL=2,E1073,\"\")","v":""},{"$f":"IF(QUAL=3,F1073,\"\")","v":""},{"$f":"IF(QUAL=4,G1073,\"\")","v":""},{"$f":"IF(QUAL=5,H1073,\"\")","v":""},{"$f":"IF(QUAL=6,I1073,\"\")","v":""},{"$f":"IF(QUAL=7,J1073,\"\")","v":""},{"$f":"IF(QUAL=8,K1073,\"\")","v":42.96},{"$f":"IF(QUAL=9,L1073,\"\")","v":""}]
[{"$f":"SUM(C1081:L1081)","v":44.15},null,null,"","","","","","","",44.15,""]
[48.02,null,null,"","","","","","","",48.02,""]
[52.49,null,null,"","","","","","","",52.49,""]
[56.82,null,null,"","","","","","","",56.82,""]
[61.07,null,null,"","","","","","","",61.07,""]
[64.22,null,null,"","","","","","","",64.22,""]
[]
[]
[]
[]
[]
[]
[]
[]
[]
[]
[]
[]
[]
[null,null,null,"C.C.N.L. 04/08/2011"]
[null,null,"2010-07-01",null,null,null,null,null,null,null,null,"Tab F"]
[null,null,null,"Coll.Sc. ","C.S. Istr.","Ass.A.T.","Coord. A/T","DSGA","Doc. materna elem.","Doc.Dipl.","Doc. laureato 1° Grado","Doc. laureato 2° Grado"]
[null,0,"da 0 a 2",15015.78,15400.57,16821.34,19232.48,22238.7,19469.23,19469.23,21130.54,21130.54]
[null,3,"da 3 a 8",15305.18,15682.36,17196.560000000001,19748.53,22881.31,19991.259999999998,19991.259999999998,21709.49,22318.67]
[null,9,"da 9 a 14",16354.63,16724.349999999999,18536.38,21338.32,24872.77,21599.02,21599.02,23602.07,24219.83]
[null,15,"da 15 a 20",17333.759999999998,17703.47,19805.43,23194.61,27196.77,23477.02,23477.02,25780.61,26565.01]
[null,21,"da 21 a 27",18297.93,18697.79,21082.080000000002,24996.65,29682.94,25299.62,26194.59,27896.19,29552.27]
[null,28,"da 28 a 35",19025.150000000001,19401.8,21991.24,26774.400000000001,32237.58,27097.85,27977.82,29971.37,31509.39]
[null,35,"oltre 35",19534.93,19927.740000000002,22687.91,28098.19,34722.43,28436.95,29332.45,31509.39,33069.49]
[{"$f":"SUM(C1110:L1110)","v":21130.54},null,null,{"$f":"IF(QUAL=1,D1103,\"\")","v":""},{"$f":"IF(QUAL=2,E1103,\"\")","v":""},{"$f":"IF(QUAL=3,F1103,\"\")","v":""},{"$f":"IF(QUAL=4,G1103,\"\")","v":""},{"$f":"IF(QUAL=5,H1103,\"\")","v":""},{"$f":"IF(QUAL=6,I1103,\"\")","v":""},{"$f":"IF(QUAL=7,J1103,\"\")","v":""},{"$f":"IF(QUAL=8,K1103,\"\")","v":21130.54},{"$f":"IF(QUAL=9,L1103,\"\")","v":""}]
[{"$f":"SUM(C1111:L1111)","v":21709.49},null,null,"","","","","","","",21709.49,""]
[23602.07,null,null,"","","","","","","",23602.07,""]
[25780.61,null,null,"","","","","","","",25780.61,""]
[27896.19,null,null,"","","","","","","",27896.19,""]
[29971.37,null,null,"","","","","","","",29971.37,""]
[31509.39,null,null,"","","","","","","",31509.39,""]
[]
[]
[]
[]
[null,null,null,null,null,null,null,null,null,null,null,"Tab A2"]
[null,null,null,"Coll.Sc. ","C.S. Istr.","Ass.A.T.","Coord. A/T","DSGA","Doc. materna elem.","Doc.Dipl.","Doc. laureato 1° Grado","Doc. laureato 2° Grado"]
[null,0,"da 0 a 2 ",29.63,30.39,33.19,37.950000000000003,43.88,39.58,39.58,42.96,42.96]
[null,3,"da 3 a 8",30.21,30.95,33.94,38.979999999999997,45.16,40.65,40.65,44.15,45.4]
[null,9,"da 9 a 14",32.29,33.020000000000003,36.6,42.14,49.12,43.95,43.95,48.02,49.29]
[null,15,"da 15 a 20",34.24,34.97,39.119999999999997,45.83,53.74,47.79,47.79,52.49,54.09]
[null,21,"da 21 a 27",36.15,36.94,41.66,49.41,58.68,51.53,53.36,56.82,60.21]
[null,28,"da 28 a 34",37.6,38.340000000000003,43.47,52.94,63.76,55.21,55.21,61.07,64.22]
[]
[{"$f":"SUM(C1130:L1130)","v":42.96},null,null,{"$f":"IF(QUAL=1,D1123,\"\")","v":""},{"$f":"IF(QUAL=2,E1123,\"\")","v":""},{"$f":"IF(QUAL=3,F1123,\"\")","v":""},{"$f":"IF(QUAL=4,G1123,\"\")","v":""},{"$f":"IF(QUAL=5,H1123,\"\")","v":""},{"$f":"IF(QUAL=6,I1123,\"\")","v":""},{"$f":"IF(QUAL=7,J1123,\"\")","v":""},{"$f":"IF(QUAL=8,K1123,\"\")","v":42.96},{"$f":"IF(QUAL=9,L1123,\"\")","v":""}]
[{"$f":"SUM(C1131:L1131)","v":44.15},null,null,"","","","","","","",44.15,""]
[48.02,null,null,"","","","","","","",48.02,""]
[52.49,null,null,"","","","","","","",52.49,""]
[56.82,null,null,"","","","","","","",56.82,""]
[61.07,null,null,"","","","","","","",61.07,""]
[0,null,null,"","","","","","","",0,""]
[]
[]
[]
[]
[]
[]
[]
[]
[null,null,null,null,null,null,null,null,null,null,null,null,null,"FASCIA DA 3-8 ANNI ABOLITA  DAL CCNL 2011:"]
[null,null,null,null,null,null,null,null,null,null,null,null,null,"da 3 a 8",15305.18,15682.36,17196.560000000001,19748.53,22881.31,19991.259999999998,19991.259999999998,21709.49,22318.67]
[]
[]
[]
[null,null,null,"C.C.N.L. 04/08/2011",null,null,null,null,null,null,null,null,null,"ASSEGNO AD  PERSONAM SPETTANTE - C.C.N.L. 04/08/2011 - "]
[null,null,"2010-09-01",null,null,null,null,null,null,null,null,"Tab F"]
[null,null,null,"Coll.Sc. ","C.S. Istr.","Ass.A.T.","Coord. A/T","DSGA","Doc. materna elem.","Doc.Dipl.","Doc. laureato 1° Grado","Doc. laureato 2° Grado",null,"Coll.Sc. ","C.S. Istr.","Ass.A.T.","Coord. A/T","DSGA","Doc. materna elem.","Doc.Dipl.","Doc. laureato 1° Grado","Doc. laureato 2° Grado"]
[null,0,"da 0 a 8",15015.78,15400.57,16821.34,19232.48,22238.7,19469.23,19469.23,21130.54,21130.54,"3-8 ANNI ",{"$f":"O1146-D1153","v":289.39999999999964},{"$f":"P1146-E1153","v":281.79000000000087},375.22000000000116,516.04999999999927,642.61000000000058,522.02999999999884,522.02999999999884,578.95000000000073,1188.1299999999974]
[null,9,"da 9 a 14",16354.63,16724.349999999999,18536.38,21338.32,24872.77,21599.02,21599.02,23602.07,24219.83,null,{"$f":"IF(QUAL=1,N1153,0)","v":0},{"$f":"IF(QUAL=2,O1153,0)","v":0},{"$f":"IF(QUAL=3,P1153,0)","v":0},{"$f":"IF(QUAL=4,Q1153,0)","v":0},{"$f":"IF(QUAL=5,R1153,0)","v":0},{"$f":"IF(QUAL=6,S1153,0)","v":0},{"$f":"IF(QUAL=7,T1153,0)","v":0},{"$f":"IF(QUAL=8,U1153,0)","v":578.95000000000073},{"$f":"IF(QUAL=9,V1153,0)","v":0}]
[null,15,"da 15 a 20",17333.759999999998,17703.47,19805.43,23194.61,27196.77,23477.02,23477.02,25780.61,26565.01]
[null,21,"da 21 a 27",18297.93,18697.79,21082.080000000002,24996.65,29682.94,25299.62,26194.59,27896.19,29552.27,null,"L'ASSEGNO AD PERSONAM SOPRA RIPORTATO SPETTA AL PERSONALE GIA' IN SERVIZIO A T.I. ALLA DATA DEL 01/09/2010 E CHE SIA NELLA FASCIA 0-2 OPPURE 3-8 E CHE POI SI TROVA NELLA FASCIA 0-8 ANNI. IN TALI CASI SPETTA L ADP. - L'ADP E' CORRISPOSTO PER TUTTA LA DURATA DELLA FASCIA 0-8 ANNI"]
[null,28,"da 28 a 34",19025.150000000001,19401.8,21991.24,26774.400000000001,32237.58,27097.85,27977.82,29971.37,31509.39]
[null,35,"da 35",19534.93,19927.740000000002,22687.91,28098.19,34722.43,28436.95,29332.45,31509.39,33069.49]
[{"$f":"SUM(C1159:L1159)","v":21130.54},null,null,{"$f":"IF(QUAL=1,D1153,\"\")","v":""},{"$f":"IF(QUAL=2,E1153,\"\")","v":""},{"$f":"IF(QUAL=3,F1153,\"\")","v":""},{"$f":"IF(QUAL=4,G1153,\"\")","v":""},{"$f":"IF(QUAL=5,H1153,\"\")","v":""},{"$f":"IF(QUAL=6,I1153,\"\")","v":""},{"$f":"IF(QUAL=7,J1153,\"\")","v":""},{"$f":"IF(QUAL=8,K1153,\"\")","v":21130.54},{"$f":"IF(QUAL=9,L1153,\"\")","v":""}]
[23602.07,null,null,"","","","","","","",23602.07,""]
[25780.61,null,null,"","","","","","","",25780.61,"",null,"assegno ad personam",null,{"$f":"SUM(N1154:V1154)","v":578.95000000000073}]
[27896.19,null,null,"","","","","","","",27896.19,""]
[29971.37,null,null,"","","","","","","",29971.37,""]
[31509.39,null,null,"","","","","","","",31509.39,""]
[]
[]
[]
[]
[]
[]
[null,null,null,null,null,null,null,null,null,null,null,"Tab A2"]
[null,null,null,"Coll.Sc. ","C.S. Istr.","Ass.A.T.","Coord. A/T","DSGA","Doc. materna elem.","Doc.Dipl.","Doc. laureato 1° Grado","Doc. laureato 2° Grado"]
[null,0,"da 0 a 2 ",29.63,30.39,33.19,37.950000000000003,43.88,39.58,39.58,42.96,42.96]
[null,3,"da 3 a 8",30.21,30.95,33.94,38.979999999999997,45.16,40.65,40.65,44.15,45.4]
[null,9,"da 9 a 14",32.29,33.020000000000003,36.6,42.14,49.12,43.95,43.95,48.02,49.29]
[null,15,"da 15 a 20",34.24,34.97,39.119999999999997,45.83,53.74,47.79,47.79,52.49,54.09]
[null,21,"da 21 a 27",36.15,36.94,41.66,49.41,58.68,51.53,53.36,56.82,60.21]
[null,28,"da 28 a 34",37.6,38.340000000000003,43.47,52.94,63.76,55.21,55.21,61.07,64.22]
[null,35,"da 35",38.61,39.39,44.86,55.58,68.7,57.95,57.95,64.22,67.42]
[{"$f":"SUM(C1180:L1180)","v":42.96},null,null,{"$f":"IF(QUAL=1,D1173,\"\")","v":""},{"$f":"IF(QUAL=2,E1173,\"\")","v":""},{"$f":"IF(QUAL=3,F1173,\"\")","v":""},{"$f":"IF(QUAL=4,G1173,\"\")","v":""},{"$f":"IF(QUAL=5,H1173,\"\")","v":""},{"$f":"IF(QUAL=6,I1173,\"\")","v":""},{"$f":"IF(QUAL=7,J1173,\"\")","v":""},{"$f":"IF(QUAL=8,K1173,\"\")","v":42.96},{"$f":"IF(QUAL=9,L1173,\"\")","v":""}]
[{"$f":"SUM(C1181:L1181)","v":44.15},null,null,"","","","","","","",44.15,""]
[48.02,null,null,"","","","","","","",48.02,""]
[52.49,null,null,"","","","","","","",52.49,""]
[56.82,null,null,"","","","","","","",56.82,""]
[61.07,null,null,"","","","","","","",61.07,""]
[64.22,null,null,"","","","","","","",64.22,""]
[]
[]
[]
[]
[]
[]
[]
[]
[]
[]
[]
[]
[]
[]
[]
[]
[null,"fascia di anzianità da 0-2 anni","fascia di anzianità da 3-8 anni","fascia di anzianità da 9-14 anni","fascia di anzianità da 15-20 anni","fascia di anzianità da 21-27 anni","fascia di anzianità da 28-34 anni","fascia di anzianità da 35 anni in poi"]
[{"$f":"C251","v":"1996-01-01"},{"$f":"A260","v":8741.0330170895595},{"$f":"A261","v":9161.4289329484018},{"$f":"A262","v":10525.391603443735},{"$f":"A263","v":12100.068688767578},{"$f":"A264","v":13634.978592861533},{"$f":"A265","v":15136.83525541376},{"$f":"A266","v":16259.096097135214}]
[{"$f":"C301","v":"1998-11-01"},{"$f":"A310","v":10011.516988849695},{"$f":"A311","v":10462.900318653907},{"$f":"A312","v":11944.615162141643},{"$f":"A313","v":13649.439386036038},{"$f":"A314","v":15314.496428700542},{"$f":"A315","v":16946.500229823319},{"$f":"A316","v":18155.525830591807}]
[{"$f":"C351","v":"1999-06-01"},{"$f":"A360","v":10253.218817623576},{"$f":"A361","v":10710.799630216861},{"$f":"A362","v":12217.304404860892},{"$f":"A363","v":13946.918559911583},{"$f":"A364","v":15636.765533732383},{"$f":"A365","v":17293.559266011456},{"$f":"A366","v":18521.177315147164}]
[{"$f":"C401","v":"2000-07-01"},{"$f":"A410","v":10451.538266873938},{"$f":"A411","v":10915.316562256297},{"$f":"A412","v":12440.41378526755},{"$f":"A413","v":14194.817871474535},{"$f":"A414","v":15903.257293662558},{"$f":"A415","v":17578.64347430885},{"$f":"A416","v":18818.656489022709}]
[{"$f":"C451","v":"2001-01-01"},{"$f":"A460","v":10786.202337483925},{"$f":"A461","v":11262.375598444432},{"$f":"A462","v":12818.460235401055},{"$f":"A463","v":14610.049218342483},{"$f":"A464","v":16349.476054475874},{"$f":"A465","v":18055.849649067539},{"$f":"A466","v":19320.652594937688}]
[{"$f":"C501","v":"2002-01-01"},{"$f":"A510","v":11221.802337483925},{"$f":"A511","v":11709.975598444433},{"$f":"A512","v":13305.420235401054},{"$f":"A513","v":15142.249218342484},{"$f":"A514","v":16925.596054475875},{"$f":"A515","v":18675.04964906754},{"$f":"A516","v":19971.772594937687}]
[{"$f":"C551","v":"2003-01-01"},{"$f":"A560","v":18128.79},{"$f":"A561","v":18629.330000000002},{"$f":"A562","v":20265.09},{"$f":"A563","v":22148.36},{"$f":"A564","v":23976.83},{"$f":"A565","v":25770.560000000001},{"$f":"A566","v":27100.16}]
[{"$f":"C601","v":"2004-01-01"},{"$f":"A610","v":18566.91},{"$f":"A611","v":19079.57},{"$f":"A612","v":20754.93},{"$f":"A613","v":22683.68},{"$f":"A614","v":24556.31},{"$f":"A615","v":26393.48},{"$f":"A616","v":27755.119999999999}]
[{"$f":"C651","v":"2005-02-01"},{"$f":"A660","v":19082.5},{"$f":"A661","v":19609.37},{"$f":"A662","v":21331.19},{"$f":"A663","v":23313.53},{"$f":"A664","v":25238.19},{"$f":"A665","v":27126.29},{"$f":"A666","v":28525.83}]
[{"$f":"C701","v":"2006-01-01"},{"$f":"A710","v":19170.939999999999},{"$f":"A711","v":19700.21},{"$f":"A712","v":21429.95},{"$f":"A713","v":23421.53},{"$f":"A714","v":25355.07},{"$f":"A715","v":27251.93},{"$f":"A716","v":28657.95}]
[{"$f":"C751","v":"2007-01-01"},{"$f":"A760","v":19535.740000000002},{"$f":"A761","v":20075.21},{"$f":"A762","v":21837.83},{"$f":"A763","v":23867.33},{"$f":"A764","v":25837.71},{"$f":"A765","v":27770.69},{"$f":"A766","v":29203.47}]
[{"$f":"C801","v":"2007-02-01"},{"$f":"A810","v":20068.419999999998},{"$f":"A811","v":20622.41},{"$f":"A812","v":22433.27},{"$f":"A813","v":24517.97},{"$f":"A814","v":26542.11},{"$f":"A815","v":28527.77},{"$f":"A816","v":29999.55}]
[{"$f":"C851","v":"2008-01-01"},{"$f":"A860","v":20197.18},{"$f":"A861","v":20754.77},{"$f":"A862","v":22577.27},{"$f":"A863","v":24675.29},{"$f":"A864","v":26712.51},{"$f":"A865","v":28710.89},{"$f":"A866","v":30192.03}]
[{"$f":"C901","v":"2008-04-01"},{"$f":"A910","v":20300.14},{"$f":"A911","v":20857.73},{"$f":"A912","v":22680.23},{"$f":"A913","v":24778.25},{"$f":"A914","v":26815.47},{"$f":"A915","v":28813.85},{"$f":"A916","v":30294.99}]
[{"$f":"C951","v":"2008-07-01"},{"$f":"A960","v":20368.900000000001},{"$f":"A961","v":20926.490000000002},{"$f":"A962","v":22748.99},{"$f":"A963","v":24847.01},{"$f":"A964","v":26884.23},{"$f":"A965","v":28882.61},{"$f":"A966","v":30363.75}]
[{"$f":"C1001","v":"2009-01-01"},{"$f":"A1010","v":20973.22},{"$f":"A1011","v":21552.17},{"$f":"A1012","v":23444.75},{"$f":"A1013","v":25623.29},{"$f":"A1014","v":27738.87},{"$f":"A1015","v":29814.05},{"$f":"A1016","v":31352.07}]
[{"$f":"C1051","v":"2010-04-01"},{"$f":"A1060","v":21067.54},{"$f":"A1061","v":21646.49},{"$f":"A1062","v":23539.07},{"$f":"A1063","v":25717.61},{"$f":"A1064","v":27833.19},{"$f":"A1065","v":29908.37},{"$f":"A1066","v":31446.39}]
[{"$f":"C1101","v":"2010-07-01"},{"$f":"A1110","v":21130.54},{"$f":"A1111","v":21709.49},{"$f":"A1112","v":23602.07},{"$f":"A1113","v":25780.61},{"$f":"A1114","v":27896.19},{"$f":"A1115","v":29971.37},{"$f":"A1116","v":31509.39}]
[]
[null,"0 - 8 ANNI","9 - 14 ANNI","15-20 ANNI","21-27 ANNI","28 - 34 ANNI","OLTRE 35"]
[{"$f":"C1151","v":"2010-09-01"},{"$f":"A1159","v":21130.54},{"$f":"A1160","v":23602.07},{"$f":"A1161","v":25780.61},{"$f":"A1162","v":27896.19},{"$f":"A1163","v":29971.37},{"$f":"A1164","v":31509.39},{"$f":"G1159","v":""}]
[]
[]
[]
["2020-01-01",0,0,null,0,0,0,0]
[]
[]
[]
[]
[]
[]
[]
[]
[]
[]
[]
[null,null,null,null,null,null,"R.p.D.","Valore annuo"]
[null,null,null,null,null,"anzianità","1999-07-01","2000-01-01","2001-01-01","2002-01-01","2003-01-01","2004-01-01","2005-01-01","2006-01-01","2007-01-01","2008-01-01"]
[null,null,null,null,1,"0-14",594.96,594.96,1338.6562824399489,1578.6562824399489,1710.6,1857.84,1857.84,1968,1968,1968]
[null,null,null,null,2,"15-27",594.96,594.96,1667.1228702608623,1955.1228702608623,2111.16,2287.8000000000002,2287.8000000000002,2424,2424,2424]
[null,null,null,null,3,"28 in poi",594.96,594.96,1865.4423195112252,2333.4423195112249,2585.4,2870.04,2870.04,3090,3090,3090]
[]
[]
[]
[null,null,null,null,null,null,"C.I.A.","PROFILO A/AS","VALORE ANNUO"]
[null,null,null,null,null,"1999-07-01","2002-01-01","2003-01-01","2006-01-01"]
[null,null,null,null,null,471,495,579,702]

{"sheet":"Foglio3","index":26,"n_rows":203,"n_cols":13,"rows_kept":203,"cut":false,"hidden":false,"merged":[[145,3,145,6]]}
[]
[]
[]
[]
[]
[null,null,null,"POSIZIONI STIPENDIALI DAL 1/1/1996",null,null,null,null,null,null,null,null,"Tab B"]
[null,null,null,null,"Coll.Sc. ","C.S. Istr.","Ass.A.T.","Coord. A/T","DSGA","Doc.M.E.","Doc.Dipl.","Doc.L.I gr.","Doc.L.II gr."]
[null,null,null,"da 0 a 2 ",4720.4160576779068,4720.4160576779068,5952.1657620063315,5952.1657620063315,7621.8709167626421,7621.8709167626421,7621.8709167626421,8741.0330170895595,8741.0330170895595]
[null,null,null,"da 3 a 8",4923.900075919164,4923.900075919164,6220.7233495328646,6220.7233495328646,7995.2692548043406,7995.2692548043406,7995.2692548043406,9161.4289329484018,9600.4172971744647]
[null,null,null,"da 9 a 14",5691.3550279661413,5691.3550279661413,7211.2876819864996,7211.2876819864996,9156.2643639575053,9156.2643639575053,9156.2643639575053,10525.391603443735,10977.807847046124]
[null,null,null,"da 15 a 20",6412.8453159941537,6412.8453159941537,8142.9759279439331,8142.9759279439331,10520.74349135193,10520.74349135193,10520.74349135193,12100.068688767578,12676.951045050535]
[null,null,null,"da 21 a 27",7128.1381212330925,7128.1381212330925,9074.6641739013667,9074.6641739013667,11845.971894415552,11845.971894415552,12488.960733781962,13634.978592861533,14841.938366033663]
[null,null,null,"da 28 a 34",7646.1443910198477,7646.1443910198477,9750.189797910416,9750.189797910416,13144.86099562561,13144.86099562561,13787.849834992021,15136.83525541376,16259.096097135214]
[null,null,null,"da 35",8032.9706084378731,8032.9706084378731,10255.284645219934,10255.284645219934,14115.799965913844,14115.799965913844,14765.502744968418,16259.096097135214,17393.235447535728]
[]
[]
[]
[]
[]
[null,null,null,"POSIZIONI STIPENDIALI DAL 1/11/1996",null,null,null,null,null,null,null,null,"Tab B"]
[null,null,null,null,"Coll.Sc. ","C.S. Istr.","Ass.A.T.","Coord. A/T","DSGA","Doc.M.E.","Doc.Dipl.","Doc.L.I gr.","Doc.L.II gr."]
[null,null,null,"da 0 a 2 ",5092.2650250223369,5092.2650250223369,6367.3971088742792,6367.3971088742792,8099.077091521327,8099.077091521327,8099.077091521327,9261.6215713717611,9261.6215713717611]
[null,null,null,"da 3 a 8",5301.9465260526686,5301.9465260526686,6648.3496619789594,6648.3496619789594,8484.8703951411735,8484.8703951411735,8484.8703951411735,9694.4124528087505,10145.795782612962]
[null,null,null,"da 9 a 14",6100.3888920450145,6100.3888920450145,7669.9014083779639,7669.9014083779639,9689.2478838178558,9689.2478838178558,9689.2478838178558,11107.954985616676,11572.766194797214]
[null,null,null,"da 15 a 20",6846.669111229322,6846.669111229322,8632.577068280767,8632.577068280767,11097.109390735795,11097.109390735795,11097.109390735795,12732.211933253111,13327.686737903288]
[null,null,null,"da 21 a 27",7580.5543648354824,7580.5543648354824,9601.4502109726436,9601.4502109726436,12465.720173322936,12465.720173322936,13133.498943845641,14322.899182448729,15567.043852355302]
[null,null,null,"da 28 a 34",8117.1530829894591,8117.1530829894591,10295.568283348914,10295.568283348914,13814.189136845585,13814.189136845585,14475.770424579217,15880.53319010262,17033.781445769444]
[null,null,null,"da 35",8516.3742659856325,8516.3742659856325,10819.255579025652,10819.255579025652,14816.115521079188,14816.115521079188,15490.608231290058,17033.781445769444,18205.105692904399]
[]
[]
[]
[]
[]
[]
[]
[]
[]
[]
[]
[null,null,null,"POSIZIONI STIPENDIALI DAL 1/07/1997",null,null,null,null,null,null,null,null,"Tab B"]
[null,null,null,null,"Coll.Sc. ","C.S. Istr.","Ass.A.T.","Coord. A/T","DSGA","Doc.M.E.","Doc.Dipl.","Doc.L.I gr.","Doc.L.II gr."]
[null,null,null,"da 0 a 2 ",5420.7316128432503,5420.7316128432503,6739.2460762187093,6739.2460762187093,8520.5059211783482,8520.5059211783482,8520.5059211783482,9720.2352977632254,9720.2352977632254]
[null,null,null,"da 3 a 8",5636.6105966626556,5636.6105966626556,7026.3961121124639,7026.3961121124639,8918.6941903763418,8918.6941903763418,8918.6941903763418,10165.421144778362,10629.199440160721]
[null,null,null,"da 9 a 14",6459.8428938112975,6459.8428938112975,8078.9352724568371,8078.9352724568371,10160.256575787467,10160.256575787467,10160.256575787467,11622.346057109804,12099.552231868489]
[null,null,null,"da 15 a 20",7230.9130441519001,7230.9130441519001,9066.4008635159353,9066.4008635159353,11605.302979439852,11605.302979439852,11605.302979439852,13296.182867058829,13904.052637287155]
[null,null,null,"da 21 a 27",7983.390746125282,7983.390746125282,10066.261420153181,10066.261420153181,13017.296141550507,13017.296141550507,13703.667360440435,14930.252495777964,16211.582062418982]
[null,null,null,"da 28 a 34",8538.5819126464794,8538.5819126464794,10778.971940896672,10778.971940896672,14402.9500018076,14402.9500018076,15083.123737908452,16531.268882955374,17721.70203535664]
[null,null,null,"da 35",8944.0005784317273,8944.0005784317273,11321.251684940633,11321.251684940633,15435.863799986571,15435.863799986571,16128.948958564662,17721.70203535664,18924.013696436963]
[]
[]
[]
[]
[]
[null,null,null,"POSIZIONI STIPENDIALI DAL 1/11/1998",null,null,null,null,null,null,null,null,"Tab B"]
[null,null,null,null,"Coll.Sc. ","C.S. Istr.","Ass.A.T.","Coord. A/T","DSGA","Doc.M.E.","Doc.Dipl.","Doc.L.I gr.","Doc.L.II gr."]
[null,null,null,"da 0 a 2 ",5631.4460276717609,5631.4460276717609,6974.750422203515,6974.750422203515,8786.9976811085235,8786.9976811085235,8786.9976811085235,10011.516988849695,10011.516988849695]
[null,null,null,"da 3 a 8",5853.5224942802397,5853.5224942802397,7268.0979408863432,7268.0979408863432,9191.3834330955906,9191.3834330955906,9191.3834330955906,10462.900318653907,10939.073579614413]
[null,null,null,"da 9 a 14",6689.1497570070287,6689.1497570070287,8339.2295495979379,8339.2295495979379,10457.735749663012,10457.735749663012,10457.735749663012,11944.615162141643,12434.216302478477]
[null,null,null,"da 15 a 20",7472.6148729257802,7472.6148729257802,9345.2875890242576,9345.2875890242576,11927.572084471691,11927.572084471691,11927.572084471691,13649.439386036038,14269.704121842511]
[null,null,null,"da 21 a 27",8237.4875404773102,8237.4875404773102,10357.543111239651,10357.543111239651,13364.355177738642,13364.355177738642,14063.121362206717,15314.496428700542,16620.615926497856]
[null,null,null,"da 28 a 34",8805.0736725766546,8805.0736725766546,11088.846080350364,11088.846080350364,14774.798969152029,14774.798969152029,15467.36767083103,16946.500229823319,18155.525830591807]
[null,null,null,"da 35",9216.6898211509761,9216.6898211509761,11637.323307183398,11637.323307183398,15826.305215698225,15826.305215698225,16531.785339854461,18155.525830591807,19382.627422828427]
[]
[]
[]
[]
[]
[null,null,null,"POSIZIONI STIPENDIALI DAL 1/06/1999",null,null,null,null,null,null,null,null,"Tab B"]
[null,null,null,null,"Coll.Sc. ","C.S. Istr.","Ass.A.T.","Coord. A/T","DSGA","Doc.M.E.","Doc.Dipl.","Doc.L.I gr.","Doc.L.II gr."]
[null,null,null,"da 0 a 2 ",5804.9755457658284,5804.9755457658284,7173.0698714538776,7173.0698714538776,9010.1070615151821,9010.1070615151821,9010.1070615151821,10253.218817623576,10253.218817623576]
[null,null,null,"da 3 a 8",6033.2494951633807,6033.2494951633807,7472.6148729257802,7472.6148729257802,9420.6902962913227,9420.6902962913227,9420.6902962913227,10710.799630216861,11193.170373966441]
[null,null,null,"da 9 a 14",6881.2717234683178,6881.2717234683178,8556.1414472155229,8556.1414472155229,10705.635061225965,10705.635061225965,10705.635061225965,12217.304404860892,12713.103027986799]
[null,null,null,"da 15 a 20",7670.9343221761428,7670.9343221761428,9574.5944522199898,9574.5944522199898,12200.261327190939,12200.261327190939,12200.261327190939,13946.918559911583,14573.380778507129]
[null,null,null,"da 21 a 27",8448.2019553058199,8448.2019553058199,10605.442422802606,10605.442422802606,13655.636868825113,13655.636868825113,14366.798018871335,15636.765533732383,16961.477479896916]
[null,null,null,"da 28 a 34",9028.1830529833132,9028.1830529833132,11342.942874702392,11342.942874702392,15084.673108605721,15084.673108605721,15789.636775862871,17293.559266011456,18521.177315147164]
[null,null,null,"da 35",9445.9966843467082,9445.9966843467082,11903.815067113574,11903.815067113574,16154.771803519137,16154.771803519137,16866.449410464451,18521.177315147164,19760.673872961932]
[]
[]
[]
[]
[]
[null,null,null,"POSIZIONI STIPENDIALI DAL 1/07/2000",null,null,null,null,null,null,null,null,"Tab B"]
[null,null,null,null,"Coll.Sc. ","C.S. Istr.","Ass.A.T.","Coord. A/T","DSGA","Doc.M.E.","Doc.Dipl.","Doc.L.I gr.","Doc.L.II gr."]
[null,null,null,"da 0 a 2 ",5947.5176499145264,5947.5176499145264,7334.204423969798,7334.204423969798,9196.0315451873957,9196.0315451873957,9196.0315451873957,10451.538266873938,10451.538266873938]
[null,null,null,"da 3 a 8",6181.9890821011531,6181.9890821011531,7639.9469082307733,7639.9469082307733,9612.8122627526118,9612.8122627526118,9612.8122627526118,10915.316562256297,11403.884788794951]
[null,null,null,"da 9 a 14",7036.2087931951637,7036.2087931951637,8735.8684480986649,8735.8684480986649,10910.151993265403,10910.151993265403,10910.151993265403,12440.41378526755,12942.409891182531]
[null,null,null,"da 15 a 20",7838.2663574811368,7838.2663574811368,9766.7164186812788,9766.7164186812788,12423.370707597598,12423.370707597598,12423.370707597598,14194.817871474535,14827.477572859158]
[null,null,null,"da 21 a 27",8621.7314733998883,8621.7314733998883,10809.959354842042,10809.959354842042,13897.338697598992,13897.338697598992,14614.697330434288,15903.257293662558,17240.36420540524]
[null,null,null,"da 28 a 34",9214.1075366555287,9214.1075366555287,11553.657289530902,11553.657289530902,15344.967385746822,15344.967385746822,16056.128535793045,17578.64347430885,18818.656489022709]
[null,null,null,"da 35",9631.9211680189237,9631.9211680189237,12120.726964731159,12120.726964731159,16427.461046238386,16427.461046238386,17145.336135972771,18818.656489022709,20076.745495204697]
[]
[]
[]
[]
[]
[]
[]
[]
[null,null,null,"POSIZIONI STIPENDIALI DAL 1/01/2001",null,null,null,null,null,null,null,null,"Tab B"]
[null,null,null,null,"Coll.Sc. ","C.S. Istr.","Ass.A.T.","Coord. A/T","DSGA","Doc.M.E.","Doc.Dipl.","Doc.L.I gr.","Doc.L.II gr."]
[null,null,null,"da 0 a 2 ",6189.2194786884065,6189.2194786884065,7606.8936666890468,7606.8936666890468,9505.9056846410876,9505.9056846410876,9505.9056846410876,10786.202337483925,10786.202337483925]
[null,null,null,"da 3 a 8",6429.8883936641068,6429.8883936641068,7918.8336337390965,7918.8336337390965,9935.0813677844508,9935.0813677844508,9935.0813677844508,11262.375598444432,11763.338790561234]
[null,null,null,"da 9 a 14",7302.700553125339,7302.700553125339,9033.3476219742079,9033.3476219742079,11257.211029453538,11257.211029453538,11257.211029453538,12818.460235401055,13326.653824105109]
[null,null,null,"da 15 a 20",8117.1530829894591,8117.1530829894591,10088.985523713118,10088.985523713118,12801.417157731101,12801.417157731101,12801.417157731101,14610.049218342483,15255.103885305252]
[null,null,null,"da 21 a 27",8919.2106472754313,8919.2106472754313,11150.820908241103,11150.820908241103,14300.175078888791,14300.175078888791,15036.126160091309,16349.476054475874,17711.372897374851]
[null,null,null,"da 28 a 34",9523.9816761092206,9523.9816761092206,11906.91380850811,11906.91380850811,15778.791180981991,15778.791180981991,16502.347296606364,18055.849649067539,19320.652594937688]
[null,null,null,"da 35",9947.9927902616892,9947.9927902616892,12486.378449286514,12486.378449286514,16879.877289840777,16879.877289840777,17616.344827942383,19320.652594937688,20603.531532275974]
[]
[]
[]
[null,null,null,"POSIZIONI STIPENDIALI DAL 1/01/2002",null,null,null,null,null,null,null,null,"Tab B"]
[null,null,null,null,"Coll.Sc. ","C.S. Istr.","Ass.A.T.","Coord. A/T","DSGA","Doc.M.E.","Doc.Dipl.","Doc.L.I gr.","Doc.L.II gr."]
[null,null,null,"da 0 a 2 ",6501.5794786884062,6501.5794786884062,7956.8136666890468,7956.8136666890468,9905.9856846410876,9907.1856846410883,9907.1856846410883,11221.802337483925,11221.802337483925]
[null,null,null,"da 3 a 8",6748.3683936641064,6748.3683936641064,8276.6736337390957,8276.6736337390957,10345.96136778445,10347.281367784452,10347.281367784452,11709.975598444433,12223.538790561235]
[null,null,null,"da 9 a 14",7643.1405531253386,7643.1405531253386,9419.2676219742079,9419.2676219742079,11701.451029453538,11702.771029453537,11702.771029453537,13305.420235401054,13826.33382410511]
[null,null,null,"da 15 a 20",8478.1130829894591,8478.1130829894591,10501.425523713118,10501.425523713118,13284.537157731102,13285.9771577311,13285.9771577311,15142.249218342484,15803.503885305252]
[null,null,null,"da 21 a 27",9300.3306472754321,9300.3306472754321,11590.020908241104,11590.020908241104,14821.095078888791,14822.535078888792,15577.086160091309,16925.596054475875,18321.81289737485]
[null,null,null,"da 28 a 34",9920.3416761092212,9920.3416761092212,12365.193808508111,12365.193808508111,16336.911180981991,16338.59118098199,17080.387296606365,18675.04964906754,19971.772594937687]
[null,null,null,"da 35",10355.03279026169,10355.03279026169,12959.298449286514,12959.298449286514,17465.837289840776,17467.397289840777,18222.464827942382,19971.772594937687,21287.051532275975]
[]
[null,null,null,"POSIZIONI STIPENDIALI DAL 1/1/2003",null,null,null,null,null,null,null,null,"Tab F"]
[null,null,null,null,"Coll.Sc. ","C.S. Istr.","Ass.A.T.","Coord. A/T","DSGA","Doc.M.E.","Doc.Dipl.","Doc.L.I gr.","Doc.L.II gr."]
[null,null,null,"da 0 a 2 ",13029.26,13363.2,14595.91,16688.22,19296.63,16703.5,16703.5,18128.79,18128.79]
[null,null,null,"da 3 a 8",13282.29,13609.55,14923.93,17139.349999999999,19858.400000000001,17154.75,17154.75,18629.330000000002,19155.849999999999]
[null,null,null,"da 9 a 14",14199.62,14520.45,16095.33,18529.04,21599.279999999999,18544.439999999999,18544.439999999999,20265.09,20799.2]
[null,null,null,"da 15 a 20",15055.71,15376.42,17204.73,20151.97,23631.02,20167.73,20167.73,22148.36,22826.41]
[null,null,null,"da 21 a 27",15898.57,16245.63,18320.8,21727.29,25804.51,21743.17,22516.799999999999,23976.83,25408.44]
[null,null,null,"da 28 a 34",16534.3,16861.169999999998,19115.53,23281.38,28037.7,23297.62,24058.14,25770.560000000001,27100.16]
[null,null,null,"da 35",16979.91,17320.93,19724.64,24438.75,30210.04,24454.99,25229.13,27100.16,28448.68]
[]
[]
[]
[null,null,null,"POSIZIONI STIPENDIALI DAL 1/1/2004",null,null,null,null,null,null,null,null,"Tab F"]
[null,null,null,null,"Coll.Sc. ","C.S. Istr.","Ass.A.T.","Coord. A/T","DSGA","Doc.M.E.","Doc.Dipl.","Doc.L.I gr.","Doc.L.II gr."]
[null,null,null,"da 0 a 2 ",13304.3,13645.32,14904.07,17040.54,19704.03,17107.18,17107.18,18566.91,18566.91]
[null,null,null,"da 3 a 8",13562.73,13896.83,15239.05,17501.27,20277.68,17569.349999999999,17569.349999999999,19079.57,19618.810000000001]
[null,null,null,"da 9 a 14",14499.38,14827.05,16435.169999999998,18920.240000000002,22055.279999999999,18992.64,18992.64,20754.93,21301.88]
[null,null,null,"da 15 a 20",15373.59,15701.02,17567.97,20577.490000000002,24129.98,20655.169999999998,20655.169999999998,22683.68,23378.17]
[null,null,null,"da 21 a 27",16234.21,16588.59,18707.560000000001,22186.05,26349.31,22268.65,23061,24556.31,26022.6]
[null,null,null,"da 28 a 34",16883.38,17217.21,19519.09,23772.9,28629.66,23860.66,24639.66,26393.48,27755.119999999999]
[null,null,null,"da 35",17338.349999999999,17686.57,20141.04,24954.75,30847.84,25046.11,25838.85,27755.119999999999,29136.28]
[]
[]
[]
[]
[null,null,null,"POSIZIONI STIPENDIALI DAL 1/2/2005",null,null,null,null,null,null,null,null,"Tab B"]
[null,null,null,null,"Coll.Sc. ","C.S. Istr.","Ass.A.T.","Coord. A/T","DSGA","Doc.M.E.","Doc.Dipl.","Doc.L.I gr.","Doc.L.II gr."]
[null,null,null,"da 0 a 2 ",13659.9,14010.01,15302.38,17495.96,20230.62,17582.23,17582.23,19082.5,19082.5]
[null,null,null,"da 3 a 8",13925.18,14268.28,15646.28,17968.93,20819.59,18057.22,18057.22,19609.37,20163.59]
[null,null,null,"da 9 a 14",14886.91,15223.27,16874.38,19425.88,22644.73,19520.02,19520.02,21331.19,21893.39]
[null,null,null,"da 15 a 20",15784.44,16120.67,18037.47,21127.37,24774.81,21228.7,21228.7,23313.53,24027.25]
[null,null,null,"da 21 a 27",16668.09,17031.95,19207.560000000001,22778.93,27053.5,22887.02,23701.35,25238.19,26745.11]
[null,null,null,"da 28 a 34",17334.59,17677.28,20040.759999999998,24408.240000000002,29394.78,24523.25,25323.78,27126.29,28525.83]
[null,null,null,"da 35",17801.77,18159.3,20679.349999999999,25621.63,31672.27,25741.51,26556.37,28525.83,29945.29]
[]
[]
[]
[]
[null,null,null,"2006-01-01",null,null,null,null,null,null,null,null,"Tab F"]
[null,null,null,null,"Coll.Sc. ","C.S. Istr.","Ass.A.T.","Coord. A/T","DSGA","Doc. materna elem.","Doc.Dipl.","Doc. laureato 1° Grado","Doc. laureato 2° Grado"]
[null,null,null,"da 0 a 2 ",13722.54,14074.33,15372.58,17576.240000000002,20323.5,17663.71,17663.71,19170.939999999999,19170.939999999999]
[null,null,null,"da 3 a 8",13989.02,14333.8,15718.04,18051.37,20915.11,18140.86,18140.86,19700.21,20256.95]
[null,null,null,"da 9 a 14",14955.19,15293.11,16951.78,19515.04,22748.65,19610.38,19610.38,21429.95,21994.79]
[null,null,null,"da 15 a 20",15856.92,16194.59,18120.27,21224.33,24888.45,21326.98,21326.98,23421.53,24138.49]
[null,null,null,"da 21 a 27",16744.53,17110.07,19295.64,22883.45,27177.7,22992.98,23811.15,25355.07,26868.95]
[null,null,null,"da 28 a 34",17414.150000000001,17758.400000000001,20132.68,24520.2,29529.66,24636.89,25441.02,27251.93,28657.95]
[null,null,null,"da 35",17883.490000000002,18242.580000000002,20774.27,25739.23,31817.59,25860.79,26679.37,28657.95,30084.01]
[]
[]
[]
[null,null,null,"2007-01-01",null,null,null,null,null,null,null,null,"Tab F"]
[null,null,null,null,"Coll.Sc. ","C.S. Istr.","Ass.A.T.","Coord. A/T","DSGA","Doc. materna elem.","Doc.Dipl.","Doc. laureato 1° Grado","Doc. laureato 2° Grado"]
[null,null,null,"da 0 a 2 ",13981.38,14339.65,15662.5,17907.68,20706.66,18490.63,18490.63,20068.419999999998,20068.419999999998]
[null,null,null,"da 3 a 8",14252.9,14604.04,16014.44,18391.810000000001,21309.55,18990.099999999999,18990.099999999999,20622.41,21205.31]
[null,null,null,"da 9 a 14",15237.19,15581.47,17271.46,19882.96,23177.65,20528.5,20528.5,22433.27,23024.51]
[null,null,null,"da 15 a 20",16155.84,16499.990000000002,18461.91,21624.53,25357.77,22325.5,22325.5,24517.97,25268.53]
[null,null,null,"da 21 a 27",17060.37,17432.75,19659.599999999999,23314.97,27690.1,24069.5,24925.83,26542.11,28126.91]
[null,null,null,"da 28 a 34",17742.47,18093.32,20512.36,24982.68,30086.46,25790.21,26632.14,28527.77,29999.55]
[null,null,null,"da 35",18220.689999999999,18586.62,21165.95,26224.51,32417.59,27071.47,27928.33,29999.55,31492.33]
[]
[]
[]
[null,null,null,"2008-01-01",null,null,null,null,null,null,null,null,"Tab F"]
[null,null,null,null,"Coll.Sc. ","C.S. Istr.","Ass.A.T.","Coord. A/T","DSGA","Doc. materna elem.","Doc.Dipl.","Doc. laureato 1° Grado","Doc. laureato 2° Grado"]
[null,null,null,"da 0 a 2 ",14359.02,14727.13,16085.62,18391.400000000001,21266.1,18609.310000000001,18609.310000000001,20197.18,20197.18]
[null,null,null,"da 3 a 8",14637.86,14998.6,16447.16,18888.61,21885.19,19112.02,19112.02,20754.77,21341.39]
[null,null,null,"da 9 a 14",15648.91,16002.43,17738.02,20420.2,23803.81,20660.259999999998,20660.259999999998,22577.27,23172.23]
[null,null,null,"da 15 a 20",16592.28,16945.79,18960.63,22208.69,26042.85,22468.78,22468.78,24675.29,25430.65]
[null,null,null,"da 21 a 27",17521.169999999998,17903.75,20190.599999999999,23944.85,28438.18,24955.69,25085.79,26712.51,28307.39]
[null,null,null,"da 28 a 34",18221.87,18582.080000000002,21066.52,25657.56,30899.34,25955.69,26803.02,28710.89,30192.03]
[null,null,null,"da 35",18712.93,19088.7,21737.75,26932.99,33293.35,27245.23,28107.61,30192.03,31694.41]
[]
[]
[]
[null,null,null,"2009-01-01",null,null,null,null,null,null,null,null,"Tab F"]
[null,null,null,null,"Coll.Sc. ","C.S. Istr.","Ass.A.T.","Coord. A/T","DSGA","Doc. materna elem.","Doc.Dipl.","Doc. laureato 1° Grado","Doc. laureato 2° Grado"]
[null,null,null,"da 0 a 2 ",14903.94,15285.97,16696.060000000001,19089.32,22073.1,19324.27,19324.27,20973.22,20973.22]
[null,null,null,"da 3 a 8",15193.34,15567.76,17071.28,19605.37,22715.71,19846.3,19846.3,21552.17,22161.35]
[null,null,null,"da 9 a 14",16242.79,16609.75,18411.099999999999,21195.16,24707.17,21454.06,21454.06,23444.75,24062.51]
[null,null,null,"da 15 a 20",17221.919999999998,17588.87,19680.150000000001,23051.45,27031.17,23332.06,23332.06,25623.29,26407.69]
[null,null,null,"da 21 a 27",18186.09,18583.189999999999,20956.8,24853.49,29517.34,25154.66,26049.63,27738.87,29394.95]
[null,null,null,"da 28 a 34",18913.310000000001,19287.2,21865.96,26631.24,32071.98,26952.89,27832.86,29814.05,31352.07]
[null,null,null,"da 35",19423.09,19813.14,22562.63,27955.03,34556.83,28291.99,29187.49,31352.07,32912.17]

{"sheet":"TAB","index":27,"n_rows":389,"n_cols":19,"rows_kept":389,"cut":false,"hidden":false,"merged":[[381,6,384,6],[385,6,386,6],[387,6,388,6],[371,6,374,6],[375,6,376,6],[377,6,378,6]]}
["ANZIANITA AA","Assist. amm.vi ed equip.","AUSILIARI","Direttore amm. Conserv. ed Accad.","Docente dipl. istituti sec. II grado ","Docente laur. istituti sec.II grado ","Docente scuola media","Respons. amm.ivi","DOC mat. ed elem.",null,"ANZIANITA AA","AUSILIARI","Assist. amm.vi ed equip.","Respons. amm.ivi","DOC mat. ed elem.","Docente dipl. istituti sec. II grado ","Docente scuola media","Docente laur. istituti sec.II grado ","Direttore amm. "]
[null,null,null,"ORIZZONTALE",null,null,null,null,null,null,"VERTICALE",2,3,4,5,6,7,8,9]
[null,"AA","CS","DA","DD","DL","DM","RA","SM",null,null,"CS","AA","RA","SM","DD","DM","DL","DA"]
[0,8544000,6564000,18000000,11136000,12924000,12924000,11136000,11136000,null,0,6564000,8544000,11136000,11136000,11136000,12924000,12924000,18000000]
[1,8544000,6564000,18000000,11136000,13608000,12924000,11136000,11136000,null,1,6564000,8544000,11136000,11136000,11136000,12924000,13608000,18000000]
[2,8988000,6888000,18540000,11136000,13608000,12924000,11136000,11136000,null,2,6888000,8988000,11136000,11136000,11136000,12924000,13608000,18540000]
[3,8988000,6888000,19080000,11736000,14304000,13608000,11736000,11736000,null,3,6888000,8988000,11736000,11736000,11736000,13608000,14304000,19080000]
[4,9432000,7224000,19620000,11736000,14304000,13608000,11736000,11736000,null,4,7224000,9432000,11736000,11736000,11736000,13608000,14304000,19620000]
[5,9432000,7224000,20172000,12336000,14988000,14304000,12336000,12336000,null,5,7224000,9432000,12336000,12336000,12336000,14304000,14988000,20172000]
[6,10068000,7752000,20172000,12336000,14988000,14304000,12336000,12336000,null,6,7752000,10068000,12336000,12336000,12336000,14304000,14988000,20172000]
[7,10068000,7752000,21252000,12924000,15792000,14988000,12924000,12924000,null,7,7752000,10068000,12924000,12924000,12924000,14988000,15792000,21252000]
[8,10584000,8136000,21792000,12924000,15792000,14988000,12924000,12924000,null,8,8136000,10584000,12924000,12924000,12924000,14988000,15792000,21792000]
[9,10584000,8136000,22332000,13608000,16512000,15792000,13608000,13608000,null,9,8136000,10584000,13608000,13608000,13608000,15792000,16512000,22332000]
[10,11088000,8520000,22872000,13608000,16512000,15792000,13608000,13608000,null,10,8520000,11088000,13608000,13608000,13608000,15792000,16512000,22872000]
[11,11088000,8520000,23412000,14304000,17388000,16512000,14304000,14304000,null,11,8520000,11088000,14304000,14304000,14304000,16512000,17388000,23412000]
[12,11592000,8904000,23952000,14304000,17388000,16512000,14304000,14304000,null,12,8904000,11592000,14304000,14304000,14304000,16512000,17388000,23952000]
[13,11592000,8904000,24492000,14988000,18324000,17388000,14988000,14988000,null,13,8904000,11592000,14988000,14988000,14988000,17388000,18324000,24492000]
[14,12096000,9300000,25032000,14988000,18324000,17388000,14988000,14988000,null,14,9300000,12096000,14988000,14988000,14988000,17388000,18324000,25032000]
[15,12096000,9300000,25572000,15792000,19248000,18324000,15792000,15792000,null,15,9300000,12096000,15792000,15792000,15792000,18324000,19248000,25572000]
[16,12600000,9684000,26112000,15792000,19248000,18324000,15792000,15792000,null,16,9684000,12600000,15792000,15792000,15792000,18324000,19248000,26112000]
[17,12600000,9684000,26472000,16596000,21372000,19248000,16596000,16596000,null,17,9684000,12600000,16596000,16596000,16596000,19248000,21372000,26472000]
[18,13104000,10068000,26832000,16596000,21972000,20172000,16596000,16596000,null,18,10068000,13104000,16596000,16596000,16596000,20172000,21972000,26832000]
[19,13104000,10068000,26832000,17388000,21972000,20172000,17388000,17388000,null,19,10068000,13104000,17388000,17388000,17388000,20172000,21972000,26832000]
[20,13608000,10464000,27552000,18960000,22716000,20784000,17388000,17388000,null,20,10464000,13608000,17388000,17388000,18960000,20784000,22716000,27552000]
[21,13608000,10464000,27912000,18960000,22716000,20784000,17916000,17916000,null,21,10464000,13608000,17916000,17916000,18960000,20784000,22716000,27912000]
[22,13884000,10668000,28272000,19476000,23196000,21372000,17916000,17916000,null,22,10668000,13884000,17916000,17916000,19476000,21372000,23196000,28272000]
[23,13884000,10668000,28632000,19476000,23196000,21372000,18432000,18432000,null,23,10668000,13884000,18432000,18432000,19476000,21372000,23196000,28632000]
[24,14160000,10872000,28992000,20004000,23808000,21972000,18960000,18960000,null,24,10872000,14160000,18960000,18960000,20004000,21972000,23808000,28992000]
[25,14160000,10872000,29352000,20004000,23808000,21972000,18960000,18960000,null,25,10872000,14160000,18960000,18960000,20004000,21972000,23808000,29352000]
[26,14436000,11088000,29712000,20532000,24408000,22716000,19476000,19476000,null,26,11088000,14436000,19476000,19476000,20532000,22716000,24408000,29712000]
[27,14436000,11088000,30072000,20532000,24408000,22716000,19476000,19476000,null,27,11088000,14436000,19476000,19476000,20532000,22716000,24408000,30072000]
[28,14700000,11292000,30432000,21084000,24996000,23196000,20004000,20004000,null,28,11292000,14700000,20004000,20004000,21084000,23196000,24996000,30432000]
[29,14700000,11292000,30792000,21048000,24996000,23196000,20004000,20004000,null,29,11292000,14700000,20004000,20004000,21048000,23196000,24996000,30792000]
[30,14976000,11508000,30792000,21048000,25608000,23808000,20532000,20532000,null,30,11508000,14976000,20532000,20532000,21048000,23808000,24996000,30792000]
[31,14976000,11508000,31512000,21564000,25608000,23808000,20532000,20532000,null,31,11508000,14976000,20532000,20532000,21564000,23808000,25608000,31512000]
[32,15252000,11712000,31872000,22092000,26208000,24408000,21048000,21048000,null,32,11712000,15252000,21048000,21048000,22092000,24408000,26208000,31872000]
[33,15252000,11712000,32232000,22092000,26208000,24408000,21048000,21048000,null,33,11712000,15252000,21048000,21048000,22092000,24408000,26208000,32232000]
[34,15516000,11928000,32592000,22608000,26820000,24996000,21564000,21564000,null,34,11928000,15516000,21564000,21564000,22608000,24996000,26820000,32592000]
[35,15516000,11928000,32592000,22608000,26820000,24996000,21564000,21564000,null,35,11928000,15516000,21564000,21564000,22608000,24996000,26820000,32592000]
[36,15792000,12132000,33312000,23136000,27420000,25608000,22092000,22092000,null,36,12132000,15792000,22092000,22092000,23136000,25608000,27420000,33312000]
[37,15792000,12132000,33672000,23136000,27420000,25608000,22092000,22092000,null,37,12132000,15792000,22092000,22092000,23136000,25608000,27420000,33672000]
[38,16068000,12348000,34032000,23652000,28020000,26208000,22608000,22608000,null,38,12348000,16068000,22608000,22608000,23652000,26208000,28020000,34032000]
[39,16068000,12348000,34392000,23652000,28020000,26208000,22608000,22608000,null,39,12348000,16068000,22608000,22608000,23652000,26208000,28020000,34392000]
[40,16344000,12552000,34752000,24180000,28620000,26820000,23136000,23136000,null,40,12552000,16344000,23136000,23136000,24180000,26820000,28620000,34752000]
["A.B.",276000,216000,720000,516000,600000,516000,516000,516000,null,"A.B.",216000,276000,516000,516000,516000,516000,600000,720000]
[null,"AA","CS","DA","DD","DL","DM","RA","SM",null,null,"CS","AA","RA","SM","DD","DM","DL","DA"]
["A.B.C.",264000,216000,528000,324000,384000,384000,324000,324000,null,"A.B.C.",216000,264000,324000,324000,324000,384000,384000,528000]
[]
[null,"I. FUNZ DPR 399/88",null,null,null,null,null,null,null,null,null,null,"I. FUNZ DPR 399/88"]
[null,"AA","CS","DA","DD","DL","DM","RA","SM",null,null,"CS","AA","RA","SM","DD","DM","DL","DA"]
[0,852000,648000,0,1224000,1416000,1416000,1224000,1224000,null,0,648000,852000,1224000,1224000,1224000,1416000,1416000,0]
[1,852000,648000,0,1224000,1488000,1416000,1224000,1224000,null,1,648000,852000,1224000,1224000,1224000,1416000,1488000,0]
[2,888000,684000,0,1224000,1488000,1416000,1224000,1224000,null,2,684000,888000,1224000,1224000,1224000,1416000,1488000,0]
[3,888000,684000,0,1284000,1572000,1488000,1284000,1284000,null,3,684000,888000,1284000,1284000,1284000,1488000,1572000,0]
[4,936000,720000,0,1284000,1572000,1488000,1284000,1284000,null,4,720000,936000,1284000,1284000,1284000,1488000,1572000,0]
[5,936000,720000,0,1356000,1644000,1572000,1356000,1356000,null,5,720000,936000,1356000,1356000,1356000,1572000,1644000,0]
[6,996000,768000,0,1356000,1644000,1572000,1356000,1356000,null,6,768000,996000,1356000,1356000,1356000,1572000,1644000,0]
[7,996000,768000,0,1416000,1728000,1644000,1416000,1416000,null,7,768000,996000,1416000,1416000,1416000,1644000,1728000,0]
[8,1056000,804000,0,1416000,1728000,1644000,1416000,1416000,null,8,804000,1056000,1416000,1416000,1416000,1644000,1728000,0]
[9,1056000,804000,0,1488000,1812000,1728000,1488000,1488000,null,9,804000,1056000,1488000,1488000,1488000,1728000,1812000,0]
[10,1104000,852000,0,1488000,1812000,1728000,1488000,1488000,null,10,852000,1104000,1488000,1488000,1488000,1728000,1812000,0]
[11,1104000,852000,0,1572000,1908000,1812000,1572000,1572000,null,11,852000,1104000,1572000,1572000,1572000,1812000,1908000,0]
[12,1152000,888000,0,1572000,1908000,1812000,1572000,1572000,null,12,888000,1152000,1572000,1572000,1572000,1812000,1908000,0]
[13,1152000,888000,0,1644000,2004000,1908000,1644000,1644000,null,13,888000,1152000,1644000,1644000,1644000,1908000,2004000,0]
[14,1200000,924000,0,1644000,2004000,1908000,1644000,1644000,null,14,924000,1200000,1644000,1644000,1644000,1908000,2004000,0]
[15,1200000,924000,0,1728000,2112000,2004000,1728000,1728000,null,15,924000,1200000,1728000,1728000,1728000,2004000,2112000,0]
[16,1260000,960000,0,1728000,2112000,2004000,1728000,1728000,null,16,960000,1260000,1728000,1728000,1728000,2004000,2112000,0]
[17,1260000,960000,0,1824000,2352000,2112000,1824000,1824000,null,17,960000,1260000,1824000,1824000,1824000,2112000,2352000,0]
[18,1308000,996000,0,1824000,2412000,2220000,1824000,1824000,null,18,996000,1308000,1824000,1824000,1824000,2220000,2412000,0]
[19,1308000,996000,0,1908000,2412000,2220000,1908000,1908000,null,19,996000,1308000,1908000,1908000,1908000,2220000,2412000,0]
[20,1356000,1044000,0,2076000,2496000,2280000,1908000,1908000,null,20,1044000,1356000,1908000,1908000,2076000,2280000,2496000,0]
[21,1356000,1044000,0,2076000,2496000,2280000,1968000,1968000,null,21,1044000,1356000,1968000,1968000,2076000,2280000,2496000,0]
[22,1380000,1056000,0,2136000,2544000,2352000,1968000,1968000,null,22,1056000,1380000,1968000,1968000,2136000,2352000,2544000,0]
[23,1380000,1056000,0,2136000,2544000,2352000,2028000,2028000,null,23,1056000,1380000,2028000,2028000,2136000,2352000,2544000,0]
[24,1416000,1080000,0,2196000,2616000,2412000,2076000,2076000,null,24,1080000,1416000,2076000,2076000,2196000,2412000,2616000,0]
[25,1416000,1080000,0,2196000,2616000,2412000,2076000,2076000,null,25,1080000,1416000,2076000,2076000,2196000,2412000,2616000,0]
[26,1440000,1104000,0,2256000,2676000,2496000,2136000,2136000,null,26,1104000,1440000,2136000,2136000,2256000,2496000,2676000,0]
[27,1440000,1104000,0,2256000,2676000,2496000,2136000,2136000,null,27,1104000,1440000,2136000,2136000,2256000,2496000,2676000,0]
[28,1464000,1128000,0,2304000,2748000,2544000,2196000,2196000,null,28,1128000,1464000,2196000,2196000,2304000,2544000,2748000,0]
[29,1464000,1128000,0,2304000,2748000,2544000,2196000,2196000,null,29,1128000,1464000,2196000,2196000,2304000,2544000,2748000,0]
[30,1488000,1140000,0,2364000,2808000,2616000,2256000,2256000,null,30,1140000,1488000,2256000,2256000,2364000,2616000,2808000,0]
[31,1488000,1140000,0,2364000,2808000,2616000,2256000,2256000,null,31,1140000,1488000,2256000,2256000,2364000,2616000,2808000,0]
[32,1524000,1164000,0,2424000,2880000,2676000,2304000,2304000,null,32,1164000,1524000,2304000,2304000,2424000,2676000,2880000,0]
[33,1524000,1164000,0,2424000,2880000,2676000,2304000,2304000,null,33,1164000,1524000,2304000,2304000,2424000,2676000,2880000,0]
[34,1548000,1188000,0,2484000,2940000,2748000,2364000,2364000,null,34,1188000,1548000,2364000,2364000,2484000,2748000,2940000,0]
[35,1548000,1188000,0,2484000,2940000,2748000,2364000,2364000,null,35,1188000,1548000,2364000,2364000,2484000,2748000,2940000,0]
[36,1572000,1212000,0,2544000,3012000,2808000,2424000,2424000,null,36,1212000,1572000,2424000,2424000,2544000,2808000,3012000,0]
[37,1572000,1212000,0,2544000,3012000,2808000,2424000,2424000,null,37,1212000,1572000,2424000,2424000,2544000,2808000,3012000,0]
[38,1596000,1224000,0,2592000,3072000,2880000,2484000,2484000,null,38,1224000,1596000,2484000,2484000,2592000,2880000,3072000,0]
[]
[39,1596000,1224000,0,2592000,3072000,2880000,2484000,2484000,null,39,1224000,1596000,2484000,2484000,2592000,2880000,3072000,0]
[]
[40,1632000,1248000,0,2652000,3144000,2940000,2544000,2544000,null,40,1248000,1632000,2544000,2544000,2652000,2940000,3144000,0]
["A.B.",24000,12000,0,60000,60000,60000,60000,60000,null,"A.B.",12000,24000,60000,60000,60000,60000,60000,0]
[null,"AA","CS","DA","DD","DL","DM","RA","SM",null,null,"CS","AA","RA","SM","DD","DM","DL","DA"]
["A.B.C.",24000,12000,0,36000,48000,48000,36000,36000,null,"A.B.C.",12000,24000,36000,36000,36000,48000,48000,0]
[]
["TABELLA INDENNITA' VACANZA CONTRATTUALE IMPORTI LORDI MENSILI"]
["LIVELLO","da Aprile 94","da luglio 94"]
[null,1,2]
[null,1,2]
[3,16260,27100]
[4,18116,30193]
[5,20554,34257]
[6,20560,34267]
[7,22253,37088]
[8,26991,44985]
[9,28853,48089]
[]
["INCREMENTI STIP DAL 1/1/1995",null,null,"ANNUI","TAB A1","(CON ASSORBIMENTO INDENN. VAC. CONTRATTUALE)"]
["ANZIANIT","POSIZ","Assist. amm.vi ed equip.","Collab. scolast.","Docente dipl. istituti sec. II grado ","Docente laur. istituti sec.II grado ","Docente scuola media","Respons. amm.ivi","Docente scuola mat. ed elem."]
[null,1,"AA","CS","DD","DL","DM","RA","SM"]
["da 0 a 2",2,689148,615360,786264,853260,853260,786072,786264]
["da 3 a 8",3,704268,626700,807060,901644,877080,806856,807060]
["da 9 a 14",4,759840,669792,872448,978756,953436,872256,872448]
["da 15 a 20",5,812004,710232,948804,1074396,1041888,948612,948804]
["da 21 a 27",6,864540,750684,1059564,1195728,1128072,1023072,1023276]
["da 28 a 34",7,902340,779412,1132512,1275492,1212360,1096032,1096224]
["da 35",8,930696,801336,1187328,1338896,1275492,1150464,1150656]
[]
["tab A2 INCREMENTI STIP DAL 1/12/1995",null,null,"ANNUI","TAB A2"]
["ANZIANIT","POSIZ","Assist. amm.vi ed equip.","Collab. scolast.","Docente dipl. istituti sec. II grado ","Docente laur. istituti sec.II grado ","Docente scuola media","Respons. amm.ivi","Docente scuola mat. ed elem."]
[null,1,"AA","CS","DD","DL","DM","RA","SM"]
["da 0 a 2",2,1312680,1172112,1497660,1625268,1625268,1497276,1497660]
["da 3 a 8",3,1341480,1193712,1537260,1717428,1670628,1536876,1537260]
["da 9 a 14",4,1447320,1275792,1661820,1864308,1816068,1661436,1661820]
["da 15 a 20",5,1546680,1352832,1807260,2046468,1984548,1806876,1807260]
["da 21 a 27",6,1646736,1429872,2018220,2277588,2148708,1948716,1949100]
["da 28 a 34",7,1718760,1484592,2157180,2429508,2309268,2087676,2088060]
["da 35",8,1772760,1526352,2261580,2550468,2429508,2191356,2191740]
[]
["TABELLE POSIZIONI STIPENDIALI DAL 01/01/1996",null,null,null,"A REGIME","CCNL 4/8/95","SENZA aum 1/1/96"]
[]
["ANZIANITA","POSIZ INIZIALE","Assist. amm.vi ed equip.","Collab. scolast.","Docente dipl. istituti sec. II grado ","Docente laur. istituti sec.II grado ","Docente scuola media","Respons. amm.ivi","Doc mat. ed elem."]
[null,1,"AA","CS","DD","DL","DM","RA","SM"]
["da 0 a 2",2,10949000,8624000,14098000,16205000,16205000,14098000,14098000]
["da 3 a 8",3,11457000,9006000,14797000,17833000,17007000,14797000,14797000]
["da 9 a 14",4,13327000,10456000,16997000,20428000,19576000,16997000,16997000]
["da 15 a 20",5,15083000,11817000,19567000,23646000,22553000,19567000,19567000]
["da 21 a 27",6,16851000,13178000,23294000,27730000,25453000,22073000,22073000]
["da 28 a 34",7,18123000,14145000,25749000,30414000,28289000,24528000,24528000]
["da 35",8,19077000,14882000,27594000,32550000,30414000,26360000,26360000]
[]
["TABELLE POSIZIONI STIPENDIALI DAL 01/01/1996",null,null,null,"CCNL 1/8/96",null,"INCLUSO aum 1/1/96"]
["ANZIANITA","POSIZ INIZIALE","Assist. amm.vi ed equip.","Collab. scolast.","Docente dipl. istituti sec. II grado ","Docente laur. istituti sec.II grado ","Docente scuola media","Respons. amm.ivi","Docente scuola mat. ed elem."]
[null,1,"AA","CS","DD","DL","DM","RA","SM"]
["da 0 a 2",2,11525000,9140000,14758000,16925000,16925000,14758000,14758000]
["da 3 a 8",3,12045000,9534000,15481000,18589000,17739000,15481000,15481000]
["da 9 a 14",4,13963000,11020000,17729000,21256000,20380000,17729000,17729000]
["da 15 a 20",5,15767000,12417000,20371000,24546000,23429000,20371000,20371000]
["da 21 a 27",6,17571000,13802000,24182000,28738000,26401000,22937000,22937000]
["da 28 a 34",7,18879000,14805000,26697000,31482000,29309000,25452000,25452000]
["da 35",8,19857000,15554000,28590000,33678000,31482000,27332000,27332000]
[]
["INCREMENTI","STIPENDI","MENSILI","DAL 1/1/96","CCNL 1/8/96"]
["ANZIANIT","POSIZ INIZIALE","Assist. amm.vi ed equip.","Collab. scolast.","Docente dipl. istituti sec. II grado ","Docente laur. istituti sec.II grado ","Docente scuola media","Respons. amm.ivi","Docente scuola mat. ed elem."]
[null,1,"AA","CS","DD","DL","DM","RA","SM"]
["da 0 a 2",2,48000,43000,55000,60000,60000,55000,55000]
["da 3 a 8",3,49000,44000,57000,63000,61000,57000,57000]
["da 9 a 14",4,53000,47000,61000,69000,67000,61000,61000]
["da 15 a 20",5,57000,50000,67000,75000,73000,67000,67000]
["da 21 a 27",6,60000,52000,74000,84000,79000,72000,72000]
["da 28 a 34",7,63000,55000,79000,89000,85000,77000,77000]
["da 35",8,65000,56000,83000,94000,89000,81000,81000]
[]
["INCREMENTI","STIPENDIALI","MENSILI   DAL"," 01/11/1996","CCNL 1/8/96"]
["ANZIANITA",1,"AA","CS","DD","DL","DM","RA","SM"]
["da 0 a 2",2,67000,60000,77000,84000,84000,77000,77000]
["da 3 a 8",3,69000,61000,79000,88000,86000,79000,79000]
["da 9 a 14",4,74000,66000,86000,96000,94000,86000,86000]
["da 15 a 20",5,79000,70000,93000,105000,102000,93000,93000]
["da 21 a 27",6,85000,73000,104000,117000,111000,100000,100000]
["da 28 a 34",7,88000,76000,111000,125000,120000,108000,108000]
["da 35",8,91000,78000,117000,131000,125000,113000,113000]
[]
["TOTALE INCREMENTI STIPENDIALI AL 1/11/96",null,null,null,"CCNL 1/8/96","(INCR. 1/1/96 + 1/11/96)",null,"MENSILI LORDI"]
["ANZIANIT","POSIZ INIZIALE","Assist. amm.vi ed equip.","Collab. scolast.","Docente dipl. istituti sec. II grado ","Docente laur. istituti sec.II grado ","Docente scuola media","Respons. amm.ivi","Docente scuola mat. ed elem."]
[null,1,"AA","CS","DD","DL","DM","RA","SM"]
["da 0 a 2",2,{"$f":"C158+C168","v":115000},{"$f":"D158+D168","v":103000},132000,144000,144000,132000,132000]
["da 3 a 8",3,{"$f":"C159+C169","v":118000},{"$f":"D159+D169","v":105000},136000,151000,147000,136000,136000]
["da 9 a 14",4,{"$f":"C160+C170","v":127000},113000,147000,165000,161000,147000,147000]
["da 15 a 20",5,{"$f":"C161+C171","v":136000},120000,160000,180000,175000,160000,160000]
["da 21 a 27",6,{"$f":"C162+C172","v":145000},125000,178000,201000,190000,172000,172000]
["da 28 a 34",7,{"$f":"C163+C173","v":151000},131000,190000,214000,205000,185000,185000]
["da 35",8,{"$f":"C164+C174","v":156000},134000,200000,225000,214000,194000,194000]
[]
["TABELLE POSIZIONI STIPENDIALI DAL 01/11/1996",null,null,null,"CCNL 1/8/96",null,"ANNUI LORDI (INCL AUM 1/96 E 11/96)"]
[]
["ANZIANITA","POSIZ INIZIALE","Assist. amm.vi ed equip.","Collab. scolast.","Docente dipl. istituti sec. II grado ","Docente laur. istituti sec.II grado ","Docente scuola media","Respons. amm.ivi","Docente scuola mat. ed elem."]
[null,1,"AA","CS","DD","DL","DM","RA","SM"]
["da 0 a 2",2,{"$f":"C179*12+C136","v":12329000},{"$f":"D179*12+D136","v":9860000},15682000,17933000,17933000,15682000,15682000]
["da 3 a 8",3,{"$f":"C180*12+C137","v":12873000},10266000,16429000,19645000,18771000,16429000,16429000]
["da 9 a 14",4,14851000,11812000,18761000,22408000,21508000,18761000,18761000]
["da 15 a 20",5,16715000,13257000,21487000,25806000,24653000,21487000,21487000]
["da 21 a 27",6,18591000,14678000,25430000,30142000,27733000,24137000,24137000]
["da 28 a 34",7,19935000,15717000,28029000,32982000,30749000,26748000,26748000]
["da 35",8,20949000,16490000,29994000,35250000,32982000,28688000,28688000]
[]
["INCREMENTI","STIPENDIALI","MENSILI DAL"," 1/07/97",null,"CCNL 1/8/96"]
["ANZIANITA",1,"AA","CS","DD","DL","DM","RA","SM"]
["da 0 a 2",2,60000,53000,68000,74000,74000,68000,68000]
["da 3 a 8",3,61000,54000,70000,78000,76000,70000,70000]
["da 9 a 14",4,66000,58000,76000,85000,83000,76000,76000]
["da 15 a 20",5,70000,62000,82000,93000,91000,82000,82000]
["da 21 a 27",6,75000,65000,92000,104000,98000,89000,89000]
["da 28 a 34",7,78000,68000,98000,111000,105000,95000,95000]
["da 35",8,81000,69000,103000,116000,111000,100000,100000]
[]
["POSIZIONI","STIPENDIALI","A REGIME ","CCNL 1/8/96"," 1/07/97"]
["ANZIANITA",1,"AA","CS","DD","DL","DM","RA","SM"]
["da 0 a 2",2,13049000,10496000,16498000,18821000,18821000,16498000,16498000]
["da 3 a 8",3,13605000,10914000,17269000,20581000,19683000,17269000,17269000]
["da 9 a 14",4,15643000,12508000,19673000,23428000,22504000,19673000,19673000]
["da 15 a 20",5,17555000,14001000,22471000,26922000,25745000,22471000,22471000]
["da 21 a 27",6,19491000,15458000,26534000,31390000,28909000,25205000,25205000]
["da 28 a 34",7,20871000,16533000,29205000,34314000,32009000,27888000,27888000]
["da 35",8,21921000,17318000,31230000,36642000,34314000,29888000,29888000]
[]
["INCREMENTI","STIPENDIALI","MENSILI DAL","CCNL 26/5/99","DAL","1998-11-01","TAB D1"]
["ANZIANITA",1,"AA","CS","DD","DL","DM","RA","SM"]
["da 0 a 2",2,38000,34000,43000,47000,47000,43000,43000]
["da 3 a 8",3,39000,35000,44000,50000,48000,44000,44000]
["da 9 a 14",4,42000,37000,48000,54000,52000,48000,48000]
["da 15 a 20",5,45000,39000,52000,59000,57000,52000,52000]
["da 21 a 27",6,47000,41000,58000,66000,62000,56000,56000]
["da 28 a 34",7,50000,43000,62000,70000,67000,60000,60000]
["da 35",8,51000,44000,65000,74000,70000,63000,63000]
[]
["POSIZIONI","STIPENDIALI","ANNUE","CCNL 26/5/99","DAL","1998-11-01","(INCLUSO AUMENNTI 11/98)"]
["ANZIANITA",1,"AA","CS","DD","DL","DM","RA","SM"]
["da 0 a 2",2,{"$f":"C211+(C221*12)","v":13505000},10904000,{"$f":"E211+(E221*12)","v":17014000},{"$f":"F211+(F221*12)","v":19385000},{"$f":"G211+(G221*12)","v":19385000},{"$f":"H211+(H221*12)","v":17014000},{"$f":"I211+(I221*12)","v":17014000}]
["da 3 a 8",3,14073000,11334000,{"$f":"E212+(E222*12)","v":17797000},21181000,20259000,17797000,17797000]
["da 9 a 14",4,16147000,12952000,20249000,24076000,23128000,20249000,20249000]
["da 15 a 20",5,18095000,14469000,23095000,27630000,26429000,23095000,23095000]
["da 21 a 27",6,20055000,15950000,27230000,32182000,29653000,25877000,25877000]
["da 28 a 34",7,{"$f":"C216+(C226*12)","v":21471000},17049000,29949000,35154000,32813000,28608000,28608000]
["da 35",8,{"$f":"C217+(C227*12)","v":22533000},17846000,32010000,37530000,35154000,30644000,30644000]
[]
["INCREMENTI POSIZIONI STIPENDIALI CCNL 26/05/1999",null,null,null,"DAL","1999-06-01","TAB D2"]
[]
["ANZIANITA",1,"AA","CS","DD","DL","DM","RA","SM"]
["da 0 a 2",2,{"$f":"(C264-C211-C221*12)/12","v":32000},28000,36000,39000,39000,36000,36000]
["da 3 a 8",3,33000,29000,37000,41000,40000,37000,37000]
["da 9 a 14",4,35000,31000,40000,45000,44000,40000,40000]
["da 15 a 20",5,37000,32000,44000,49000,48000,44000,44000]
["da 21 a 27",6,40000,34000,49000,55000,52000,47000,47000]
["da 28 a 34",7,41000,36000,52000,59000,56000,50000,50000]
["da 35",8,43000,37000,54000,61000,59000,53000,53000]
[]
["TOTALE INCREMENTI POSIZIONI STIPENDIALI CCNL 26/05/1999 Tab D1+D2",null,null,null,null,null,"DAL","1999-06-01"]
[]
["ANZIANITA",1,"AA","CS","DD","DL","DM","RA","SM"]
["da 0 a 2",2,{"$f":"C242+C221","v":70000},{"$f":"D242+D221","v":62000},79000,86000,86000,79000,79000]
["da 3 a 8",3,{"$f":"C243+C222","v":72000},{"$f":"D243+D222","v":64000},81000,91000,88000,81000,81000]
["da 9 a 14",4,{"$f":"C244+C223","v":77000},68000,88000,99000,96000,88000,88000]
["da 15 a 20",5,{"$f":"C245+C224","v":82000},71000,96000,108000,105000,96000,96000]
["da 21 a 27",6,{"$f":"C246+C225","v":87000},75000,107000,121000,114000,103000,103000]
["da 28 a 34",7,{"$f":"C247+C226","v":91000},79000,114000,129000,123000,110000,110000]
["da 35",8,{"$f":"C248+C227","v":94000},81000,119000,135000,129000,116000,116000]
[]
["TABELLA A REGIME CCNL 26/5/99",null,null,"A REGIME DAL 1/6/99"]
[]
["ANZIANITA",1,"AA","CS","DD","DL","DM","RA","SM"]
["da 0 a 2",2,13889000,11240000,17446000,19853000,19853000,17446000,17446000]
["da 3 a 8",3,14469000,11682000,18241000,21673000,20739000,18241000,18241000]
["da 9 a 14",4,16567000,13324000,20729000,24616000,23656000,20729000,20729000]
["da 15 a 20",5,18539000,14853000,23623000,28218000,27005000,23623000,23623000]
["da 21 a 27",6,20535000,16358000,27818000,32842000,30277000,26441000,26441000]
["da 28 a 34",7,21963000,17481000,30573000,35862000,33485000,29208000,29208000]
["da 35",8,23049000,18290000,32658000,38262000,35862000,31280000,31280000]
[]
[]
[]
["TAB A CCNL 15/3/01 AUMENTI MENSILI dal 1/7/2000"]
[null,1,"AA","CS","DD","DL","DM","RA","SM"]
["da 0 a 2",2,26000,23000,30000,32000,32000,30000,30000]
["da 3 a 8",3,27000,24000,31000,34000,33000,31000,31000]
["da 9 a 14",4,29000,25000,33000,37000,36000,33000,33000]
["da 15 a 20",5,31000,27000,36000,41000,40000,36000,36000]
["da 21 a 27",6,33000,28000,40000,45000,43000,39000,39000]
["da 28 a 34",7,34000,30000,43000,48000,46000,42000,42000]
["da 35",8,35000,30000,45000,51000,48000,44000,44000]
[]
["POSIZIONI STIPENDIALI AL 1/7/2000"]
[null,1,"AA","CS","DD","DL","DM","RA","SM"]
["da 0 a 2",2,{"$f":"C276*12+C264","v":14201000},{"$f":"D276*12+D264","v":11516000},17806000,20237000,20237000,17806000,17806000]
["da 3 a 8",3,{"$f":"C277*12+C265","v":14793000},11970000,18613000,22081000,21135000,18613000,18613000]
["da 9 a 14",4,16915000,13624000,21125000,25060000,24088000,21125000,21125000]
["da 15 a 20",5,18911000,15177000,24055000,28710000,27485000,24055000,24055000]
["da 21 a 27",6,20931000,16694000,28298000,33382000,30793000,26909000,26909000]
["da 28 a 34",7,22371000,17841000,31089000,36438000,34037000,29712000,29712000]
["da 35",8,23469000,18650000,33198000,38874000,36438000,31808000,31808000]
[]
[]
["AUMENTI MENSILI DAL",null,null,"dal 01/01/2001"]
[]
[null,null,"Assist. amm.vi ed equip.","Collab. scolast.","Docente dipl. istituti sec. II grado (1)","Docente laur. istituti sec.II grado (2)","Docente scuola media","Respons. amm.ivi","Docente scuola mat. ed elem."]
[null,1,"AA","CS","DD","DL","DM","RA","SM"]
["da 0 a 2",2,44000,39000,50000,54000,54000,50000,50000]
["da 3 a 8",3,45000,40000,52000,58000,56000,52000,52000]
["da 9 a 14",4,48000,43000,56000,62000,61000,56000,56000]
["da 15 a 20",5,52000,45000,61000,69000,67000,61000,61000]
["da 21 a 27",6,55000,48000,68000,76000,72000,65000,65000]
["da 28 a 34",7,57000,50000,72000,81000,77000,70000,70000]
["da 35",8,59000,51000,76000,85000,81000,73000,73000]
[]
["a regime dal 1/1/2001"]
[null,null,"AA","CS","DD","DL","DM","RA","SM"]
["ANZIANITA",null,"Assist. amm.vi ed equip.","Collab. scolast.","Docente dipl. istituti sec. II grado ","Docente laur. istituti sec.II grado ","Docente scuola media","Respons. amm.ivi","Docente scuola mat. ed elem."]
[null,1,"AA","CS","DD","DL","DM","RA","SM"]
["da 0 a 2",2,14729000,11984000,18406000,20885000,20885000,18406000,18406000]
["da 3 a 8",3,15333000,12450000,19237000,22777000,21807000,19237000,19237000]
["da 9 a 14",4,17491000,14140000,21797000,25804000,24820000,21797000,21797000]
["da 15 a 20",5,19535000,15717000,24787000,29538000,28289000,24787000,24787000]
["da 21 a 27",6,21591000,17270000,29114000,34294000,31657000,27689000,27689000]
["da 28 a 34",7,23055000,18441000,31953000,37410000,34961000,30552000,30552000]
["da 35",8,24177000,19262000,34110000,39894000,37410000,32684000,32684000]
[]
["Retribuzione Professionale Docenti",null,null,"dal 1/1/2001"]
[null,1,"DD","DL","DM","SM"]
["da 0 a 2",2,2592000,2592000,2592000,2592000]
["da 3 a 8",3,2592000,2592000,2592000,2592000]
["da 9 a 14",4,2592000,2592000,2592000,2592000]
["da 15 a 20",5,3228000,3228000,3228000,3228000]
["da 21 a 27",6,3228000,3228000,3228000,3228000]
["da 28 a 34",7,3612000,3612000,3612000,3612000]
["da 35",8,3612000,3612000,3612000,3612000]
[]
[]
["RETRIBUZ.","IND DOC.","dal 1/1/2001",null,null,"mensili","annui lordi"]
["da 0 a 14 ",120000,"+",96000,"=",216000,{"$f":"F331*12","v":2592000}]
["da 15 a 27",173000,"+",96000,"=",269000,{"$f":"F332*12","v":3228000}]
["da 28",205000,"+",96000,"=",301000,{"$f":"F333*12","v":3612000}]
[]
["Aumenti CCNL 16/5/2003 Tabella 1 dal 1/1/2002"]
[null,null,"AA","CS","DD","DL","DM","RA","SM"]
["ANZIANITA",null,"Assist. amm.vi ed equip.","Collab. scolast.","Docente dipl. istituti sec. II grado ","Docente laur. istituti sec.II grado ","Docente scuola media","Coord amm.vi","Docente scuola mat. ed elem."]
[null,1,"AA","CS","DD","DL","DM","RA","SM"]
["da 0 a 2",2,29.16,26.03,33.44,36.299999999999997,36.299999999999997,33.340000000000003,33.44]
["da 3 a 8",3,29.82,26.54,34.35,38.35,37.299999999999997,34.24,34.35]
["da 9 a 14",4,32.159999999999997,28.37,37.130000000000003,41.64,40.58,37.020000000000003,37.130000000000003]
["da 15 a 20",5,34.369999999999997,30.08,40.380000000000003,45.7,44.35,40.26,40.380000000000003]
["da 21 a 27",6,36.6,31.76,45.08,50.87,48.01,43.41,43.53]
["da 28 a 34",7,38.19,33.03,48.17,54.26,51.6,46.51,46.65]
["da 35",8,39.409999999999997,33.92,50.51,56.96,54.26,48.83,48.96]
[]
["Aumenti CCNL 16/5/2003 Tabella 1 dal 1/1/2003"]
[null,null,"AA","CS","DD","DL","DM","RA","SM"]
["ANZIANITA",null,"Assist. amm.vi ed equip.","Collab. scolast.","Docente dipl. istituti sec. II grado ","Docente laur. istituti sec.II grado ","Docente scuola media","Coord amm.vi","Docente scuola mat. ed elem."]
[null,1,"AA","CS","DD","DL","DM","RA","SM"]
["da 0 a 2",2,29.92,26.71,34.35,37.28,37.28,34.21,34.35]
["da 3 a 8",3,30.6,27.23,35.28,39.39,38.31,35.14,35.28]
["da 9 a 14",4,33,29.11,38.130000000000003,42.77,41.67,37.99,38.130000000000003]
["da 15 a 20",5,35.270000000000003,30.87,41.47,46.94,45.54,41.31,41.47]
["da 21 a 27",6,37.56,32.590000000000003,46.3,52.25,49.3,44.54,44.71]
["da 28 a 34",7,39.19,33.9,49.47,55.73,52.99,47.73,47.91]
["da 35",8,40.44,34.81,51.88,58.5,55.73,50.1,50.29]
[]
["POSIZIONI A REGIME  ANNUE LORDE ccnl 16/5/2003 DAL 01/01/2003 (INCLUSO I.I.S.)"]
[null,null,"AA","CS","DD","DL","DM","RA","SM"]
["ANZIANITA",null,"Assist. amm.vi ed equip.","Collab. scolast.","Docente dipl. istituti sec. II grado ","Docente laur. istituti sec.II grado ","Docente scuola media","Coord amm.vi","Docente scuola mat. ed elem."]
[null,1,"AA","CS","DD","DL","DM","RA","SM"]
["da 0 a 2",2,{"$f":"(C351*12)+(C339*12)+C311/1936.27+6280.06","v":14595.913666689048},{"$f":"(D351*12)+(D339*12)+D311/1936.27+6207.16","v":13029.259478688407},{"$f":"(E351*12)+(E339*12)+E311/1936.27+6384.11","v":16703.495684641086},{"$f":"(F351*12)+(F339*12)+F311/1936.27+6459.63","v":18128.792337483927},18128.792337483927,{"$f":"(H351*12)+(H339*12)+H311/1936.27+6371.71","v":16688.215684641087},{"$f":"(I351*12)+(I339*12)+I311/1936.27+6384.11","v":16703.495684641086}]
["da 3 a 8",3,{"$f":"(C352*12)+(C340*12)+C312/1936.27+6280.06","v":14923.933633739096},{"$f":"(D352*12)+(D340*12)+D312/1936.27+6207.16","v":13282.288393664106},{"$f":"(E352*12)+(E340*12)+E312/1936.27+6384.11","v":17154.751367784451},19155.848790561235,18629.325598444433,{"$f":"(H352*12)+(H340*12)+H312/1936.27+6371.71","v":17139.351367784449},{"$f":"(I352*12)+(I340*12)+I312/1936.27+6384.11","v":17154.751367784451}]
["da 9 a 14",4,16095.327621974207,14199.62055312534,18544.441029453537,20799.203824105109,20265.090235401054,18529.04102945354,18544.441029453537]
["da 15 a 20",5,17204.725523713118,15055.71308298946,20167.7271577311,22826.413885305254,22148.359218342484,20151.967157731102,20167.7271577311]
["da 21 a 27",6,18320.800908241104,15898.570647275432,22516.796160091308,25408.442897374851,23976.826054475874,21727.285078888792,21743.165078888793]
["da 28 a 34",7,19115.533808508109,16534.301676109222,24058.137296606365,27100.16259493769,25770.559649067542,23281.381180981989,23297.621180981991]
["da 35",8,19724.638449286515,16979.912790261689,25229.134827942384,28448.681532275976,27100.16259493769,24438.747289840776,24454.987289840778]
[]
["Retribuzione Professionale Docenti",null,null,"dal 1/1/2002","AUMENTI TAB 4 CCNL 16/5/2003"]
[null,1,"DD","DL","DM","SM","1^F"]
["da 0 a 2",2,{"$f":"2592000/1936.27+20*12","v":1578.6562824399489},{"$f":"2592000/1936.27+20*12","v":1578.6562824399489},1578.6562824399489,1578.6562824399489]
["da 3 a 8",3,{"$f":"2592000/1936.27+20*12","v":1578.6562824399489},1578.6562824399489,1578.6562824399489,1578.6562824399489]
["da 9 a 14",4,{"$f":"2592000/1936.27+20*12","v":1578.6562824399489},1578.6562824399489,1578.6562824399489,1578.6562824399489]
["da 15 a 20",5,{"$f":"3228000/1936.27+24*12","v":1955.1228702608623},{"$f":"3228000/1936.27+24*12","v":1955.1228702608623},1955.1228702608623,1955.1228702608623,"2^"]
["da 21 a 27",6,{"$f":"3228000/1936.27+24*12","v":1955.1228702608623},1955.1228702608623,1955.1228702608623,1955.1228702608623]
["da 28 a 34",7,{"$f":"3612000/1936.27+39*12","v":2333.4423195112249},{"$f":"3612000/1936.27+39*12","v":2333.4423195112249},2333.4423195112249,2333.4423195112249,"3^"]
["da 35",8,{"$f":"3612000/1936.27+39*12","v":2333.4423195112249},2333.4423195112249,2333.4423195112249,2333.4423195112249]
[]
["Retribuzione Professionale Docenti",null,null,"dal 1/1/2003","AUMENTI TAB 4 CCNL 16/5/2003"]
[null,1,"DD","DL","DM","SM","1^F"]
["da 0 a 2",2,1710.6,1710.6,1710.6,1710.6]
["da 3 a 8",3,1710.6,1710.6,1710.6,1710.6]
["da 9 a 14",4,1710.6,1710.6,1710.6,1710.6]
["da 15 a 20",5,2111.16,2111.16,2111.16,2111.16,"2^"]
["da 21 a 27",6,2111.16,2111.16,2111.16,2111.16]
["da 28 a 34",7,2585.4,2585.4,2585.4,2585.4,"3^"]
["da 35",8,2585.4,2585.4,2585.4,2585.4]

{"sheet":"pre 1-1-1996","index":28,"n_rows":151,"n_cols":26,"rows_kept":151,"cut":false,"hidden":false,"merged":[[0,3,1,9],[60,21,60,24],[77,5,77,6],[19,0,19,4],[75,5,75,7],[57,1,57,2],[63,17,63,18],[65,17,66,19],[57,17,59,27],[60,18,60,19],[68,17,69,19],[124,6,124,7],[98,1,98,3],[99,1,99,3],[100,1,100,3],[101,1,101,3],[108,3,108,6],[122,6,122,7],[77,1,77,2]]}
[null,null,null,"calcolo stipendiale prima del 1996"]
[]
[]
[]
[null,null,null,null,"I. FUNZ DPR 399/88"]
[null,{"$f":"B24","v":"RETRIBUZIONE DELLA QUALIFICA"},null,{"$f":"D24","v":"Coll.Sc. "},{"$f":"E24","v":"Ass.A.T."},"RA","Doc. materna elem.","Doc.Dipl.","Doc. laureato 1° Grado","Doc. laureato 2° Grado","DA"]
[0,{"$f":"IF(QUAL=1,D7,IF(QUAL=2,E7,IF(QUAL=3,E7,IF(QUAL=4,F7,IF(QUAL=6,G7,IF(QUAL=7,H7,IF(QUAL=8,I7,(IF(QUAL=9,J7,\"\")))))))))","v":1416000},0,648000,852000,1224000,1224000,1224000,1416000,1416000,0]
[1,1416000,1,648000,852000,1224000,1224000,1224000,1416000,1488000,0]
[2,1416000,2,684000,888000,1224000,1224000,1224000,1416000,1488000,0]
[3,1488000,3,684000,888000,1284000,1284000,1284000,1488000,1572000,0]
[4,1488000,4,720000,936000,1284000,1284000,1284000,1488000,1572000,0]
[5,1572000,5,720000,936000,1356000,1356000,1356000,1572000,1644000,0]
[6,1572000,6,768000,996000,1356000,1356000,1356000,1572000,1644000,0]
[7,1644000,7,768000,996000,1416000,1416000,1416000,1644000,1728000,0]
[8,1644000,8,804000,1056000,1416000,1416000,1416000,1644000,1728000,0,null,{"$f":"M33","v":"AUSILIARI"},"Assist. amm.vi ed equip.","Respons. amm.ivi","DOC mat. ed elem.","Docente dipl. istituti sec. II grado ","Docente scuola media","Docente laur. istituti sec.II grado ","Direttore amm. "]
[9,1728000,9,804000,1056000,1488000,1488000,1488000,1728000,1812000,0,null,1,3,4,6,7,8,9,0]
[10,1728000,10,852000,1104000,1488000,1488000,1488000,1728000,1812000,0,null,"Coll.Sc. ","Ass.A.T.","RA","Doc. materna elem.","Doc.Dipl.","Doc. laureato 1° Grado","Doc. laureato 2° Grado","DA"]
["a,b,c,",{"$f":"IF(QUAL=1,M18,IF(QUAL=2,N18,IF(QUAL=3,N18,IF(QUAL=4,O18,IF(QUAL=6,P18,IF(QUAL=7,Q18,IF(QUAL=8,R18,(IF(QUAL=9,S18,\"\")))))))))","v":48000},null,null,null,null,null,null,null,null,null,"a.b.c.",12000,24000,36000,36000,36000,48000,48000,0]
[]
["retribuzioni prima del  1 /1 /1996"]
[]
[null,null,"ANZIANITA AA","AUSILIARI","Assist. amm.vi ed equip.","Respons. amm.ivi","DOC mat. ed elem.","Docente dipl. istituti sec. II grado ","Docente scuola media","Docente laur. istituti sec.II grado ","Direttore amm. "]
[null,null,"VERTICALE",1,3,4,6,7,8,9]
[null,"RETRIBUZIONE DELLA QUALIFICA",null,"Coll.Sc. ","Ass.A.T.","RA","Doc. materna elem.","Doc.Dipl.","Doc. laureato 1° Grado","Doc. laureato 2° Grado","DA"]
[0,{"$f":"IF(QUAL=1,D25,IF(QUAL=2,E25,IF(QUAL=3,E25,IF(QUAL=4,F25,IF(QUAL=6,G25,IF(QUAL=7,H25,IF(QUAL=8,I25,(IF(QUAL=9,J25,\"\")))))))))","v":12924000},0,6564000,8544000,11136000,11136000,11136000,12924000,12924000,18000000]
[1,12924000,1,6564000,8544000,11136000,11136000,11136000,12924000,13608000,18000000]
[2,12924000,2,6888000,8988000,11136000,11136000,11136000,12924000,13608000,18540000]
[3,13608000,3,6888000,8988000,11736000,11736000,11736000,13608000,14304000,19080000]
[4,13608000,4,7224000,9432000,11736000,11736000,11736000,13608000,14304000,19620000]
[5,14304000,5,7224000,9432000,12336000,12336000,12336000,14304000,14988000,20172000]
[6,14304000,6,7752000,10068000,12336000,12336000,12336000,14304000,14988000,20172000]
[7,14988000,7,7752000,10068000,12924000,12924000,12924000,14988000,15792000,21252000]
[8,14988000,8,8136000,10584000,12924000,12924000,12924000,14988000,15792000,21792000,null,"AUSILIARI","Assist. amm.vi ed equip.","Respons. amm.ivi","DOC mat. ed elem.","Docente dipl. istituti sec. II grado ","Docente scuola media","Docente laur. istituti sec.II grado ","Direttore amm. "]
[9,15792000,9,8136000,10584000,13608000,13608000,13608000,15792000,16512000,22332000,null,1,3,4,6,7,8,9]
[10,15792000,10,8520000,11088000,13608000,13608000,13608000,15792000,16512000,22872000,null,"Coll.Sc. ","Ass.A.T.","RA","Doc. materna elem.","Doc.Dipl.","Doc. laureato 1° Grado","Doc. laureato 2° Grado","DA"]
["a.b.c.",{"$f":"IF(QUAL=1,M36,IF(QUAL=2,N36,IF(QUAL=3,N36,IF(QUAL=4,O36,IF(QUAL=6,P36,IF(QUAL=7,Q36,IF(QUAL=8,R36,(IF(QUAL=9,S36,\"\")))))))))","v":384000},null,null,null,null,null,null,null,null,null,"a.b.c.",216000,264000,324000,324000,324000,384000,384000,528000]
[]
[]
[]
[]
[null,null,"A.B.",216000,276000,516000,516000,516000,516000,600000,720000]
[null,null,null,{"$f":"D24","v":"Coll.Sc. "},{"$f":"E24","v":"Ass.A.T."},"RA","Doc. materna elem.","Doc.Dipl.","Doc. laureato 1° Grado","Doc. laureato 2° Grado","DA"]
[null,null,"A.B.C.",216000,264000,324000,324000,324000,384000,384000,528000]
[]
[]
[]
[null,null,"num. Qual",3,1,7,9,8,4,6]
[null,"INCREMENTI STIP DAL 1/1/1995",null,null,"ANNUI","TAB A1","(CON ASSORBIMENTO INDENN. VAC. CONTRATTUALE)"]
[null,"ANZIANIT","POSIZ","Assist. amm.vi ed equip.","Collab. scolast.","Docente dipl. istituti sec. II grado ","Docente laur. istituti sec.II grado ","Docente scuola media","Respons. amm.ivi","Docente scuola mat. ed elem."]
[null,null,1,"AA","CS","DD","DL","DM","RA","SM"]
[null,"da 0 a 2",2,689148,615360,786264,853260,853260,786072,786264,{"$f":"IF(QUAL=3,D51,0)","v":0},{"$f":"IF(QUAL=1,E51,0)","v":0},{"$f":"IF(QUAL=7,F51,0)","v":0},{"$f":"IF(QUAL=9,G51,0)","v":0},{"$f":"IF(QUAL=8,H51,0)","v":853260},{"$f":"IF(QUAL=4,I51,0)","v":0},{"$f":"IF(QUAL=6,J51,0)","v":0}]
[null,"da 3 a 8",3,704268,626700,807060,901644,877080,806856,807060,0,0,0,0,877080,0,0]
[null,"da 9 a 14",4,759840,669792,872448,978756,953436,872256,872448,0,0,0,0,953436,0,0]
[null,"da 15 a 20",5,812004,710232,948804,1074396,1041888,948612,948804,0,0,0,0,1041888,0,0]
[null,"da 21 a 27",6,864540,750684,1059564,1195728,1128072,1023072,1023276,0,0,0,0,1128072,0,0]
[null,"da 28 a 34",7,902340,779412,1132512,1275492,1212360,1096032,1096224,0,0,0,0,1212360,0,0]
[null,"da 35",8,930696,801336,1187328,1338896,1275492,1150464,1150656,0,0,0,0,1275492,0,0]
[null,"numero qual:",null,3,1,7,9,8,4,6,null,null,null,null,null,null,null,"IN CASO IN CUI LA CONF. IN RUOLO SIA AVVENUTA IL 01/09/2005 - ALL STIPENDIO PRESENTE NELLA TABELLA, DEVE ESSERE AGGIUNTO L'INCREMENTO RELATIVO AL CCNL 01/08/95 TAB A1 DECORRENTE DAL 01/01/1995 - "]
[null,"tab A2 INCREMENTI STIP DAL 1/12/1995",null,null,"ANNUI","TAB A2"]
[null,"ANZIANIT","POSIZ","Assist. amm.vi ed equip.","Collab. scolast.","Docente dipl. istituti sec. II grado ","Docente laur. istituti sec.II grado ","Docente scuola media","Respons. amm.ivi","Docente scuola mat. ed elem."]
[null,null,1,"AA","CS","DD","DL","DM","RA","SM",null,null,null,null,null,null,null,null,null,null,null,"TAB A1 DAL 01/01/95 CCNL 95"]
[null,"da 0 a 2",2,1312680,1172112,1497660,1625268,1625268,1497276,1497660,{"$f":"IF(QUAL=3,D62,0)","v":0},{"$f":"IF(QUAL=1,E62,0)","v":0},{"$f":"IF(QUAL=7,F62,0)","v":0},{"$f":"IF(QUAL=9,G62,0)","v":0},{"$f":"IF(QUAL=8,H62,0)","v":1625268},{"$f":"IF(QUAL=4,I62,0)","v":0},{"$f":"IF(QUAL=6,J62,0)","v":0},null,null,null,null,"0-2",{"$f":"SUM(K51:Q51)","v":853260},null,null,{"$f":"IF(U67<3,W62,10000000)","v":{"$error":"#NUM!"}}]
[null,"da 3 a 8",3,1341480,1193712,1537260,1717428,1670628,1536876,1537260,0,0,0,0,1670628,0,0,null,null,null,null,"3-8",{"$f":"SUM(K52:Q52)","v":877080},null,null,{"$f":"IF(U67<9,W63,10000000)","v":{"$error":"#NUM!"}}]
[null,"da 9 a 14",4,1447320,1275792,1661820,1864308,1816068,1661436,1661820,0,0,0,0,1816068,0,0,"CONF RUOLO",null,{"$f":"IF(CONF=34943,\"01/09/1995\",\"\")","v":{"$error":"#NUM!"}},null,"9-14",953436,null,null,{"$f":"IF(U67<15,W64,10000000)","v":{"$error":"#NUM!"}}]
[null,"da 15 a 20",5,1546680,1352832,1807260,2046468,1984548,1806876,1807260,0,0,0,0,1984548,0,0,null,null,null,null,"15-20",1041888,null,null,{"$f":"IF(U67<21,W65,100000)","v":{"$error":"#NUM!"}}]
[null,"da 21 a 27",6,1646736,1429872,2018220,2277588,2148708,1948716,1949100,0,0,0,0,2148708,0,0,{"$f":"IF(CONF=34943,\"ANNI ANZIANITà ACQUISITA ALLA CONF IN RUOLO:\",\"\")","v":{"$error":"#NUM!"}},null,null,null,"21-27",1128072,null,null,{"$f":"IF(U67<28,W66,10000000)","v":{"$error":"#NUM!"}}]
[null,"da 28 a 34",7,1718760,1484592,2157180,2429508,2309268,2087676,2088060,0,0,0,0,2309268,0,0,null,null,null,{"$f":"IF(CONF=34943,D82,\"\")","v":{"$error":"#NUM!"}},"28-34",1212360,null,null,{"$f":"IF(U67<35,W67,10000000)","v":{"$error":"#NUM!"}}]
[null,"da 35",8,1772760,1526352,2261580,2550468,2429508,2191356,2191740,0,0,0,0,2429508,0,0,null,null,null,null,"35 IN POI",1275492]
[null,null,null,null,null,null,null,null,null,null,null,null,null,null,null,null,null,{"$f":"IF(CONF=34943,\"Valore da aggiungere allo stipendio:\",\"\")","v":{"$error":"#NUM!"}}]
[]
[null,"QUAL",null,null,null,null,null,null,null,null,null,null,null,null,null,null,null,null,{"$f":"IF(CONF=34943,(MIN(Z62:Z67))/1936.27,0)","v":{"$error":"#NUM!"}}]
[null,{"$f":"QUAL","v":8}]
[]
[]
[]
[null,null,null,null,null,"calcolo per date inferiori al:",null,null,"1996-01-01"]
[]
[null,"QUALIFICA:",null,{"$f":"qualifica","v":"Doc. laureato 1° Grado"},null,"CONFERMA RUOLO",null,{"$f":"CONF","v":{"$error":"#NUM!"}},null,"ANZIANITA:",{"$f":"ROUND(Foglio2!Q100,0)","v":{"$error":"#NUM!"}},{"$f":"ROUND(Foglio2!R100,0)","v":0},{"$f":"ROUND(Foglio2!S100,0)","v":0}]
[null,"doc rel",{"$f":"Foglio2!C26","v":""}]
[]
[null,{"$f":"'399'!A121","v":"MESE"},{"$f":"'399'!B121","v":"ANNO"},{"$f":"'399'!C121","v":"POS./ ANNI"},{"$f":"'399'!D121","v":"A/B"},{"$f":"'399'!E121","v":"STIPENDIO"},{"$f":"'399'!F121","v":"A/B STIP"},{"$f":"'399'!G121","v":"I.F."},{"$f":"'399'!H121","v":"A/B IF"},{"$f":"'399'!I121","v":"TOTALE"},{"$f":"'399'!J121","v":"TIPO"},{"$f":"'399'!K121","v":" +£ 240.000"}]
[{"$f":"'399'!B122","v":1990},{"$f":"IF(A82<1996,'399'!A122,\"\")","v":5},{"$f":"IF(A82<1996,'399'!B122,\"\")","v":1990},{"$f":"IF(A82<1996,'399'!C122,\"\")","v":0},{"$f":"IF(A82<1996,'399'!D122,\"\")","v":0},{"$f":"IF(A82<1996,'399'!E122,0)","v":{"$error":"#N/A"}},{"$f":"IF(A82<1996,'399'!F122,0)","v":0},{"$f":"IF(A82<1996,'399'!G122,0)","v":{"$error":"#N/A"}},{"$f":"IF(A82<1996,'399'!H122,0)","v":0},{"$f":"IF(A82<1996,'399'!I122,0)","v":{"$error":"#N/A"}},{"$f":"IF(A82<1996,'399'!J122,\"\")","v":"INQ"},{"$f":"IF(A82<1996,'399'!K122,0)","v":{"$error":"#N/A"}},{"$f":"IF(B82<>\"\",DATEVALUE(CONCATENATE(\"1\",\"/\",B82,\"/\",A82)),0)","v":"1990-05-01"}]
[{"$f":"'399'!B123","v":{"$error":"#N/A"}},{"$f":"IF(A83<1996,'399'!A123,\"\")","v":{"$error":"#N/A"}},{"$f":"IF(B83<1996,'399'!B123,\"\")","v":{"$error":"#N/A"}},{"$f":"IF(C83<1996,'399'!C123,\"\")","v":{"$error":"#N/A"}},{"$f":"IF(D83<1996,'399'!D123,\"\")","v":{"$error":"#N/A"}},{"$f":"IF(E83<1996,F82,0)","v":{"$error":"#N/A"}},{"$f":"IF(A83<1996,'399'!F123,0)","v":{"$error":"#N/A"}},{"$f":"IF(A83<1996,'399'!G123,0)","v":{"$error":"#N/A"}},{"$f":"IF(A83<1996,'399'!H123,0)","v":{"$error":"#N/A"}},{"$f":"IF(A83<1996,'399'!I123,0)","v":{"$error":"#N/A"}},{"$f":"IF(A83<1996,'399'!J123,\"\")","v":{"$error":"#N/A"}},{"$f":"IF(A83<1996,'399'!K123,0)","v":{"$error":"#N/A"}},{"$f":"IF(B83<>\"\",DATEVALUE(CONCATENATE(\"1\",\"/\",B83,\"/\",A83)),0)","v":{"$error":"#N/A"}}]
[{"$f":"'399'!B124","v":""},{"$f":"IF(A84<1996,'399'!A124,\"\")","v":""},{"$f":"IF(B84<1996,'399'!B124,\"\")","v":""},{"$f":"IF(C84<1996,'399'!C124,\"\")","v":""},{"$f":"IF(D84<1996,'399'!D124,\"\")","v":""},{"$f":"IF(E84<1996,F82,0)","v":0},{"$f":"IF(A84<1996,'399'!F124,0)","v":0},{"$f":"IF(A84<1996,'399'!G124,0)","v":0},{"$f":"IF(A84<1996,'399'!H124,0)","v":0},{"$f":"IF(A84<1996,'399'!I124,0)","v":0},{"$f":"IF(A84<1996,'399'!J124,\"\")","v":""},{"$f":"IF(A84<1996,'399'!K124,0)","v":0},"00:00:00"]
[{"$f":"'399'!B125","v":1994},{"$f":"IF(A85<1996,'399'!A125,\"\")","v":5},{"$f":"IF(B85<1996,'399'!B125,\"\")","v":1994},{"$f":"IF(C85<1996,'399'!C125,\"\")","v":0},{"$f":"IF(D85<1996,'399'!D125,\"\")","v":0},{"$f":"IF(E85<1996,F82,0)","v":{"$error":"#N/A"}},{"$f":"IF(A85<1996,'399'!F125,0)","v":0},{"$f":"IF(A85<1996,'399'!G125,0)","v":1416000},{"$f":"IF(A85<1996,'399'!H125,0)","v":0},{"$f":"IF(A85<1996,'399'!I125,0)","v":14340000},{"$f":"IF(A85<1996,'399'!J125,\"\")","v":"S"},{"$f":"IF(A85<1996,'399'!K125,0)","v":14580000},"1994-05-01"]
[{"$f":"'399'!B126","v":""},{"$f":"IF(A86<1996,'399'!A126,\"\")","v":""},{"$f":"IF(B86<1996,'399'!B126,\"\")","v":""},{"$f":"IF(C86<1996,'399'!C126,\"\")","v":""},{"$f":"IF(D86<1996,'399'!D126,\"\")","v":""},{"$f":"IF(E86<1996,F82,0)","v":0},{"$f":"IF(A86<1996,'399'!F126,0)","v":0},{"$f":"IF(A86<1996,'399'!G126,0)","v":0},{"$f":"IF(A86<1996,'399'!H126,0)","v":0},{"$f":"IF(A86<1996,'399'!I126,0)","v":0},{"$f":"IF(A86<1996,'399'!J126,\"\")","v":""},{"$f":"IF(A86<1996,'399'!K126,0)","v":0},"00:00:00"]
[{"$f":"'399'!B127","v":1996},{"$f":"IF(A87<1996,'399'!A127,\"\")","v":""},{"$f":"IF(B87<1996,'399'!B127,\"\")","v":""},{"$f":"IF(C87<1996,'399'!C127,\"\")","v":""},{"$f":"IF(D87<1996,'399'!D127,\"\")","v":""},{"$f":"IF(E87<1996,F82,0)","v":0},{"$f":"IF(A87<1996,'399'!F127,0)","v":0},{"$f":"IF(A87<1996,'399'!G127,0)","v":0},{"$f":"IF(A87<1996,'399'!H127,0)","v":0},{"$f":"IF(A87<1996,'399'!I127,0)","v":0},{"$f":"IF(A87<1996,'399'!J127,\"\")","v":""},{"$f":"IF(A87<1996,'399'!K127,0)","v":0},"00:00:00"]
[{"$f":"'399'!B128","v":""},{"$f":"IF(A88<1996,'399'!A128,\"\")","v":""},{"$f":"IF(B88<1996,'399'!B128,\"\")","v":""},{"$f":"IF(C88<1996,'399'!C128,\"\")","v":""},{"$f":"IF(D88<1996,'399'!D128,\"\")","v":""},{"$f":"IF(E88<1996,F82,0)","v":0},{"$f":"IF(A88<1996,'399'!F128,0)","v":0},{"$f":"IF(A88<1996,'399'!G128,0)","v":0},{"$f":"IF(A88<1996,'399'!H128,0)","v":0},{"$f":"IF(A88<1996,'399'!I128,0)","v":0},{"$f":"IF(A88<1996,'399'!J128,\"\")","v":""},{"$f":"IF(A88<1996,'399'!K128,0)","v":0},"00:00:00"]
[{"$f":"'399'!B129","v":1998},{"$f":"IF(A89<1996,'399'!A129,\"\")","v":""},{"$f":"IF(B89<1996,'399'!B129,\"\")","v":""},{"$f":"IF(C89<1996,'399'!C129,\"\")","v":""},{"$f":"IF(D89<1996,'399'!D129,\"\")","v":""},{"$f":"IF(E89<1996,F82,0)","v":0},{"$f":"IF(A89<1996,'399'!F129,0)","v":0},{"$f":"IF(A89<1996,'399'!G129,0)","v":0},{"$f":"IF(A89<1996,'399'!H129,0)","v":0},{"$f":"IF(A89<1996,'399'!I129,0)","v":0},{"$f":"IF(A89<1996,'399'!J129,\"\")","v":""},{"$f":"IF(A89<1996,'399'!K129,0)","v":0},"00:00:00"]
[{"$f":"'399'!B130","v":""},{"$f":"IF(A90<1996,'399'!A130,\"\")","v":""},{"$f":"IF(B90<1996,'399'!B130,\"\")","v":""},{"$f":"IF(C90<1996,'399'!C130,\"\")","v":""},{"$f":"IF(D90<1996,'399'!D130,\"\")","v":""},{"$f":"IF(E90<1996,F82,0)","v":0},{"$f":"IF(A90<1996,'399'!F130,0)","v":0},{"$f":"IF(A90<1996,'399'!G130,0)","v":0},{"$f":"IF(A90<1996,'399'!H130,0)","v":0},{"$f":"IF(A90<1996,'399'!I130,0)","v":0},{"$f":"IF(A90<1996,'399'!J130,\"\")","v":""},{"$f":"IF(A90<1996,'399'!K130,0)","v":0},"00:00:00"]
[{"$f":"'399'!B131","v":2000},{"$f":"IF(A91<1996,'399'!A131,\"\")","v":""},{"$f":"IF(B91<1996,'399'!B131,\"\")","v":""},{"$f":"IF(C91<1996,'399'!C131,\"\")","v":""},{"$f":"IF(D91<1996,'399'!D131,\"\")","v":""},{"$f":"IF(E91<1996,F82,0)","v":0},{"$f":"IF(A91<1996,'399'!F131,0)","v":0},{"$f":"IF(A91<1996,'399'!G131,0)","v":0},{"$f":"IF(A91<1996,'399'!H131,0)","v":0},{"$f":"IF(A91<1996,'399'!I131,0)","v":0},{"$f":"IF(A91<1996,'399'!J131,\"\")","v":""},{"$f":"IF(A91<1996,'399'!K131,0)","v":0},"00:00:00"]
[{"$f":"IF(OR('399'!H209=0,'399'!A205=2),0,'399'!B209)","v":1996},{"$f":"IF(OR('399'!H209=0,'399'!A205=2),\"\",11)","v":11},{"$f":"A92","v":1996},null,null,null,null,null,null,{"$f":"IF(C92=0,0,'399'!H209)","v":52500},{"$f":"IF(J92=0,\"\",\"RATEO\")","v":"RATEO"},null,"1996-11-01"]
[{"$f":"IF(OR('399'!H210=0,'399'!A205=2),0,'399'!B210)","v":0},{"$f":"IF(OR('399'!H210=0,'399'!A205=2),\"\",1)","v":""},{"$f":"A93","v":0},null,null,null,null,null,null,{"$f":"IF(C93=0,0,'399'!H210)","v":0},{"$f":"IF(J93=0,\"\",\"RATEO\")","v":""},null,"00:00:00"]
[]
[]
[null,"CALCOLO DELL'ASSEGNO AD PERSONAM - SE ALL' 1 /1/ 96, LA RETIRBUZIONE SPETTANTE SECONDO IL VECCHIO DPR 399/88 - E' SUPERIORE "]
[null,"ALLA RETRIBUZIONE CALCOLATA SECONDO LA NORMA IN VIGORE, LA DIFFERENZA VIENE CONTEGGIATA CON UN ASSEGNO AD PERSONAM."]
[]
[null,"stipendio all'1/1/96 - c c n l  95",null,null,{"$f":"'399'!E200/1936.27","v":8783.3824828148972}]
[null,"assegno ad personam",null,null,{"$f":"'399'!E201/1936.27","v":{"$error":"#N/A"}}]
[null,"incremento stipendiale ccnl 95",null,null,{"$f":"'399'!E202/1936.27","v":378.04645013350409}]
[null,"totale",null,null,{"$f":"SUM(E99:E101)","v":{"$error":"#N/A"}}]
[]
[]
[]
[null,null,null,null,null,null,null,null,"anzianita giorni:",null,{"$f":"(K78*360)+(L78*30)+M78","v":{"$error":"#NUM!"}}]
[null,"calcolo incrementi stipendiali ccnl95 - con decorrenze 1/1/95 e 1/12/95"]
[]
[null,null,null,"incrementi stipendiali del profilo"]
[null,null,null,null,null,"1995-01-01","1995-12-01"]
[null,null,null,"ANZIANIT","POSIZ"]
[null,null,null,null,1]
[null,2,{"$f":"360*B113","v":720},"da 0 a 2",2,{"$f":"SUM(K51:Q51)","v":853260},{"$f":"SUM(K62:Q62)","v":1625268},null,null,{"$f":"IF(K123<C113,F113,0)","v":{"$error":"#NUM!"}},{"$f":"IF(K125<C113,G113,0)","v":{"$error":"#NUM!"}}]
[null,8,2880,"da 3 a 8",3,877080,1670628,null,null,{"$f":"IF(AND(K123>=C113,K123<C114),F114,0)","v":{"$error":"#NUM!"}},{"$f":"IF(AND(K125>=C113,K123<C114),G114,0)","v":{"$error":"#NUM!"}}]
[null,14,5040,"da 9 a 14",4,953436,1816068,null,null,{"$f":"IF(AND(K123>=C114,K123<C115),F115,0)","v":{"$error":"#NUM!"}},{"$f":"IF(AND(K125>=C114,K125<C115),G115,0)","v":{"$error":"#NUM!"}}]
[null,20,7200,"da 15 a 20",5,1041888,1984548,null,null,{"$f":"IF(AND(K123>=C115,K123<C116),F116,0)","v":{"$error":"#NUM!"}},{"$f":"IF(AND(K125>=C115,K125<C116),G116,0)","v":{"$error":"#NUM!"}}]
[null,27,9720,"da 21 a 27",6,1128072,2148708,null,null,{"$f":"IF(AND(K123>=C116,K123<C117),F117,0)","v":{"$error":"#NUM!"}},{"$f":"IF(AND(K125>=C116,K125<C117),G117,0)","v":{"$error":"#NUM!"}}]
[null,34,12240,"da 28 a 34",7,1212360,2309268,null,null,{"$f":"IF(AND(K123>=C117,K123<C118),F118,0)","v":{"$error":"#NUM!"}},{"$f":"IF(AND(K125>=C117,K125<C118),G118,0)","v":{"$error":"#NUM!"}}]
[null,35,12600,"da 35",8,1275492,2429508,null,null,{"$f":"IF(AND(K123>=C118,K123<C119),F119,0)","v":{"$error":"#NUM!"}},{"$f":"IF(AND(K254>=C118,K125<C119),G119,0)","v":{"$error":"#NUM!"}}]
[]
[]
[]
["fino all'1/1/95 sono passati giorni:",null,null,{"$f":"F110-CONF","v":{"$error":"#NUM!"}},"anzianita acquisita giorni:",null,{"$f":"K106","v":{"$error":"#NUM!"}},null,"tot. Giorni all'1/1/95",null,{"$f":"G123+D123","v":{"$error":"#NUM!"}}]
[]
["fino all'1/12/95 sono passati giorni:",null,null,{"$f":"G110-CONF","v":{"$error":"#NUM!"}},"anzianita acquisita giorni:",null,{"$f":"K106","v":{"$error":"#NUM!"}},null,"tot. Giorni 1/12/95",null,{"$f":"G125+D125","v":{"$error":"#NUM!"}}]
[]
[]
["incremento stipendiale spettante tab. a1 ccnl 95 (con assorbimento dell'eventuale indennità di vacanza contrattuale) - totale annuo: ",null,null,null,{"$f":"IF(CONF<F110,SUM(J113:J119)/1936.27,0)","v":{"$error":"#NUM!"}}]
["incremento stipendiale spettante tab. a2 ccnl 95 - totale annuo: ",null,null,null,{"$f":"IF(CONF<G110,SUM(K113:K119)/1936.27,0)","v":{"$error":"#NUM!"}}]
[]
[]
[]
[]
[null,null,null,"calcolo indennità vacanza contrattuale - decorrenze",null,null,null,"1994-04-01","1994-07-01"]
[]
[null,{"$f":"IF('399'!A136<>\"\",'pre 1-1-1996'!H134,0)","v":"1994-04-01"},{"$f":"IF(B136>0,\"L'indennità vacanza contrattuale - L'indennità di vacanza contrattuale, da corripsondere per tutto il periodo, verrà riassorbita al prossimo incremento CCNL o al prossimo passaggio di gradone. Annuo lordo\",\"\")","v":"L'indennità vacanza contrattuale - L'indennità di vacanza contrattuale, da corripsondere per tutto il periodo, verrà riassorbita al prossimo incremento CCNL o al prossimo passaggio di gradone. Annuo lordo"},null,null,{"$f":"IF(B136>0,'399'!E136,0)","v":267036}]
[null,{"$f":"IF('399'!A138<>\"\",'pre 1-1-1996'!I134,0)","v":"1994-07-01"},{"$f":"IF(B137>0,\"l' indennità di vacanza contrattuale viene elevata a annuo lordo:\",\"\")","v":"l' indennità di vacanza contrattuale viene elevata a annuo lordo:"},null,null,{"$f":"IF('pre 1-1-1996'!B137>0,'399'!E138,0)","v":445056}]
[null,{"$f":"IF('399'!B140>0,IF('399'!D142>0,DATEVALUE('399'!B140),0),0)","v":{"$error":"#N/A"}},"indennità vacanza contrattuale annuo lordo",null,null,{"$f":"IF(B138>0,'399'!D142,0)","v":{"$error":"#N/A"}}]
[]
[]
[]
[null,{"$f":"IF(L82>0,M82,100000)","v":{"$error":"#N/A"}},{"$f":"IF(L82>0,YEAR(M82),0)","v":{"$error":"#N/A"}}]
[null,{"$f":"IF(L83>0,M83,100000)","v":{"$error":"#N/A"}},{"$error":"#N/A"},null,"intervallo di somministrazione 240.000 art 7"]
[null,100000,0,null,{"$f":"IF(MIN(B142:B151)<>100000,MIN(B142:B151),0)","v":{"$error":"#N/A"}},{"$f":"IF(E144=0,0,DATEVALUE(\"31/12/1995\"))","v":{"$error":"#N/A"}}]
[null,34455,1994]
[null,100000,0]
[null,100000,0]
[null,100000,0]
[null,100000,0]
[null,100000,0]
[null,100000,0]